{"text_format":"1","workbook":"xlsx","n_sheets":9,"sheets":["Instructions","Team and Program Information","Results and Rankings","Robot Game Scores","GP Scores","Core Values Input","Innovation Project Input","Robot Design Input","Area Deliberations"],"not_rendered":{"charts":0,"images":2,"macros":1,"external_links":0,"defined_names":17,"comments":0,"pivot_tables":0},"unopened":[],"bounds":{"document_bytes":16777216,"sheet_cells":100000,"rows_first":2000,"rows_last":500,"rows_between":2000,"halvings":0,"cell_chars":16384,"cell_head_chars":4096},"cells_cut":0,"cells_raw":0,"read":"whole","date_system":"1900"}

{"sheet":"Instructions","index":0,"n_rows":20,"n_cols":31,"rows_kept":20,"cut":false,"hidden":false,"merged":[[15,4,15,44],[0,26,2,39],[3,4,4,42],[0,0,1,10],[6,4,8,42],[10,4,11,42],[13,4,13,42],[17,5,18,12],[19,5,20,12],[17,23,20,28],[17,30,18,43],[19,30,20,43],[17,14,20,21]]}
[null,null,null,null,null,null,null,null,null,null,null,null,null,null,null,null,null,null,null,null,null,null,null,null,null,null,"DESIGNED FOR USE IN MICROSOFT EXCEL.\nSOME FUNCTIONALITY WILL BE LOSSED IN OTHER APPLICATIONS."]
[]
[]
[null,null,null,"1.","Open the Team and Program Information page. Enter the team numbers and the team names. Also, the number of teams advancing from this event in the box on the left."]
[]
[]
[null,null,null,"2.","If you have Macros enabled then you can press the 'Update Teams' Button. This will copy the team information onto each corresponding page. If not, then you need to copy and paste the team numbers into the 'Results and Rankings', 'Robot Game Score' and 'Input' pages. (you may notice that the team names do not appear on the Robot Game Scores page - don’t worry, some events use an import for this page, you can still enter the scores manually)"]
[]
[]
[]
[null,null,null,"3.","Collect the rubric scores from the judges and the robot game scores (Inc. Gracious Professionalism® score) from the referees throughout the event and enter the data into the corresponding input pages."]
[]
[]
[null,null,null,"4.","When all the data has been inputted, go the Results and Rankings page to view all of the information in one place."]
[]
[null,null,null,"5.","You are now ready to allocate your awards based on your rankings using the 'Awards and Allocations' document in the judging toolkit."]
[]
[null,"Useful Tips",null,null,null,"If you are copying data into the Input pages please remember to use the 'Paste Values' or 'Use Destination Formatting' option.",null,null,null,null,null,null,null,null,"You can sort your data by a specific column by clicking on the small arrow in the column header box and selecting 'sort smallest to largest'.",null,null,null,null,null,null,null,null,"As you work with the OJS you should save your spreadsheet regularly in case of IT issues.",null,null,null,null,null,null,"If you use more than three official robot games at your event you can unhide the extra columns needed for your Gracious Professionalism® scores."]
[]
[null,null,null,null,null,"(This stops the formatting and formulae being overwritten)",null,null,null,null,null,null,null,null,null,null,null,null,null,null,null,null,null,null,null,null,null,null,null,null,"(Please note that the Gracious Professionalism® scores only make up 1/3 of the team's Core Values Score even though you may use more official robot games)"]

{"sheet":"Team and Program Information","index":1,"n_rows":8,"n_cols":8,"rows_kept":8,"cut":false,"hidden":false,"merged":[[0,2,0,5],[5,7,6,9]]}
["Version",null,"FIRST® LEGO® League Challenge Official Judging Spreadsheet"]
["SUPERPOWERED",null,"Team Number","Team Name","Coach","Pod Number"]
[]
["Number of Teams"]
[{"$f":"COUNTIF(OfficialTeamList[Team Number],\">0\")","v":0}]
[null,null,null,null,null,null,null,"DO NOT CLICK THIS BUTTON AFTER SCORE ENTRY HAS BEGUN. IF TEAM INFORMATION NEEDS UPDATING IT MUST BE CHANGED MANUALLY ON EACH PAGE."]
["Number of Teams Advancing"]
[1]

{"sheet":"Results and Rankings","index":2,"n_rows":110,"n_cols":31,"rows_kept":110,"cut":false,"hidden":false,"merged":[[0,20,0,24],[0,0,0,1],[0,9,0,11],[0,17,0,19],[0,12,0,16],[0,2,0,8]]}
["Team Information",null,"Robot Game",null,null,null,null,null,null,"Judging",null,null,"Overall",null,null,null,null,"Awards & Advancement",null,null,"Testing Items (Info Only)",null,null,null,null,"Comments",{"$f":"IF(COUNTIF($T:$T,\"=Yes\")>NumberofTeamsAdvancing,1,0)","v":0}]
["Team Number","Team Name","Robot Game Score 1","Robot Game Score 2","Robot Game Score 3","Robot Game Score 4","Robot Game Score 5","Max Robot Game Score","Robot Game Rank","Core Values Rank","Innovation Project Rank","Robot Design Rank","Champion's Score","Champion's Rank","Breakthrough","Rising All-Star","Motivate","Award","Award Place","Advance?","Core Values Score","Innovattion Project Score","Robot Design Score","Overall Score - Geometric Mean","Overall Ranking - Geometric Mean","Comments",null,null,"Champion's","YES","1st"]
[null,{"$f":"IF(ISNA(INDEX(OfficialTeamList[Team Name],MATCH(TournamentData[[#This Row],[Team Number]], OfficialTeamList[Team Number],0))),\"\",INDEX(OfficialTeamList[Team Name],MATCH(TournamentData[[#This Row],[Team Number]], OfficialTeamList[Team Number],0)))","v":""},{"$f":"IF(TournamentData[[#This Row],[Team Number]]=\"\",\"\",IF(ISNA(INDEX('Robot Game Scores'!D:D,MATCH(TournamentData[[#This Row],[Team Number]], 'Robot Game Scores'!$B:$B,0))),0,INDEX('Robot Game Scores'!D:D,MATCH(TournamentData[[#This Row],[Team Number]], 'Robot Game Scores'!$B:$B,0))))","v":""},{"$f":"IF(TournamentData[[#This Row],[Team Number]]=\"\",\"\",IF(ISNA(INDEX('Robot Game Scores'!E:E,MATCH(TournamentData[[#This Row],[Team Number]], 'Robot Game Scores'!$B:$B,0))),0,INDEX('Robot Game Scores'!E:E,MATCH(TournamentData[[#This Row],[Team Number]], 'Robot Game Scores'!$B:$B,0))))","v":""},{"$f":"IF(TournamentData[[#This Row],[Team Number]]=\"\",\"\",IF(ISNA(INDEX('Robot Game Scores'!F:F,MATCH(TournamentData[[#This Row],[Team Number]], 'Robot Game Scores'!$B:$B,0))),0,INDEX('Robot Game Scores'!F:F,MATCH(TournamentData[[#This Row],[Team Number]], 'Robot Game Scores'!$B:$B,0))))","v":""},{"$f":"IF(TournamentData[[#This Row],[Team Number]]=\"\",\"\",IF(ISNA(INDEX('Robot Game Scores'!G:G,MATCH(TournamentData[[#This Row],[Team Number]], 'Robot Game Scores'!$B:$B,0))),0,INDEX('Robot Game Scores'!G:G,MATCH(TournamentData[[#This Row],[Team Number]], 'Robot Game Scores'!$B:$B,0))))","v":""},{"$f":"IF(TournamentData[[#This Row],[Team Number]]=\"\",\"\",IF(ISNA(INDEX('Robot Game Scores'!H:H,MATCH(TournamentData[[#This Row],[Team Number]], 'Robot Game Scores'!$B:$B,0))),0,INDEX('Robot Game Scores'!H:H,MATCH(TournamentData[[#This Row],[Team Number]], 'Robot Game Scores'!$B:$B,0))))","v":""},{"$f":"IF(TournamentData[[#This Row],[Team Number]]=\"\",\"\",IF(ISNA(LARGE(TournamentData[[#This Row],[Robot Game Score 1]:[Robot Game Score 5]],1)+0.0001*LARGE(TournamentData[[#This Row],[Robot Game Score 1]:[Robot Game Score 5]],2)+0.0000001*LARGE(TournamentData[[#This Row],[Robot Game Score 1]:[Robot Game Score 5]],3)+0.00000000001*LARGE(TournamentData[[#This Row],[Robot Game Score 1]:[Robot Game Score 5]],4)+0.00000000000001*LARGE(TournamentData[[#This Row],[Robot Game Score 1]:[Robot Game Score 5]],5)),0,LARGE(TournamentData[[#This Row],[Robot Game Score 1]:[Robot Game Score 5]],1)+0.0001*LARGE(TournamentData[[#This Row],[Robot Game Score 1]:[Robot Game Score 5]],2)+0.0000001*LARGE(TournamentData[[#This Row],[Robot Game Score 1]:[Robot Game Score 5]],3)+0.00000000001*LARGE(TournamentData[[#This Row],[Robot Game Score 1]:[Robot Game Score 5]],4)+0.00000000000001*LARGE(TournamentData[[#This Row],[Robot Game Score 1]:[Robot Game Score 5]],5)))","v":""},{"$f":"IF(TournamentData[[#This Row],[Team Number]]=\"\",\"\",_xlfn.RANK.EQ(TournamentData[[#This Row],[Max Robot Game Score]],TournamentData[Max Robot Game Score]))","v":""},{"$f":"IF(TournamentData[[#This Row],[Team Number]]=\"\",\"\",IF(ISNA(INDEX(CoreValuesResults[Core Values Rank],MATCH(TournamentData[[#This Row],[Team Number]],CoreValuesResults[Team Number],0))),NumberOfTeams+1,INDEX(CoreValuesResults[Core Values Rank],MATCH(TournamentData[[#This Row],[Team Number]],CoreValuesResults[Team Number],0))))","v":""},{"$f":"IF(TournamentData[[#This Row],[Team Number]]=\"\",\"\",IF(ISNA(INDEX(InnovationProjectResults[Innovation Project Rank],MATCH(TournamentData[[#This Row],[Team Number]],InnovationProjectResults[Team Number],0))),NumberOfTeams+1,INDEX(InnovationProjectResults[Innovation Project Rank],MATCH(TournamentData[[#This Row],[Team Number]],InnovationProjectResults[Team Number],0))))","v":""},{"$f":"IF(TournamentData[[#This Row],[Team Number]]=\"\",\"\",IF(ISNA(INDEX(RobotDesignResults[Robot Design Rank],MATCH(TournamentData[[#This Row],[Team Number]],RobotDesignResults[Team Number],0))),NumberOfTeams+1,INDEX(RobotDesignResults[Robot Design Rank],MATCH(TournamentData[[#This Row],[Team Number]],RobotDesignResults[Team Number],0))))","v":""},{"$f":" IF(TournamentData[[#This Row],[Team Number]]=\"\",\"\",IF(TournamentData[[#This Row],[Core Values Rank]]=\"\",NumberOfTeams+1,TournamentData[[#This Row],[Core Values Rank]]) + IF(TournamentData[[#This Row],[Innovation Project Rank]]=\"\",NumberOfTeams+1,TournamentData[[#This Row],[Innovation Project Rank]]) + IF(TournamentData[[#This Row],[Robot Design Rank]]=\"\",NumberOfTeams+1,TournamentData[[#This Row],[Robot Design Rank]]) + TournamentData[[#This Row],[Robot Game Rank]])","v":""},{"$f":"IF(TournamentData[[#This Row],[Team Number]]=\"\",\"\",IF(M3,RANK(M3,M$3:M$110,1)-COUNTIF(M$3:M$110,0),NumberOfTeams+1))","v":""},{"$f":"IF(ISNA(INDEX(CoreValuesResults[Breakthrough Selection],MATCH(TournamentData[[#This Row],[Team Number]],CoreValuesResults[Team Number],0))),0, INDEX(CoreValuesResults[Breakthrough Selection],MATCH(TournamentData[[#This Row],[Team Number]],CoreValuesResults[Team Number],0)))","v":0},{"$f":"IF(ISNA(INDEX(CoreValuesResults[Rising All-Star Selection],MATCH(TournamentData[[#This Row],[Team Number]],CoreValuesResults[Team Number],0))),0, INDEX(CoreValuesResults[Rising All-Star Selection],MATCH(TournamentData[[#This Row],[Team Number]],CoreValuesResults[Team Number],0)))","v":0},{"$f":"IF(ISNA(INDEX(CoreValuesResults[Motivate Selection],MATCH(TournamentData[[#This Row],[Team Number]],CoreValuesResults[Team Number],0))),0, INDEX(CoreValuesResults[Motivate Selection],MATCH(TournamentData[[#This Row],[Team Number]],CoreValuesResults[Team Number],0)))","v":0},null,null,null,{"$f":"IF(ISNA(INDEX(CoreValuesResults[Core Values Score],MATCH(TournamentData[[#This Row],[Team Number]],CoreValuesResults[Team Number],0))),0,INDEX(CoreValuesResults[Core Values Score],MATCH(TournamentData[[#This Row],[Team Number]],CoreValuesResults[Team Number],0)))","v":0},{"$f":"IF(ISNA(INDEX(InnovationProjectResults[Innovation Project Score],MATCH(TournamentData[[#This Row],[Team Number]],InnovationProjectResults[Team Number],0))),0,INDEX(InnovationProjectResults[Innovation Project Score],MATCH(TournamentData[[#This Row],[Team Number]],InnovationProjectResults[Team Number],0)))","v":0},{"$f":"IF(ISNA(INDEX(RobotDesignResults[Robot Design Score],MATCH(TournamentData[[#This Row],[Team Number]],RobotDesignResults[Team Number],0))),0,INDEX(RobotDesignResults[Robot Design Score],MATCH(TournamentData[[#This Row],[Team Number]],RobotDesignResults[Team Number],0)))","v":0},{"$f":"IF(ISERR(GEOMEAN(TournamentData[[#This Row],[Max Robot Game Score]],TournamentData[[#This Row],[Core Values Score]],TournamentData[[#This Row],[Innovattion Project Score]],TournamentData[[#This Row],[Robot Design Score]])),0,GEOMEAN(TournamentData[[#This Row],[Max Robot Game Score]],TournamentData[[#This Row],[Core Values Score]],TournamentData[[#This Row],[Innovattion Project Score]],TournamentData[[#This Row],[Robot Design Score]]))","v":0},{"$f":"IF(X3,_xlfn.RANK.EQ(X3,X$3:X$110,0),NumberOfTeams)","v":0},null,null,null,"Core Values","NO","2nd"]
[null,{"$f":"IF(ISNA(INDEX(OfficialTeamList[Team Name],MATCH(TournamentData[[#This Row],[Team Number]], OfficialTeamList[Team Number],0))),\"\",INDEX(OfficialTeamList[Team Name],MATCH(TournamentData[[#This Row],[Team Number]], OfficialTeamList[Team Number],0)))","v":""},{"$f":"IF(TournamentData[[#This Row],[Team Number]]=\"\",\"\",IF(ISNA(INDEX('Robot Game Scores'!D:D,MATCH(TournamentData[[#This Row],[Team Number]], 'Robot Game Scores'!$B:$B,0))),0,INDEX('Robot Game Scores'!D:D,MATCH(TournamentData[[#This Row],[Team Number]], 'Robot Game Scores'!$B:$B,0))))","v":""},{"$f":"IF(TournamentData[[#This Row],[Team Number]]=\"\",\"\",IF(ISNA(INDEX('Robot Game Scores'!E:E,MATCH(TournamentData[[#This Row],[Team Number]], 'Robot Game Scores'!$B:$B,0))),0,INDEX('Robot Game Scores'!E:E,MATCH(TournamentData[[#This Row],[Team Number]], 'Robot Game Scores'!$B:$B,0))))","v":""},{"$f":"IF(TournamentData[[#This Row],[Team Number]]=\"\",\"\",IF(ISNA(INDEX('Robot Game Scores'!F:F,MATCH(TournamentData[[#This Row],[Team Number]], 'Robot Game Scores'!$B:$B,0))),0,INDEX('Robot Game Scores'!F:F,MATCH(TournamentData[[#This Row],[Team Number]], 'Robot Game Scores'!$B:$B,0))))","v":""},{"$f":"IF(TournamentData[[#This Row],[Team Number]]=\"\",\"\",IF(ISNA(INDEX('Robot Game Scores'!G:G,MATCH(TournamentData[[#This Row],[Team Number]], 'Robot Game Scores'!$B:$B,0))),0,INDEX('Robot Game Scores'!G:G,MATCH(TournamentData[[#This Row],[Team Number]], 'Robot Game Scores'!$B:$B,0))))","v":""},{"$f":"IF(TournamentData[[#This Row],[Team Number]]=\"\",\"\",IF(ISNA(INDEX('Robot Game Scores'!H:H,MATCH(TournamentData[[#This Row],[Team Number]], 'Robot Game Scores'!$B:$B,0))),0,INDEX('Robot Game Scores'!H:H,MATCH(TournamentData[[#This Row],[Team Number]], 'Robot Game Scores'!$B:$B,0))))","v":""},{"$f":"IF(TournamentData[[#This Row],[Team Number]]=\"\",\"\",IF(ISNA(LARGE(TournamentData[[#This Row],[Robot Game Score 1]:[Robot Game Score 5]],1)+0.0001*LARGE(TournamentData[[#This Row],[Robot Game Score 1]:[Robot Game Score 5]],2)+0.0000001*LARGE(TournamentData[[#This Row],[Robot Game Score 1]:[Robot Game Score 5]],3)+0.00000000001*LARGE(TournamentData[[#This Row],[Robot Game Score 1]:[Robot Game Score 5]],4)+0.00000000000001*LARGE(TournamentData[[#This Row],[Robot Game Score 1]:[Robot Game Score 5]],5)),0,LARGE(TournamentData[[#This Row],[Robot Game Score 1]:[Robot Game Score 5]],1)+0.0001*LARGE(TournamentData[[#This Row],[Robot Game Score 1]:[Robot Game Score 5]],2)+0.0000001*LARGE(TournamentData[[#This Row],[Robot Game Score 1]:[Robot Game Score 5]],3)+0.00000000001*LARGE(TournamentData[[#This Row],[Robot Game Score 1]:[Robot Game Score 5]],4)+0.00000000000001*LARGE(TournamentData[[#This Row],[Robot Game Score 1]:[Robot Game Score 5]],5)))","v":""},{"$f":"IF(TournamentData[[#This Row],[Team Number]]=\"\",\"\",_xlfn.RANK.EQ(TournamentData[[#This Row],[Max Robot Game Score]],TournamentData[Max Robot Game Score]))","v":""},{"$f":"IF(TournamentData[[#This Row],[Team Number]]=\"\",\"\",IF(ISNA(INDEX(CoreValuesResults[Core Values Rank],MATCH(TournamentData[[#This Row],[Team Number]],CoreValuesResults[Team Number],0))),NumberOfTeams+1,INDEX(CoreValuesResults[Core Values Rank],MATCH(TournamentData[[#This Row],[Team Number]],CoreValuesResults[Team Number],0))))","v":""},{"$f":"IF(TournamentData[[#This Row],[Team Number]]=\"\",\"\",IF(ISNA(INDEX(InnovationProjectResults[Innovation Project Rank],MATCH(TournamentData[[#This Row],[Team Number]],InnovationProjectResults[Team Number],0))),NumberOfTeams+1,INDEX(InnovationProjectResults[Innovation Project Rank],MATCH(TournamentData[[#This Row],[Team Number]],InnovationProjectResults[Team Number],0))))","v":""},{"$f":"IF(TournamentData[[#This Row],[Team Number]]=\"\",\"\",IF(ISNA(INDEX(RobotDesignResults[Robot Design Rank],MATCH(TournamentData[[#This Row],[Team Number]],RobotDesignResults[Team Number],0))),NumberOfTeams+1,INDEX(RobotDesignResults[Robot Design Rank],MATCH(TournamentData[[#This Row],[Team Number]],RobotDesignResults[Team Number],0))))","v":""},{"$f":" IF(TournamentData[[#This Row],[Team Number]]=\"\",\"\",IF(TournamentData[[#This Row],[Core Values Rank]]=\"\",NumberOfTeams+1,TournamentData[[#This Row],[Core Values Rank]]) + IF(TournamentData[[#This Row],[Innovation Project Rank]]=\"\",NumberOfTeams+1,TournamentData[[#This Row],[Innovation Project Rank]]) + IF(TournamentData[[#This Row],[Robot Design Rank]]=\"\",NumberOfTeams+1,TournamentData[[#This Row],[Robot Design Rank]]) + TournamentData[[#This Row],[Robot Game Rank]])","v":""},{"$f":"IF(TournamentData[[#This Row],[Team Number]]=\"\",\"\",IF(M4,RANK(M4,M$3:M$110,1)-COUNTIF(M$3:M$110,0),NumberOfTeams+1))","v":""},{"$f":"IF(ISNA(INDEX(CoreValuesResults[Breakthrough Selection],MATCH(TournamentData[[#This Row],[Team Number]],CoreValuesResults[Team Number],0))),0, INDEX(CoreValuesResults[Breakthrough Selection],MATCH(TournamentData[[#This Row],[Team Number]],CoreValuesResults[Team Number],0)))","v":0},{"$f":"IF(ISNA(INDEX(CoreValuesResults[Rising All-Star Selection],MATCH(TournamentData[[#This Row],[Team Number]],CoreValuesResults[Team Number],0))),0, INDEX(CoreValuesResults[Rising All-Star Selection],MATCH(TournamentData[[#This Row],[Team Number]],CoreValuesResults[Team Number],0)))","v":0},{"$f":"IF(ISNA(INDEX(CoreValuesResults[Motivate Selection],MATCH(TournamentData[[#This Row],[Team Number]],CoreValuesResults[Team Number],0))),0, INDEX(CoreValuesResults[Motivate Selection],MATCH(TournamentData[[#This Row],[Team Number]],CoreValuesResults[Team Number],0)))","v":0},null,null,null,{"$f":"IF(ISNA(INDEX(CoreValuesResults[Core Values Score],MATCH(TournamentData[[#This Row],[Team Number]],CoreValuesResults[Team Number],0))),0,INDEX(CoreValuesResults[Core Values Score],MATCH(TournamentData[[#This Row],[Team Number]],CoreValuesResults[Team Number],0)))","v":0},{"$f":"IF(ISNA(INDEX(InnovationProjectResults[Innovation Project Score],MATCH(TournamentData[[#This Row],[Team Number]],InnovationProjectResults[Team Number],0))),0,INDEX(InnovationProjectResults[Innovation Project Score],MATCH(TournamentData[[#This Row],[Team Number]],InnovationProjectResults[Team Number],0)))","v":0},{"$f":"IF(ISNA(INDEX(RobotDesignResults[Robot Design Score],MATCH(TournamentData[[#This Row],[Team Number]],RobotDesignResults[Team Number],0))),0,INDEX(RobotDesignResults[Robot Design Score],MATCH(TournamentData[[#This Row],[Team Number]],RobotDesignResults[Team Number],0)))","v":0},{"$f":"IF(ISERR(GEOMEAN(TournamentData[[#This Row],[Max Robot Game Score]],TournamentData[[#This Row],[Core Values Score]],TournamentData[[#This Row],[Innovattion Project Score]],TournamentData[[#This Row],[Robot Design Score]])),0,GEOMEAN(TournamentData[[#This Row],[Max Robot Game Score]],TournamentData[[#This Row],[Core Values Score]],TournamentData[[#This Row],[Innovattion Project Score]],TournamentData[[#This Row],[Robot Design Score]]))","v":0},0,null,null,null,"Innovation Project",null,"3rd"]
[null,{"$f":"IF(ISNA(INDEX(OfficialTeamList[Team Name],MATCH(TournamentData[[#This Row],[Team Number]], OfficialTeamList[Team Number],0))),\"\",INDEX(OfficialTeamList[Team Name],MATCH(TournamentData[[#This Row],[Team Number]], OfficialTeamList[Team Number],0)))","v":""},{"$f":"IF(TournamentData[[#This Row],[Team Number]]=\"\",\"\",IF(ISNA(INDEX('Robot Game Scores'!D:D,MATCH(TournamentData[[#This Row],[Team Number]], 'Robot Game Scores'!$B:$B,0))),0,INDEX('Robot Game Scores'!D:D,MATCH(TournamentData[[#This Row],[Team Number]], 'Robot Game Scores'!$B:$B,0))))","v":""},{"$f":"IF(TournamentData[[#This Row],[Team Number]]=\"\",\"\",IF(ISNA(INDEX('Robot Game Scores'!E:E,MATCH(TournamentData[[#This Row],[Team Number]], 'Robot Game Scores'!$B:$B,0))),0,INDEX('Robot Game Scores'!E:E,MATCH(TournamentData[[#This Row],[Team Number]], 'Robot Game Scores'!$B:$B,0))))","v":""},{"$f":"IF(TournamentData[[#This Row],[Team Number]]=\"\",\"\",IF(ISNA(INDEX('Robot Game Scores'!F:F,MATCH(TournamentData[[#This Row],[Team Number]], 'Robot Game Scores'!$B:$B,0))),0,INDEX('Robot Game Scores'!F:F,MATCH(TournamentData[[#This Row],[Team Number]], 'Robot Game Scores'!$B:$B,0))))","v":""},{"$f":"IF(TournamentData[[#This Row],[Team Number]]=\"\",\"\",IF(ISNA(INDEX('Robot Game Scores'!G:G,MATCH(TournamentData[[#This Row],[Team Number]], 'Robot Game Scores'!$B:$B,0))),0,INDEX('Robot Game Scores'!G:G,MATCH(TournamentData[[#This Row],[Team Number]], 'Robot Game Scores'!$B:$B,0))))","v":""},{"$f":"IF(TournamentData[[#This Row],[Team Number]]=\"\",\"\",IF(ISNA(INDEX('Robot Game Scores'!H:H,MATCH(TournamentData[[#This Row],[Team Number]], 'Robot Game Scores'!$B:$B,0))),0,INDEX('Robot Game Scores'!H:H,MATCH(TournamentData[[#This Row],[Team Number]], 'Robot Game Scores'!$B:$B,0))))","v":""},{"$f":"IF(TournamentData[[#This Row],[Team Number]]=\"\",\"\",IF(ISNA(LARGE(TournamentData[[#This Row],[Robot Game Score 1]:[Robot Game Score 5]],1)+0.0001*LARGE(TournamentData[[#This Row],[Robot Game Score 1]:[Robot Game Score 5]],2)+0.0000001*LARGE(TournamentData[[#This Row],[Robot Game Score 1]:[Robot Game Score 5]],3)+0.00000000001*LARGE(TournamentData[[#This Row],[Robot Game Score 1]:[Robot Game Score 5]],4)+0.00000000000001*LARGE(TournamentData[[#This Row],[Robot Game Score 1]:[Robot Game Score 5]],5)),0,LARGE(TournamentData[[#This Row],[Robot Game Score 1]:[Robot Game Score 5]],1)+0.0001*LARGE(TournamentData[[#This Row],[Robot Game Score 1]:[Robot Game Score 5]],2)+0.0000001*LARGE(TournamentData[[#This Row],[Robot Game Score 1]:[Robot Game Score 5]],3)+0.00000000001*LARGE(TournamentData[[#This Row],[Robot Game Score 1]:[Robot Game Score 5]],4)+0.00000000000001*LARGE(TournamentData[[#This Row],[Robot Game Score 1]:[Robot Game Score 5]],5)))","v":""},{"$f":"IF(TournamentData[[#This Row],[Team Number]]=\"\",\"\",_xlfn.RANK.EQ(TournamentData[[#This Row],[Max Robot Game Score]],TournamentData[Max Robot Game Score]))","v":""},{"$f":"IF(TournamentData[[#This Row],[Team Number]]=\"\",\"\",IF(ISNA(INDEX(CoreValuesResults[Core Values Rank],MATCH(TournamentData[[#This Row],[Team Number]],CoreValuesResults[Team Number],0))),NumberOfTeams+1,INDEX(CoreValuesResults[Core Values Rank],MATCH(TournamentData[[#This Row],[Team Number]],CoreValuesResults[Team Number],0))))","v":""},{"$f":"IF(TournamentData[[#This Row],[Team Number]]=\"\",\"\",IF(ISNA(INDEX(InnovationProjectResults[Innovation Project Rank],MATCH(TournamentData[[#This Row],[Team Number]],InnovationProjectResults[Team Number],0))),NumberOfTeams+1,INDEX(InnovationProjectResults[Innovation Project Rank],MATCH(TournamentData[[#This Row],[Team Number]],InnovationProjectResults[Team Number],0))))","v":""},{"$f":"IF(TournamentData[[#This Row],[Team Number]]=\"\",\"\",IF(ISNA(INDEX(RobotDesignResults[Robot Design Rank],MATCH(TournamentData[[#This Row],[Team Number]],RobotDesignResults[Team Number],0))),NumberOfTeams+1,INDEX(RobotDesignResults[Robot Design Rank],MATCH(TournamentData[[#This Row],[Team Number]],RobotDesignResults[Team Number],0))))","v":""},{"$f":" IF(TournamentData[[#This Row],[Team Number]]=\"\",\"\",IF(TournamentData[[#This Row],[Core Values Rank]]=\"\",NumberOfTeams+1,TournamentData[[#This Row],[Core Values Rank]]) + IF(TournamentData[[#This Row],[Innovation Project Rank]]=\"\",NumberOfTeams+1,TournamentData[[#This Row],[Innovation Project Rank]]) + IF(TournamentData[[#This Row],[Robot Design Rank]]=\"\",NumberOfTeams+1,TournamentData[[#This Row],[Robot Design Rank]]) + TournamentData[[#This Row],[Robot Game Rank]])","v":""},{"$f":"IF(TournamentData[[#This Row],[Team Number]]=\"\",\"\",IF(M5,RANK(M5,M$3:M$110,1)-COUNTIF(M$3:M$110,0),NumberOfTeams+1))","v":""},{"$f":"IF(ISNA(INDEX(CoreValuesResults[Breakthrough Selection],MATCH(TournamentData[[#This Row],[Team Number]],CoreValuesResults[Team Number],0))),0, INDEX(CoreValuesResults[Breakthrough Selection],MATCH(TournamentData[[#This Row],[Team Number]],CoreValuesResults[Team Number],0)))","v":0},{"$f":"IF(ISNA(INDEX(CoreValuesResults[Rising All-Star Selection],MATCH(TournamentData[[#This Row],[Team Number]],CoreValuesResults[Team Number],0))),0, INDEX(CoreValuesResults[Rising All-Star Selection],MATCH(TournamentData[[#This Row],[Team Number]],CoreValuesResults[Team Number],0)))","v":0},{"$f":"IF(ISNA(INDEX(CoreValuesResults[Motivate Selection],MATCH(TournamentData[[#This Row],[Team Number]],CoreValuesResults[Team Number],0))),0, INDEX(CoreValuesResults[Motivate Selection],MATCH(TournamentData[[#This Row],[Team Number]],CoreValuesResults[Team Number],0)))","v":0},null,null,null,{"$f":"IF(ISNA(INDEX(CoreValuesResults[Core Values Score],MATCH(TournamentData[[#This Row],[Team Number]],CoreValuesResults[Team Number],0))),0,INDEX(CoreValuesResults[Core Values Score],MATCH(TournamentData[[#This Row],[Team Number]],CoreValuesResults[Team Number],0)))","v":0},{"$f":"IF(ISNA(INDEX(InnovationProjectResults[Innovation Project Score],MATCH(TournamentData[[#This Row],[Team Number]],InnovationProjectResults[Team Number],0))),0,INDEX(InnovationProjectResults[Innovation Project Score],MATCH(TournamentData[[#This Row],[Team Number]],InnovationProjectResults[Team Number],0)))","v":0},{"$f":"IF(ISNA(INDEX(RobotDesignResults[Robot Design Score],MATCH(TournamentData[[#This Row],[Team Number]],RobotDesignResults[Team Number],0))),0,INDEX(RobotDesignResults[Robot Design Score],MATCH(TournamentData[[#This Row],[Team Number]],RobotDesignResults[Team Number],0)))","v":0},{"$f":"IF(ISERR(GEOMEAN(TournamentData[[#This Row],[Max Robot Game Score]],TournamentData[[#This Row],[Core Values Score]],TournamentData[[#This Row],[Innovattion Project Score]],TournamentData[[#This Row],[Robot Design Score]])),0,GEOMEAN(TournamentData[[#This Row],[Max Robot Game Score]],TournamentData[[#This Row],[Core Values Score]],TournamentData[[#This Row],[Innovattion Project Score]],TournamentData[[#This Row],[Robot Design Score]]))","v":0},0,null,null,null,"Robot Design",null,"4th"]
[null,{"$f":"IF(ISNA(INDEX(OfficialTeamList[Team Name],MATCH(TournamentData[[#This Row],[Team Number]], OfficialTeamList[Team Number],0))),\"\",INDEX(OfficialTeamList[Team Name],MATCH(TournamentData[[#This Row],[Team Number]], OfficialTeamList[Team Number],0)))","v":""},{"$f":"IF(TournamentData[[#This Row],[Team Number]]=\"\",\"\",IF(ISNA(INDEX('Robot Game Scores'!D:D,MATCH(TournamentData[[#This Row],[Team Number]], 'Robot Game Scores'!$B:$B,0))),0,INDEX('Robot Game Scores'!D:D,MATCH(TournamentData[[#This Row],[Team Number]], 'Robot Game Scores'!$B:$B,0))))","v":""},{"$f":"IF(TournamentData[[#This Row],[Team Number]]=\"\",\"\",IF(ISNA(INDEX('Robot Game Scores'!E:E,MATCH(TournamentData[[#This Row],[Team Number]], 'Robot Game Scores'!$B:$B,0))),0,INDEX('Robot Game Scores'!E:E,MATCH(TournamentData[[#This Row],[Team Number]], 'Robot Game Scores'!$B:$B,0))))","v":""},{"$f":"IF(TournamentData[[#This Row],[Team Number]]=\"\",\"\",IF(ISNA(INDEX('Robot Game Scores'!F:F,MATCH(TournamentData[[#This Row],[Team Number]], 'Robot Game Scores'!$B:$B,0))),0,INDEX('Robot Game Scores'!F:F,MATCH(TournamentData[[#This Row],[Team Number]], 'Robot Game Scores'!$B:$B,0))))","v":""},{"$f":"IF(TournamentData[[#This Row],[Team Number]]=\"\",\"\",IF(ISNA(INDEX('Robot Game Scores'!G:G,MATCH(TournamentData[[#This Row],[Team Number]], 'Robot Game Scores'!$B:$B,0))),0,INDEX('Robot Game Scores'!G:G,MATCH(TournamentData[[#This Row],[Team Number]], 'Robot Game Scores'!$B:$B,0))))","v":""},{"$f":"IF(TournamentData[[#This Row],[Team Number]]=\"\",\"\",IF(ISNA(INDEX('Robot Game Scores'!H:H,MATCH(TournamentData[[#This Row],[Team Number]], 'Robot Game Scores'!$B:$B,0))),0,INDEX('Robot Game Scores'!H:H,MATCH(TournamentData[[#This Row],[Team Number]], 'Robot Game Scores'!$B:$B,0))))","v":""},{"$f":"IF(TournamentData[[#This Row],[Team Number]]=\"\",\"\",IF(ISNA(LARGE(TournamentData[[#This Row],[Robot Game Score 1]:[Robot Game Score 5]],1)+0.0001*LARGE(TournamentData[[#This Row],[Robot Game Score 1]:[Robot Game Score 5]],2)+0.0000001*LARGE(TournamentData[[#This Row],[Robot Game Score 1]:[Robot Game Score 5]],3)+0.00000000001*LARGE(TournamentData[[#This Row],[Robot Game Score 1]:[Robot Game Score 5]],4)+0.00000000000001*LARGE(TournamentData[[#This Row],[Robot Game Score 1]:[Robot Game Score 5]],5)),0,LARGE(TournamentData[[#This Row],[Robot Game Score 1]:[Robot Game Score 5]],1)+0.0001*LARGE(TournamentData[[#This Row],[Robot Game Score 1]:[Robot Game Score 5]],2)+0.0000001*LARGE(TournamentData[[#This Row],[Robot Game Score 1]:[Robot Game Score 5]],3)+0.00000000001*LARGE(TournamentData[[#This Row],[Robot Game Score 1]:[Robot Game Score 5]],4)+0.00000000000001*LARGE(TournamentData[[#This Row],[Robot Game Score 1]:[Robot Game Score 5]],5)))","v":""},{"$f":"IF(TournamentData[[#This Row],[Team Number]]=\"\",\"\",_xlfn.RANK.EQ(TournamentData[[#This Row],[Max Robot Game Score]],TournamentData[Max Robot Game Score]))","v":""},{"$f":"IF(TournamentData[[#This Row],[Team Number]]=\"\",\"\",IF(ISNA(INDEX(CoreValuesResults[Core Values Rank],MATCH(TournamentData[[#This Row],[Team Number]],CoreValuesResults[Team Number],0))),NumberOfTeams+1,INDEX(CoreValuesResults[Core Values Rank],MATCH(TournamentData[[#This Row],[Team Number]],CoreValuesResults[Team Number],0))))","v":""},{"$f":"IF(TournamentData[[#This Row],[Team Number]]=\"\",\"\",IF(ISNA(INDEX(InnovationProjectResults[Innovation Project Rank],MATCH(TournamentData[[#This Row],[Team Number]],InnovationProjectResults[Team Number],0))),NumberOfTeams+1,INDEX(InnovationProjectResults[Innovation Project Rank],MATCH(TournamentData[[#This Row],[Team Number]],InnovationProjectResults[Team Number],0))))","v":""},{"$f":"IF(TournamentData[[#This Row],[Team Number]]=\"\",\"\",IF(ISNA(INDEX(RobotDesignResults[Robot Design Rank],MATCH(TournamentData[[#This Row],[Team Number]],RobotDesignResults[Team Number],0))),NumberOfTeams+1,INDEX(RobotDesignResults[Robot Design Rank],MATCH(TournamentData[[#This Row],[Team Number]],RobotDesignResults[Team Number],0))))","v":""},{"$f":" IF(TournamentData[[#This Row],[Team Number]]=\"\",\"\",IF(TournamentData[[#This Row],[Core Values Rank]]=\"\",NumberOfTeams+1,TournamentData[[#This Row],[Core Values Rank]]) + IF(TournamentData[[#This Row],[Innovation Project Rank]]=\"\",NumberOfTeams+1,TournamentData[[#This Row],[Innovation Project Rank]]) + IF(TournamentData[[#This Row],[Robot Design Rank]]=\"\",NumberOfTeams+1,TournamentData[[#This Row],[Robot Design Rank]]) + TournamentData[[#This Row],[Robot Game Rank]])","v":""},{"$f":"IF(TournamentData[[#This Row],[Team Number]]=\"\",\"\",IF(M6,RANK(M6,M$3:M$110,1)-COUNTIF(M$3:M$110,0),NumberOfTeams+1))","v":""},{"$f":"IF(ISNA(INDEX(CoreValuesResults[Breakthrough Selection],MATCH(TournamentData[[#This Row],[Team Number]],CoreValuesResults[Team Number],0))),0, INDEX(CoreValuesResults[Breakthrough Selection],MATCH(TournamentData[[#This Row],[Team Number]],CoreValuesResults[Team Number],0)))","v":0},{"$f":"IF(ISNA(INDEX(CoreValuesResults[Rising All-Star Selection],MATCH(TournamentData[[#This Row],[Team Number]],CoreValuesResults[Team Number],0))),0, INDEX(CoreValuesResults[Rising All-Star Selection],MATCH(TournamentData[[#This Row],[Team Number]],CoreValuesResults[Team Number],0)))","v":0},{"$f":"IF(ISNA(INDEX(CoreValuesResults[Motivate Selection],MATCH(TournamentData[[#This Row],[Team Number]],CoreValuesResults[Team Number],0))),0, INDEX(CoreValuesResults[Motivate Selection],MATCH(TournamentData[[#This Row],[Team Number]],CoreValuesResults[Team Number],0)))","v":0},null,null,null,{"$f":"IF(ISNA(INDEX(CoreValuesResults[Core Values Score],MATCH(TournamentData[[#This Row],[Team Number]],CoreValuesResults[Team Number],0))),0,INDEX(CoreValuesResults[Core Values Score],MATCH(TournamentData[[#This Row],[Team Number]],CoreValuesResults[Team Number],0)))","v":0},{"$f":"IF(ISNA(INDEX(InnovationProjectResults[Innovation Project Score],MATCH(TournamentData[[#This Row],[Team Number]],InnovationProjectResults[Team Number],0))),0,INDEX(InnovationProjectResults[Innovation Project Score],MATCH(TournamentData[[#This Row],[Team Number]],InnovationProjectResults[Team Number],0)))","v":0},{"$f":"IF(ISNA(INDEX(RobotDesignResults[Robot Design Score],MATCH(TournamentData[[#This Row],[Team Number]],RobotDesignResults[Team Number],0))),0,INDEX(RobotDesignResults[Robot Design Score],MATCH(TournamentData[[#This Row],[Team Number]],RobotDesignResults[Team Number],0)))","v":0},{"$f":"IF(ISERR(GEOMEAN(TournamentData[[#This Row],[Max Robot Game Score]],TournamentData[[#This Row],[Core Values Score]],TournamentData[[#This Row],[Innovattion Project Score]],TournamentData[[#This Row],[Robot Design Score]])),0,GEOMEAN(TournamentData[[#This Row],[Max Robot Game Score]],TournamentData[[#This Row],[Core Values Score]],TournamentData[[#This Row],[Innovattion Project Score]],TournamentData[[#This Row],[Robot Design Score]]))","v":0},0,null,null,null,"Engineering Excellence"]
[null,{"$f":"IF(ISNA(INDEX(OfficialTeamList[Team Name],MATCH(TournamentData[[#This Row],[Team Number]], OfficialTeamList[Team Number],0))),\"\",INDEX(OfficialTeamList[Team Name],MATCH(TournamentData[[#This Row],[Team Number]], OfficialTeamList[Team Number],0)))","v":""},{"$f":"IF(TournamentData[[#This Row],[Team Number]]=\"\",\"\",IF(ISNA(INDEX('Robot Game Scores'!D:D,MATCH(TournamentData[[#This Row],[Team Number]], 'Robot Game Scores'!$B:$B,0))),0,INDEX('Robot Game Scores'!D:D,MATCH(TournamentData[[#This Row],[Team Number]], 'Robot Game Scores'!$B:$B,0))))","v":""},{"$f":"IF(TournamentData[[#This Row],[Team Number]]=\"\",\"\",IF(ISNA(INDEX('Robot Game Scores'!E:E,MATCH(TournamentData[[#This Row],[Team Number]], 'Robot Game Scores'!$B:$B,0))),0,INDEX('Robot Game Scores'!E:E,MATCH(TournamentData[[#This Row],[Team Number]], 'Robot Game Scores'!$B:$B,0))))","v":""},{"$f":"IF(TournamentData[[#This Row],[Team Number]]=\"\",\"\",IF(ISNA(INDEX('Robot Game Scores'!F:F,MATCH(TournamentData[[#This Row],[Team Number]], 'Robot Game Scores'!$B:$B,0))),0,INDEX('Robot Game Scores'!F:F,MATCH(TournamentData[[#This Row],[Team Number]], 'Robot Game Scores'!$B:$B,0))))","v":""},{"$f":"IF(TournamentData[[#This Row],[Team Number]]=\"\",\"\",IF(ISNA(INDEX('Robot Game Scores'!G:G,MATCH(TournamentData[[#This Row],[Team Number]], 'Robot Game Scores'!$B:$B,0))),0,INDEX('Robot Game Scores'!G:G,MATCH(TournamentData[[#This Row],[Team Number]], 'Robot Game Scores'!$B:$B,0))))","v":""},{"$f":"IF(TournamentData[[#This Row],[Team Number]]=\"\",\"\",IF(ISNA(INDEX('Robot Game Scores'!H:H,MATCH(TournamentData[[#This Row],[Team Number]], 'Robot Game Scores'!$B:$B,0))),0,INDEX('Robot Game Scores'!H:H,MATCH(TournamentData[[#This Row],[Team Number]], 'Robot Game Scores'!$B:$B,0))))","v":""},{"$f":"IF(TournamentData[[#This Row],[Team Number]]=\"\",\"\",IF(ISNA(LARGE(TournamentData[[#This Row],[Robot Game Score 1]:[Robot Game Score 5]],1)+0.0001*LARGE(TournamentData[[#This Row],[Robot Game Score 1]:[Robot Game Score 5]],2)+0.0000001*LARGE(TournamentData[[#This Row],[Robot Game Score 1]:[Robot Game Score 5]],3)+0.00000000001*LARGE(TournamentData[[#This Row],[Robot Game Score 1]:[Robot Game Score 5]],4)+0.00000000000001*LARGE(TournamentData[[#This Row],[Robot Game Score 1]:[Robot Game Score 5]],5)),0,LARGE(TournamentData[[#This Row],[Robot Game Score 1]:[Robot Game Score 5]],1)+0.0001*LARGE(TournamentData[[#This Row],[Robot Game Score 1]:[Robot Game Score 5]],2)+0.0000001*LARGE(TournamentData[[#This Row],[Robot Game Score 1]:[Robot Game Score 5]],3)+0.00000000001*LARGE(TournamentData[[#This Row],[Robot Game Score 1]:[Robot Game Score 5]],4)+0.00000000000001*LARGE(TournamentData[[#This Row],[Robot Game Score 1]:[Robot Game Score 5]],5)))","v":""},{"$f":"IF(TournamentData[[#This Row],[Team Number]]=\"\",\"\",_xlfn.RANK.EQ(TournamentData[[#This Row],[Max Robot Game Score]],TournamentData[Max Robot Game Score]))","v":""},{"$f":"IF(TournamentData[[#This Row],[Team Number]]=\"\",\"\",IF(ISNA(INDEX(CoreValuesResults[Core Values Rank],MATCH(TournamentData[[#This Row],[Team Number]],CoreValuesResults[Team Number],0))),NumberOfTeams+1,INDEX(CoreValuesResults[Core Values Rank],MATCH(TournamentData[[#This Row],[Team Number]],CoreValuesResults[Team Number],0))))","v":""},{"$f":"IF(TournamentData[[#This Row],[Team Number]]=\"\",\"\",IF(ISNA(INDEX(InnovationProjectResults[Innovation Project Rank],MATCH(TournamentData[[#This Row],[Team Number]],InnovationProjectResults[Team Number],0))),NumberOfTeams+1,INDEX(InnovationProjectResults[Innovation Project Rank],MATCH(TournamentData[[#This Row],[Team Number]],InnovationProjectResults[Team Number],0))))","v":""},{"$f":"IF(TournamentData[[#This Row],[Team Number]]=\"\",\"\",IF(ISNA(INDEX(RobotDesignResults[Robot Design Rank],MATCH(TournamentData[[#This Row],[Team Number]],RobotDesignResults[Team Number],0))),NumberOfTeams+1,INDEX(RobotDesignResults[Robot Design Rank],MATCH(TournamentData[[#This Row],[Team Number]],RobotDesignResults[Team Number],0))))","v":""},{"$f":" IF(TournamentData[[#This Row],[Team Number]]=\"\",\"\",IF(TournamentData[[#This Row],[Core Values Rank]]=\"\",NumberOfTeams+1,TournamentData[[#This Row],[Core Values Rank]]) + IF(TournamentData[[#This Row],[Innovation Project Rank]]=\"\",NumberOfTeams+1,TournamentData[[#This Row],[Innovation Project Rank]]) + IF(TournamentData[[#This Row],[Robot Design Rank]]=\"\",NumberOfTeams+1,TournamentData[[#This Row],[Robot Design Rank]]) + TournamentData[[#This Row],[Robot Game Rank]])","v":""},{"$f":"IF(TournamentData[[#This Row],[Team Number]]=\"\",\"\",IF(M7,RANK(M7,M$3:M$110,1)-COUNTIF(M$3:M$110,0),NumberOfTeams+1))","v":""},{"$f":"IF(ISNA(INDEX(CoreValuesResults[Breakthrough Selection],MATCH(TournamentData[[#This Row],[Team Number]],CoreValuesResults[Team Number],0))),0, INDEX(CoreValuesResults[Breakthrough Selection],MATCH(TournamentData[[#This Row],[Team Number]],CoreValuesResults[Team Number],0)))","v":0},{"$f":"IF(ISNA(INDEX(CoreValuesResults[Rising All-Star Selection],MATCH(TournamentData[[#This Row],[Team Number]],CoreValuesResults[Team Number],0))),0, INDEX(CoreValuesResults[Rising All-Star Selection],MATCH(TournamentData[[#This Row],[Team Number]],CoreValuesResults[Team Number],0)))","v":0},{"$f":"IF(ISNA(INDEX(CoreValuesResults[Motivate Selection],MATCH(TournamentData[[#This Row],[Team Number]],CoreValuesResults[Team Number],0))),0, INDEX(CoreValuesResults[Motivate Selection],MATCH(TournamentData[[#This Row],[Team Number]],CoreValuesResults[Team Number],0)))","v":0},null,null,null,{"$f":"IF(ISNA(INDEX(CoreValuesResults[Core Values Score],MATCH(TournamentData[[#This Row],[Team Number]],CoreValuesResults[Team Number],0))),0,INDEX(CoreValuesResults[Core Values Score],MATCH(TournamentData[[#This Row],[Team Number]],CoreValuesResults[Team Number],0)))","v":0},{"$f":"IF(ISNA(INDEX(InnovationProjectResults[Innovation Project Score],MATCH(TournamentData[[#This Row],[Team Number]],InnovationProjectResults[Team Number],0))),0,INDEX(InnovationProjectResults[Innovation Project Score],MATCH(TournamentData[[#This Row],[Team Number]],InnovationProjectResults[Team Number],0)))","v":0},{"$f":"IF(ISNA(INDEX(RobotDesignResults[Robot Design Score],MATCH(TournamentData[[#This Row],[Team Number]],RobotDesignResults[Team Number],0))),0,INDEX(RobotDesignResults[Robot Design Score],MATCH(TournamentData[[#This Row],[Team Number]],RobotDesignResults[Team Number],0)))","v":0},{"$f":"IF(ISERR(GEOMEAN(TournamentData[[#This Row],[Max Robot Game Score]],TournamentData[[#This Row],[Core Values Score]],TournamentData[[#This Row],[Innovattion Project Score]],TournamentData[[#This Row],[Robot Design Score]])),0,GEOMEAN(TournamentData[[#This Row],[Max Robot Game Score]],TournamentData[[#This Row],[Core Values Score]],TournamentData[[#This Row],[Innovattion Project Score]],TournamentData[[#This Row],[Robot Design Score]]))","v":0},0,null,null,null,"Breakthrough"]
[null,{"$f":"IF(ISNA(INDEX(OfficialTeamList[Team Name],MATCH(TournamentData[[#This Row],[Team Number]], OfficialTeamList[Team Number],0))),\"\",INDEX(OfficialTeamList[Team Name],MATCH(TournamentData[[#This Row],[Team Number]], OfficialTeamList[Team Number],0)))","v":""},{"$f":"IF(TournamentData[[#This Row],[Team Number]]=\"\",\"\",IF(ISNA(INDEX('Robot Game Scores'!D:D,MATCH(TournamentData[[#This Row],[Team Number]], 'Robot Game Scores'!$B:$B,0))),0,INDEX('Robot Game Scores'!D:D,MATCH(TournamentData[[#This Row],[Team Number]], 'Robot Game Scores'!$B:$B,0))))","v":""},{"$f":"IF(TournamentData[[#This Row],[Team Number]]=\"\",\"\",IF(ISNA(INDEX('Robot Game Scores'!E:E,MATCH(TournamentData[[#This Row],[Team Number]], 'Robot Game Scores'!$B:$B,0))),0,INDEX('Robot Game Scores'!E:E,MATCH(TournamentData[[#This Row],[Team Number]], 'Robot Game Scores'!$B:$B,0))))","v":""},{"$f":"IF(TournamentData[[#This Row],[Team Number]]=\"\",\"\",IF(ISNA(INDEX('Robot Game Scores'!F:F,MATCH(TournamentData[[#This Row],[Team Number]], 'Robot Game Scores'!$B:$B,0))),0,INDEX('Robot Game Scores'!F:F,MATCH(TournamentData[[#This Row],[Team Number]], 'Robot Game Scores'!$B:$B,0))))","v":""},{"$f":"IF(TournamentData[[#This Row],[Team Number]]=\"\",\"\",IF(ISNA(INDEX('Robot Game Scores'!G:G,MATCH(TournamentData[[#This Row],[Team Number]], 'Robot Game Scores'!$B:$B,0))),0,INDEX('Robot Game Scores'!G:G,MATCH(TournamentData[[#This Row],[Team Number]], 'Robot Game Scores'!$B:$B,0))))","v":""},{"$f":"IF(TournamentData[[#This Row],[Team Number]]=\"\",\"\",IF(ISNA(INDEX('Robot Game Scores'!H:H,MATCH(TournamentData[[#This Row],[Team Number]], 'Robot Game Scores'!$B:$B,0))),0,INDEX('Robot Game Scores'!H:H,MATCH(TournamentData[[#This Row],[Team Number]], 'Robot Game Scores'!$B:$B,0))))","v":""},{"$f":"IF(TournamentData[[#This Row],[Team Number]]=\"\",\"\",IF(ISNA(LARGE(TournamentData[[#This Row],[Robot Game Score 1]:[Robot Game Score 5]],1)+0.0001*LARGE(TournamentData[[#This Row],[Robot Game Score 1]:[Robot Game Score 5]],2)+0.0000001*LARGE(TournamentData[[#This Row],[Robot Game Score 1]:[Robot Game Score 5]],3)+0.00000000001*LARGE(TournamentData[[#This Row],[Robot Game Score 1]:[Robot Game Score 5]],4)+0.00000000000001*LARGE(TournamentData[[#This Row],[Robot Game Score 1]:[Robot Game Score 5]],5)),0,LARGE(TournamentData[[#This Row],[Robot Game Score 1]:[Robot Game Score 5]],1)+0.0001*LARGE(TournamentData[[#This Row],[Robot Game Score 1]:[Robot Game Score 5]],2)+0.0000001*LARGE(TournamentData[[#This Row],[Robot Game Score 1]:[Robot Game Score 5]],3)+0.00000000001*LARGE(TournamentData[[#This Row],[Robot Game Score 1]:[Robot Game Score 5]],4)+0.00000000000001*LARGE(TournamentData[[#This Row],[Robot Game Score 1]:[Robot Game Score 5]],5)))","v":""},{"$f":"IF(TournamentData[[#This Row],[Team Number]]=\"\",\"\",_xlfn.RANK.EQ(TournamentData[[#This Row],[Max Robot Game Score]],TournamentData[Max Robot Game Score]))","v":""},{"$f":"IF(TournamentData[[#This Row],[Team Number]]=\"\",\"\",IF(ISNA(INDEX(CoreValuesResults[Core Values Rank],MATCH(TournamentData[[#This Row],[Team Number]],CoreValuesResults[Team Number],0))),NumberOfTeams+1,INDEX(CoreValuesResults[Core Values Rank],MATCH(TournamentData[[#This Row],[Team Number]],CoreValuesResults[Team Number],0))))","v":""},{"$f":"IF(TournamentData[[#This Row],[Team Number]]=\"\",\"\",IF(ISNA(INDEX(InnovationProjectResults[Innovation Project Rank],MATCH(TournamentData[[#This Row],[Team Number]],InnovationProjectResults[Team Number],0))),NumberOfTeams+1,INDEX(InnovationProjectResults[Innovation Project Rank],MATCH(TournamentData[[#This Row],[Team Number]],InnovationProjectResults[Team Number],0))))","v":""},{"$f":"IF(TournamentData[[#This Row],[Team Number]]=\"\",\"\",IF(ISNA(INDEX(RobotDesignResults[Robot Design Rank],MATCH(TournamentData[[#This Row],[Team Number]],RobotDesignResults[Team Number],0))),NumberOfTeams+1,INDEX(RobotDesignResults[Robot Design Rank],MATCH(TournamentData[[#This Row],[Team Number]],RobotDesignResults[Team Number],0))))","v":""},{"$f":" IF(TournamentData[[#This Row],[Team Number]]=\"\",\"\",IF(TournamentData[[#This Row],[Core Values Rank]]=\"\",NumberOfTeams+1,TournamentData[[#This Row],[Core Values Rank]]) + IF(TournamentData[[#This Row],[Innovation Project Rank]]=\"\",NumberOfTeams+1,TournamentData[[#This Row],[Innovation Project Rank]]) + IF(TournamentData[[#This Row],[Robot Design Rank]]=\"\",NumberOfTeams+1,TournamentData[[#This Row],[Robot Design Rank]]) + TournamentData[[#This Row],[Robot Game Rank]])","v":""},{"$f":"IF(TournamentData[[#This Row],[Team Number]]=\"\",\"\",IF(M8,RANK(M8,M$3:M$110,1)-COUNTIF(M$3:M$110,0),NumberOfTeams+1))","v":""},{"$f":"IF(ISNA(INDEX(CoreValuesResults[Breakthrough Selection],MATCH(TournamentData[[#This Row],[Team Number]],CoreValuesResults[Team Number],0))),0, INDEX(CoreValuesResults[Breakthrough Selection],MATCH(TournamentData[[#This Row],[Team Number]],CoreValuesResults[Team Number],0)))","v":0},{"$f":"IF(ISNA(INDEX(CoreValuesResults[Rising All-Star Selection],MATCH(TournamentData[[#This Row],[Team Number]],CoreValuesResults[Team Number],0))),0, INDEX(CoreValuesResults[Rising All-Star Selection],MATCH(TournamentData[[#This Row],[Team Number]],CoreValuesResults[Team Number],0)))","v":0},{"$f":"IF(ISNA(INDEX(CoreValuesResults[Motivate Selection],MATCH(TournamentData[[#This Row],[Team Number]],CoreValuesResults[Team Number],0))),0, INDEX(CoreValuesResults[Motivate Selection],MATCH(TournamentData[[#This Row],[Team Number]],CoreValuesResults[Team Number],0)))","v":0},null,null,null,{"$f":"IF(ISNA(INDEX(CoreValuesResults[Core Values Score],MATCH(TournamentData[[#This Row],[Team Number]],CoreValuesResults[Team Number],0))),0,INDEX(CoreValuesResults[Core Values Score],MATCH(TournamentData[[#This Row],[Team Number]],CoreValuesResults[Team Number],0)))","v":0},{"$f":"IF(ISNA(INDEX(InnovationProjectResults[Innovation Project Score],MATCH(TournamentData[[#This Row],[Team Number]],InnovationProjectResults[Team Number],0))),0,INDEX(InnovationProjectResults[Innovation Project Score],MATCH(TournamentData[[#This Row],[Team Number]],InnovationProjectResults[Team Number],0)))","v":0},{"$f":"IF(ISNA(INDEX(RobotDesignResults[Robot Design Score],MATCH(TournamentData[[#This Row],[Team Number]],RobotDesignResults[Team Number],0))),0,INDEX(RobotDesignResults[Robot Design Score],MATCH(TournamentData[[#This Row],[Team Number]],RobotDesignResults[Team Number],0)))","v":0},{"$f":"IF(ISERR(GEOMEAN(TournamentData[[#This Row],[Max Robot Game Score]],TournamentData[[#This Row],[Core Values Score]],TournamentData[[#This Row],[Innovattion Project Score]],TournamentData[[#This Row],[Robot Design Score]])),0,GEOMEAN(TournamentData[[#This Row],[Max Robot Game Score]],TournamentData[[#This Row],[Core Values Score]],TournamentData[[#This Row],[Innovattion Project Score]],TournamentData[[#This Row],[Robot Design Score]]))","v":0},0,null,null,null,"Rising All-Star"]
[null,{"$f":"IF(ISNA(INDEX(OfficialTeamList[Team Name],MATCH(TournamentData[[#This Row],[Team Number]], OfficialTeamList[Team Number],0))),\"\",INDEX(OfficialTeamList[Team Name],MATCH(TournamentData[[#This Row],[Team Number]], OfficialTeamList[Team Number],0)))","v":""},{"$f":"IF(TournamentData[[#This Row],[Team Number]]=\"\",\"\",IF(ISNA(INDEX('Robot Game Scores'!D:D,MATCH(TournamentData[[#This Row],[Team Number]], 'Robot Game Scores'!$B:$B,0))),0,INDEX('Robot Game Scores'!D:D,MATCH(TournamentData[[#This Row],[Team Number]], 'Robot Game Scores'!$B:$B,0))))","v":""},{"$f":"IF(TournamentData[[#This Row],[Team Number]]=\"\",\"\",IF(ISNA(INDEX('Robot Game Scores'!E:E,MATCH(TournamentData[[#This Row],[Team Number]], 'Robot Game Scores'!$B:$B,0))),0,INDEX('Robot Game Scores'!E:E,MATCH(TournamentData[[#This Row],[Team Number]], 'Robot Game Scores'!$B:$B,0))))","v":""},{"$f":"IF(TournamentData[[#This Row],[Team Number]]=\"\",\"\",IF(ISNA(INDEX('Robot Game Scores'!F:F,MATCH(TournamentData[[#This Row],[Team Number]], 'Robot Game Scores'!$B:$B,0))),0,INDEX('Robot Game Scores'!F:F,MATCH(TournamentData[[#This Row],[Team Number]], 'Robot Game Scores'!$B:$B,0))))","v":""},{"$f":"IF(TournamentData[[#This Row],[Team Number]]=\"\",\"\",IF(ISNA(INDEX('Robot Game Scores'!G:G,MATCH(TournamentData[[#This Row],[Team Number]], 'Robot Game Scores'!$B:$B,0))),0,INDEX('Robot Game Scores'!G:G,MATCH(TournamentData[[#This Row],[Team Number]], 'Robot Game Scores'!$B:$B,0))))","v":""},{"$f":"IF(TournamentData[[#This Row],[Team Number]]=\"\",\"\",IF(ISNA(INDEX('Robot Game Scores'!H:H,MATCH(TournamentData[[#This Row],[Team Number]], 'Robot Game Scores'!$B:$B,0))),0,INDEX('Robot Game Scores'!H:H,MATCH(TournamentData[[#This Row],[Team Number]], 'Robot Game Scores'!$B:$B,0))))","v":""},{"$f":"IF(TournamentData[[#This Row],[Team Number]]=\"\",\"\",IF(ISNA(LARGE(TournamentData[[#This Row],[Robot Game Score 1]:[Robot Game Score 5]],1)+0.0001*LARGE(TournamentData[[#This Row],[Robot Game Score 1]:[Robot Game Score 5]],2)+0.0000001*LARGE(TournamentData[[#This Row],[Robot Game Score 1]:[Robot Game Score 5]],3)+0.00000000001*LARGE(TournamentData[[#This Row],[Robot Game Score 1]:[Robot Game Score 5]],4)+0.00000000000001*LARGE(TournamentData[[#This Row],[Robot Game Score 1]:[Robot Game Score 5]],5)),0,LARGE(TournamentData[[#This Row],[Robot Game Score 1]:[Robot Game Score 5]],1)+0.0001*LARGE(TournamentData[[#This Row],[Robot Game Score 1]:[Robot Game Score 5]],2)+0.0000001*LARGE(TournamentData[[#This Row],[Robot Game Score 1]:[Robot Game Score 5]],3)+0.00000000001*LARGE(TournamentData[[#This Row],[Robot Game Score 1]:[Robot Game Score 5]],4)+0.00000000000001*LARGE(TournamentData[[#This Row],[Robot Game Score 1]:[Robot Game Score 5]],5)))","v":""},{"$f":"IF(TournamentData[[#This Row],[Team Number]]=\"\",\"\",_xlfn.RANK.EQ(TournamentData[[#This Row],[Max Robot Game Score]],TournamentData[Max Robot Game Score]))","v":""},{"$f":"IF(TournamentData[[#This Row],[Team Number]]=\"\",\"\",IF(ISNA(INDEX(CoreValuesResults[Core Values Rank],MATCH(TournamentData[[#This Row],[Team Number]],CoreValuesResults[Team Number],0))),NumberOfTeams+1,INDEX(CoreValuesResults[Core Values Rank],MATCH(TournamentData[[#This Row],[Team Number]],CoreValuesResults[Team Number],0))))","v":""},{"$f":"IF(TournamentData[[#This Row],[Team Number]]=\"\",\"\",IF(ISNA(INDEX(InnovationProjectResults[Innovation Project Rank],MATCH(TournamentData[[#This Row],[Team Number]],InnovationProjectResults[Team Number],0))),NumberOfTeams+1,INDEX(InnovationProjectResults[Innovation Project Rank],MATCH(TournamentData[[#This Row],[Team Number]],InnovationProjectResults[Team Number],0))))","v":""},{"$f":"IF(TournamentData[[#This Row],[Team Number]]=\"\",\"\",IF(ISNA(INDEX(RobotDesignResults[Robot Design Rank],MATCH(TournamentData[[#This Row],[Team Number]],RobotDesignResults[Team Number],0))),NumberOfTeams+1,INDEX(RobotDesignResults[Robot Design Rank],MATCH(TournamentData[[#This Row],[Team Number]],RobotDesignResults[Team Number],0))))","v":""},{"$f":" IF(TournamentData[[#This Row],[Team Number]]=\"\",\"\",IF(TournamentData[[#This Row],[Core Values Rank]]=\"\",NumberOfTeams+1,TournamentData[[#This Row],[Core Values Rank]]) + IF(TournamentData[[#This Row],[Innovation Project Rank]]=\"\",NumberOfTeams+1,TournamentData[[#This Row],[Innovation Project Rank]]) + IF(TournamentData[[#This Row],[Robot Design Rank]]=\"\",NumberOfTeams+1,TournamentData[[#This Row],[Robot Design Rank]]) + TournamentData[[#This Row],[Robot Game Rank]])","v":""},{"$f":"IF(TournamentData[[#This Row],[Team Number]]=\"\",\"\",IF(M9,RANK(M9,M$3:M$110,1)-COUNTIF(M$3:M$110,0),NumberOfTeams+1))","v":""},{"$f":"IF(ISNA(INDEX(CoreValuesResults[Breakthrough Selection],MATCH(TournamentData[[#This Row],[Team Number]],CoreValuesResults[Team Number],0))),0, INDEX(CoreValuesResults[Breakthrough Selection],MATCH(TournamentData[[#This Row],[Team Number]],CoreValuesResults[Team Number],0)))","v":0},{"$f":"IF(ISNA(INDEX(CoreValuesResults[Rising All-Star Selection],MATCH(TournamentData[[#This Row],[Team Number]],CoreValuesResults[Team Number],0))),0, INDEX(CoreValuesResults[Rising All-Star Selection],MATCH(TournamentData[[#This Row],[Team Number]],CoreValuesResults[Team Number],0)))","v":0},{"$f":"IF(ISNA(INDEX(CoreValuesResults[Motivate Selection],MATCH(TournamentData[[#This Row],[Team Number]],CoreValuesResults[Team Number],0))),0, INDEX(CoreValuesResults[Motivate Selection],MATCH(TournamentData[[#This Row],[Team Number]],CoreValuesResults[Team Number],0)))","v":0},null,null,null,{"$f":"IF(ISNA(INDEX(CoreValuesResults[Core Values Score],MATCH(TournamentData[[#This Row],[Team Number]],CoreValuesResults[Team Number],0))),0,INDEX(CoreValuesResults[Core Values Score],MATCH(TournamentData[[#This Row],[Team Number]],CoreValuesResults[Team Number],0)))","v":0},{"$f":"IF(ISNA(INDEX(InnovationProjectResults[Innovation Project Score],MATCH(TournamentData[[#This Row],[Team Number]],InnovationProjectResults[Team Number],0))),0,INDEX(InnovationProjectResults[Innovation Project Score],MATCH(TournamentData[[#This Row],[Team Number]],InnovationProjectResults[Team Number],0)))","v":0},{"$f":"IF(ISNA(INDEX(RobotDesignResults[Robot Design Score],MATCH(TournamentData[[#This Row],[Team Number]],RobotDesignResults[Team Number],0))),0,INDEX(RobotDesignResults[Robot Design Score],MATCH(TournamentData[[#This Row],[Team Number]],RobotDesignResults[Team Number],0)))","v":0},{"$f":"IF(ISERR(GEOMEAN(TournamentData[[#This Row],[Max Robot Game Score]],TournamentData[[#This Row],[Core Values Score]],TournamentData[[#This Row],[Innovattion Project Score]],TournamentData[[#This Row],[Robot Design Score]])),0,GEOMEAN(TournamentData[[#This Row],[Max Robot Game Score]],TournamentData[[#This Row],[Core Values Score]],TournamentData[[#This Row],[Innovattion Project Score]],TournamentData[[#This Row],[Robot Design Score]]))","v":0},0,null,null,null,"Motivate"]
[null,{"$f":"IF(ISNA(INDEX(OfficialTeamList[Team Name],MATCH(TournamentData[[#This Row],[Team Number]], OfficialTeamList[Team Number],0))),\"\",INDEX(OfficialTeamList[Team Name],MATCH(TournamentData[[#This Row],[Team Number]], OfficialTeamList[Team Number],0)))","v":""},{"$f":"IF(TournamentData[[#This Row],[Team Number]]=\"\",\"\",IF(ISNA(INDEX('Robot Game Scores'!D:D,MATCH(TournamentData[[#This Row],[Team Number]], 'Robot Game Scores'!$B:$B,0))),0,INDEX('Robot Game Scores'!D:D,MATCH(TournamentData[[#This Row],[Team Number]], 'Robot Game Scores'!$B:$B,0))))","v":""},{"$f":"IF(TournamentData[[#This Row],[Team Number]]=\"\",\"\",IF(ISNA(INDEX('Robot Game Scores'!E:E,MATCH(TournamentData[[#This Row],[Team Number]], 'Robot Game Scores'!$B:$B,0))),0,INDEX('Robot Game Scores'!E:E,MATCH(TournamentData[[#This Row],[Team Number]], 'Robot Game Scores'!$B:$B,0))))","v":""},{"$f":"IF(TournamentData[[#This Row],[Team Number]]=\"\",\"\",IF(ISNA(INDEX('Robot Game Scores'!F:F,MATCH(TournamentData[[#This Row],[Team Number]], 'Robot Game Scores'!$B:$B,0))),0,INDEX('Robot Game Scores'!F:F,MATCH(TournamentData[[#This Row],[Team Number]], 'Robot Game Scores'!$B:$B,0))))","v":""},{"$f":"IF(TournamentData[[#This Row],[Team Number]]=\"\",\"\",IF(ISNA(INDEX('Robot Game Scores'!G:G,MATCH(TournamentData[[#This Row],[Team Number]], 'Robot Game Scores'!$B:$B,0))),0,INDEX('Robot Game Scores'!G:G,MATCH(TournamentData[[#This Row],[Team Number]], 'Robot Game Scores'!$B:$B,0))))","v":""},{"$f":"IF(TournamentData[[#This Row],[Team Number]]=\"\",\"\",IF(ISNA(INDEX('Robot Game Scores'!H:H,MATCH(TournamentData[[#This Row],[Team Number]], 'Robot Game Scores'!$B:$B,0))),0,INDEX('Robot Game Scores'!H:H,MATCH(TournamentData[[#This Row],[Team Number]], 'Robot Game Scores'!$B:$B,0))))","v":""},{"$f":"IF(TournamentData[[#This Row],[Team Number]]=\"\",\"\",IF(ISNA(LARGE(TournamentData[[#This Row],[Robot Game Score 1]:[Robot Game Score 5]],1)+0.0001*LARGE(TournamentData[[#This Row],[Robot Game Score 1]:[Robot Game Score 5]],2)+0.0000001*LARGE(TournamentData[[#This Row],[Robot Game Score 1]:[Robot Game Score 5]],3)+0.00000000001*LARGE(TournamentData[[#This Row],[Robot Game Score 1]:[Robot Game Score 5]],4)+0.00000000000001*LARGE(TournamentData[[#This Row],[Robot Game Score 1]:[Robot Game Score 5]],5)),0,LARGE(TournamentData[[#This Row],[Robot Game Score 1]:[Robot Game Score 5]],1)+0.0001*LARGE(TournamentData[[#This Row],[Robot Game Score 1]:[Robot Game Score 5]],2)+0.0000001*LARGE(TournamentData[[#This Row],[Robot Game Score 1]:[Robot Game Score 5]],3)+0.00000000001*LARGE(TournamentData[[#This Row],[Robot Game Score 1]:[Robot Game Score 5]],4)+0.00000000000001*LARGE(TournamentData[[#This Row],[Robot Game Score 1]:[Robot Game Score 5]],5)))","v":""},{"$f":"IF(TournamentData[[#This Row],[Team Number]]=\"\",\"\",_xlfn.RANK.EQ(TournamentData[[#This Row],[Max Robot Game Score]],TournamentData[Max Robot Game Score]))","v":""},{"$f":"IF(TournamentData[[#This Row],[Team Number]]=\"\",\"\",IF(ISNA(INDEX(CoreValuesResults[Core Values Rank],MATCH(TournamentData[[#This Row],[Team Number]],CoreValuesResults[Team Number],0))),NumberOfTeams+1,INDEX(CoreValuesResults[Core Values Rank],MATCH(TournamentData[[#This Row],[Team Number]],CoreValuesResults[Team Number],0))))","v":""},{"$f":"IF(TournamentData[[#This Row],[Team Number]]=\"\",\"\",IF(ISNA(INDEX(InnovationProjectResults[Innovation Project Rank],MATCH(TournamentData[[#This Row],[Team Number]],InnovationProjectResults[Team Number],0))),NumberOfTeams+1,INDEX(InnovationProjectResults[Innovation Project Rank],MATCH(TournamentData[[#This Row],[Team Number]],InnovationProjectResults[Team Number],0))))","v":""},{"$f":"IF(TournamentData[[#This Row],[Team Number]]=\"\",\"\",IF(ISNA(INDEX(RobotDesignResults[Robot Design Rank],MATCH(TournamentData[[#This Row],[Team Number]],RobotDesignResults[Team Number],0))),NumberOfTeams+1,INDEX(RobotDesignResults[Robot Design Rank],MATCH(TournamentData[[#This Row],[Team Number]],RobotDesignResults[Team Number],0))))","v":""},{"$f":" IF(TournamentData[[#This Row],[Team Number]]=\"\",\"\",IF(TournamentData[[#This Row],[Core Values Rank]]=\"\",NumberOfTeams+1,TournamentData[[#This Row],[Core Values Rank]]) + IF(TournamentData[[#This Row],[Innovation Project Rank]]=\"\",NumberOfTeams+1,TournamentData[[#This Row],[Innovation Project Rank]]) + IF(TournamentData[[#This Row],[Robot Design Rank]]=\"\",NumberOfTeams+1,TournamentData[[#This Row],[Robot Design Rank]]) + TournamentData[[#This Row],[Robot Game Rank]])","v":""},{"$f":"IF(TournamentData[[#This Row],[Team Number]]=\"\",\"\",IF(M10,RANK(M10,M$3:M$110,1)-COUNTIF(M$3:M$110,0),NumberOfTeams+1))","v":""},{"$f":"IF(ISNA(INDEX(CoreValuesResults[Breakthrough Selection],MATCH(TournamentData[[#This Row],[Team Number]],CoreValuesResults[Team Number],0))),0, INDEX(CoreValuesResults[Breakthrough Selection],MATCH(TournamentData[[#This Row],[Team Number]],CoreValuesResults[Team Number],0)))","v":0},{"$f":"IF(ISNA(INDEX(CoreValuesResults[Rising All-Star Selection],MATCH(TournamentData[[#This Row],[Team Number]],CoreValuesResults[Team Number],0))),0, INDEX(CoreValuesResults[Rising All-Star Selection],MATCH(TournamentData[[#This Row],[Team Number]],CoreValuesResults[Team Number],0)))","v":0},{"$f":"IF(ISNA(INDEX(CoreValuesResults[Motivate Selection],MATCH(TournamentData[[#This Row],[Team Number]],CoreValuesResults[Team Number],0))),0, INDEX(CoreValuesResults[Motivate Selection],MATCH(TournamentData[[#This Row],[Team Number]],CoreValuesResults[Team Number],0)))","v":0},null,null,null,{"$f":"IF(ISNA(INDEX(CoreValuesResults[Core Values Score],MATCH(TournamentData[[#This Row],[Team Number]],CoreValuesResults[Team Number],0))),0,INDEX(CoreValuesResults[Core Values Score],MATCH(TournamentData[[#This Row],[Team Number]],CoreValuesResults[Team Number],0)))","v":0},{"$f":"IF(ISNA(INDEX(InnovationProjectResults[Innovation Project Score],MATCH(TournamentData[[#This Row],[Team Number]],InnovationProjectResults[Team Number],0))),0,INDEX(InnovationProjectResults[Innovation Project Score],MATCH(TournamentData[[#This Row],[Team Number]],InnovationProjectResults[Team Number],0)))","v":0},{"$f":"IF(ISNA(INDEX(RobotDesignResults[Robot Design Score],MATCH(TournamentData[[#This Row],[Team Number]],RobotDesignResults[Team Number],0))),0,INDEX(RobotDesignResults[Robot Design Score],MATCH(TournamentData[[#This Row],[Team Number]],RobotDesignResults[Team Number],0)))","v":0},{"$f":"IF(ISERR(GEOMEAN(TournamentData[[#This Row],[Max Robot Game Score]],TournamentData[[#This Row],[Core Values Score]],TournamentData[[#This Row],[Innovattion Project Score]],TournamentData[[#This Row],[Robot Design Score]])),0,GEOMEAN(TournamentData[[#This Row],[Max Robot Game Score]],TournamentData[[#This Row],[Core Values Score]],TournamentData[[#This Row],[Innovattion Project Score]],TournamentData[[#This Row],[Robot Design Score]]))","v":0},0]
[null,{"$f":"IF(ISNA(INDEX(OfficialTeamList[Team Name],MATCH(TournamentData[[#This Row],[Team Number]], OfficialTeamList[Team Number],0))),\"\",INDEX(OfficialTeamList[Team Name],MATCH(TournamentData[[#This Row],[Team Number]], OfficialTeamList[Team Number],0)))","v":""},{"$f":"IF(TournamentData[[#This Row],[Team Number]]=\"\",\"\",IF(ISNA(INDEX('Robot Game Scores'!D:D,MATCH(TournamentData[[#This Row],[Team Number]], 'Robot Game Scores'!$B:$B,0))),0,INDEX('Robot Game Scores'!D:D,MATCH(TournamentData[[#This Row],[Team Number]], 'Robot Game Scores'!$B:$B,0))))","v":""},{"$f":"IF(TournamentData[[#This Row],[Team Number]]=\"\",\"\",IF(ISNA(INDEX('Robot Game Scores'!E:E,MATCH(TournamentData[[#This Row],[Team Number]], 'Robot Game Scores'!$B:$B,0))),0,INDEX('Robot Game Scores'!E:E,MATCH(TournamentData[[#This Row],[Team Number]], 'Robot Game Scores'!$B:$B,0))))","v":""},{"$f":"IF(TournamentData[[#This Row],[Team Number]]=\"\",\"\",IF(ISNA(INDEX('Robot Game Scores'!F:F,MATCH(TournamentData[[#This Row],[Team Number]], 'Robot Game Scores'!$B:$B,0))),0,INDEX('Robot Game Scores'!F:F,MATCH(TournamentData[[#This Row],[Team Number]], 'Robot Game Scores'!$B:$B,0))))","v":""},{"$f":"IF(TournamentData[[#This Row],[Team Number]]=\"\",\"\",IF(ISNA(INDEX('Robot Game Scores'!G:G,MATCH(TournamentData[[#This Row],[Team Number]], 'Robot Game Scores'!$B:$B,0))),0,INDEX('Robot Game Scores'!G:G,MATCH(TournamentData[[#This Row],[Team Number]], 'Robot Game Scores'!$B:$B,0))))","v":""},{"$f":"IF(TournamentData[[#This Row],[Team Number]]=\"\",\"\",IF(ISNA(INDEX('Robot Game Scores'!H:H,MATCH(TournamentData[[#This Row],[Team Number]], 'Robot Game Scores'!$B:$B,0))),0,INDEX('Robot Game Scores'!H:H,MATCH(TournamentData[[#This Row],[Team Number]], 'Robot Game Scores'!$B:$B,0))))","v":""},{"$f":"IF(TournamentData[[#This Row],[Team Number]]=\"\",\"\",IF(ISNA(LARGE(TournamentData[[#This Row],[Robot Game Score 1]:[Robot Game Score 5]],1)+0.0001*LARGE(TournamentData[[#This Row],[Robot Game Score 1]:[Robot Game Score 5]],2)+0.0000001*LARGE(TournamentData[[#This Row],[Robot Game Score 1]:[Robot Game Score 5]],3)+0.00000000001*LARGE(TournamentData[[#This Row],[Robot Game Score 1]:[Robot Game Score 5]],4)+0.00000000000001*LARGE(TournamentData[[#This Row],[Robot Game Score 1]:[Robot Game Score 5]],5)),0,LARGE(TournamentData[[#This Row],[Robot Game Score 1]:[Robot Game Score 5]],1)+0.0001*LARGE(TournamentData[[#This Row],[Robot Game Score 1]:[Robot Game Score 5]],2)+0.0000001*LARGE(TournamentData[[#This Row],[Robot Game Score 1]:[Robot Game Score 5]],3)+0.00000000001*LARGE(TournamentData[[#This Row],[Robot Game Score 1]:[Robot Game Score 5]],4)+0.00000000000001*LARGE(TournamentData[[#This Row],[Robot Game Score 1]:[Robot Game Score 5]],5)))","v":""},{"$f":"IF(TournamentData[[#This Row],[Team Number]]=\"\",\"\",_xlfn.RANK.EQ(TournamentData[[#This Row],[Max Robot Game Score]],TournamentData[Max Robot Game Score]))","v":""},{"$f":"IF(TournamentData[[#This Row],[Team Number]]=\"\",\"\",IF(ISNA(INDEX(CoreValuesResults[Core Values Rank],MATCH(TournamentData[[#This Row],[Team Number]],CoreValuesResults[Team Number],0))),NumberOfTeams+1,INDEX(CoreValuesResults[Core Values Rank],MATCH(TournamentData[[#This Row],[Team Number]],CoreValuesResults[Team Number],0))))","v":""},{"$f":"IF(TournamentData[[#This Row],[Team Number]]=\"\",\"\",IF(ISNA(INDEX(InnovationProjectResults[Innovation Project Rank],MATCH(TournamentData[[#This Row],[Team Number]],InnovationProjectResults[Team Number],0))),NumberOfTeams+1,INDEX(InnovationProjectResults[Innovation Project Rank],MATCH(TournamentData[[#This Row],[Team Number]],InnovationProjectResults[Team Number],0))))","v":""},{"$f":"IF(TournamentData[[#This Row],[Team Number]]=\"\",\"\",IF(ISNA(INDEX(RobotDesignResults[Robot Design Rank],MATCH(TournamentData[[#This Row],[Team Number]],RobotDesignResults[Team Number],0))),NumberOfTeams+1,INDEX(RobotDesignResults[Robot Design Rank],MATCH(TournamentData[[#This Row],[Team Number]],RobotDesignResults[Team Number],0))))","v":""},{"$f":" IF(TournamentData[[#This Row],[Team Number]]=\"\",\"\",IF(TournamentData[[#This Row],[Core Values Rank]]=\"\",NumberOfTeams+1,TournamentData[[#This Row],[Core Values Rank]]) + IF(TournamentData[[#This Row],[Innovation Project Rank]]=\"\",NumberOfTeams+1,TournamentData[[#This Row],[Innovation Project Rank]]) + IF(TournamentData[[#This Row],[Robot Design Rank]]=\"\",NumberOfTeams+1,TournamentData[[#This Row],[Robot Design Rank]]) + TournamentData[[#This Row],[Robot Game Rank]])","v":""},{"$f":"IF(TournamentData[[#This Row],[Team Number]]=\"\",\"\",IF(M11,RANK(M11,M$3:M$110,1)-COUNTIF(M$3:M$110,0),NumberOfTeams+1))","v":""},{"$f":"IF(ISNA(INDEX(CoreValuesResults[Breakthrough Selection],MATCH(TournamentData[[#This Row],[Team Number]],CoreValuesResults[Team Number],0))),0, INDEX(CoreValuesResults[Breakthrough Selection],MATCH(TournamentData[[#This Row],[Team Number]],CoreValuesResults[Team Number],0)))","v":0},{"$f":"IF(ISNA(INDEX(CoreValuesResults[Rising All-Star Selection],MATCH(TournamentData[[#This Row],[Team Number]],CoreValuesResults[Team Number],0))),0, INDEX(CoreValuesResults[Rising All-Star Selection],MATCH(TournamentData[[#This Row],[Team Number]],CoreValuesResults[Team Number],0)))","v":0},{"$f":"IF(ISNA(INDEX(CoreValuesResults[Motivate Selection],MATCH(TournamentData[[#This Row],[Team Number]],CoreValuesResults[Team Number],0))),0, INDEX(CoreValuesResults[Motivate Selection],MATCH(TournamentData[[#This Row],[Team Number]],CoreValuesResults[Team Number],0)))","v":0},null,null,null,{"$f":"IF(ISNA(INDEX(CoreValuesResults[Core Values Score],MATCH(TournamentData[[#This Row],[Team Number]],CoreValuesResults[Team Number],0))),0,INDEX(CoreValuesResults[Core Values Score],MATCH(TournamentData[[#This Row],[Team Number]],CoreValuesResults[Team Number],0)))","v":0},{"$f":"IF(ISNA(INDEX(InnovationProjectResults[Innovation Project Score],MATCH(TournamentData[[#This Row],[Team Number]],InnovationProjectResults[Team Number],0))),0,INDEX(InnovationProjectResults[Innovation Project Score],MATCH(TournamentData[[#This Row],[Team Number]],InnovationProjectResults[Team Number],0)))","v":0},{"$f":"IF(ISNA(INDEX(RobotDesignResults[Robot Design Score],MATCH(TournamentData[[#This Row],[Team Number]],RobotDesignResults[Team Number],0))),0,INDEX(RobotDesignResults[Robot Design Score],MATCH(TournamentData[[#This Row],[Team Number]],RobotDesignResults[Team Number],0)))","v":0},{"$f":"IF(ISERR(GEOMEAN(TournamentData[[#This Row],[Max Robot Game Score]],TournamentData[[#This Row],[Core Values Score]],TournamentData[[#This Row],[Innovattion Project Score]],TournamentData[[#This Row],[Robot Design Score]])),0,GEOMEAN(TournamentData[[#This Row],[Max Robot Game Score]],TournamentData[[#This Row],[Core Values Score]],TournamentData[[#This Row],[Innovattion Project Score]],TournamentData[[#This Row],[Robot Design Score]]))","v":0},0]
[null,{"$f":"IF(ISNA(INDEX(OfficialTeamList[Team Name],MATCH(TournamentData[[#This Row],[Team Number]], OfficialTeamList[Team Number],0))),\"\",INDEX(OfficialTeamList[Team Name],MATCH(TournamentData[[#This Row],[Team Number]], OfficialTeamList[Team Number],0)))","v":""},{"$f":"IF(TournamentData[[#This Row],[Team Number]]=\"\",\"\",IF(ISNA(INDEX('Robot Game Scores'!D:D,MATCH(TournamentData[[#This Row],[Team Number]], 'Robot Game Scores'!$B:$B,0))),0,INDEX('Robot Game Scores'!D:D,MATCH(TournamentData[[#This Row],[Team Number]], 'Robot Game Scores'!$B:$B,0))))","v":""},{"$f":"IF(TournamentData[[#This Row],[Team Number]]=\"\",\"\",IF(ISNA(INDEX('Robot Game Scores'!E:E,MATCH(TournamentData[[#This Row],[Team Number]], 'Robot Game Scores'!$B:$B,0))),0,INDEX('Robot Game Scores'!E:E,MATCH(TournamentData[[#This Row],[Team Number]], 'Robot Game Scores'!$B:$B,0))))","v":""},{"$f":"IF(TournamentData[[#This Row],[Team Number]]=\"\",\"\",IF(ISNA(INDEX('Robot Game Scores'!F:F,MATCH(TournamentData[[#This Row],[Team Number]], 'Robot Game Scores'!$B:$B,0))),0,INDEX('Robot Game Scores'!F:F,MATCH(TournamentData[[#This Row],[Team Number]], 'Robot Game Scores'!$B:$B,0))))","v":""},{"$f":"IF(TournamentData[[#This Row],[Team Number]]=\"\",\"\",IF(ISNA(INDEX('Robot Game Scores'!G:G,MATCH(TournamentData[[#This Row],[Team Number]], 'Robot Game Scores'!$B:$B,0))),0,INDEX('Robot Game Scores'!G:G,MATCH(TournamentData[[#This Row],[Team Number]], 'Robot Game Scores'!$B:$B,0))))","v":""},{"$f":"IF(TournamentData[[#This Row],[Team Number]]=\"\",\"\",IF(ISNA(INDEX('Robot Game Scores'!H:H,MATCH(TournamentData[[#This Row],[Team Number]], 'Robot Game Scores'!$B:$B,0))),0,INDEX('Robot Game Scores'!H:H,MATCH(TournamentData[[#This Row],[Team Number]], 'Robot Game Scores'!$B:$B,0))))","v":""},{"$f":"IF(TournamentData[[#This Row],[Team Number]]=\"\",\"\",IF(ISNA(LARGE(TournamentData[[#This Row],[Robot Game Score 1]:[Robot Game Score 5]],1)+0.0001*LARGE(TournamentData[[#This Row],[Robot Game Score 1]:[Robot Game Score 5]],2)+0.0000001*LARGE(TournamentData[[#This Row],[Robot Game Score 1]:[Robot Game Score 5]],3)+0.00000000001*LARGE(TournamentData[[#This Row],[Robot Game Score 1]:[Robot Game Score 5]],4)+0.00000000000001*LARGE(TournamentData[[#This Row],[Robot Game Score 1]:[Robot Game Score 5]],5)),0,LARGE(TournamentData[[#This Row],[Robot Game Score 1]:[Robot Game Score 5]],1)+0.0001*LARGE(TournamentData[[#This Row],[Robot Game Score 1]:[Robot Game Score 5]],2)+0.0000001*LARGE(TournamentData[[#This Row],[Robot Game Score 1]:[Robot Game Score 5]],3)+0.00000000001*LARGE(TournamentData[[#This Row],[Robot Game Score 1]:[Robot Game Score 5]],4)+0.00000000000001*LARGE(TournamentData[[#This Row],[Robot Game Score 1]:[Robot Game Score 5]],5)))","v":""},{"$f":"IF(TournamentData[[#This Row],[Team Number]]=\"\",\"\",_xlfn.RANK.EQ(TournamentData[[#This Row],[Max Robot Game Score]],TournamentData[Max Robot Game Score]))","v":""},{"$f":"IF(TournamentData[[#This Row],[Team Number]]=\"\",\"\",IF(ISNA(INDEX(CoreValuesResults[Core Values Rank],MATCH(TournamentData[[#This Row],[Team Number]],CoreValuesResults[Team Number],0))),NumberOfTeams+1,INDEX(CoreValuesResults[Core Values Rank],MATCH(TournamentData[[#This Row],[Team Number]],CoreValuesResults[Team Number],0))))","v":""},{"$f":"IF(TournamentData[[#This Row],[Team Number]]=\"\",\"\",IF(ISNA(INDEX(InnovationProjectResults[Innovation Project Rank],MATCH(TournamentData[[#This Row],[Team Number]],InnovationProjectResults[Team Number],0))),NumberOfTeams+1,INDEX(InnovationProjectResults[Innovation Project Rank],MATCH(TournamentData[[#This Row],[Team Number]],InnovationProjectResults[Team Number],0))))","v":""},{"$f":"IF(TournamentData[[#This Row],[Team Number]]=\"\",\"\",IF(ISNA(INDEX(RobotDesignResults[Robot Design Rank],MATCH(TournamentData[[#This Row],[Team Number]],RobotDesignResults[Team Number],0))),NumberOfTeams+1,INDEX(RobotDesignResults[Robot Design Rank],MATCH(TournamentData[[#This Row],[Team Number]],RobotDesignResults[Team Number],0))))","v":""},{"$f":" IF(TournamentData[[#This Row],[Team Number]]=\"\",\"\",IF(TournamentData[[#This Row],[Core Values Rank]]=\"\",NumberOfTeams+1,TournamentData[[#This Row],[Core Values Rank]]) + IF(TournamentData[[#This Row],[Innovation Project Rank]]=\"\",NumberOfTeams+1,TournamentData[[#This Row],[Innovation Project Rank]]) + IF(TournamentData[[#This Row],[Robot Design Rank]]=\"\",NumberOfTeams+1,TournamentData[[#This Row],[Robot Design Rank]]) + TournamentData[[#This Row],[Robot Game Rank]])","v":""},{"$f":"IF(TournamentData[[#This Row],[Team Number]]=\"\",\"\",IF(M12,RANK(M12,M$3:M$110,1)-COUNTIF(M$3:M$110,0),NumberOfTeams+1))","v":""},{"$f":"IF(ISNA(INDEX(CoreValuesResults[Breakthrough Selection],MATCH(TournamentData[[#This Row],[Team Number]],CoreValuesResults[Team Number],0))),0, INDEX(CoreValuesResults[Breakthrough Selection],MATCH(TournamentData[[#This Row],[Team Number]],CoreValuesResults[Team Number],0)))","v":0},{"$f":"IF(ISNA(INDEX(CoreValuesResults[Rising All-Star Selection],MATCH(TournamentData[[#This Row],[Team Number]],CoreValuesResults[Team Number],0))),0, INDEX(CoreValuesResults[Rising All-Star Selection],MATCH(TournamentData[[#This Row],[Team Number]],CoreValuesResults[Team Number],0)))","v":0},{"$f":"IF(ISNA(INDEX(CoreValuesResults[Motivate Selection],MATCH(TournamentData[[#This Row],[Team Number]],CoreValuesResults[Team Number],0))),0, INDEX(CoreValuesResults[Motivate Selection],MATCH(TournamentData[[#This Row],[Team Number]],CoreValuesResults[Team Number],0)))","v":0},null,null,null,{"$f":"IF(ISNA(INDEX(CoreValuesResults[Core Values Score],MATCH(TournamentData[[#This Row],[Team Number]],CoreValuesResults[Team Number],0))),0,INDEX(CoreValuesResults[Core Values Score],MATCH(TournamentData[[#This Row],[Team Number]],CoreValuesResults[Team Number],0)))","v":0},{"$f":"IF(ISNA(INDEX(InnovationProjectResults[Innovation Project Score],MATCH(TournamentData[[#This Row],[Team Number]],InnovationProjectResults[Team Number],0))),0,INDEX(InnovationProjectResults[Innovation Project Score],MATCH(TournamentData[[#This Row],[Team Number]],InnovationProjectResults[Team Number],0)))","v":0},{"$f":"IF(ISNA(INDEX(RobotDesignResults[Robot Design Score],MATCH(TournamentData[[#This Row],[Team Number]],RobotDesignResults[Team Number],0))),0,INDEX(RobotDesignResults[Robot Design Score],MATCH(TournamentData[[#This Row],[Team Number]],RobotDesignResults[Team Number],0)))","v":0},{"$f":"IF(ISERR(GEOMEAN(TournamentData[[#This Row],[Max Robot Game Score]],TournamentData[[#This Row],[Core Values Score]],TournamentData[[#This Row],[Innovattion Project Score]],TournamentData[[#This Row],[Robot Design Score]])),0,GEOMEAN(TournamentData[[#This Row],[Max Robot Game Score]],TournamentData[[#This Row],[Core Values Score]],TournamentData[[#This Row],[Innovattion Project Score]],TournamentData[[#This Row],[Robot Design Score]]))","v":0},0]
[null,{"$f":"IF(ISNA(INDEX(OfficialTeamList[Team Name],MATCH(TournamentData[[#This Row],[Team Number]], OfficialTeamList[Team Number],0))),\"\",INDEX(OfficialTeamList[Team Name],MATCH(TournamentData[[#This Row],[Team Number]], OfficialTeamList[Team Number],0)))","v":""},{"$f":"IF(TournamentData[[#This Row],[Team Number]]=\"\",\"\",IF(ISNA(INDEX('Robot Game Scores'!D:D,MATCH(TournamentData[[#This Row],[Team Number]], 'Robot Game Scores'!$B:$B,0))),0,INDEX('Robot Game Scores'!D:D,MATCH(TournamentData[[#This Row],[Team Number]], 'Robot Game Scores'!$B:$B,0))))","v":""},{"$f":"IF(TournamentData[[#This Row],[Team Number]]=\"\",\"\",IF(ISNA(INDEX('Robot Game Scores'!E:E,MATCH(TournamentData[[#This Row],[Team Number]], 'Robot Game Scores'!$B:$B,0))),0,INDEX('Robot Game Scores'!E:E,MATCH(TournamentData[[#This Row],[Team Number]], 'Robot Game Scores'!$B:$B,0))))","v":""},{"$f":"IF(TournamentData[[#This Row],[Team Number]]=\"\",\"\",IF(ISNA(INDEX('Robot Game Scores'!F:F,MATCH(TournamentData[[#This Row],[Team Number]], 'Robot Game Scores'!$B:$B,0))),0,INDEX('Robot Game Scores'!F:F,MATCH(TournamentData[[#This Row],[Team Number]], 'Robot Game Scores'!$B:$B,0))))","v":""},{"$f":"IF(TournamentData[[#This Row],[Team Number]]=\"\",\"\",IF(ISNA(INDEX('Robot Game Scores'!G:G,MATCH(TournamentData[[#This Row],[Team Number]], 'Robot Game Scores'!$B:$B,0))),0,INDEX('Robot Game Scores'!G:G,MATCH(TournamentData[[#This Row],[Team Number]], 'Robot Game Scores'!$B:$B,0))))","v":""},{"$f":"IF(TournamentData[[#This Row],[Team Number]]=\"\",\"\",IF(ISNA(INDEX('Robot Game Scores'!H:H,MATCH(TournamentData[[#This Row],[Team Number]], 'Robot Game Scores'!$B:$B,0))),0,INDEX('Robot Game Scores'!H:H,MATCH(TournamentData[[#This Row],[Team Number]], 'Robot Game Scores'!$B:$B,0))))","v":""},{"$f":"IF(TournamentData[[#This Row],[Team Number]]=\"\",\"\",IF(ISNA(LARGE(TournamentData[[#This Row],[Robot Game Score 1]:[Robot Game Score 5]],1)+0.0001*LARGE(TournamentData[[#This Row],[Robot Game Score 1]:[Robot Game Score 5]],2)+0.0000001*LARGE(TournamentData[[#This Row],[Robot Game Score 1]:[Robot Game Score 5]],3)+0.00000000001*LARGE(TournamentData[[#This Row],[Robot Game Score 1]:[Robot Game Score 5]],4)+0.00000000000001*LARGE(TournamentData[[#This Row],[Robot Game Score 1]:[Robot Game Score 5]],5)),0,LARGE(TournamentData[[#This Row],[Robot Game Score 1]:[Robot Game Score 5]],1)+0.0001*LARGE(TournamentData[[#This Row],[Robot Game Score 1]:[Robot Game Score 5]],2)+0.0000001*LARGE(TournamentData[[#This Row],[Robot Game Score 1]:[Robot Game Score 5]],3)+0.00000000001*LARGE(TournamentData[[#This Row],[Robot Game Score 1]:[Robot Game Score 5]],4)+0.00000000000001*LARGE(TournamentData[[#This Row],[Robot Game Score 1]:[Robot Game Score 5]],5)))","v":""},{"$f":"IF(TournamentData[[#This Row],[Team Number]]=\"\",\"\",_xlfn.RANK.EQ(TournamentData[[#This Row],[Max Robot Game Score]],TournamentData[Max Robot Game Score]))","v":""},{"$f":"IF(TournamentData[[#This Row],[Team Number]]=\"\",\"\",IF(ISNA(INDEX(CoreValuesResults[Core Values Rank],MATCH(TournamentData[[#This Row],[Team Number]],CoreValuesResults[Team Number],0))),NumberOfTeams+1,INDEX(CoreValuesResults[Core Values Rank],MATCH(TournamentData[[#This Row],[Team Number]],CoreValuesResults[Team Number],0))))","v":""},{"$f":"IF(TournamentData[[#This Row],[Team Number]]=\"\",\"\",IF(ISNA(INDEX(InnovationProjectResults[Innovation Project Rank],MATCH(TournamentData[[#This Row],[Team Number]],InnovationProjectResults[Team Number],0))),NumberOfTeams+1,INDEX(InnovationProjectResults[Innovation Project Rank],MATCH(TournamentData[[#This Row],[Team Number]],InnovationProjectResults[Team Number],0))))","v":""},{"$f":"IF(TournamentData[[#This Row],[Team Number]]=\"\",\"\",IF(ISNA(INDEX(RobotDesignResults[Robot Design Rank],MATCH(TournamentData[[#This Row],[Team Number]],RobotDesignResults[Team Number],0))),NumberOfTeams+1,INDEX(RobotDesignResults[Robot Design Rank],MATCH(TournamentData[[#This Row],[Team Number]],RobotDesignResults[Team Number],0))))","v":""},{"$f":" IF(TournamentData[[#This Row],[Team Number]]=\"\",\"\",IF(TournamentData[[#This Row],[Core Values Rank]]=\"\",NumberOfTeams+1,TournamentData[[#This Row],[Core Values Rank]]) + IF(TournamentData[[#This Row],[Innovation Project Rank]]=\"\",NumberOfTeams+1,TournamentData[[#This Row],[Innovation Project Rank]]) + IF(TournamentData[[#This Row],[Robot Design Rank]]=\"\",NumberOfTeams+1,TournamentData[[#This Row],[Robot Design Rank]]) + TournamentData[[#This Row],[Robot Game Rank]])","v":""},{"$f":"IF(TournamentData[[#This Row],[Team Number]]=\"\",\"\",IF(M13,RANK(M13,M$3:M$110,1)-COUNTIF(M$3:M$110,0),NumberOfTeams+1))","v":""},{"$f":"IF(ISNA(INDEX(CoreValuesResults[Breakthrough Selection],MATCH(TournamentData[[#This Row],[Team Number]],CoreValuesResults[Team Number],0))),0, INDEX(CoreValuesResults[Breakthrough Selection],MATCH(TournamentData[[#This Row],[Team Number]],CoreValuesResults[Team Number],0)))","v":0},{"$f":"IF(ISNA(INDEX(CoreValuesResults[Rising All-Star Selection],MATCH(TournamentData[[#This Row],[Team Number]],CoreValuesResults[Team Number],0))),0, INDEX(CoreValuesResults[Rising All-Star Selection],MATCH(TournamentData[[#This Row],[Team Number]],CoreValuesResults[Team Number],0)))","v":0},{"$f":"IF(ISNA(INDEX(CoreValuesResults[Motivate Selection],MATCH(TournamentData[[#This Row],[Team Number]],CoreValuesResults[Team Number],0))),0, INDEX(CoreValuesResults[Motivate Selection],MATCH(TournamentData[[#This Row],[Team Number]],CoreValuesResults[Team Number],0)))","v":0},null,null,null,{"$f":"IF(ISNA(INDEX(CoreValuesResults[Core Values Score],MATCH(TournamentData[[#This Row],[Team Number]],CoreValuesResults[Team Number],0))),0,INDEX(CoreValuesResults[Core Values Score],MATCH(TournamentData[[#This Row],[Team Number]],CoreValuesResults[Team Number],0)))","v":0},{"$f":"IF(ISNA(INDEX(InnovationProjectResults[Innovation Project Score],MATCH(TournamentData[[#This Row],[Team Number]],InnovationProjectResults[Team Number],0))),0,INDEX(InnovationProjectResults[Innovation Project Score],MATCH(TournamentData[[#This Row],[Team Number]],InnovationProjectResults[Team Number],0)))","v":0},{"$f":"IF(ISNA(INDEX(RobotDesignResults[Robot Design Score],MATCH(TournamentData[[#This Row],[Team Number]],RobotDesignResults[Team Number],0))),0,INDEX(RobotDesignResults[Robot Design Score],MATCH(TournamentData[[#This Row],[Team Number]],RobotDesignResults[Team Number],0)))","v":0},{"$f":"IF(ISERR(GEOMEAN(TournamentData[[#This Row],[Max Robot Game Score]],TournamentData[[#This Row],[Core Values Score]],TournamentData[[#This Row],[Innovattion Project Score]],TournamentData[[#This Row],[Robot Design Score]])),0,GEOMEAN(TournamentData[[#This Row],[Max Robot Game Score]],TournamentData[[#This Row],[Core Values Score]],TournamentData[[#This Row],[Innovattion Project Score]],TournamentData[[#This Row],[Robot Design Score]]))","v":0},0]
[null,{"$f":"IF(ISNA(INDEX(OfficialTeamList[Team Name],MATCH(TournamentData[[#This Row],[Team Number]], OfficialTeamList[Team Number],0))),\"\",INDEX(OfficialTeamList[Team Name],MATCH(TournamentData[[#This Row],[Team Number]], OfficialTeamList[Team Number],0)))","v":""},{"$f":"IF(TournamentData[[#This Row],[Team Number]]=\"\",\"\",IF(ISNA(INDEX('Robot Game Scores'!D:D,MATCH(TournamentData[[#This Row],[Team Number]], 'Robot Game Scores'!$B:$B,0))),0,INDEX('Robot Game Scores'!D:D,MATCH(TournamentData[[#This Row],[Team Number]], 'Robot Game Scores'!$B:$B,0))))","v":""},{"$f":"IF(TournamentData[[#This Row],[Team Number]]=\"\",\"\",IF(ISNA(INDEX('Robot Game Scores'!E:E,MATCH(TournamentData[[#This Row],[Team Number]], 'Robot Game Scores'!$B:$B,0))),0,INDEX('Robot Game Scores'!E:E,MATCH(TournamentData[[#This Row],[Team Number]], 'Robot Game Scores'!$B:$B,0))))","v":""},{"$f":"IF(TournamentData[[#This Row],[Team Number]]=\"\",\"\",IF(ISNA(INDEX('Robot Game Scores'!F:F,MATCH(TournamentData[[#This Row],[Team Number]], 'Robot Game Scores'!$B:$B,0))),0,INDEX('Robot Game Scores'!F:F,MATCH(TournamentData[[#This Row],[Team Number]], 'Robot Game Scores'!$B:$B,0))))","v":""},{"$f":"IF(TournamentData[[#This Row],[Team Number]]=\"\",\"\",IF(ISNA(INDEX('Robot Game Scores'!G:G,MATCH(TournamentData[[#This Row],[Team Number]], 'Robot Game Scores'!$B:$B,0))),0,INDEX('Robot Game Scores'!G:G,MATCH(TournamentData[[#This Row],[Team Number]], 'Robot Game Scores'!$B:$B,0))))","v":""},{"$f":"IF(TournamentData[[#This Row],[Team Number]]=\"\",\"\",IF(ISNA(INDEX('Robot Game Scores'!H:H,MATCH(TournamentData[[#This Row],[Team Number]], 'Robot Game Scores'!$B:$B,0))),0,INDEX('Robot Game Scores'!H:H,MATCH(TournamentData[[#This Row],[Team Number]], 'Robot Game Scores'!$B:$B,0))))","v":""},{"$f":"IF(TournamentData[[#This Row],[Team Number]]=\"\",\"\",IF(ISNA(LARGE(TournamentData[[#This Row],[Robot Game Score 1]:[Robot Game Score 5]],1)+0.0001*LARGE(TournamentData[[#This Row],[Robot Game Score 1]:[Robot Game Score 5]],2)+0.0000001*LARGE(TournamentData[[#This Row],[Robot Game Score 1]:[Robot Game Score 5]],3)+0.00000000001*LARGE(TournamentData[[#This Row],[Robot Game Score 1]:[Robot Game Score 5]],4)+0.00000000000001*LARGE(TournamentData[[#This Row],[Robot Game Score 1]:[Robot Game Score 5]],5)),0,LARGE(TournamentData[[#This Row],[Robot Game Score 1]:[Robot Game Score 5]],1)+0.0001*LARGE(TournamentData[[#This Row],[Robot Game Score 1]:[Robot Game Score 5]],2)+0.0000001*LARGE(TournamentData[[#This Row],[Robot Game Score 1]:[Robot Game Score 5]],3)+0.00000000001*LARGE(TournamentData[[#This Row],[Robot Game Score 1]:[Robot Game Score 5]],4)+0.00000000000001*LARGE(TournamentData[[#This Row],[Robot Game Score 1]:[Robot Game Score 5]],5)))","v":""},{"$f":"IF(TournamentData[[#This Row],[Team Number]]=\"\",\"\",_xlfn.RANK.EQ(TournamentData[[#This Row],[Max Robot Game Score]],TournamentData[Max Robot Game Score]))","v":""},{"$f":"IF(TournamentData[[#This Row],[Team Number]]=\"\",\"\",IF(ISNA(INDEX(CoreValuesResults[Core Values Rank],MATCH(TournamentData[[#This Row],[Team Number]],CoreValuesResults[Team Number],0))),NumberOfTeams+1,INDEX(CoreValuesResults[Core Values Rank],MATCH(TournamentData[[#This Row],[Team Number]],CoreValuesResults[Team Number],0))))","v":""},{"$f":"IF(TournamentData[[#This Row],[Team Number]]=\"\",\"\",IF(ISNA(INDEX(InnovationProjectResults[Innovation Project Rank],MATCH(TournamentData[[#This Row],[Team Number]],InnovationProjectResults[Team Number],0))),NumberOfTeams+1,INDEX(InnovationProjectResults[Innovation Project Rank],MATCH(TournamentData[[#This Row],[Team Number]],InnovationProjectResults[Team Number],0))))","v":""},{"$f":"IF(TournamentData[[#This Row],[Team Number]]=\"\",\"\",IF(ISNA(INDEX(RobotDesignResults[Robot Design Rank],MATCH(TournamentData[[#This Row],[Team Number]],RobotDesignResults[Team Number],0))),NumberOfTeams+1,INDEX(RobotDesignResults[Robot Design Rank],MATCH(TournamentData[[#This Row],[Team Number]],RobotDesignResults[Team Number],0))))","v":""},{"$f":" IF(TournamentData[[#This Row],[Team Number]]=\"\",\"\",IF(TournamentData[[#This Row],[Core Values Rank]]=\"\",NumberOfTeams+1,TournamentData[[#This Row],[Core Values Rank]]) + IF(TournamentData[[#This Row],[Innovation Project Rank]]=\"\",NumberOfTeams+1,TournamentData[[#This Row],[Innovation Project Rank]]) + IF(TournamentData[[#This Row],[Robot Design Rank]]=\"\",NumberOfTeams+1,TournamentData[[#This Row],[Robot Design Rank]]) + TournamentData[[#This Row],[Robot Game Rank]])","v":""},{"$f":"IF(TournamentData[[#This Row],[Team Number]]=\"\",\"\",IF(M14,RANK(M14,M$3:M$110,1)-COUNTIF(M$3:M$110,0),NumberOfTeams+1))","v":""},{"$f":"IF(ISNA(INDEX(CoreValuesResults[Breakthrough Selection],MATCH(TournamentData[[#This Row],[Team Number]],CoreValuesResults[Team Number],0))),0, INDEX(CoreValuesResults[Breakthrough Selection],MATCH(TournamentData[[#This Row],[Team Number]],CoreValuesResults[Team Number],0)))","v":0},{"$f":"IF(ISNA(INDEX(CoreValuesResults[Rising All-Star Selection],MATCH(TournamentData[[#This Row],[Team Number]],CoreValuesResults[Team Number],0))),0, INDEX(CoreValuesResults[Rising All-Star Selection],MATCH(TournamentData[[#This Row],[Team Number]],CoreValuesResults[Team Number],0)))","v":0},{"$f":"IF(ISNA(INDEX(CoreValuesResults[Motivate Selection],MATCH(TournamentData[[#This Row],[Team Number]],CoreValuesResults[Team Number],0))),0, INDEX(CoreValuesResults[Motivate Selection],MATCH(TournamentData[[#This Row],[Team Number]],CoreValuesResults[Team Number],0)))","v":0},null,null,null,{"$f":"IF(ISNA(INDEX(CoreValuesResults[Core Values Score],MATCH(TournamentData[[#This Row],[Team Number]],CoreValuesResults[Team Number],0))),0,INDEX(CoreValuesResults[Core Values Score],MATCH(TournamentData[[#This Row],[Team Number]],CoreValuesResults[Team Number],0)))","v":0},{"$f":"IF(ISNA(INDEX(InnovationProjectResults[Innovation Project Score],MATCH(TournamentData[[#This Row],[Team Number]],InnovationProjectResults[Team Number],0))),0,INDEX(InnovationProjectResults[Innovation Project Score],MATCH(TournamentData[[#This Row],[Team Number]],InnovationProjectResults[Team Number],0)))","v":0},{"$f":"IF(ISNA(INDEX(RobotDesignResults[Robot Design Score],MATCH(TournamentData[[#This Row],[Team Number]],RobotDesignResults[Team Number],0))),0,INDEX(RobotDesignResults[Robot Design Score],MATCH(TournamentData[[#This Row],[Team Number]],RobotDesignResults[Team Number],0)))","v":0},{"$f":"IF(ISERR(GEOMEAN(TournamentData[[#This Row],[Max Robot Game Score]],TournamentData[[#This Row],[Core Values Score]],TournamentData[[#This Row],[Innovattion Project Score]],TournamentData[[#This Row],[Robot Design Score]])),0,GEOMEAN(TournamentData[[#This Row],[Max Robot Game Score]],TournamentData[[#This Row],[Core Values Score]],TournamentData[[#This Row],[Innovattion Project Score]],TournamentData[[#This Row],[Robot Design Score]]))","v":0},0]
[null,{"$f":"IF(ISNA(INDEX(OfficialTeamList[Team Name],MATCH(TournamentData[[#This Row],[Team Number]], OfficialTeamList[Team Number],0))),\"\",INDEX(OfficialTeamList[Team Name],MATCH(TournamentData[[#This Row],[Team Number]], OfficialTeamList[Team Number],0)))","v":""},{"$f":"IF(TournamentData[[#This Row],[Team Number]]=\"\",\"\",IF(ISNA(INDEX('Robot Game Scores'!D:D,MATCH(TournamentData[[#This Row],[Team Number]], 'Robot Game Scores'!$B:$B,0))),0,INDEX('Robot Game Scores'!D:D,MATCH(TournamentData[[#This Row],[Team Number]], 'Robot Game Scores'!$B:$B,0))))","v":""},{"$f":"IF(TournamentData[[#This Row],[Team Number]]=\"\",\"\",IF(ISNA(INDEX('Robot Game Scores'!E:E,MATCH(TournamentData[[#This Row],[Team Number]], 'Robot Game Scores'!$B:$B,0))),0,INDEX('Robot Game Scores'!E:E,MATCH(TournamentData[[#This Row],[Team Number]], 'Robot Game Scores'!$B:$B,0))))","v":""},{"$f":"IF(TournamentData[[#This Row],[Team Number]]=\"\",\"\",IF(ISNA(INDEX('Robot Game Scores'!F:F,MATCH(TournamentData[[#This Row],[Team Number]], 'Robot Game Scores'!$B:$B,0))),0,INDEX('Robot Game Scores'!F:F,MATCH(TournamentData[[#This Row],[Team Number]], 'Robot Game Scores'!$B:$B,0))))","v":""},{"$f":"IF(TournamentData[[#This Row],[Team Number]]=\"\",\"\",IF(ISNA(INDEX('Robot Game Scores'!G:G,MATCH(TournamentData[[#This Row],[Team Number]], 'Robot Game Scores'!$B:$B,0))),0,INDEX('Robot Game Scores'!G:G,MATCH(TournamentData[[#This Row],[Team Number]], 'Robot Game Scores'!$B:$B,0))))","v":""},{"$f":"IF(TournamentData[[#This Row],[Team Number]]=\"\",\"\",IF(ISNA(INDEX('Robot Game Scores'!H:H,MATCH(TournamentData[[#This Row],[Team Number]], 'Robot Game Scores'!$B:$B,0))),0,INDEX('Robot Game Scores'!H:H,MATCH(TournamentData[[#This Row],[Team Number]], 'Robot Game Scores'!$B:$B,0))))","v":""},{"$f":"IF(TournamentData[[#This Row],[Team Number]]=\"\",\"\",IF(ISNA(LARGE(TournamentData[[#This Row],[Robot Game Score 1]:[Robot Game Score 5]],1)+0.0001*LARGE(TournamentData[[#This Row],[Robot Game Score 1]:[Robot Game Score 5]],2)+0.0000001*LARGE(TournamentData[[#This Row],[Robot Game Score 1]:[Robot Game Score 5]],3)+0.00000000001*LARGE(TournamentData[[#This Row],[Robot Game Score 1]:[Robot Game Score 5]],4)+0.00000000000001*LARGE(TournamentData[[#This Row],[Robot Game Score 1]:[Robot Game Score 5]],5)),0,LARGE(TournamentData[[#This Row],[Robot Game Score 1]:[Robot Game Score 5]],1)+0.0001*LARGE(TournamentData[[#This Row],[Robot Game Score 1]:[Robot Game Score 5]],2)+0.0000001*LARGE(TournamentData[[#This Row],[Robot Game Score 1]:[Robot Game Score 5]],3)+0.00000000001*LARGE(TournamentData[[#This Row],[Robot Game Score 1]:[Robot Game Score 5]],4)+0.00000000000001*LARGE(TournamentData[[#This Row],[Robot Game Score 1]:[Robot Game Score 5]],5)))","v":""},{"$f":"IF(TournamentData[[#This Row],[Team Number]]=\"\",\"\",_xlfn.RANK.EQ(TournamentData[[#This Row],[Max Robot Game Score]],TournamentData[Max Robot Game Score]))","v":""},{"$f":"IF(TournamentData[[#This Row],[Team Number]]=\"\",\"\",IF(ISNA(INDEX(CoreValuesResults[Core Values Rank],MATCH(TournamentData[[#This Row],[Team Number]],CoreValuesResults[Team Number],0))),NumberOfTeams+1,INDEX(CoreValuesResults[Core Values Rank],MATCH(TournamentData[[#This Row],[Team Number]],CoreValuesResults[Team Number],0))))","v":""},{"$f":"IF(TournamentData[[#This Row],[Team Number]]=\"\",\"\",IF(ISNA(INDEX(InnovationProjectResults[Innovation Project Rank],MATCH(TournamentData[[#This Row],[Team Number]],InnovationProjectResults[Team Number],0))),NumberOfTeams+1,INDEX(InnovationProjectResults[Innovation Project Rank],MATCH(TournamentData[[#This Row],[Team Number]],InnovationProjectResults[Team Number],0))))","v":""},{"$f":"IF(TournamentData[[#This Row],[Team Number]]=\"\",\"\",IF(ISNA(INDEX(RobotDesignResults[Robot Design Rank],MATCH(TournamentData[[#This Row],[Team Number]],RobotDesignResults[Team Number],0))),NumberOfTeams+1,INDEX(RobotDesignResults[Robot Design Rank],MATCH(TournamentData[[#This Row],[Team Number]],RobotDesignResults[Team Number],0))))","v":""},{"$f":" IF(TournamentData[[#This Row],[Team Number]]=\"\",\"\",IF(TournamentData[[#This Row],[Core Values Rank]]=\"\",NumberOfTeams+1,TournamentData[[#This Row],[Core Values Rank]]) + IF(TournamentData[[#This Row],[Innovation Project Rank]]=\"\",NumberOfTeams+1,TournamentData[[#This Row],[Innovation Project Rank]]) + IF(TournamentData[[#This Row],[Robot Design Rank]]=\"\",NumberOfTeams+1,TournamentData[[#This Row],[Robot Design Rank]]) + TournamentData[[#This Row],[Robot Game Rank]])","v":""},{"$f":"IF(TournamentData[[#This Row],[Team Number]]=\"\",\"\",IF(M15,RANK(M15,M$3:M$110,1)-COUNTIF(M$3:M$110,0),NumberOfTeams+1))","v":""},{"$f":"IF(ISNA(INDEX(CoreValuesResults[Breakthrough Selection],MATCH(TournamentData[[#This Row],[Team Number]],CoreValuesResults[Team Number],0))),0, INDEX(CoreValuesResults[Breakthrough Selection],MATCH(TournamentData[[#This Row],[Team Number]],CoreValuesResults[Team Number],0)))","v":0},{"$f":"IF(ISNA(INDEX(CoreValuesResults[Rising All-Star Selection],MATCH(TournamentData[[#This Row],[Team Number]],CoreValuesResults[Team Number],0))),0, INDEX(CoreValuesResults[Rising All-Star Selection],MATCH(TournamentData[[#This Row],[Team Number]],CoreValuesResults[Team Number],0)))","v":0},{"$f":"IF(ISNA(INDEX(CoreValuesResults[Motivate Selection],MATCH(TournamentData[[#This Row],[Team Number]],CoreValuesResults[Team Number],0))),0, INDEX(CoreValuesResults[Motivate Selection],MATCH(TournamentData[[#This Row],[Team Number]],CoreValuesResults[Team Number],0)))","v":0},null,null,null,{"$f":"IF(ISNA(INDEX(CoreValuesResults[Core Values Score],MATCH(TournamentData[[#This Row],[Team Number]],CoreValuesResults[Team Number],0))),0,INDEX(CoreValuesResults[Core Values Score],MATCH(TournamentData[[#This Row],[Team Number]],CoreValuesResults[Team Number],0)))","v":0},{"$f":"IF(ISNA(INDEX(InnovationProjectResults[Innovation Project Score],MATCH(TournamentData[[#This Row],[Team Number]],InnovationProjectResults[Team Number],0))),0,INDEX(InnovationProjectResults[Innovation Project Score],MATCH(TournamentData[[#This Row],[Team Number]],InnovationProjectResults[Team Number],0)))","v":0},{"$f":"IF(ISNA(INDEX(RobotDesignResults[Robot Design Score],MATCH(TournamentData[[#This Row],[Team Number]],RobotDesignResults[Team Number],0))),0,INDEX(RobotDesignResults[Robot Design Score],MATCH(TournamentData[[#This Row],[Team Number]],RobotDesignResults[Team Number],0)))","v":0},{"$f":"IF(ISERR(GEOMEAN(TournamentData[[#This Row],[Max Robot Game Score]],TournamentData[[#This Row],[Core Values Score]],TournamentData[[#This Row],[Innovattion Project Score]],TournamentData[[#This Row],[Robot Design Score]])),0,GEOMEAN(TournamentData[[#This Row],[Max Robot Game Score]],TournamentData[[#This Row],[Core Values Score]],TournamentData[[#This Row],[Innovattion Project Score]],TournamentData[[#This Row],[Robot Design Score]]))","v":0},0]
[null,{"$f":"IF(ISNA(INDEX(OfficialTeamList[Team Name],MATCH(TournamentData[[#This Row],[Team Number]], OfficialTeamList[Team Number],0))),\"\",INDEX(OfficialTeamList[Team Name],MATCH(TournamentData[[#This Row],[Team Number]], OfficialTeamList[Team Number],0)))","v":""},{"$f":"IF(TournamentData[[#This Row],[Team Number]]=\"\",\"\",IF(ISNA(INDEX('Robot Game Scores'!D:D,MATCH(TournamentData[[#This Row],[Team Number]], 'Robot Game Scores'!$B:$B,0))),0,INDEX('Robot Game Scores'!D:D,MATCH(TournamentData[[#This Row],[Team Number]], 'Robot Game Scores'!$B:$B,0))))","v":""},{"$f":"IF(TournamentData[[#This Row],[Team Number]]=\"\",\"\",IF(ISNA(INDEX('Robot Game Scores'!E:E,MATCH(TournamentData[[#This Row],[Team Number]], 'Robot Game Scores'!$B:$B,0))),0,INDEX('Robot Game Scores'!E:E,MATCH(TournamentData[[#This Row],[Team Number]], 'Robot Game Scores'!$B:$B,0))))","v":""},{"$f":"IF(TournamentData[[#This Row],[Team Number]]=\"\",\"\",IF(ISNA(INDEX('Robot Game Scores'!F:F,MATCH(TournamentData[[#This Row],[Team Number]], 'Robot Game Scores'!$B:$B,0))),0,INDEX('Robot Game Scores'!F:F,MATCH(TournamentData[[#This Row],[Team Number]], 'Robot Game Scores'!$B:$B,0))))","v":""},{"$f":"IF(TournamentData[[#This Row],[Team Number]]=\"\",\"\",IF(ISNA(INDEX('Robot Game Scores'!G:G,MATCH(TournamentData[[#This Row],[Team Number]], 'Robot Game Scores'!$B:$B,0))),0,INDEX('Robot Game Scores'!G:G,MATCH(TournamentData[[#This Row],[Team Number]], 'Robot Game Scores'!$B:$B,0))))","v":""},{"$f":"IF(TournamentData[[#This Row],[Team Number]]=\"\",\"\",IF(ISNA(INDEX('Robot Game Scores'!H:H,MATCH(TournamentData[[#This Row],[Team Number]], 'Robot Game Scores'!$B:$B,0))),0,INDEX('Robot Game Scores'!H:H,MATCH(TournamentData[[#This Row],[Team Number]], 'Robot Game Scores'!$B:$B,0))))","v":""},{"$f":"IF(TournamentData[[#This Row],[Team Number]]=\"\",\"\",IF(ISNA(LARGE(TournamentData[[#This Row],[Robot Game Score 1]:[Robot Game Score 5]],1)+0.0001*LARGE(TournamentData[[#This Row],[Robot Game Score 1]:[Robot Game Score 5]],2)+0.0000001*LARGE(TournamentData[[#This Row],[Robot Game Score 1]:[Robot Game Score 5]],3)+0.00000000001*LARGE(TournamentData[[#This Row],[Robot Game Score 1]:[Robot Game Score 5]],4)+0.00000000000001*LARGE(TournamentData[[#This Row],[Robot Game Score 1]:[Robot Game Score 5]],5)),0,LARGE(TournamentData[[#This Row],[Robot Game Score 1]:[Robot Game Score 5]],1)+0.0001*LARGE(TournamentData[[#This Row],[Robot Game Score 1]:[Robot Game Score 5]],2)+0.0000001*LARGE(TournamentData[[#This Row],[Robot Game Score 1]:[Robot Game Score 5]],3)+0.00000000001*LARGE(TournamentData[[#This Row],[Robot Game Score 1]:[Robot Game Score 5]],4)+0.00000000000001*LARGE(TournamentData[[#This Row],[Robot Game Score 1]:[Robot Game Score 5]],5)))","v":""},{"$f":"IF(TournamentData[[#This Row],[Team Number]]=\"\",\"\",_xlfn.RANK.EQ(TournamentData[[#This Row],[Max Robot Game Score]],TournamentData[Max Robot Game Score]))","v":""},{"$f":"IF(TournamentData[[#This Row],[Team Number]]=\"\",\"\",IF(ISNA(INDEX(CoreValuesResults[Core Values Rank],MATCH(TournamentData[[#This Row],[Team Number]],CoreValuesResults[Team Number],0))),NumberOfTeams+1,INDEX(CoreValuesResults[Core Values Rank],MATCH(TournamentData[[#This Row],[Team Number]],CoreValuesResults[Team Number],0))))","v":""},{"$f":"IF(TournamentData[[#This Row],[Team Number]]=\"\",\"\",IF(ISNA(INDEX(InnovationProjectResults[Innovation Project Rank],MATCH(TournamentData[[#This Row],[Team Number]],InnovationProjectResults[Team Number],0))),NumberOfTeams+1,INDEX(InnovationProjectResults[Innovation Project Rank],MATCH(TournamentData[[#This Row],[Team Number]],InnovationProjectResults[Team Number],0))))","v":""},{"$f":"IF(TournamentData[[#This Row],[Team Number]]=\"\",\"\",IF(ISNA(INDEX(RobotDesignResults[Robot Design Rank],MATCH(TournamentData[[#This Row],[Team Number]],RobotDesignResults[Team Number],0))),NumberOfTeams+1,INDEX(RobotDesignResults[Robot Design Rank],MATCH(TournamentData[[#This Row],[Team Number]],RobotDesignResults[Team Number],0))))","v":""},{"$f":" IF(TournamentData[[#This Row],[Team Number]]=\"\",\"\",IF(TournamentData[[#This Row],[Core Values Rank]]=\"\",NumberOfTeams+1,TournamentData[[#This Row],[Core Values Rank]]) + IF(TournamentData[[#This Row],[Innovation Project Rank]]=\"\",NumberOfTeams+1,TournamentData[[#This Row],[Innovation Project Rank]]) + IF(TournamentData[[#This Row],[Robot Design Rank]]=\"\",NumberOfTeams+1,TournamentData[[#This Row],[Robot Design Rank]]) + TournamentData[[#This Row],[Robot Game Rank]])","v":""},{"$f":"IF(TournamentData[[#This Row],[Team Number]]=\"\",\"\",IF(M16,RANK(M16,M$3:M$110,1)-COUNTIF(M$3:M$110,0),NumberOfTeams+1))","v":""},{"$f":"IF(ISNA(INDEX(CoreValuesResults[Breakthrough Selection],MATCH(TournamentData[[#This Row],[Team Number]],CoreValuesResults[Team Number],0))),0, INDEX(CoreValuesResults[Breakthrough Selection],MATCH(TournamentData[[#This Row],[Team Number]],CoreValuesResults[Team Number],0)))","v":0},{"$f":"IF(ISNA(INDEX(CoreValuesResults[Rising All-Star Selection],MATCH(TournamentData[[#This Row],[Team Number]],CoreValuesResults[Team Number],0))),0, INDEX(CoreValuesResults[Rising All-Star Selection],MATCH(TournamentData[[#This Row],[Team Number]],CoreValuesResults[Team Number],0)))","v":0},{"$f":"IF(ISNA(INDEX(CoreValuesResults[Motivate Selection],MATCH(TournamentData[[#This Row],[Team Number]],CoreValuesResults[Team Number],0))),0, INDEX(CoreValuesResults[Motivate Selection],MATCH(TournamentData[[#This Row],[Team Number]],CoreValuesResults[Team Number],0)))","v":0},null,null,null,{"$f":"IF(ISNA(INDEX(CoreValuesResults[Core Values Score],MATCH(TournamentData[[#This Row],[Team Number]],CoreValuesResults[Team Number],0))),0,INDEX(CoreValuesResults[Core Values Score],MATCH(TournamentData[[#This Row],[Team Number]],CoreValuesResults[Team Number],0)))","v":0},{"$f":"IF(ISNA(INDEX(InnovationProjectResults[Innovation Project Score],MATCH(TournamentData[[#This Row],[Team Number]],InnovationProjectResults[Team Number],0))),0,INDEX(InnovationProjectResults[Innovation Project Score],MATCH(TournamentData[[#This Row],[Team Number]],InnovationProjectResults[Team Number],0)))","v":0},{"$f":"IF(ISNA(INDEX(RobotDesignResults[Robot Design Score],MATCH(TournamentData[[#This Row],[Team Number]],RobotDesignResults[Team Number],0))),0,INDEX(RobotDesignResults[Robot Design Score],MATCH(TournamentData[[#This Row],[Team Number]],RobotDesignResults[Team Number],0)))","v":0},{"$f":"IF(ISERR(GEOMEAN(TournamentData[[#This Row],[Max Robot Game Score]],TournamentData[[#This Row],[Core Values Score]],TournamentData[[#This Row],[Innovattion Project Score]],TournamentData[[#This Row],[Robot Design Score]])),0,GEOMEAN(TournamentData[[#This Row],[Max Robot Game Score]],TournamentData[[#This Row],[Core Values Score]],TournamentData[[#This Row],[Innovattion Project Score]],TournamentData[[#This Row],[Robot Design Score]]))","v":0},0]
[null,{"$f":"IF(ISNA(INDEX(OfficialTeamList[Team Name],MATCH(TournamentData[[#This Row],[Team Number]], OfficialTeamList[Team Number],0))),\"\",INDEX(OfficialTeamList[Team Name],MATCH(TournamentData[[#This Row],[Team Number]], OfficialTeamList[Team Number],0)))","v":""},{"$f":"IF(TournamentData[[#This Row],[Team Number]]=\"\",\"\",IF(ISNA(INDEX('Robot Game Scores'!D:D,MATCH(TournamentData[[#This Row],[Team Number]], 'Robot Game Scores'!$B:$B,0))),0,INDEX('Robot Game Scores'!D:D,MATCH(TournamentData[[#This Row],[Team Number]], 'Robot Game Scores'!$B:$B,0))))","v":""},{"$f":"IF(TournamentData[[#This Row],[Team Number]]=\"\",\"\",IF(ISNA(INDEX('Robot Game Scores'!E:E,MATCH(TournamentData[[#This Row],[Team Number]], 'Robot Game Scores'!$B:$B,0))),0,INDEX('Robot Game Scores'!E:E,MATCH(TournamentData[[#This Row],[Team Number]], 'Robot Game Scores'!$B:$B,0))))","v":""},{"$f":"IF(TournamentData[[#This Row],[Team Number]]=\"\",\"\",IF(ISNA(INDEX('Robot Game Scores'!F:F,MATCH(TournamentData[[#This Row],[Team Number]], 'Robot Game Scores'!$B:$B,0))),0,INDEX('Robot Game Scores'!F:F,MATCH(TournamentData[[#This Row],[Team Number]], 'Robot Game Scores'!$B:$B,0))))","v":""},{"$f":"IF(TournamentData[[#This Row],[Team Number]]=\"\",\"\",IF(ISNA(INDEX('Robot Game Scores'!G:G,MATCH(TournamentData[[#This Row],[Team Number]], 'Robot Game Scores'!$B:$B,0))),0,INDEX('Robot Game Scores'!G:G,MATCH(TournamentData[[#This Row],[Team Number]], 'Robot Game Scores'!$B:$B,0))))","v":""},{"$f":"IF(TournamentData[[#This Row],[Team Number]]=\"\",\"\",IF(ISNA(INDEX('Robot Game Scores'!H:H,MATCH(TournamentData[[#This Row],[Team Number]], 'Robot Game Scores'!$B:$B,0))),0,INDEX('Robot Game Scores'!H:H,MATCH(TournamentData[[#This Row],[Team Number]], 'Robot Game Scores'!$B:$B,0))))","v":""},{"$f":"IF(TournamentData[[#This Row],[Team Number]]=\"\",\"\",IF(ISNA(LARGE(TournamentData[[#This Row],[Robot Game Score 1]:[Robot Game Score 5]],1)+0.0001*LARGE(TournamentData[[#This Row],[Robot Game Score 1]:[Robot Game Score 5]],2)+0.0000001*LARGE(TournamentData[[#This Row],[Robot Game Score 1]:[Robot Game Score 5]],3)+0.00000000001*LARGE(TournamentData[[#This Row],[Robot Game Score 1]:[Robot Game Score 5]],4)+0.00000000000001*LARGE(TournamentData[[#This Row],[Robot Game Score 1]:[Robot Game Score 5]],5)),0,LARGE(TournamentData[[#This Row],[Robot Game Score 1]:[Robot Game Score 5]],1)+0.0001*LARGE(TournamentData[[#This Row],[Robot Game Score 1]:[Robot Game Score 5]],2)+0.0000001*LARGE(TournamentData[[#This Row],[Robot Game Score 1]:[Robot Game Score 5]],3)+0.00000000001*LARGE(TournamentData[[#This Row],[Robot Game Score 1]:[Robot Game Score 5]],4)+0.00000000000001*LARGE(TournamentData[[#This Row],[Robot Game Score 1]:[Robot Game Score 5]],5)))","v":""},{"$f":"IF(TournamentData[[#This Row],[Team Number]]=\"\",\"\",_xlfn.RANK.EQ(TournamentData[[#This Row],[Max Robot Game Score]],TournamentData[Max Robot Game Score]))","v":""},{"$f":"IF(TournamentData[[#This Row],[Team Number]]=\"\",\"\",IF(ISNA(INDEX(CoreValuesResults[Core Values Rank],MATCH(TournamentData[[#This Row],[Team Number]],CoreValuesResults[Team Number],0))),NumberOfTeams+1,INDEX(CoreValuesResults[Core Values Rank],MATCH(TournamentData[[#This Row],[Team Number]],CoreValuesResults[Team Number],0))))","v":""},{"$f":"IF(TournamentData[[#This Row],[Team Number]]=\"\",\"\",IF(ISNA(INDEX(InnovationProjectResults[Innovation Project Rank],MATCH(TournamentData[[#This Row],[Team Number]],InnovationProjectResults[Team Number],0))),NumberOfTeams+1,INDEX(InnovationProjectResults[Innovation Project Rank],MATCH(TournamentData[[#This Row],[Team Number]],InnovationProjectResults[Team Number],0))))","v":""},{"$f":"IF(TournamentData[[#This Row],[Team Number]]=\"\",\"\",IF(ISNA(INDEX(RobotDesignResults[Robot Design Rank],MATCH(TournamentData[[#This Row],[Team Number]],RobotDesignResults[Team Number],0))),NumberOfTeams+1,INDEX(RobotDesignResults[Robot Design Rank],MATCH(TournamentData[[#This Row],[Team Number]],RobotDesignResults[Team Number],0))))","v":""},{"$f":" IF(TournamentData[[#This Row],[Team Number]]=\"\",\"\",IF(TournamentData[[#This Row],[Core Values Rank]]=\"\",NumberOfTeams+1,TournamentData[[#This Row],[Core Values Rank]]) + IF(TournamentData[[#This Row],[Innovation Project Rank]]=\"\",NumberOfTeams+1,TournamentData[[#This Row],[Innovation Project Rank]]) + IF(TournamentData[[#This Row],[Robot Design Rank]]=\"\",NumberOfTeams+1,TournamentData[[#This Row],[Robot Design Rank]]) + TournamentData[[#This Row],[Robot Game Rank]])","v":""},{"$f":"IF(TournamentData[[#This Row],[Team Number]]=\"\",\"\",IF(M17,RANK(M17,M$3:M$110,1)-COUNTIF(M$3:M$110,0),NumberOfTeams+1))","v":""},{"$f":"IF(ISNA(INDEX(CoreValuesResults[Breakthrough Selection],MATCH(TournamentData[[#This Row],[Team Number]],CoreValuesResults[Team Number],0))),0, INDEX(CoreValuesResults[Breakthrough Selection],MATCH(TournamentData[[#This Row],[Team Number]],CoreValuesResults[Team Number],0)))","v":0},{"$f":"IF(ISNA(INDEX(CoreValuesResults[Rising All-Star Selection],MATCH(TournamentData[[#This Row],[Team Number]],CoreValuesResults[Team Number],0))),0, INDEX(CoreValuesResults[Rising All-Star Selection],MATCH(TournamentData[[#This Row],[Team Number]],CoreValuesResults[Team Number],0)))","v":0},{"$f":"IF(ISNA(INDEX(CoreValuesResults[Motivate Selection],MATCH(TournamentData[[#This Row],[Team Number]],CoreValuesResults[Team Number],0))),0, INDEX(CoreValuesResults[Motivate Selection],MATCH(TournamentData[[#This Row],[Team Number]],CoreValuesResults[Team Number],0)))","v":0},null,null,null,{"$f":"IF(ISNA(INDEX(CoreValuesResults[Core Values Score],MATCH(TournamentData[[#This Row],[Team Number]],CoreValuesResults[Team Number],0))),0,INDEX(CoreValuesResults[Core Values Score],MATCH(TournamentData[[#This Row],[Team Number]],CoreValuesResults[Team Number],0)))","v":0},{"$f":"IF(ISNA(INDEX(InnovationProjectResults[Innovation Project Score],MATCH(TournamentData[[#This Row],[Team Number]],InnovationProjectResults[Team Number],0))),0,INDEX(InnovationProjectResults[Innovation Project Score],MATCH(TournamentData[[#This Row],[Team Number]],InnovationProjectResults[Team Number],0)))","v":0},{"$f":"IF(ISNA(INDEX(RobotDesignResults[Robot Design Score],MATCH(TournamentData[[#This Row],[Team Number]],RobotDesignResults[Team Number],0))),0,INDEX(RobotDesignResults[Robot Design Score],MATCH(TournamentData[[#This Row],[Team Number]],RobotDesignResults[Team Number],0)))","v":0},{"$f":"IF(ISERR(GEOMEAN(TournamentData[[#This Row],[Max Robot Game Score]],TournamentData[[#This Row],[Core Values Score]],TournamentData[[#This Row],[Innovattion Project Score]],TournamentData[[#This Row],[Robot Design Score]])),0,GEOMEAN(TournamentData[[#This Row],[Max Robot Game Score]],TournamentData[[#This Row],[Core Values Score]],TournamentData[[#This Row],[Innovattion Project Score]],TournamentData[[#This Row],[Robot Design Score]]))","v":0},0]
[null,{"$f":"IF(ISNA(INDEX(OfficialTeamList[Team Name],MATCH(TournamentData[[#This Row],[Team Number]], OfficialTeamList[Team Number],0))),\"\",INDEX(OfficialTeamList[Team Name],MATCH(TournamentData[[#This Row],[Team Number]], OfficialTeamList[Team Number],0)))","v":""},{"$f":"IF(TournamentData[[#This Row],[Team Number]]=\"\",\"\",IF(ISNA(INDEX('Robot Game Scores'!D:D,MATCH(TournamentData[[#This Row],[Team Number]], 'Robot Game Scores'!$B:$B,0))),0,INDEX('Robot Game Scores'!D:D,MATCH(TournamentData[[#This Row],[Team Number]], 'Robot Game Scores'!$B:$B,0))))","v":""},{"$f":"IF(TournamentData[[#This Row],[Team Number]]=\"\",\"\",IF(ISNA(INDEX('Robot Game Scores'!E:E,MATCH(TournamentData[[#This Row],[Team Number]], 'Robot Game Scores'!$B:$B,0))),0,INDEX('Robot Game Scores'!E:E,MATCH(TournamentData[[#This Row],[Team Number]], 'Robot Game Scores'!$B:$B,0))))","v":""},{"$f":"IF(TournamentData[[#This Row],[Team Number]]=\"\",\"\",IF(ISNA(INDEX('Robot Game Scores'!F:F,MATCH(TournamentData[[#This Row],[Team Number]], 'Robot Game Scores'!$B:$B,0))),0,INDEX('Robot Game Scores'!F:F,MATCH(TournamentData[[#This Row],[Team Number]], 'Robot Game Scores'!$B:$B,0))))","v":""},{"$f":"IF(TournamentData[[#This Row],[Team Number]]=\"\",\"\",IF(ISNA(INDEX('Robot Game Scores'!G:G,MATCH(TournamentData[[#This Row],[Team Number]], 'Robot Game Scores'!$B:$B,0))),0,INDEX('Robot Game Scores'!G:G,MATCH(TournamentData[[#This Row],[Team Number]], 'Robot Game Scores'!$B:$B,0))))","v":""},{"$f":"IF(TournamentData[[#This Row],[Team Number]]=\"\",\"\",IF(ISNA(INDEX('Robot Game Scores'!H:H,MATCH(TournamentData[[#This Row],[Team Number]], 'Robot Game Scores'!$B:$B,0))),0,INDEX('Robot Game Scores'!H:H,MATCH(TournamentData[[#This Row],[Team Number]], 'Robot Game Scores'!$B:$B,0))))","v":""},{"$f":"IF(TournamentData[[#This Row],[Team Number]]=\"\",\"\",IF(ISNA(LARGE(TournamentData[[#This Row],[Robot Game Score 1]:[Robot Game Score 5]],1)+0.0001*LARGE(TournamentData[[#This Row],[Robot Game Score 1]:[Robot Game Score 5]],2)+0.0000001*LARGE(TournamentData[[#This Row],[Robot Game Score 1]:[Robot Game Score 5]],3)+0.00000000001*LARGE(TournamentData[[#This Row],[Robot Game Score 1]:[Robot Game Score 5]],4)+0.00000000000001*LARGE(TournamentData[[#This Row],[Robot Game Score 1]:[Robot Game Score 5]],5)),0,LARGE(TournamentData[[#This Row],[Robot Game Score 1]:[Robot Game Score 5]],1)+0.0001*LARGE(TournamentData[[#This Row],[Robot Game Score 1]:[Robot Game Score 5]],2)+0.0000001*LARGE(TournamentData[[#This Row],[Robot Game Score 1]:[Robot Game Score 5]],3)+0.00000000001*LARGE(TournamentData[[#This Row],[Robot Game Score 1]:[Robot Game Score 5]],4)+0.00000000000001*LARGE(TournamentData[[#This Row],[Robot Game Score 1]:[Robot Game Score 5]],5)))","v":""},{"$f":"IF(TournamentData[[#This Row],[Team Number]]=\"\",\"\",_xlfn.RANK.EQ(TournamentData[[#This Row],[Max Robot Game Score]],TournamentData[Max Robot Game Score]))","v":""},{"$f":"IF(TournamentData[[#This Row],[Team Number]]=\"\",\"\",IF(ISNA(INDEX(CoreValuesResults[Core Values Rank],MATCH(TournamentData[[#This Row],[Team Number]],CoreValuesResults[Team Number],0))),NumberOfTeams+1,INDEX(CoreValuesResults[Core Values Rank],MATCH(TournamentData[[#This Row],[Team Number]],CoreValuesResults[Team Number],0))))","v":""},{"$f":"IF(TournamentData[[#This Row],[Team Number]]=\"\",\"\",IF(ISNA(INDEX(InnovationProjectResults[Innovation Project Rank],MATCH(TournamentData[[#This Row],[Team Number]],InnovationProjectResults[Team Number],0))),NumberOfTeams+1,INDEX(InnovationProjectResults[Innovation Project Rank],MATCH(TournamentData[[#This Row],[Team Number]],InnovationProjectResults[Team Number],0))))","v":""},{"$f":"IF(TournamentData[[#This Row],[Team Number]]=\"\",\"\",IF(ISNA(INDEX(RobotDesignResults[Robot Design Rank],MATCH(TournamentData[[#This Row],[Team Number]],RobotDesignResults[Team Number],0))),NumberOfTeams+1,INDEX(RobotDesignResults[Robot Design Rank],MATCH(TournamentData[[#This Row],[Team Number]],RobotDesignResults[Team Number],0))))","v":""},{"$f":" IF(TournamentData[[#This Row],[Team Number]]=\"\",\"\",IF(TournamentData[[#This Row],[Core Values Rank]]=\"\",NumberOfTeams+1,TournamentData[[#This Row],[Core Values Rank]]) + IF(TournamentData[[#This Row],[Innovation Project Rank]]=\"\",NumberOfTeams+1,TournamentData[[#This Row],[Innovation Project Rank]]) + IF(TournamentData[[#This Row],[Robot Design Rank]]=\"\",NumberOfTeams+1,TournamentData[[#This Row],[Robot Design Rank]]) + TournamentData[[#This Row],[Robot Game Rank]])","v":""},{"$f":"IF(TournamentData[[#This Row],[Team Number]]=\"\",\"\",IF(M18,RANK(M18,M$3:M$110,1)-COUNTIF(M$3:M$110,0),NumberOfTeams+1))","v":""},{"$f":"IF(ISNA(INDEX(CoreValuesResults[Breakthrough Selection],MATCH(TournamentData[[#This Row],[Team Number]],CoreValuesResults[Team Number],0))),0, INDEX(CoreValuesResults[Breakthrough Selection],MATCH(TournamentData[[#This Row],[Team Number]],CoreValuesResults[Team Number],0)))","v":0},{"$f":"IF(ISNA(INDEX(CoreValuesResults[Rising All-Star Selection],MATCH(TournamentData[[#This Row],[Team Number]],CoreValuesResults[Team Number],0))),0, INDEX(CoreValuesResults[Rising All-Star Selection],MATCH(TournamentData[[#This Row],[Team Number]],CoreValuesResults[Team Number],0)))","v":0},{"$f":"IF(ISNA(INDEX(CoreValuesResults[Motivate Selection],MATCH(TournamentData[[#This Row],[Team Number]],CoreValuesResults[Team Number],0))),0, INDEX(CoreValuesResults[Motivate Selection],MATCH(TournamentData[[#This Row],[Team Number]],CoreValuesResults[Team Number],0)))","v":0},null,null,null,{"$f":"IF(ISNA(INDEX(CoreValuesResults[Core Values Score],MATCH(TournamentData[[#This Row],[Team Number]],CoreValuesResults[Team Number],0))),0,INDEX(CoreValuesResults[Core Values Score],MATCH(TournamentData[[#This Row],[Team Number]],CoreValuesResults[Team Number],0)))","v":0},{"$f":"IF(ISNA(INDEX(InnovationProjectResults[Innovation Project Score],MATCH(TournamentData[[#This Row],[Team Number]],InnovationProjectResults[Team Number],0))),0,INDEX(InnovationProjectResults[Innovation Project Score],MATCH(TournamentData[[#This Row],[Team Number]],InnovationProjectResults[Team Number],0)))","v":0},{"$f":"IF(ISNA(INDEX(RobotDesignResults[Robot Design Score],MATCH(TournamentData[[#This Row],[Team Number]],RobotDesignResults[Team Number],0))),0,INDEX(RobotDesignResults[Robot Design Score],MATCH(TournamentData[[#This Row],[Team Number]],RobotDesignResults[Team Number],0)))","v":0},{"$f":"IF(ISERR(GEOMEAN(TournamentData[[#This Row],[Max Robot Game Score]],TournamentData[[#This Row],[Core Values Score]],TournamentData[[#This Row],[Innovattion Project Score]],TournamentData[[#This Row],[Robot Design Score]])),0,GEOMEAN(TournamentData[[#This Row],[Max Robot Game Score]],TournamentData[[#This Row],[Core Values Score]],TournamentData[[#This Row],[Innovattion Project Score]],TournamentData[[#This Row],[Robot Design Score]]))","v":0},0]
[null,{"$f":"IF(ISNA(INDEX(OfficialTeamList[Team Name],MATCH(TournamentData[[#This Row],[Team Number]], OfficialTeamList[Team Number],0))),\"\",INDEX(OfficialTeamList[Team Name],MATCH(TournamentData[[#This Row],[Team Number]], OfficialTeamList[Team Number],0)))","v":""},{"$f":"IF(TournamentData[[#This Row],[Team Number]]=\"\",\"\",IF(ISNA(INDEX('Robot Game Scores'!D:D,MATCH(TournamentData[[#This Row],[Team Number]], 'Robot Game Scores'!$B:$B,0))),0,INDEX('Robot Game Scores'!D:D,MATCH(TournamentData[[#This Row],[Team Number]], 'Robot Game Scores'!$B:$B,0))))","v":""},{"$f":"IF(TournamentData[[#This Row],[Team Number]]=\"\",\"\",IF(ISNA(INDEX('Robot Game Scores'!E:E,MATCH(TournamentData[[#This Row],[Team Number]], 'Robot Game Scores'!$B:$B,0))),0,INDEX('Robot Game Scores'!E:E,MATCH(TournamentData[[#This Row],[Team Number]], 'Robot Game Scores'!$B:$B,0))))","v":""},{"$f":"IF(TournamentData[[#This Row],[Team Number]]=\"\",\"\",IF(ISNA(INDEX('Robot Game Scores'!F:F,MATCH(TournamentData[[#This Row],[Team Number]], 'Robot Game Scores'!$B:$B,0))),0,INDEX('Robot Game Scores'!F:F,MATCH(TournamentData[[#This Row],[Team Number]], 'Robot Game Scores'!$B:$B,0))))","v":""},{"$f":"IF(TournamentData[[#This Row],[Team Number]]=\"\",\"\",IF(ISNA(INDEX('Robot Game Scores'!G:G,MATCH(TournamentData[[#This Row],[Team Number]], 'Robot Game Scores'!$B:$B,0))),0,INDEX('Robot Game Scores'!G:G,MATCH(TournamentData[[#This Row],[Team Number]], 'Robot Game Scores'!$B:$B,0))))","v":""},{"$f":"IF(TournamentData[[#This Row],[Team Number]]=\"\",\"\",IF(ISNA(INDEX('Robot Game Scores'!H:H,MATCH(TournamentData[[#This Row],[Team Number]], 'Robot Game Scores'!$B:$B,0))),0,INDEX('Robot Game Scores'!H:H,MATCH(TournamentData[[#This Row],[Team Number]], 'Robot Game Scores'!$B:$B,0))))","v":""},{"$f":"IF(TournamentData[[#This Row],[Team Number]]=\"\",\"\",IF(ISNA(LARGE(TournamentData[[#This Row],[Robot Game Score 1]:[Robot Game Score 5]],1)+0.0001*LARGE(TournamentData[[#This Row],[Robot Game Score 1]:[Robot Game Score 5]],2)+0.0000001*LARGE(TournamentData[[#This Row],[Robot Game Score 1]:[Robot Game Score 5]],3)+0.00000000001*LARGE(TournamentData[[#This Row],[Robot Game Score 1]:[Robot Game Score 5]],4)+0.00000000000001*LARGE(TournamentData[[#This Row],[Robot Game Score 1]:[Robot Game Score 5]],5)),0,LARGE(TournamentData[[#This Row],[Robot Game Score 1]:[Robot Game Score 5]],1)+0.0001*LARGE(TournamentData[[#This Row],[Robot Game Score 1]:[Robot Game Score 5]],2)+0.0000001*LARGE(TournamentData[[#This Row],[Robot Game Score 1]:[Robot Game Score 5]],3)+0.00000000001*LARGE(TournamentData[[#This Row],[Robot Game Score 1]:[Robot Game Score 5]],4)+0.00000000000001*LARGE(TournamentData[[#This Row],[Robot Game Score 1]:[Robot Game Score 5]],5)))","v":""},{"$f":"IF(TournamentData[[#This Row],[Team Number]]=\"\",\"\",_xlfn.RANK.EQ(TournamentData[[#This Row],[Max Robot Game Score]],TournamentData[Max Robot Game Score]))","v":""},{"$f":"IF(TournamentData[[#This Row],[Team Number]]=\"\",\"\",IF(ISNA(INDEX(CoreValuesResults[Core Values Rank],MATCH(TournamentData[[#This Row],[Team Number]],CoreValuesResults[Team Number],0))),NumberOfTeams+1,INDEX(CoreValuesResults[Core Values Rank],MATCH(TournamentData[[#This Row],[Team Number]],CoreValuesResults[Team Number],0))))","v":""},{"$f":"IF(TournamentData[[#This Row],[Team Number]]=\"\",\"\",IF(ISNA(INDEX(InnovationProjectResults[Innovation Project Rank],MATCH(TournamentData[[#This Row],[Team Number]],InnovationProjectResults[Team Number],0))),NumberOfTeams+1,INDEX(InnovationProjectResults[Innovation Project Rank],MATCH(TournamentData[[#This Row],[Team Number]],InnovationProjectResults[Team Number],0))))","v":""},{"$f":"IF(TournamentData[[#This Row],[Team Number]]=\"\",\"\",IF(ISNA(INDEX(RobotDesignResults[Robot Design Rank],MATCH(TournamentData[[#This Row],[Team Number]],RobotDesignResults[Team Number],0))),NumberOfTeams+1,INDEX(RobotDesignResults[Robot Design Rank],MATCH(TournamentData[[#This Row],[Team Number]],RobotDesignResults[Team Number],0))))","v":""},{"$f":" IF(TournamentData[[#This Row],[Team Number]]=\"\",\"\",IF(TournamentData[[#This Row],[Core Values Rank]]=\"\",NumberOfTeams+1,TournamentData[[#This Row],[Core Values Rank]]) + IF(TournamentData[[#This Row],[Innovation Project Rank]]=\"\",NumberOfTeams+1,TournamentData[[#This Row],[Innovation Project Rank]]) + IF(TournamentData[[#This Row],[Robot Design Rank]]=\"\",NumberOfTeams+1,TournamentData[[#This Row],[Robot Design Rank]]) + TournamentData[[#This Row],[Robot Game Rank]])","v":""},{"$f":"IF(TournamentData[[#This Row],[Team Number]]=\"\",\"\",IF(M19,RANK(M19,M$3:M$110,1)-COUNTIF(M$3:M$110,0),NumberOfTeams+1))","v":""},{"$f":"IF(ISNA(INDEX(CoreValuesResults[Breakthrough Selection],MATCH(TournamentData[[#This Row],[Team Number]],CoreValuesResults[Team Number],0))),0, INDEX(CoreValuesResults[Breakthrough Selection],MATCH(TournamentData[[#This Row],[Team Number]],CoreValuesResults[Team Number],0)))","v":0},{"$f":"IF(ISNA(INDEX(CoreValuesResults[Rising All-Star Selection],MATCH(TournamentData[[#This Row],[Team Number]],CoreValuesResults[Team Number],0))),0, INDEX(CoreValuesResults[Rising All-Star Selection],MATCH(TournamentData[[#This Row],[Team Number]],CoreValuesResults[Team Number],0)))","v":0},{"$f":"IF(ISNA(INDEX(CoreValuesResults[Motivate Selection],MATCH(TournamentData[[#This Row],[Team Number]],CoreValuesResults[Team Number],0))),0, INDEX(CoreValuesResults[Motivate Selection],MATCH(TournamentData[[#This Row],[Team Number]],CoreValuesResults[Team Number],0)))","v":0},null,null,null,{"$f":"IF(ISNA(INDEX(CoreValuesResults[Core Values Score],MATCH(TournamentData[[#This Row],[Team Number]],CoreValuesResults[Team Number],0))),0,INDEX(CoreValuesResults[Core Values Score],MATCH(TournamentData[[#This Row],[Team Number]],CoreValuesResults[Team Number],0)))","v":0},{"$f":"IF(ISNA(INDEX(InnovationProjectResults[Innovation Project Score],MATCH(TournamentData[[#This Row],[Team Number]],InnovationProjectResults[Team Number],0))),0,INDEX(InnovationProjectResults[Innovation Project Score],MATCH(TournamentData[[#This Row],[Team Number]],InnovationProjectResults[Team Number],0)))","v":0},{"$f":"IF(ISNA(INDEX(RobotDesignResults[Robot Design Score],MATCH(TournamentData[[#This Row],[Team Number]],RobotDesignResults[Team Number],0))),0,INDEX(RobotDesignResults[Robot Design Score],MATCH(TournamentData[[#This Row],[Team Number]],RobotDesignResults[Team Number],0)))","v":0},{"$f":"IF(ISERR(GEOMEAN(TournamentData[[#This Row],[Max Robot Game Score]],TournamentData[[#This Row],[Core Values Score]],TournamentData[[#This Row],[Innovattion Project Score]],TournamentData[[#This Row],[Robot Design Score]])),0,GEOMEAN(TournamentData[[#This Row],[Max Robot Game Score]],TournamentData[[#This Row],[Core Values Score]],TournamentData[[#This Row],[Innovattion Project Score]],TournamentData[[#This Row],[Robot Design Score]]))","v":0},0]
[null,{"$f":"IF(ISNA(INDEX(OfficialTeamList[Team Name],MATCH(TournamentData[[#This Row],[Team Number]], OfficialTeamList[Team Number],0))),\"\",INDEX(OfficialTeamList[Team Name],MATCH(TournamentData[[#This Row],[Team Number]], OfficialTeamList[Team Number],0)))","v":""},{"$f":"IF(TournamentData[[#This Row],[Team Number]]=\"\",\"\",IF(ISNA(INDEX('Robot Game Scores'!D:D,MATCH(TournamentData[[#This Row],[Team Number]], 'Robot Game Scores'!$B:$B,0))),0,INDEX('Robot Game Scores'!D:D,MATCH(TournamentData[[#This Row],[Team Number]], 'Robot Game Scores'!$B:$B,0))))","v":""},{"$f":"IF(TournamentData[[#This Row],[Team Number]]=\"\",\"\",IF(ISNA(INDEX('Robot Game Scores'!E:E,MATCH(TournamentData[[#This Row],[Team Number]], 'Robot Game Scores'!$B:$B,0))),0,INDEX('Robot Game Scores'!E:E,MATCH(TournamentData[[#This Row],[Team Number]], 'Robot Game Scores'!$B:$B,0))))","v":""},{"$f":"IF(TournamentData[[#This Row],[Team Number]]=\"\",\"\",IF(ISNA(INDEX('Robot Game Scores'!F:F,MATCH(TournamentData[[#This Row],[Team Number]], 'Robot Game Scores'!$B:$B,0))),0,INDEX('Robot Game Scores'!F:F,MATCH(TournamentData[[#This Row],[Team Number]], 'Robot Game Scores'!$B:$B,0))))","v":""},{"$f":"IF(TournamentData[[#This Row],[Team Number]]=\"\",\"\",IF(ISNA(INDEX('Robot Game Scores'!G:G,MATCH(TournamentData[[#This Row],[Team Number]], 'Robot Game Scores'!$B:$B,0))),0,INDEX('Robot Game Scores'!G:G,MATCH(TournamentData[[#This Row],[Team Number]], 'Robot Game Scores'!$B:$B,0))))","v":""},{"$f":"IF(TournamentData[[#This Row],[Team Number]]=\"\",\"\",IF(ISNA(INDEX('Robot Game Scores'!H:H,MATCH(TournamentData[[#This Row],[Team Number]], 'Robot Game Scores'!$B:$B,0))),0,INDEX('Robot Game Scores'!H:H,MATCH(TournamentData[[#This Row],[Team Number]], 'Robot Game Scores'!$B:$B,0))))","v":""},{"$f":"IF(TournamentData[[#This Row],[Team Number]]=\"\",\"\",IF(ISNA(LARGE(TournamentData[[#This Row],[Robot Game Score 1]:[Robot Game Score 5]],1)+0.0001*LARGE(TournamentData[[#This Row],[Robot Game Score 1]:[Robot Game Score 5]],2)+0.0000001*LARGE(TournamentData[[#This Row],[Robot Game Score 1]:[Robot Game Score 5]],3)+0.00000000001*LARGE(TournamentData[[#This Row],[Robot Game Score 1]:[Robot Game Score 5]],4)+0.00000000000001*LARGE(TournamentData[[#This Row],[Robot Game Score 1]:[Robot Game Score 5]],5)),0,LARGE(TournamentData[[#This Row],[Robot Game Score 1]:[Robot Game Score 5]],1)+0.0001*LARGE(TournamentData[[#This Row],[Robot Game Score 1]:[Robot Game Score 5]],2)+0.0000001*LARGE(TournamentData[[#This Row],[Robot Game Score 1]:[Robot Game Score 5]],3)+0.00000000001*LARGE(TournamentData[[#This Row],[Robot Game Score 1]:[Robot Game Score 5]],4)+0.00000000000001*LARGE(TournamentData[[#This Row],[Robot Game Score 1]:[Robot Game Score 5]],5)))","v":""},{"$f":"IF(TournamentData[[#This Row],[Team Number]]=\"\",\"\",_xlfn.RANK.EQ(TournamentData[[#This Row],[Max Robot Game Score]],TournamentData[Max Robot Game Score]))","v":""},{"$f":"IF(TournamentData[[#This Row],[Team Number]]=\"\",\"\",IF(ISNA(INDEX(CoreValuesResults[Core Values Rank],MATCH(TournamentData[[#This Row],[Team Number]],CoreValuesResults[Team Number],0))),NumberOfTeams+1,INDEX(CoreValuesResults[Core Values Rank],MATCH(TournamentData[[#This Row],[Team Number]],CoreValuesResults[Team Number],0))))","v":""},{"$f":"IF(TournamentData[[#This Row],[Team Number]]=\"\",\"\",IF(ISNA(INDEX(InnovationProjectResults[Innovation Project Rank],MATCH(TournamentData[[#This Row],[Team Number]],InnovationProjectResults[Team Number],0))),NumberOfTeams+1,INDEX(InnovationProjectResults[Innovation Project Rank],MATCH(TournamentData[[#This Row],[Team Number]],InnovationProjectResults[Team Number],0))))","v":""},{"$f":"IF(TournamentData[[#This Row],[Team Number]]=\"\",\"\",IF(ISNA(INDEX(RobotDesignResults[Robot Design Rank],MATCH(TournamentData[[#This Row],[Team Number]],RobotDesignResults[Team Number],0))),NumberOfTeams+1,INDEX(RobotDesignResults[Robot Design Rank],MATCH(TournamentData[[#This Row],[Team Number]],RobotDesignResults[Team Number],0))))","v":""},{"$f":" IF(TournamentData[[#This Row],[Team Number]]=\"\",\"\",IF(TournamentData[[#This Row],[Core Values Rank]]=\"\",NumberOfTeams+1,TournamentData[[#This Row],[Core Values Rank]]) + IF(TournamentData[[#This Row],[Innovation Project Rank]]=\"\",NumberOfTeams+1,TournamentData[[#This Row],[Innovation Project Rank]]) + IF(TournamentData[[#This Row],[Robot Design Rank]]=\"\",NumberOfTeams+1,TournamentData[[#This Row],[Robot Design Rank]]) + TournamentData[[#This Row],[Robot Game Rank]])","v":""},{"$f":"IF(TournamentData[[#This Row],[Team Number]]=\"\",\"\",IF(M20,RANK(M20,M$3:M$110,1)-COUNTIF(M$3:M$110,0),NumberOfTeams+1))","v":""},{"$f":"IF(ISNA(INDEX(CoreValuesResults[Breakthrough Selection],MATCH(TournamentData[[#This Row],[Team Number]],CoreValuesResults[Team Number],0))),0, INDEX(CoreValuesResults[Breakthrough Selection],MATCH(TournamentData[[#This Row],[Team Number]],CoreValuesResults[Team Number],0)))","v":0},{"$f":"IF(ISNA(INDEX(CoreValuesResults[Rising All-Star Selection],MATCH(TournamentData[[#This Row],[Team Number]],CoreValuesResults[Team Number],0))),0, INDEX(CoreValuesResults[Rising All-Star Selection],MATCH(TournamentData[[#This Row],[Team Number]],CoreValuesResults[Team Number],0)))","v":0},{"$f":"IF(ISNA(INDEX(CoreValuesResults[Motivate Selection],MATCH(TournamentData[[#This Row],[Team Number]],CoreValuesResults[Team Number],0))),0, INDEX(CoreValuesResults[Motivate Selection],MATCH(TournamentData[[#This Row],[Team Number]],CoreValuesResults[Team Number],0)))","v":0},null,null,null,{"$f":"IF(ISNA(INDEX(CoreValuesResults[Core Values Score],MATCH(TournamentData[[#This Row],[Team Number]],CoreValuesResults[Team Number],0))),0,INDEX(CoreValuesResults[Core Values Score],MATCH(TournamentData[[#This Row],[Team Number]],CoreValuesResults[Team Number],0)))","v":0},{"$f":"IF(ISNA(INDEX(InnovationProjectResults[Innovation Project Score],MATCH(TournamentData[[#This Row],[Team Number]],InnovationProjectResults[Team Number],0))),0,INDEX(InnovationProjectResults[Innovation Project Score],MATCH(TournamentData[[#This Row],[Team Number]],InnovationProjectResults[Team Number],0)))","v":0},{"$f":"IF(ISNA(INDEX(RobotDesignResults[Robot Design Score],MATCH(TournamentData[[#This Row],[Team Number]],RobotDesignResults[Team Number],0))),0,INDEX(RobotDesignResults[Robot Design Score],MATCH(TournamentData[[#This Row],[Team Number]],RobotDesignResults[Team Number],0)))","v":0},{"$f":"IF(ISERR(GEOMEAN(TournamentData[[#This Row],[Max Robot Game Score]],TournamentData[[#This Row],[Core Values Score]],TournamentData[[#This Row],[Innovattion Project Score]],TournamentData[[#This Row],[Robot Design Score]])),0,GEOMEAN(TournamentData[[#This Row],[Max Robot Game Score]],TournamentData[[#This Row],[Core Values Score]],TournamentData[[#This Row],[Innovattion Project Score]],TournamentData[[#This Row],[Robot Design Score]]))","v":0},0]
[null,{"$f":"IF(ISNA(INDEX(OfficialTeamList[Team Name],MATCH(TournamentData[[#This Row],[Team Number]], OfficialTeamList[Team Number],0))),\"\",INDEX(OfficialTeamList[Team Name],MATCH(TournamentData[[#This Row],[Team Number]], OfficialTeamList[Team Number],0)))","v":""},{"$f":"IF(TournamentData[[#This Row],[Team Number]]=\"\",\"\",IF(ISNA(INDEX('Robot Game Scores'!D:D,MATCH(TournamentData[[#This Row],[Team Number]], 'Robot Game Scores'!$B:$B,0))),0,INDEX('Robot Game Scores'!D:D,MATCH(TournamentData[[#This Row],[Team Number]], 'Robot Game Scores'!$B:$B,0))))","v":""},{"$f":"IF(TournamentData[[#This Row],[Team Number]]=\"\",\"\",IF(ISNA(INDEX('Robot Game Scores'!E:E,MATCH(TournamentData[[#This Row],[Team Number]], 'Robot Game Scores'!$B:$B,0))),0,INDEX('Robot Game Scores'!E:E,MATCH(TournamentData[[#This Row],[Team Number]], 'Robot Game Scores'!$B:$B,0))))","v":""},{"$f":"IF(TournamentData[[#This Row],[Team Number]]=\"\",\"\",IF(ISNA(INDEX('Robot Game Scores'!F:F,MATCH(TournamentData[[#This Row],[Team Number]], 'Robot Game Scores'!$B:$B,0))),0,INDEX('Robot Game Scores'!F:F,MATCH(TournamentData[[#This Row],[Team Number]], 'Robot Game Scores'!$B:$B,0))))","v":""},{"$f":"IF(TournamentData[[#This Row],[Team Number]]=\"\",\"\",IF(ISNA(INDEX('Robot Game Scores'!G:G,MATCH(TournamentData[[#This Row],[Team Number]], 'Robot Game Scores'!$B:$B,0))),0,INDEX('Robot Game Scores'!G:G,MATCH(TournamentData[[#This Row],[Team Number]], 'Robot Game Scores'!$B:$B,0))))","v":""},{"$f":"IF(TournamentData[[#This Row],[Team Number]]=\"\",\"\",IF(ISNA(INDEX('Robot Game Scores'!H:H,MATCH(TournamentData[[#This Row],[Team Number]], 'Robot Game Scores'!$B:$B,0))),0,INDEX('Robot Game Scores'!H:H,MATCH(TournamentData[[#This Row],[Team Number]], 'Robot Game Scores'!$B:$B,0))))","v":""},{"$f":"IF(TournamentData[[#This Row],[Team Number]]=\"\",\"\",IF(ISNA(LARGE(TournamentData[[#This Row],[Robot Game Score 1]:[Robot Game Score 5]],1)+0.0001*LARGE(TournamentData[[#This Row],[Robot Game Score 1]:[Robot Game Score 5]],2)+0.0000001*LARGE(TournamentData[[#This Row],[Robot Game Score 1]:[Robot Game Score 5]],3)+0.00000000001*LARGE(TournamentData[[#This Row],[Robot Game Score 1]:[Robot Game Score 5]],4)+0.00000000000001*LARGE(TournamentData[[#This Row],[Robot Game Score 1]:[Robot Game Score 5]],5)),0,LARGE(TournamentData[[#This Row],[Robot Game Score 1]:[Robot Game Score 5]],1)+0.0001*LARGE(TournamentData[[#This Row],[Robot Game Score 1]:[Robot Game Score 5]],2)+0.0000001*LARGE(TournamentData[[#This Row],[Robot Game Score 1]:[Robot Game Score 5]],3)+0.00000000001*LARGE(TournamentData[[#This Row],[Robot Game Score 1]:[Robot Game Score 5]],4)+0.00000000000001*LARGE(TournamentData[[#This Row],[Robot Game Score 1]:[Robot Game Score 5]],5)))","v":""},{"$f":"IF(TournamentData[[#This Row],[Team Number]]=\"\",\"\",_xlfn.RANK.EQ(TournamentData[[#This Row],[Max Robot Game Score]],TournamentData[Max Robot Game Score]))","v":""},{"$f":"IF(TournamentData[[#This Row],[Team Number]]=\"\",\"\",IF(ISNA(INDEX(CoreValuesResults[Core Values Rank],MATCH(TournamentData[[#This Row],[Team Number]],CoreValuesResults[Team Number],0))),NumberOfTeams+1,INDEX(CoreValuesResults[Core Values Rank],MATCH(TournamentData[[#This Row],[Team Number]],CoreValuesResults[Team Number],0))))","v":""},{"$f":"IF(TournamentData[[#This Row],[Team Number]]=\"\",\"\",IF(ISNA(INDEX(InnovationProjectResults[Innovation Project Rank],MATCH(TournamentData[[#This Row],[Team Number]],InnovationProjectResults[Team Number],0))),NumberOfTeams+1,INDEX(InnovationProjectResults[Innovation Project Rank],MATCH(TournamentData[[#This Row],[Team Number]],InnovationProjectResults[Team Number],0))))","v":""},{"$f":"IF(TournamentData[[#This Row],[Team Number]]=\"\",\"\",IF(ISNA(INDEX(RobotDesignResults[Robot Design Rank],MATCH(TournamentData[[#This Row],[Team Number]],RobotDesignResults[Team Number],0))),NumberOfTeams+1,INDEX(RobotDesignResults[Robot Design Rank],MATCH(TournamentData[[#This Row],[Team Number]],RobotDesignResults[Team Number],0))))","v":""},{"$f":" IF(TournamentData[[#This Row],[Team Number]]=\"\",\"\",IF(TournamentData[[#This Row],[Core Values Rank]]=\"\",NumberOfTeams+1,TournamentData[[#This Row],[Core Values Rank]]) + IF(TournamentData[[#This Row],[Innovation Project Rank]]=\"\",NumberOfTeams+1,TournamentData[[#This Row],[Innovation Project Rank]]) + IF(TournamentData[[#This Row],[Robot Design Rank]]=\"\",NumberOfTeams+1,TournamentData[[#This Row],[Robot Design Rank]]) + TournamentData[[#This Row],[Robot Game Rank]])","v":""},{"$f":"IF(TournamentData[[#This Row],[Team Number]]=\"\",\"\",IF(M21,RANK(M21,M$3:M$110,1)-COUNTIF(M$3:M$110,0),NumberOfTeams+1))","v":""},{"$f":"IF(ISNA(INDEX(CoreValuesResults[Breakthrough Selection],MATCH(TournamentData[[#This Row],[Team Number]],CoreValuesResults[Team Number],0))),0, INDEX(CoreValuesResults[Breakthrough Selection],MATCH(TournamentData[[#This Row],[Team Number]],CoreValuesResults[Team Number],0)))","v":0},{"$f":"IF(ISNA(INDEX(CoreValuesResults[Rising All-Star Selection],MATCH(TournamentData[[#This Row],[Team Number]],CoreValuesResults[Team Number],0))),0, INDEX(CoreValuesResults[Rising All-Star Selection],MATCH(TournamentData[[#This Row],[Team Number]],CoreValuesResults[Team Number],0)))","v":0},{"$f":"IF(ISNA(INDEX(CoreValuesResults[Motivate Selection],MATCH(TournamentData[[#This Row],[Team Number]],CoreValuesResults[Team Number],0))),0, INDEX(CoreValuesResults[Motivate Selection],MATCH(TournamentData[[#This Row],[Team Number]],CoreValuesResults[Team Number],0)))","v":0},null,null,null,{"$f":"IF(ISNA(INDEX(CoreValuesResults[Core Values Score],MATCH(TournamentData[[#This Row],[Team Number]],CoreValuesResults[Team Number],0))),0,INDEX(CoreValuesResults[Core Values Score],MATCH(TournamentData[[#This Row],[Team Number]],CoreValuesResults[Team Number],0)))","v":0},{"$f":"IF(ISNA(INDEX(InnovationProjectResults[Innovation Project Score],MATCH(TournamentData[[#This Row],[Team Number]],InnovationProjectResults[Team Number],0))),0,INDEX(InnovationProjectResults[Innovation Project Score],MATCH(TournamentData[[#This Row],[Team Number]],InnovationProjectResults[Team Number],0)))","v":0},{"$f":"IF(ISNA(INDEX(RobotDesignResults[Robot Design Score],MATCH(TournamentData[[#This Row],[Team Number]],RobotDesignResults[Team Number],0))),0,INDEX(RobotDesignResults[Robot Design Score],MATCH(TournamentData[[#This Row],[Team Number]],RobotDesignResults[Team Number],0)))","v":0},{"$f":"IF(ISERR(GEOMEAN(TournamentData[[#This Row],[Max Robot Game Score]],TournamentData[[#This Row],[Core Values Score]],TournamentData[[#This Row],[Innovattion Project Score]],TournamentData[[#This Row],[Robot Design Score]])),0,GEOMEAN(TournamentData[[#This Row],[Max Robot Game Score]],TournamentData[[#This Row],[Core Values Score]],TournamentData[[#This Row],[Innovattion Project Score]],TournamentData[[#This Row],[Robot Design Score]]))","v":0},0]
[null,{"$f":"IF(ISNA(INDEX(OfficialTeamList[Team Name],MATCH(TournamentData[[#This Row],[Team Number]], OfficialTeamList[Team Number],0))),\"\",INDEX(OfficialTeamList[Team Name],MATCH(TournamentData[[#This Row],[Team Number]], OfficialTeamList[Team Number],0)))","v":""},{"$f":"IF(TournamentData[[#This Row],[Team Number]]=\"\",\"\",IF(ISNA(INDEX('Robot Game Scores'!D:D,MATCH(TournamentData[[#This Row],[Team Number]], 'Robot Game Scores'!$B:$B,0))),0,INDEX('Robot Game Scores'!D:D,MATCH(TournamentData[[#This Row],[Team Number]], 'Robot Game Scores'!$B:$B,0))))","v":""},{"$f":"IF(TournamentData[[#This Row],[Team Number]]=\"\",\"\",IF(ISNA(INDEX('Robot Game Scores'!E:E,MATCH(TournamentData[[#This Row],[Team Number]], 'Robot Game Scores'!$B:$B,0))),0,INDEX('Robot Game Scores'!E:E,MATCH(TournamentData[[#This Row],[Team Number]], 'Robot Game Scores'!$B:$B,0))))","v":""},{"$f":"IF(TournamentData[[#This Row],[Team Number]]=\"\",\"\",IF(ISNA(INDEX('Robot Game Scores'!F:F,MATCH(TournamentData[[#This Row],[Team Number]], 'Robot Game Scores'!$B:$B,0))),0,INDEX('Robot Game Scores'!F:F,MATCH(TournamentData[[#This Row],[Team Number]], 'Robot Game Scores'!$B:$B,0))))","v":""},{"$f":"IF(TournamentData[[#This Row],[Team Number]]=\"\",\"\",IF(ISNA(INDEX('Robot Game Scores'!G:G,MATCH(TournamentData[[#This Row],[Team Number]], 'Robot Game Scores'!$B:$B,0))),0,INDEX('Robot Game Scores'!G:G,MATCH(TournamentData[[#This Row],[Team Number]], 'Robot Game Scores'!$B:$B,0))))","v":""},{"$f":"IF(TournamentData[[#This Row],[Team Number]]=\"\",\"\",IF(ISNA(INDEX('Robot Game Scores'!H:H,MATCH(TournamentData[[#This Row],[Team Number]], 'Robot Game Scores'!$B:$B,0))),0,INDEX('Robot Game Scores'!H:H,MATCH(TournamentData[[#This Row],[Team Number]], 'Robot Game Scores'!$B:$B,0))))","v":""},{"$f":"IF(TournamentData[[#This Row],[Team Number]]=\"\",\"\",IF(ISNA(LARGE(TournamentData[[#This Row],[Robot Game Score 1]:[Robot Game Score 5]],1)+0.0001*LARGE(TournamentData[[#This Row],[Robot Game Score 1]:[Robot Game Score 5]],2)+0.0000001*LARGE(TournamentData[[#This Row],[Robot Game Score 1]:[Robot Game Score 5]],3)+0.00000000001*LARGE(TournamentData[[#This Row],[Robot Game Score 1]:[Robot Game Score 5]],4)+0.00000000000001*LARGE(TournamentData[[#This Row],[Robot Game Score 1]:[Robot Game Score 5]],5)),0,LARGE(TournamentData[[#This Row],[Robot Game Score 1]:[Robot Game Score 5]],1)+0.0001*LARGE(TournamentData[[#This Row],[Robot Game Score 1]:[Robot Game Score 5]],2)+0.0000001*LARGE(TournamentData[[#This Row],[Robot Game Score 1]:[Robot Game Score 5]],3)+0.00000000001*LARGE(TournamentData[[#This Row],[Robot Game Score 1]:[Robot Game Score 5]],4)+0.00000000000001*LARGE(TournamentData[[#This Row],[Robot Game Score 1]:[Robot Game Score 5]],5)))","v":""},{"$f":"IF(TournamentData[[#This Row],[Team Number]]=\"\",\"\",_xlfn.RANK.EQ(TournamentData[[#This Row],[Max Robot Game Score]],TournamentData[Max Robot Game Score]))","v":""},{"$f":"IF(TournamentData[[#This Row],[Team Number]]=\"\",\"\",IF(ISNA(INDEX(CoreValuesResults[Core Values Rank],MATCH(TournamentData[[#This Row],[Team Number]],CoreValuesResults[Team Number],0))),NumberOfTeams+1,INDEX(CoreValuesResults[Core Values Rank],MATCH(TournamentData[[#This Row],[Team Number]],CoreValuesResults[Team Number],0))))","v":""},{"$f":"IF(TournamentData[[#This Row],[Team Number]]=\"\",\"\",IF(ISNA(INDEX(InnovationProjectResults[Innovation Project Rank],MATCH(TournamentData[[#This Row],[Team Number]],InnovationProjectResults[Team Number],0))),NumberOfTeams+1,INDEX(InnovationProjectResults[Innovation Project Rank],MATCH(TournamentData[[#This Row],[Team Number]],InnovationProjectResults[Team Number],0))))","v":""},{"$f":"IF(TournamentData[[#This Row],[Team Number]]=\"\",\"\",IF(ISNA(INDEX(RobotDesignResults[Robot Design Rank],MATCH(TournamentData[[#This Row],[Team Number]],RobotDesignResults[Team Number],0))),NumberOfTeams+1,INDEX(RobotDesignResults[Robot Design Rank],MATCH(TournamentData[[#This Row],[Team Number]],RobotDesignResults[Team Number],0))))","v":""},{"$f":" IF(TournamentData[[#This Row],[Team Number]]=\"\",\"\",IF(TournamentData[[#This Row],[Core Values Rank]]=\"\",NumberOfTeams+1,TournamentData[[#This Row],[Core Values Rank]]) + IF(TournamentData[[#This Row],[Innovation Project Rank]]=\"\",NumberOfTeams+1,TournamentData[[#This Row],[Innovation Project Rank]]) + IF(TournamentData[[#This Row],[Robot Design Rank]]=\"\",NumberOfTeams+1,TournamentData[[#This Row],[Robot Design Rank]]) + TournamentData[[#This Row],[Robot Game Rank]])","v":""},{"$f":"IF(TournamentData[[#This Row],[Team Number]]=\"\",\"\",IF(M22,RANK(M22,M$3:M$110,1)-COUNTIF(M$3:M$110,0),NumberOfTeams+1))","v":""},{"$f":"IF(ISNA(INDEX(CoreValuesResults[Breakthrough Selection],MATCH(TournamentData[[#This Row],[Team Number]],CoreValuesResults[Team Number],0))),0, INDEX(CoreValuesResults[Breakthrough Selection],MATCH(TournamentData[[#This Row],[Team Number]],CoreValuesResults[Team Number],0)))","v":0},{"$f":"IF(ISNA(INDEX(CoreValuesResults[Rising All-Star Selection],MATCH(TournamentData[[#This Row],[Team Number]],CoreValuesResults[Team Number],0))),0, INDEX(CoreValuesResults[Rising All-Star Selection],MATCH(TournamentData[[#This Row],[Team Number]],CoreValuesResults[Team Number],0)))","v":0},{"$f":"IF(ISNA(INDEX(CoreValuesResults[Motivate Selection],MATCH(TournamentData[[#This Row],[Team Number]],CoreValuesResults[Team Number],0))),0, INDEX(CoreValuesResults[Motivate Selection],MATCH(TournamentData[[#This Row],[Team Number]],CoreValuesResults[Team Number],0)))","v":0},null,null,null,{"$f":"IF(ISNA(INDEX(CoreValuesResults[Core Values Score],MATCH(TournamentData[[#This Row],[Team Number]],CoreValuesResults[Team Number],0))),0,INDEX(CoreValuesResults[Core Values Score],MATCH(TournamentData[[#This Row],[Team Number]],CoreValuesResults[Team Number],0)))","v":0},{"$f":"IF(ISNA(INDEX(InnovationProjectResults[Innovation Project Score],MATCH(TournamentData[[#This Row],[Team Number]],InnovationProjectResults[Team Number],0))),0,INDEX(InnovationProjectResults[Innovation Project Score],MATCH(TournamentData[[#This Row],[Team Number]],InnovationProjectResults[Team Number],0)))","v":0},{"$f":"IF(ISNA(INDEX(RobotDesignResults[Robot Design Score],MATCH(TournamentData[[#This Row],[Team Number]],RobotDesignResults[Team Number],0))),0,INDEX(RobotDesignResults[Robot Design Score],MATCH(TournamentData[[#This Row],[Team Number]],RobotDesignResults[Team Number],0)))","v":0},{"$f":"IF(ISERR(GEOMEAN(TournamentData[[#This Row],[Max Robot Game Score]],TournamentData[[#This Row],[Core Values Score]],TournamentData[[#This Row],[Innovattion Project Score]],TournamentData[[#This Row],[Robot Design Score]])),0,GEOMEAN(TournamentData[[#This Row],[Max Robot Game Score]],TournamentData[[#This Row],[Core Values Score]],TournamentData[[#This Row],[Innovattion Project Score]],TournamentData[[#This Row],[Robot Design Score]]))","v":0},0]
[null,{"$f":"IF(ISNA(INDEX(OfficialTeamList[Team Name],MATCH(TournamentData[[#This Row],[Team Number]], OfficialTeamList[Team Number],0))),\"\",INDEX(OfficialTeamList[Team Name],MATCH(TournamentData[[#This Row],[Team Number]], OfficialTeamList[Team Number],0)))","v":""},{"$f":"IF(TournamentData[[#This Row],[Team Number]]=\"\",\"\",IF(ISNA(INDEX('Robot Game Scores'!D:D,MATCH(TournamentData[[#This Row],[Team Number]], 'Robot Game Scores'!$B:$B,0))),0,INDEX('Robot Game Scores'!D:D,MATCH(TournamentData[[#This Row],[Team Number]], 'Robot Game Scores'!$B:$B,0))))","v":""},{"$f":"IF(TournamentData[[#This Row],[Team Number]]=\"\",\"\",IF(ISNA(INDEX('Robot Game Scores'!E:E,MATCH(TournamentData[[#This Row],[Team Number]], 'Robot Game Scores'!$B:$B,0))),0,INDEX('Robot Game Scores'!E:E,MATCH(TournamentData[[#This Row],[Team Number]], 'Robot Game Scores'!$B:$B,0))))","v":""},{"$f":"IF(TournamentData[[#This Row],[Team Number]]=\"\",\"\",IF(ISNA(INDEX('Robot Game Scores'!F:F,MATCH(TournamentData[[#This Row],[Team Number]], 'Robot Game Scores'!$B:$B,0))),0,INDEX('Robot Game Scores'!F:F,MATCH(TournamentData[[#This Row],[Team Number]], 'Robot Game Scores'!$B:$B,0))))","v":""},{"$f":"IF(TournamentData[[#This Row],[Team Number]]=\"\",\"\",IF(ISNA(INDEX('Robot Game Scores'!G:G,MATCH(TournamentData[[#This Row],[Team Number]], 'Robot Game Scores'!$B:$B,0))),0,INDEX('Robot Game Scores'!G:G,MATCH(TournamentData[[#This Row],[Team Number]], 'Robot Game Scores'!$B:$B,0))))","v":""},{"$f":"IF(TournamentData[[#This Row],[Team Number]]=\"\",\"\",IF(ISNA(INDEX('Robot Game Scores'!H:H,MATCH(TournamentData[[#This Row],[Team Number]], 'Robot Game Scores'!$B:$B,0))),0,INDEX('Robot Game Scores'!H:H,MATCH(TournamentData[[#This Row],[Team Number]], 'Robot Game Scores'!$B:$B,0))))","v":""},{"$f":"IF(TournamentData[[#This Row],[Team Number]]=\"\",\"\",IF(ISNA(LARGE(TournamentData[[#This Row],[Robot Game Score 1]:[Robot Game Score 5]],1)+0.0001*LARGE(TournamentData[[#This Row],[Robot Game Score 1]:[Robot Game Score 5]],2)+0.0000001*LARGE(TournamentData[[#This Row],[Robot Game Score 1]:[Robot Game Score 5]],3)+0.00000000001*LARGE(TournamentData[[#This Row],[Robot Game Score 1]:[Robot Game Score 5]],4)+0.00000000000001*LARGE(TournamentData[[#This Row],[Robot Game Score 1]:[Robot Game Score 5]],5)),0,LARGE(TournamentData[[#This Row],[Robot Game Score 1]:[Robot Game Score 5]],1)+0.0001*LARGE(TournamentData[[#This Row],[Robot Game Score 1]:[Robot Game Score 5]],2)+0.0000001*LARGE(TournamentData[[#This Row],[Robot Game Score 1]:[Robot Game Score 5]],3)+0.00000000001*LARGE(TournamentData[[#This Row],[Robot Game Score 1]:[Robot Game Score 5]],4)+0.00000000000001*LARGE(TournamentData[[#This Row],[Robot Game Score 1]:[Robot Game Score 5]],5)))","v":""},{"$f":"IF(TournamentData[[#This Row],[Team Number]]=\"\",\"\",_xlfn.RANK.EQ(TournamentData[[#This Row],[Max Robot Game Score]],TournamentData[Max Robot Game Score]))","v":""},{"$f":"IF(TournamentData[[#This Row],[Team Number]]=\"\",\"\",IF(ISNA(INDEX(CoreValuesResults[Core Values Rank],MATCH(TournamentData[[#This Row],[Team Number]],CoreValuesResults[Team Number],0))),NumberOfTeams+1,INDEX(CoreValuesResults[Core Values Rank],MATCH(TournamentData[[#This Row],[Team Number]],CoreValuesResults[Team Number],0))))","v":""},{"$f":"IF(TournamentData[[#This Row],[Team Number]]=\"\",\"\",IF(ISNA(INDEX(InnovationProjectResults[Innovation Project Rank],MATCH(TournamentData[[#This Row],[Team Number]],InnovationProjectResults[Team Number],0))),NumberOfTeams+1,INDEX(InnovationProjectResults[Innovation Project Rank],MATCH(TournamentData[[#This Row],[Team Number]],InnovationProjectResults[Team Number],0))))","v":""},{"$f":"IF(TournamentData[[#This Row],[Team Number]]=\"\",\"\",IF(ISNA(INDEX(RobotDesignResults[Robot Design Rank],MATCH(TournamentData[[#This Row],[Team Number]],RobotDesignResults[Team Number],0))),NumberOfTeams+1,INDEX(RobotDesignResults[Robot Design Rank],MATCH(TournamentData[[#This Row],[Team Number]],RobotDesignResults[Team Number],0))))","v":""},{"$f":" IF(TournamentData[[#This Row],[Team Number]]=\"\",\"\",IF(TournamentData[[#This Row],[Core Values Rank]]=\"\",NumberOfTeams+1,TournamentData[[#This Row],[Core Values Rank]]) + IF(TournamentData[[#This Row],[Innovation Project Rank]]=\"\",NumberOfTeams+1,TournamentData[[#This Row],[Innovation Project Rank]]) + IF(TournamentData[[#This Row],[Robot Design Rank]]=\"\",NumberOfTeams+1,TournamentData[[#This Row],[Robot Design Rank]]) + TournamentData[[#This Row],[Robot Game Rank]])","v":""},{"$f":"IF(TournamentData[[#This Row],[Team Number]]=\"\",\"\",IF(M23,RANK(M23,M$3:M$110,1)-COUNTIF(M$3:M$110,0),NumberOfTeams+1))","v":""},{"$f":"IF(ISNA(INDEX(CoreValuesResults[Breakthrough Selection],MATCH(TournamentData[[#This Row],[Team Number]],CoreValuesResults[Team Number],0))),0, INDEX(CoreValuesResults[Breakthrough Selection],MATCH(TournamentData[[#This Row],[Team Number]],CoreValuesResults[Team Number],0)))","v":0},{"$f":"IF(ISNA(INDEX(CoreValuesResults[Rising All-Star Selection],MATCH(TournamentData[[#This Row],[Team Number]],CoreValuesResults[Team Number],0))),0, INDEX(CoreValuesResults[Rising All-Star Selection],MATCH(TournamentData[[#This Row],[Team Number]],CoreValuesResults[Team Number],0)))","v":0},{"$f":"IF(ISNA(INDEX(CoreValuesResults[Motivate Selection],MATCH(TournamentData[[#This Row],[Team Number]],CoreValuesResults[Team Number],0))),0, INDEX(CoreValuesResults[Motivate Selection],MATCH(TournamentData[[#This Row],[Team Number]],CoreValuesResults[Team Number],0)))","v":0},null,null,null,{"$f":"IF(ISNA(INDEX(CoreValuesResults[Core Values Score],MATCH(TournamentData[[#This Row],[Team Number]],CoreValuesResults[Team Number],0))),0,INDEX(CoreValuesResults[Core Values Score],MATCH(TournamentData[[#This Row],[Team Number]],CoreValuesResults[Team Number],0)))","v":0},{"$f":"IF(ISNA(INDEX(InnovationProjectResults[Innovation Project Score],MATCH(TournamentData[[#This Row],[Team Number]],InnovationProjectResults[Team Number],0))),0,INDEX(InnovationProjectResults[Innovation Project Score],MATCH(TournamentData[[#This Row],[Team Number]],InnovationProjectResults[Team Number],0)))","v":0},{"$f":"IF(ISNA(INDEX(RobotDesignResults[Robot Design Score],MATCH(TournamentData[[#This Row],[Team Number]],RobotDesignResults[Team Number],0))),0,INDEX(RobotDesignResults[Robot Design Score],MATCH(TournamentData[[#This Row],[Team Number]],RobotDesignResults[Team Number],0)))","v":0},{"$f":"IF(ISERR(GEOMEAN(TournamentData[[#This Row],[Max Robot Game Score]],TournamentData[[#This Row],[Core Values Score]],TournamentData[[#This Row],[Innovattion Project Score]],TournamentData[[#This Row],[Robot Design Score]])),0,GEOMEAN(TournamentData[[#This Row],[Max Robot Game Score]],TournamentData[[#This Row],[Core Values Score]],TournamentData[[#This Row],[Innovattion Project Score]],TournamentData[[#This Row],[Robot Design Score]]))","v":0},0]
[null,{"$f":"IF(ISNA(INDEX(OfficialTeamList[Team Name],MATCH(TournamentData[[#This Row],[Team Number]], OfficialTeamList[Team Number],0))),\"\",INDEX(OfficialTeamList[Team Name],MATCH(TournamentData[[#This Row],[Team Number]], OfficialTeamList[Team Number],0)))","v":""},{"$f":"IF(TournamentData[[#This Row],[Team Number]]=\"\",\"\",IF(ISNA(INDEX('Robot Game Scores'!D:D,MATCH(TournamentData[[#This Row],[Team Number]], 'Robot Game Scores'!$B:$B,0))),0,INDEX('Robot Game Scores'!D:D,MATCH(TournamentData[[#This Row],[Team Number]], 'Robot Game Scores'!$B:$B,0))))","v":""},{"$f":"IF(TournamentData[[#This Row],[Team Number]]=\"\",\"\",IF(ISNA(INDEX('Robot Game Scores'!E:E,MATCH(TournamentData[[#This Row],[Team Number]], 'Robot Game Scores'!$B:$B,0))),0,INDEX('Robot Game Scores'!E:E,MATCH(TournamentData[[#This Row],[Team Number]], 'Robot Game Scores'!$B:$B,0))))","v":""},{"$f":"IF(TournamentData[[#This Row],[Team Number]]=\"\",\"\",IF(ISNA(INDEX('Robot Game Scores'!F:F,MATCH(TournamentData[[#This Row],[Team Number]], 'Robot Game Scores'!$B:$B,0))),0,INDEX('Robot Game Scores'!F:F,MATCH(TournamentData[[#This Row],[Team Number]], 'Robot Game Scores'!$B:$B,0))))","v":""},{"$f":"IF(TournamentData[[#This Row],[Team Number]]=\"\",\"\",IF(ISNA(INDEX('Robot Game Scores'!G:G,MATCH(TournamentData[[#This Row],[Team Number]], 'Robot Game Scores'!$B:$B,0))),0,INDEX('Robot Game Scores'!G:G,MATCH(TournamentData[[#This Row],[Team Number]], 'Robot Game Scores'!$B:$B,0))))","v":""},{"$f":"IF(TournamentData[[#This Row],[Team Number]]=\"\",\"\",IF(ISNA(INDEX('Robot Game Scores'!H:H,MATCH(TournamentData[[#This Row],[Team Number]], 'Robot Game Scores'!$B:$B,0))),0,INDEX('Robot Game Scores'!H:H,MATCH(TournamentData[[#This Row],[Team Number]], 'Robot Game Scores'!$B:$B,0))))","v":""},{"$f":"IF(TournamentData[[#This Row],[Team Number]]=\"\",\"\",IF(ISNA(LARGE(TournamentData[[#This Row],[Robot Game Score 1]:[Robot Game Score 5]],1)+0.0001*LARGE(TournamentData[[#This Row],[Robot Game Score 1]:[Robot Game Score 5]],2)+0.0000001*LARGE(TournamentData[[#This Row],[Robot Game Score 1]:[Robot Game Score 5]],3)+0.00000000001*LARGE(TournamentData[[#This Row],[Robot Game Score 1]:[Robot Game Score 5]],4)+0.00000000000001*LARGE(TournamentData[[#This Row],[Robot Game Score 1]:[Robot Game Score 5]],5)),0,LARGE(TournamentData[[#This Row],[Robot Game Score 1]:[Robot Game Score 5]],1)+0.0001*LARGE(TournamentData[[#This Row],[Robot Game Score 1]:[Robot Game Score 5]],2)+0.0000001*LARGE(TournamentData[[#This Row],[Robot Game Score 1]:[Robot Game Score 5]],3)+0.00000000001*LARGE(TournamentData[[#This Row],[Robot Game Score 1]:[Robot Game Score 5]],4)+0.00000000000001*LARGE(TournamentData[[#This Row],[Robot Game Score 1]:[Robot Game Score 5]],5)))","v":""},{"$f":"IF(TournamentData[[#This Row],[Team Number]]=\"\",\"\",_xlfn.RANK.EQ(TournamentData[[#This Row],[Max Robot Game Score]],TournamentData[Max Robot Game Score]))","v":""},{"$f":"IF(TournamentData[[#This Row],[Team Number]]=\"\",\"\",IF(ISNA(INDEX(CoreValuesResults[Core Values Rank],MATCH(TournamentData[[#This Row],[Team Number]],CoreValuesResults[Team Number],0))),NumberOfTeams+1,INDEX(CoreValuesResults[Core Values Rank],MATCH(TournamentData[[#This Row],[Team Number]],CoreValuesResults[Team Number],0))))","v":""},{"$f":"IF(TournamentData[[#This Row],[Team Number]]=\"\",\"\",IF(ISNA(INDEX(InnovationProjectResults[Innovation Project Rank],MATCH(TournamentData[[#This Row],[Team Number]],InnovationProjectResults[Team Number],0))),NumberOfTeams+1,INDEX(InnovationProjectResults[Innovation Project Rank],MATCH(TournamentData[[#This Row],[Team Number]],InnovationProjectResults[Team Number],0))))","v":""},{"$f":"IF(TournamentData[[#This Row],[Team Number]]=\"\",\"\",IF(ISNA(INDEX(RobotDesignResults[Robot Design Rank],MATCH(TournamentData[[#This Row],[Team Number]],RobotDesignResults[Team Number],0))),NumberOfTeams+1,INDEX(RobotDesignResults[Robot Design Rank],MATCH(TournamentData[[#This Row],[Team Number]],RobotDesignResults[Team Number],0))))","v":""},{"$f":" IF(TournamentData[[#This Row],[Team Number]]=\"\",\"\",IF(TournamentData[[#This Row],[Core Values Rank]]=\"\",NumberOfTeams+1,TournamentData[[#This Row],[Core Values Rank]]) + IF(TournamentData[[#This Row],[Innovation Project Rank]]=\"\",NumberOfTeams+1,TournamentData[[#This Row],[Innovation Project Rank]]) + IF(TournamentData[[#This Row],[Robot Design Rank]]=\"\",NumberOfTeams+1,TournamentData[[#This Row],[Robot Design Rank]]) + TournamentData[[#This Row],[Robot Game Rank]])","v":""},{"$f":"IF(TournamentData[[#This Row],[Team Number]]=\"\",\"\",IF(M24,RANK(M24,M$3:M$110,1)-COUNTIF(M$3:M$110,0),NumberOfTeams+1))","v":""},{"$f":"IF(ISNA(INDEX(CoreValuesResults[Breakthrough Selection],MATCH(TournamentData[[#This Row],[Team Number]],CoreValuesResults[Team Number],0))),0, INDEX(CoreValuesResults[Breakthrough Selection],MATCH(TournamentData[[#This Row],[Team Number]],CoreValuesResults[Team Number],0)))","v":0},{"$f":"IF(ISNA(INDEX(CoreValuesResults[Rising All-Star Selection],MATCH(TournamentData[[#This Row],[Team Number]],CoreValuesResults[Team Number],0))),0, INDEX(CoreValuesResults[Rising All-Star Selection],MATCH(TournamentData[[#This Row],[Team Number]],CoreValuesResults[Team Number],0)))","v":0},{"$f":"IF(ISNA(INDEX(CoreValuesResults[Motivate Selection],MATCH(TournamentData[[#This Row],[Team Number]],CoreValuesResults[Team Number],0))),0, INDEX(CoreValuesResults[Motivate Selection],MATCH(TournamentData[[#This Row],[Team Number]],CoreValuesResults[Team Number],0)))","v":0},null,null,null,{"$f":"IF(ISNA(INDEX(CoreValuesResults[Core Values Score],MATCH(TournamentData[[#This Row],[Team Number]],CoreValuesResults[Team Number],0))),0,INDEX(CoreValuesResults[Core Values Score],MATCH(TournamentData[[#This Row],[Team Number]],CoreValuesResults[Team Number],0)))","v":0},{"$f":"IF(ISNA(INDEX(InnovationProjectResults[Innovation Project Score],MATCH(TournamentData[[#This Row],[Team Number]],InnovationProjectResults[Team Number],0))),0,INDEX(InnovationProjectResults[Innovation Project Score],MATCH(TournamentData[[#This Row],[Team Number]],InnovationProjectResults[Team Number],0)))","v":0},{"$f":"IF(ISNA(INDEX(RobotDesignResults[Robot Design Score],MATCH(TournamentData[[#This Row],[Team Number]],RobotDesignResults[Team Number],0))),0,INDEX(RobotDesignResults[Robot Design Score],MATCH(TournamentData[[#This Row],[Team Number]],RobotDesignResults[Team Number],0)))","v":0},{"$f":"IF(ISERR(GEOMEAN(TournamentData[[#This Row],[Max Robot Game Score]],TournamentData[[#This Row],[Core Values Score]],TournamentData[[#This Row],[Innovattion Project Score]],TournamentData[[#This Row],[Robot Design Score]])),0,GEOMEAN(TournamentData[[#This Row],[Max Robot Game Score]],TournamentData[[#This Row],[Core Values Score]],TournamentData[[#This Row],[Innovattion Project Score]],TournamentData[[#This Row],[Robot Design Score]]))","v":0},0]
[null,{"$f":"IF(ISNA(INDEX(OfficialTeamList[Team Name],MATCH(TournamentData[[#This Row],[Team Number]], OfficialTeamList[Team Number],0))),\"\",INDEX(OfficialTeamList[Team Name],MATCH(TournamentData[[#This Row],[Team Number]], OfficialTeamList[Team Number],0)))","v":""},{"$f":"IF(TournamentData[[#This Row],[Team Number]]=\"\",\"\",IF(ISNA(INDEX('Robot Game Scores'!D:D,MATCH(TournamentData[[#This Row],[Team Number]], 'Robot Game Scores'!$B:$B,0))),0,INDEX('Robot Game Scores'!D:D,MATCH(TournamentData[[#This Row],[Team Number]], 'Robot Game Scores'!$B:$B,0))))","v":""},{"$f":"IF(TournamentData[[#This Row],[Team Number]]=\"\",\"\",IF(ISNA(INDEX('Robot Game Scores'!E:E,MATCH(TournamentData[[#This Row],[Team Number]], 'Robot Game Scores'!$B:$B,0))),0,INDEX('Robot Game Scores'!E:E,MATCH(TournamentData[[#This Row],[Team Number]], 'Robot Game Scores'!$B:$B,0))))","v":""},{"$f":"IF(TournamentData[[#This Row],[Team Number]]=\"\",\"\",IF(ISNA(INDEX('Robot Game Scores'!F:F,MATCH(TournamentData[[#This Row],[Team Number]], 'Robot Game Scores'!$B:$B,0))),0,INDEX('Robot Game Scores'!F:F,MATCH(TournamentData[[#This Row],[Team Number]], 'Robot Game Scores'!$B:$B,0))))","v":""},{"$f":"IF(TournamentData[[#This Row],[Team Number]]=\"\",\"\",IF(ISNA(INDEX('Robot Game Scores'!G:G,MATCH(TournamentData[[#This Row],[Team Number]], 'Robot Game Scores'!$B:$B,0))),0,INDEX('Robot Game Scores'!G:G,MATCH(TournamentData[[#This Row],[Team Number]], 'Robot Game Scores'!$B:$B,0))))","v":""},{"$f":"IF(TournamentData[[#This Row],[Team Number]]=\"\",\"\",IF(ISNA(INDEX('Robot Game Scores'!H:H,MATCH(TournamentData[[#This Row],[Team Number]], 'Robot Game Scores'!$B:$B,0))),0,INDEX('Robot Game Scores'!H:H,MATCH(TournamentData[[#This Row],[Team Number]], 'Robot Game Scores'!$B:$B,0))))","v":""},{"$f":"IF(TournamentData[[#This Row],[Team Number]]=\"\",\"\",IF(ISNA(LARGE(TournamentData[[#This Row],[Robot Game Score 1]:[Robot Game Score 5]],1)+0.0001*LARGE(TournamentData[[#This Row],[Robot Game Score 1]:[Robot Game Score 5]],2)+0.0000001*LARGE(TournamentData[[#This Row],[Robot Game Score 1]:[Robot Game Score 5]],3)+0.00000000001*LARGE(TournamentData[[#This Row],[Robot Game Score 1]:[Robot Game Score 5]],4)+0.00000000000001*LARGE(TournamentData[[#This Row],[Robot Game Score 1]:[Robot Game Score 5]],5)),0,LARGE(TournamentData[[#This Row],[Robot Game Score 1]:[Robot Game Score 5]],1)+0.0001*LARGE(TournamentData[[#This Row],[Robot Game Score 1]:[Robot Game Score 5]],2)+0.0000001*LARGE(TournamentData[[#This Row],[Robot Game Score 1]:[Robot Game Score 5]],3)+0.00000000001*LARGE(TournamentData[[#This Row],[Robot Game Score 1]:[Robot Game Score 5]],4)+0.00000000000001*LARGE(TournamentData[[#This Row],[Robot Game Score 1]:[Robot Game Score 5]],5)))","v":""},{"$f":"IF(TournamentData[[#This Row],[Team Number]]=\"\",\"\",_xlfn.RANK.EQ(TournamentData[[#This Row],[Max Robot Game Score]],TournamentData[Max Robot Game Score]))","v":""},{"$f":"IF(TournamentData[[#This Row],[Team Number]]=\"\",\"\",IF(ISNA(INDEX(CoreValuesResults[Core Values Rank],MATCH(TournamentData[[#This Row],[Team Number]],CoreValuesResults[Team Number],0))),NumberOfTeams+1,INDEX(CoreValuesResults[Core Values Rank],MATCH(TournamentData[[#This Row],[Team Number]],CoreValuesResults[Team Number],0))))","v":""},{"$f":"IF(TournamentData[[#This Row],[Team Number]]=\"\",\"\",IF(ISNA(INDEX(InnovationProjectResults[Innovation Project Rank],MATCH(TournamentData[[#This Row],[Team Number]],InnovationProjectResults[Team Number],0))),NumberOfTeams+1,INDEX(InnovationProjectResults[Innovation Project Rank],MATCH(TournamentData[[#This Row],[Team Number]],InnovationProjectResults[Team Number],0))))","v":""},{"$f":"IF(TournamentData[[#This Row],[Team Number]]=\"\",\"\",IF(ISNA(INDEX(RobotDesignResults[Robot Design Rank],MATCH(TournamentData[[#This Row],[Team Number]],RobotDesignResults[Team Number],0))),NumberOfTeams+1,INDEX(RobotDesignResults[Robot Design Rank],MATCH(TournamentData[[#This Row],[Team Number]],RobotDesignResults[Team Number],0))))","v":""},{"$f":" IF(TournamentData[[#This Row],[Team Number]]=\"\",\"\",IF(TournamentData[[#This Row],[Core Values Rank]]=\"\",NumberOfTeams+1,TournamentData[[#This Row],[Core Values Rank]]) + IF(TournamentData[[#This Row],[Innovation Project Rank]]=\"\",NumberOfTeams+1,TournamentData[[#This Row],[Innovation Project Rank]]) + IF(TournamentData[[#This Row],[Robot Design Rank]]=\"\",NumberOfTeams+1,TournamentData[[#This Row],[Robot Design Rank]]) + TournamentData[[#This Row],[Robot Game Rank]])","v":""},{"$f":"IF(TournamentData[[#This Row],[Team Number]]=\"\",\"\",IF(M25,RANK(M25,M$3:M$110,1)-COUNTIF(M$3:M$110,0),NumberOfTeams+1))","v":""},{"$f":"IF(ISNA(INDEX(CoreValuesResults[Breakthrough Selection],MATCH(TournamentData[[#This Row],[Team Number]],CoreValuesResults[Team Number],0))),0, INDEX(CoreValuesResults[Breakthrough Selection],MATCH(TournamentData[[#This Row],[Team Number]],CoreValuesResults[Team Number],0)))","v":0},{"$f":"IF(ISNA(INDEX(CoreValuesResults[Rising All-Star Selection],MATCH(TournamentData[[#This Row],[Team Number]],CoreValuesResults[Team Number],0))),0, INDEX(CoreValuesResults[Rising All-Star Selection],MATCH(TournamentData[[#This Row],[Team Number]],CoreValuesResults[Team Number],0)))","v":0},{"$f":"IF(ISNA(INDEX(CoreValuesResults[Motivate Selection],MATCH(TournamentData[[#This Row],[Team Number]],CoreValuesResults[Team Number],0))),0, INDEX(CoreValuesResults[Motivate Selection],MATCH(TournamentData[[#This Row],[Team Number]],CoreValuesResults[Team Number],0)))","v":0},null,null,null,{"$f":"IF(ISNA(INDEX(CoreValuesResults[Core Values Score],MATCH(TournamentData[[#This Row],[Team Number]],CoreValuesResults[Team Number],0))),0,INDEX(CoreValuesResults[Core Values Score],MATCH(TournamentData[[#This Row],[Team Number]],CoreValuesResults[Team Number],0)))","v":0},{"$f":"IF(ISNA(INDEX(InnovationProjectResults[Innovation Project Score],MATCH(TournamentData[[#This Row],[Team Number]],InnovationProjectResults[Team Number],0))),0,INDEX(InnovationProjectResults[Innovation Project Score],MATCH(TournamentData[[#This Row],[Team Number]],InnovationProjectResults[Team Number],0)))","v":0},{"$f":"IF(ISNA(INDEX(RobotDesignResults[Robot Design Score],MATCH(TournamentData[[#This Row],[Team Number]],RobotDesignResults[Team Number],0))),0,INDEX(RobotDesignResults[Robot Design Score],MATCH(TournamentData[[#This Row],[Team Number]],RobotDesignResults[Team Number],0)))","v":0},{"$f":"IF(ISERR(GEOMEAN(TournamentData[[#This Row],[Max Robot Game Score]],TournamentData[[#This Row],[Core Values Score]],TournamentData[[#This Row],[Innovattion Project Score]],TournamentData[[#This Row],[Robot Design Score]])),0,GEOMEAN(TournamentData[[#This Row],[Max Robot Game Score]],TournamentData[[#This Row],[Core Values Score]],TournamentData[[#This Row],[Innovattion Project Score]],TournamentData[[#This Row],[Robot Design Score]]))","v":0},0]
[null,{"$f":"IF(ISNA(INDEX(OfficialTeamList[Team Name],MATCH(TournamentData[[#This Row],[Team Number]], OfficialTeamList[Team Number],0))),\"\",INDEX(OfficialTeamList[Team Name],MATCH(TournamentData[[#This Row],[Team Number]], OfficialTeamList[Team Number],0)))","v":""},{"$f":"IF(TournamentData[[#This Row],[Team Number]]=\"\",\"\",IF(ISNA(INDEX('Robot Game Scores'!D:D,MATCH(TournamentData[[#This Row],[Team Number]], 'Robot Game Scores'!$B:$B,0))),0,INDEX('Robot Game Scores'!D:D,MATCH(TournamentData[[#This Row],[Team Number]], 'Robot Game Scores'!$B:$B,0))))","v":""},{"$f":"IF(TournamentData[[#This Row],[Team Number]]=\"\",\"\",IF(ISNA(INDEX('Robot Game Scores'!E:E,MATCH(TournamentData[[#This Row],[Team Number]], 'Robot Game Scores'!$B:$B,0))),0,INDEX('Robot Game Scores'!E:E,MATCH(TournamentData[[#This Row],[Team Number]], 'Robot Game Scores'!$B:$B,0))))","v":""},{"$f":"IF(TournamentData[[#This Row],[Team Number]]=\"\",\"\",IF(ISNA(INDEX('Robot Game Scores'!F:F,MATCH(TournamentData[[#This Row],[Team Number]], 'Robot Game Scores'!$B:$B,0))),0,INDEX('Robot Game Scores'!F:F,MATCH(TournamentData[[#This Row],[Team Number]], 'Robot Game Scores'!$B:$B,0))))","v":""},{"$f":"IF(TournamentData[[#This Row],[Team Number]]=\"\",\"\",IF(ISNA(INDEX('Robot Game Scores'!G:G,MATCH(TournamentData[[#This Row],[Team Number]], 'Robot Game Scores'!$B:$B,0))),0,INDEX('Robot Game Scores'!G:G,MATCH(TournamentData[[#This Row],[Team Number]], 'Robot Game Scores'!$B:$B,0))))","v":""},{"$f":"IF(TournamentData[[#This Row],[Team Number]]=\"\",\"\",IF(ISNA(INDEX('Robot Game Scores'!H:H,MATCH(TournamentData[[#This Row],[Team Number]], 'Robot Game Scores'!$B:$B,0))),0,INDEX('Robot Game Scores'!H:H,MATCH(TournamentData[[#This Row],[Team Number]], 'Robot Game Scores'!$B:$B,0))))","v":""},{"$f":"IF(TournamentData[[#This Row],[Team Number]]=\"\",\"\",IF(ISNA(LARGE(TournamentData[[#This Row],[Robot Game Score 1]:[Robot Game Score 5]],1)+0.0001*LARGE(TournamentData[[#This Row],[Robot Game Score 1]:[Robot Game Score 5]],2)+0.0000001*LARGE(TournamentData[[#This Row],[Robot Game Score 1]:[Robot Game Score 5]],3)+0.00000000001*LARGE(TournamentData[[#This Row],[Robot Game Score 1]:[Robot Game Score 5]],4)+0.00000000000001*LARGE(TournamentData[[#This Row],[Robot Game Score 1]:[Robot Game Score 5]],5)),0,LARGE(TournamentData[[#This Row],[Robot Game Score 1]:[Robot Game Score 5]],1)+0.0001*LARGE(TournamentData[[#This Row],[Robot Game Score 1]:[Robot Game Score 5]],2)+0.0000001*LARGE(TournamentData[[#This Row],[Robot Game Score 1]:[Robot Game Score 5]],3)+0.00000000001*LARGE(TournamentData[[#This Row],[Robot Game Score 1]:[Robot Game Score 5]],4)+0.00000000000001*LARGE(TournamentData[[#This Row],[Robot Game Score 1]:[Robot Game Score 5]],5)))","v":""},{"$f":"IF(TournamentData[[#This Row],[Team Number]]=\"\",\"\",_xlfn.RANK.EQ(TournamentData[[#This Row],[Max Robot Game Score]],TournamentData[Max Robot Game Score]))","v":""},{"$f":"IF(TournamentData[[#This Row],[Team Number]]=\"\",\"\",IF(ISNA(INDEX(CoreValuesResults[Core Values Rank],MATCH(TournamentData[[#This Row],[Team Number]],CoreValuesResults[Team Number],0))),NumberOfTeams+1,INDEX(CoreValuesResults[Core Values Rank],MATCH(TournamentData[[#This Row],[Team Number]],CoreValuesResults[Team Number],0))))","v":""},{"$f":"IF(TournamentData[[#This Row],[Team Number]]=\"\",\"\",IF(ISNA(INDEX(InnovationProjectResults[Innovation Project Rank],MATCH(TournamentData[[#This Row],[Team Number]],InnovationProjectResults[Team Number],0))),NumberOfTeams+1,INDEX(InnovationProjectResults[Innovation Project Rank],MATCH(TournamentData[[#This Row],[Team Number]],InnovationProjectResults[Team Number],0))))","v":""},{"$f":"IF(TournamentData[[#This Row],[Team Number]]=\"\",\"\",IF(ISNA(INDEX(RobotDesignResults[Robot Design Rank],MATCH(TournamentData[[#This Row],[Team Number]],RobotDesignResults[Team Number],0))),NumberOfTeams+1,INDEX(RobotDesignResults[Robot Design Rank],MATCH(TournamentData[[#This Row],[Team Number]],RobotDesignResults[Team Number],0))))","v":""},{"$f":" IF(TournamentData[[#This Row],[Team Number]]=\"\",\"\",IF(TournamentData[[#This Row],[Core Values Rank]]=\"\",NumberOfTeams+1,TournamentData[[#This Row],[Core Values Rank]]) + IF(TournamentData[[#This Row],[Innovation Project Rank]]=\"\",NumberOfTeams+1,TournamentData[[#This Row],[Innovation Project Rank]]) + IF(TournamentData[[#This Row],[Robot Design Rank]]=\"\",NumberOfTeams+1,TournamentData[[#This Row],[Robot Design Rank]]) + TournamentData[[#This Row],[Robot Game Rank]])","v":""},{"$f":"IF(TournamentData[[#This Row],[Team Number]]=\"\",\"\",IF(M26,RANK(M26,M$3:M$110,1)-COUNTIF(M$3:M$110,0),NumberOfTeams+1))","v":""},{"$f":"IF(ISNA(INDEX(CoreValuesResults[Breakthrough Selection],MATCH(TournamentData[[#This Row],[Team Number]],CoreValuesResults[Team Number],0))),0, INDEX(CoreValuesResults[Breakthrough Selection],MATCH(TournamentData[[#This Row],[Team Number]],CoreValuesResults[Team Number],0)))","v":0},{"$f":"IF(ISNA(INDEX(CoreValuesResults[Rising All-Star Selection],MATCH(TournamentData[[#This Row],[Team Number]],CoreValuesResults[Team Number],0))),0, INDEX(CoreValuesResults[Rising All-Star Selection],MATCH(TournamentData[[#This Row],[Team Number]],CoreValuesResults[Team Number],0)))","v":0},{"$f":"IF(ISNA(INDEX(CoreValuesResults[Motivate Selection],MATCH(TournamentData[[#This Row],[Team Number]],CoreValuesResults[Team Number],0))),0, INDEX(CoreValuesResults[Motivate Selection],MATCH(TournamentData[[#This Row],[Team Number]],CoreValuesResults[Team Number],0)))","v":0},null,null,null,{"$f":"IF(ISNA(INDEX(CoreValuesResults[Core Values Score],MATCH(TournamentData[[#This Row],[Team Number]],CoreValuesResults[Team Number],0))),0,INDEX(CoreValuesResults[Core Values Score],MATCH(TournamentData[[#This Row],[Team Number]],CoreValuesResults[Team Number],0)))","v":0},{"$f":"IF(ISNA(INDEX(InnovationProjectResults[Innovation Project Score],MATCH(TournamentData[[#This Row],[Team Number]],InnovationProjectResults[Team Number],0))),0,INDEX(InnovationProjectResults[Innovation Project Score],MATCH(TournamentData[[#This Row],[Team Number]],InnovationProjectResults[Team Number],0)))","v":0},{"$f":"IF(ISNA(INDEX(RobotDesignResults[Robot Design Score],MATCH(TournamentData[[#This Row],[Team Number]],RobotDesignResults[Team Number],0))),0,INDEX(RobotDesignResults[Robot Design Score],MATCH(TournamentData[[#This Row],[Team Number]],RobotDesignResults[Team Number],0)))","v":0},{"$f":"IF(ISERR(GEOMEAN(TournamentData[[#This Row],[Max Robot Game Score]],TournamentData[[#This Row],[Core Values Score]],TournamentData[[#This Row],[Innovattion Project Score]],TournamentData[[#This Row],[Robot Design Score]])),0,GEOMEAN(TournamentData[[#This Row],[Max Robot Game Score]],TournamentData[[#This Row],[Core Values Score]],TournamentData[[#This Row],[Innovattion Project Score]],TournamentData[[#This Row],[Robot Design Score]]))","v":0},0]
[null,{"$f":"IF(ISNA(INDEX(OfficialTeamList[Team Name],MATCH(TournamentData[[#This Row],[Team Number]], OfficialTeamList[Team Number],0))),\"\",INDEX(OfficialTeamList[Team Name],MATCH(TournamentData[[#This Row],[Team Number]], OfficialTeamList[Team Number],0)))","v":""},{"$f":"IF(TournamentData[[#This Row],[Team Number]]=\"\",\"\",IF(ISNA(INDEX('Robot Game Scores'!D:D,MATCH(TournamentData[[#This Row],[Team Number]], 'Robot Game Scores'!$B:$B,0))),0,INDEX('Robot Game Scores'!D:D,MATCH(TournamentData[[#This Row],[Team Number]], 'Robot Game Scores'!$B:$B,0))))","v":""},{"$f":"IF(TournamentData[[#This Row],[Team Number]]=\"\",\"\",IF(ISNA(INDEX('Robot Game Scores'!E:E,MATCH(TournamentData[[#This Row],[Team Number]], 'Robot Game Scores'!$B:$B,0))),0,INDEX('Robot Game Scores'!E:E,MATCH(TournamentData[[#This Row],[Team Number]], 'Robot Game Scores'!$B:$B,0))))","v":""},{"$f":"IF(TournamentData[[#This Row],[Team Number]]=\"\",\"\",IF(ISNA(INDEX('Robot Game Scores'!F:F,MATCH(TournamentData[[#This Row],[Team Number]], 'Robot Game Scores'!$B:$B,0))),0,INDEX('Robot Game Scores'!F:F,MATCH(TournamentData[[#This Row],[Team Number]], 'Robot Game Scores'!$B:$B,0))))","v":""},{"$f":"IF(TournamentData[[#This Row],[Team Number]]=\"\",\"\",IF(ISNA(INDEX('Robot Game Scores'!G:G,MATCH(TournamentData[[#This Row],[Team Number]], 'Robot Game Scores'!$B:$B,0))),0,INDEX('Robot Game Scores'!G:G,MATCH(TournamentData[[#This Row],[Team Number]], 'Robot Game Scores'!$B:$B,0))))","v":""},{"$f":"IF(TournamentData[[#This Row],[Team Number]]=\"\",\"\",IF(ISNA(INDEX('Robot Game Scores'!H:H,MATCH(TournamentData[[#This Row],[Team Number]], 'Robot Game Scores'!$B:$B,0))),0,INDEX('Robot Game Scores'!H:H,MATCH(TournamentData[[#This Row],[Team Number]], 'Robot Game Scores'!$B:$B,0))))","v":""},{"$f":"IF(TournamentData[[#This Row],[Team Number]]=\"\",\"\",IF(ISNA(LARGE(TournamentData[[#This Row],[Robot Game Score 1]:[Robot Game Score 5]],1)+0.0001*LARGE(TournamentData[[#This Row],[Robot Game Score 1]:[Robot Game Score 5]],2)+0.0000001*LARGE(TournamentData[[#This Row],[Robot Game Score 1]:[Robot Game Score 5]],3)+0.00000000001*LARGE(TournamentData[[#This Row],[Robot Game Score 1]:[Robot Game Score 5]],4)+0.00000000000001*LARGE(TournamentData[[#This Row],[Robot Game Score 1]:[Robot Game Score 5]],5)),0,LARGE(TournamentData[[#This Row],[Robot Game Score 1]:[Robot Game Score 5]],1)+0.0001*LARGE(TournamentData[[#This Row],[Robot Game Score 1]:[Robot Game Score 5]],2)+0.0000001*LARGE(TournamentData[[#This Row],[Robot Game Score 1]:[Robot Game Score 5]],3)+0.00000000001*LARGE(TournamentData[[#This Row],[Robot Game Score 1]:[Robot Game Score 5]],4)+0.00000000000001*LARGE(TournamentData[[#This Row],[Robot Game Score 1]:[Robot Game Score 5]],5)))","v":""},{"$f":"IF(TournamentData[[#This Row],[Team Number]]=\"\",\"\",_xlfn.RANK.EQ(TournamentData[[#This Row],[Max Robot Game Score]],TournamentData[Max Robot Game Score]))","v":""},{"$f":"IF(TournamentData[[#This Row],[Team Number]]=\"\",\"\",IF(ISNA(INDEX(CoreValuesResults[Core Values Rank],MATCH(TournamentData[[#This Row],[Team Number]],CoreValuesResults[Team Number],0))),NumberOfTeams+1,INDEX(CoreValuesResults[Core Values Rank],MATCH(TournamentData[[#This Row],[Team Number]],CoreValuesResults[Team Number],0))))","v":""},{"$f":"IF(TournamentData[[#This Row],[Team Number]]=\"\",\"\",IF(ISNA(INDEX(InnovationProjectResults[Innovation Project Rank],MATCH(TournamentData[[#This Row],[Team Number]],InnovationProjectResults[Team Number],0))),NumberOfTeams+1,INDEX(InnovationProjectResults[Innovation Project Rank],MATCH(TournamentData[[#This Row],[Team Number]],InnovationProjectResults[Team Number],0))))","v":""},{"$f":"IF(TournamentData[[#This Row],[Team Number]]=\"\",\"\",IF(ISNA(INDEX(RobotDesignResults[Robot Design Rank],MATCH(TournamentData[[#This Row],[Team Number]],RobotDesignResults[Team Number],0))),NumberOfTeams+1,INDEX(RobotDesignResults[Robot Design Rank],MATCH(TournamentData[[#This Row],[Team Number]],RobotDesignResults[Team Number],0))))","v":""},{"$f":" IF(TournamentData[[#This Row],[Team Number]]=\"\",\"\",IF(TournamentData[[#This Row],[Core Values Rank]]=\"\",NumberOfTeams+1,TournamentData[[#This Row],[Core Values Rank]]) + IF(TournamentData[[#This Row],[Innovation Project Rank]]=\"\",NumberOfTeams+1,TournamentData[[#This Row],[Innovation Project Rank]]) + IF(TournamentData[[#This Row],[Robot Design Rank]]=\"\",NumberOfTeams+1,TournamentData[[#This Row],[Robot Design Rank]]) + TournamentData[[#This Row],[Robot Game Rank]])","v":""},{"$f":"IF(TournamentData[[#This Row],[Team Number]]=\"\",\"\",IF(M27,RANK(M27,M$3:M$110,1)-COUNTIF(M$3:M$110,0),NumberOfTeams+1))","v":""},{"$f":"IF(ISNA(INDEX(CoreValuesResults[Breakthrough Selection],MATCH(TournamentData[[#This Row],[Team Number]],CoreValuesResults[Team Number],0))),0, INDEX(CoreValuesResults[Breakthrough Selection],MATCH(TournamentData[[#This Row],[Team Number]],CoreValuesResults[Team Number],0)))","v":0},{"$f":"IF(ISNA(INDEX(CoreValuesResults[Rising All-Star Selection],MATCH(TournamentData[[#This Row],[Team Number]],CoreValuesResults[Team Number],0))),0, INDEX(CoreValuesResults[Rising All-Star Selection],MATCH(TournamentData[[#This Row],[Team Number]],CoreValuesResults[Team Number],0)))","v":0},{"$f":"IF(ISNA(INDEX(CoreValuesResults[Motivate Selection],MATCH(TournamentData[[#This Row],[Team Number]],CoreValuesResults[Team Number],0))),0, INDEX(CoreValuesResults[Motivate Selection],MATCH(TournamentData[[#This Row],[Team Number]],CoreValuesResults[Team Number],0)))","v":0},null,null,null,{"$f":"IF(ISNA(INDEX(CoreValuesResults[Core Values Score],MATCH(TournamentData[[#This Row],[Team Number]],CoreValuesResults[Team Number],0))),0,INDEX(CoreValuesResults[Core Values Score],MATCH(TournamentData[[#This Row],[Team Number]],CoreValuesResults[Team Number],0)))","v":0},{"$f":"IF(ISNA(INDEX(InnovationProjectResults[Innovation Project Score],MATCH(TournamentData[[#This Row],[Team Number]],InnovationProjectResults[Team Number],0))),0,INDEX(InnovationProjectResults[Innovation Project Score],MATCH(TournamentData[[#This Row],[Team Number]],InnovationProjectResults[Team Number],0)))","v":0},{"$f":"IF(ISNA(INDEX(RobotDesignResults[Robot Design Score],MATCH(TournamentData[[#This Row],[Team Number]],RobotDesignResults[Team Number],0))),0,INDEX(RobotDesignResults[Robot Design Score],MATCH(TournamentData[[#This Row],[Team Number]],RobotDesignResults[Team Number],0)))","v":0},{"$f":"IF(ISERR(GEOMEAN(TournamentData[[#This Row],[Max Robot Game Score]],TournamentData[[#This Row],[Core Values Score]],TournamentData[[#This Row],[Innovattion Project Score]],TournamentData[[#This Row],[Robot Design Score]])),0,GEOMEAN(TournamentData[[#This Row],[Max Robot Game Score]],TournamentData[[#This Row],[Core Values Score]],TournamentData[[#This Row],[Innovattion Project Score]],TournamentData[[#This Row],[Robot Design Score]]))","v":0},0]
[null,{"$f":"IF(ISNA(INDEX(OfficialTeamList[Team Name],MATCH(TournamentData[[#This Row],[Team Number]], OfficialTeamList[Team Number],0))),\"\",INDEX(OfficialTeamList[Team Name],MATCH(TournamentData[[#This Row],[Team Number]], OfficialTeamList[Team Number],0)))","v":""},{"$f":"IF(TournamentData[[#This Row],[Team Number]]=\"\",\"\",IF(ISNA(INDEX('Robot Game Scores'!D:D,MATCH(TournamentData[[#This Row],[Team Number]], 'Robot Game Scores'!$B:$B,0))),0,INDEX('Robot Game Scores'!D:D,MATCH(TournamentData[[#This Row],[Team Number]], 'Robot Game Scores'!$B:$B,0))))","v":""},{"$f":"IF(TournamentData[[#This Row],[Team Number]]=\"\",\"\",IF(ISNA(INDEX('Robot Game Scores'!E:E,MATCH(TournamentData[[#This Row],[Team Number]], 'Robot Game Scores'!$B:$B,0))),0,INDEX('Robot Game Scores'!E:E,MATCH(TournamentData[[#This Row],[Team Number]], 'Robot Game Scores'!$B:$B,0))))","v":""},{"$f":"IF(TournamentData[[#This Row],[Team Number]]=\"\",\"\",IF(ISNA(INDEX('Robot Game Scores'!F:F,MATCH(TournamentData[[#This Row],[Team Number]], 'Robot Game Scores'!$B:$B,0))),0,INDEX('Robot Game Scores'!F:F,MATCH(TournamentData[[#This Row],[Team Number]], 'Robot Game Scores'!$B:$B,0))))","v":""},{"$f":"IF(TournamentData[[#This Row],[Team Number]]=\"\",\"\",IF(ISNA(INDEX('Robot Game Scores'!G:G,MATCH(TournamentData[[#This Row],[Team Number]], 'Robot Game Scores'!$B:$B,0))),0,INDEX('Robot Game Scores'!G:G,MATCH(TournamentData[[#This Row],[Team Number]], 'Robot Game Scores'!$B:$B,0))))","v":""},{"$f":"IF(TournamentData[[#This Row],[Team Number]]=\"\",\"\",IF(ISNA(INDEX('Robot Game Scores'!H:H,MATCH(TournamentData[[#This Row],[Team Number]], 'Robot Game Scores'!$B:$B,0))),0,INDEX('Robot Game Scores'!H:H,MATCH(TournamentData[[#This Row],[Team Number]], 'Robot Game Scores'!$B:$B,0))))","v":""},{"$f":"IF(TournamentData[[#This Row],[Team Number]]=\"\",\"\",IF(ISNA(LARGE(TournamentData[[#This Row],[Robot Game Score 1]:[Robot Game Score 5]],1)+0.0001*LARGE(TournamentData[[#This Row],[Robot Game Score 1]:[Robot Game Score 5]],2)+0.0000001*LARGE(TournamentData[[#This Row],[Robot Game Score 1]:[Robot Game Score 5]],3)+0.00000000001*LARGE(TournamentData[[#This Row],[Robot Game Score 1]:[Robot Game Score 5]],4)+0.00000000000001*LARGE(TournamentData[[#This Row],[Robot Game Score 1]:[Robot Game Score 5]],5)),0,LARGE(TournamentData[[#This Row],[Robot Game Score 1]:[Robot Game Score 5]],1)+0.0001*LARGE(TournamentData[[#This Row],[Robot Game Score 1]:[Robot Game Score 5]],2)+0.0000001*LARGE(TournamentData[[#This Row],[Robot Game Score 1]:[Robot Game Score 5]],3)+0.00000000001*LARGE(TournamentData[[#This Row],[Robot Game Score 1]:[Robot Game Score 5]],4)+0.00000000000001*LARGE(TournamentData[[#This Row],[Robot Game Score 1]:[Robot Game Score 5]],5)))","v":""},{"$f":"IF(TournamentData[[#This Row],[Team Number]]=\"\",\"\",_xlfn.RANK.EQ(TournamentData[[#This Row],[Max Robot Game Score]],TournamentData[Max Robot Game Score]))","v":""},{"$f":"IF(TournamentData[[#This Row],[Team Number]]=\"\",\"\",IF(ISNA(INDEX(CoreValuesResults[Core Values Rank],MATCH(TournamentData[[#This Row],[Team Number]],CoreValuesResults[Team Number],0))),NumberOfTeams+1,INDEX(CoreValuesResults[Core Values Rank],MATCH(TournamentData[[#This Row],[Team Number]],CoreValuesResults[Team Number],0))))","v":""},{"$f":"IF(TournamentData[[#This Row],[Team Number]]=\"\",\"\",IF(ISNA(INDEX(InnovationProjectResults[Innovation Project Rank],MATCH(TournamentData[[#This Row],[Team Number]],InnovationProjectResults[Team Number],0))),NumberOfTeams+1,INDEX(InnovationProjectResults[Innovation Project Rank],MATCH(TournamentData[[#This Row],[Team Number]],InnovationProjectResults[Team Number],0))))","v":""},{"$f":"IF(TournamentData[[#This Row],[Team Number]]=\"\",\"\",IF(ISNA(INDEX(RobotDesignResults[Robot Design Rank],MATCH(TournamentData[[#This Row],[Team Number]],RobotDesignResults[Team Number],0))),NumberOfTeams+1,INDEX(RobotDesignResults[Robot Design Rank],MATCH(TournamentData[[#This Row],[Team Number]],RobotDesignResults[Team Number],0))))","v":""},{"$f":" IF(TournamentData[[#This Row],[Team Number]]=\"\",\"\",IF(TournamentData[[#This Row],[Core Values Rank]]=\"\",NumberOfTeams+1,TournamentData[[#This Row],[Core Values Rank]]) + IF(TournamentData[[#This Row],[Innovation Project Rank]]=\"\",NumberOfTeams+1,TournamentData[[#This Row],[Innovation Project Rank]]) + IF(TournamentData[[#This Row],[Robot Design Rank]]=\"\",NumberOfTeams+1,TournamentData[[#This Row],[Robot Design Rank]]) + TournamentData[[#This Row],[Robot Game Rank]])","v":""},{"$f":"IF(TournamentData[[#This Row],[Team Number]]=\"\",\"\",IF(M28,RANK(M28,M$3:M$110,1)-COUNTIF(M$3:M$110,0),NumberOfTeams+1))","v":""},{"$f":"IF(ISNA(INDEX(CoreValuesResults[Breakthrough Selection],MATCH(TournamentData[[#This Row],[Team Number]],CoreValuesResults[Team Number],0))),0, INDEX(CoreValuesResults[Breakthrough Selection],MATCH(TournamentData[[#This Row],[Team Number]],CoreValuesResults[Team Number],0)))","v":0},{"$f":"IF(ISNA(INDEX(CoreValuesResults[Rising All-Star Selection],MATCH(TournamentData[[#This Row],[Team Number]],CoreValuesResults[Team Number],0))),0, INDEX(CoreValuesResults[Rising All-Star Selection],MATCH(TournamentData[[#This Row],[Team Number]],CoreValuesResults[Team Number],0)))","v":0},{"$f":"IF(ISNA(INDEX(CoreValuesResults[Motivate Selection],MATCH(TournamentData[[#This Row],[Team Number]],CoreValuesResults[Team Number],0))),0, INDEX(CoreValuesResults[Motivate Selection],MATCH(TournamentData[[#This Row],[Team Number]],CoreValuesResults[Team Number],0)))","v":0},null,null,null,{"$f":"IF(ISNA(INDEX(CoreValuesResults[Core Values Score],MATCH(TournamentData[[#This Row],[Team Number]],CoreValuesResults[Team Number],0))),0,INDEX(CoreValuesResults[Core Values Score],MATCH(TournamentData[[#This Row],[Team Number]],CoreValuesResults[Team Number],0)))","v":0},{"$f":"IF(ISNA(INDEX(InnovationProjectResults[Innovation Project Score],MATCH(TournamentData[[#This Row],[Team Number]],InnovationProjectResults[Team Number],0))),0,INDEX(InnovationProjectResults[Innovation Project Score],MATCH(TournamentData[[#This Row],[Team Number]],InnovationProjectResults[Team Number],0)))","v":0},{"$f":"IF(ISNA(INDEX(RobotDesignResults[Robot Design Score],MATCH(TournamentData[[#This Row],[Team Number]],RobotDesignResults[Team Number],0))),0,INDEX(RobotDesignResults[Robot Design Score],MATCH(TournamentData[[#This Row],[Team Number]],RobotDesignResults[Team Number],0)))","v":0},{"$f":"IF(ISERR(GEOMEAN(TournamentData[[#This Row],[Max Robot Game Score]],TournamentData[[#This Row],[Core Values Score]],TournamentData[[#This Row],[Innovattion Project Score]],TournamentData[[#This Row],[Robot Design Score]])),0,GEOMEAN(TournamentData[[#This Row],[Max Robot Game Score]],TournamentData[[#This Row],[Core Values Score]],TournamentData[[#This Row],[Innovattion Project Score]],TournamentData[[#This Row],[Robot Design Score]]))","v":0},0]
[null,{"$f":"IF(ISNA(INDEX(OfficialTeamList[Team Name],MATCH(TournamentData[[#This Row],[Team Number]], OfficialTeamList[Team Number],0))),\"\",INDEX(OfficialTeamList[Team Name],MATCH(TournamentData[[#This Row],[Team Number]], OfficialTeamList[Team Number],0)))","v":""},{"$f":"IF(TournamentData[[#This Row],[Team Number]]=\"\",\"\",IF(ISNA(INDEX('Robot Game Scores'!D:D,MATCH(TournamentData[[#This Row],[Team Number]], 'Robot Game Scores'!$B:$B,0))),0,INDEX('Robot Game Scores'!D:D,MATCH(TournamentData[[#This Row],[Team Number]], 'Robot Game Scores'!$B:$B,0))))","v":""},{"$f":"IF(TournamentData[[#This Row],[Team Number]]=\"\",\"\",IF(ISNA(INDEX('Robot Game Scores'!E:E,MATCH(TournamentData[[#This Row],[Team Number]], 'Robot Game Scores'!$B:$B,0))),0,INDEX('Robot Game Scores'!E:E,MATCH(TournamentData[[#This Row],[Team Number]], 'Robot Game Scores'!$B:$B,0))))","v":""},{"$f":"IF(TournamentData[[#This Row],[Team Number]]=\"\",\"\",IF(ISNA(INDEX('Robot Game Scores'!F:F,MATCH(TournamentData[[#This Row],[Team Number]], 'Robot Game Scores'!$B:$B,0))),0,INDEX('Robot Game Scores'!F:F,MATCH(TournamentData[[#This Row],[Team Number]], 'Robot Game Scores'!$B:$B,0))))","v":""},{"$f":"IF(TournamentData[[#This Row],[Team Number]]=\"\",\"\",IF(ISNA(INDEX('Robot Game Scores'!G:G,MATCH(TournamentData[[#This Row],[Team Number]], 'Robot Game Scores'!$B:$B,0))),0,INDEX('Robot Game Scores'!G:G,MATCH(TournamentData[[#This Row],[Team Number]], 'Robot Game Scores'!$B:$B,0))))","v":""},{"$f":"IF(TournamentData[[#This Row],[Team Number]]=\"\",\"\",IF(ISNA(INDEX('Robot Game Scores'!H:H,MATCH(TournamentData[[#This Row],[Team Number]], 'Robot Game Scores'!$B:$B,0))),0,INDEX('Robot Game Scores'!H:H,MATCH(TournamentData[[#This Row],[Team Number]], 'Robot Game Scores'!$B:$B,0))))","v":""},{"$f":"IF(TournamentData[[#This Row],[Team Number]]=\"\",\"\",IF(ISNA(LARGE(TournamentData[[#This Row],[Robot Game Score 1]:[Robot Game Score 5]],1)+0.0001*LARGE(TournamentData[[#This Row],[Robot Game Score 1]:[Robot Game Score 5]],2)+0.0000001*LARGE(TournamentData[[#This Row],[Robot Game Score 1]:[Robot Game Score 5]],3)+0.00000000001*LARGE(TournamentData[[#This Row],[Robot Game Score 1]:[Robot Game Score 5]],4)+0.00000000000001*LARGE(TournamentData[[#This Row],[Robot Game Score 1]:[Robot Game Score 5]],5)),0,LARGE(TournamentData[[#This Row],[Robot Game Score 1]:[Robot Game Score 5]],1)+0.0001*LARGE(TournamentData[[#This Row],[Robot Game Score 1]:[Robot Game Score 5]],2)+0.0000001*LARGE(TournamentData[[#This Row],[Robot Game Score 1]:[Robot Game Score 5]],3)+0.00000000001*LARGE(TournamentData[[#This Row],[Robot Game Score 1]:[Robot Game Score 5]],4)+0.00000000000001*LARGE(TournamentData[[#This Row],[Robot Game Score 1]:[Robot Game Score 5]],5)))","v":""},{"$f":"IF(TournamentData[[#This Row],[Team Number]]=\"\",\"\",_xlfn.RANK.EQ(TournamentData[[#This Row],[Max Robot Game Score]],TournamentData[Max Robot Game Score]))","v":""},{"$f":"IF(TournamentData[[#This Row],[Team Number]]=\"\",\"\",IF(ISNA(INDEX(CoreValuesResults[Core Values Rank],MATCH(TournamentData[[#This Row],[Team Number]],CoreValuesResults[Team Number],0))),NumberOfTeams+1,INDEX(CoreValuesResults[Core Values Rank],MATCH(TournamentData[[#This Row],[Team Number]],CoreValuesResults[Team Number],0))))","v":""},{"$f":"IF(TournamentData[[#This Row],[Team Number]]=\"\",\"\",IF(ISNA(INDEX(InnovationProjectResults[Innovation Project Rank],MATCH(TournamentData[[#This Row],[Team Number]],InnovationProjectResults[Team Number],0))),NumberOfTeams+1,INDEX(InnovationProjectResults[Innovation Project Rank],MATCH(TournamentData[[#This Row],[Team Number]],InnovationProjectResults[Team Number],0))))","v":""},{"$f":"IF(TournamentData[[#This Row],[Team Number]]=\"\",\"\",IF(ISNA(INDEX(RobotDesignResults[Robot Design Rank],MATCH(TournamentData[[#This Row],[Team Number]],RobotDesignResults[Team Number],0))),NumberOfTeams+1,INDEX(RobotDesignResults[Robot Design Rank],MATCH(TournamentData[[#This Row],[Team Number]],RobotDesignResults[Team Number],0))))","v":""},{"$f":" IF(TournamentData[[#This Row],[Team Number]]=\"\",\"\",IF(TournamentData[[#This Row],[Core Values Rank]]=\"\",NumberOfTeams+1,TournamentData[[#This Row],[Core Values Rank]]) + IF(TournamentData[[#This Row],[Innovation Project Rank]]=\"\",NumberOfTeams+1,TournamentData[[#This Row],[Innovation Project Rank]]) + IF(TournamentData[[#This Row],[Robot Design Rank]]=\"\",NumberOfTeams+1,TournamentData[[#This Row],[Robot Design Rank]]) + TournamentData[[#This Row],[Robot Game Rank]])","v":""},{"$f":"IF(TournamentData[[#This Row],[Team Number]]=\"\",\"\",IF(M29,RANK(M29,M$3:M$110,1)-COUNTIF(M$3:M$110,0),NumberOfTeams+1))","v":""},{"$f":"IF(ISNA(INDEX(CoreValuesResults[Breakthrough Selection],MATCH(TournamentData[[#This Row],[Team Number]],CoreValuesResults[Team Number],0))),0, INDEX(CoreValuesResults[Breakthrough Selection],MATCH(TournamentData[[#This Row],[Team Number]],CoreValuesResults[Team Number],0)))","v":0},{"$f":"IF(ISNA(INDEX(CoreValuesResults[Rising All-Star Selection],MATCH(TournamentData[[#This Row],[Team Number]],CoreValuesResults[Team Number],0))),0, INDEX(CoreValuesResults[Rising All-Star Selection],MATCH(TournamentData[[#This Row],[Team Number]],CoreValuesResults[Team Number],0)))","v":0},{"$f":"IF(ISNA(INDEX(CoreValuesResults[Motivate Selection],MATCH(TournamentData[[#This Row],[Team Number]],CoreValuesResults[Team Number],0))),0, INDEX(CoreValuesResults[Motivate Selection],MATCH(TournamentData[[#This Row],[Team Number]],CoreValuesResults[Team Number],0)))","v":0},null,null,null,{"$f":"IF(ISNA(INDEX(CoreValuesResults[Core Values Score],MATCH(TournamentData[[#This Row],[Team Number]],CoreValuesResults[Team Number],0))),0,INDEX(CoreValuesResults[Core Values Score],MATCH(TournamentData[[#This Row],[Team Number]],CoreValuesResults[Team Number],0)))","v":0},{"$f":"IF(ISNA(INDEX(InnovationProjectResults[Innovation Project Score],MATCH(TournamentData[[#This Row],[Team Number]],InnovationProjectResults[Team Number],0))),0,INDEX(InnovationProjectResults[Innovation Project Score],MATCH(TournamentData[[#This Row],[Team Number]],InnovationProjectResults[Team Number],0)))","v":0},{"$f":"IF(ISNA(INDEX(RobotDesignResults[Robot Design Score],MATCH(TournamentData[[#This Row],[Team Number]],RobotDesignResults[Team Number],0))),0,INDEX(RobotDesignResults[Robot Design Score],MATCH(TournamentData[[#This Row],[Team Number]],RobotDesignResults[Team Number],0)))","v":0},{"$f":"IF(ISERR(GEOMEAN(TournamentData[[#This Row],[Max Robot Game Score]],TournamentData[[#This Row],[Core Values Score]],TournamentData[[#This Row],[Innovattion Project Score]],TournamentData[[#This Row],[Robot Design Score]])),0,GEOMEAN(TournamentData[[#This Row],[Max Robot Game Score]],TournamentData[[#This Row],[Core Values Score]],TournamentData[[#This Row],[Innovattion Project Score]],TournamentData[[#This Row],[Robot Design Score]]))","v":0},0]
[null,{"$f":"IF(ISNA(INDEX(OfficialTeamList[Team Name],MATCH(TournamentData[[#This Row],[Team Number]], OfficialTeamList[Team Number],0))),\"\",INDEX(OfficialTeamList[Team Name],MATCH(TournamentData[[#This Row],[Team Number]], OfficialTeamList[Team Number],0)))","v":""},{"$f":"IF(TournamentData[[#This Row],[Team Number]]=\"\",\"\",IF(ISNA(INDEX('Robot Game Scores'!D:D,MATCH(TournamentData[[#This Row],[Team Number]], 'Robot Game Scores'!$B:$B,0))),0,INDEX('Robot Game Scores'!D:D,MATCH(TournamentData[[#This Row],[Team Number]], 'Robot Game Scores'!$B:$B,0))))","v":""},{"$f":"IF(TournamentData[[#This Row],[Team Number]]=\"\",\"\",IF(ISNA(INDEX('Robot Game Scores'!E:E,MATCH(TournamentData[[#This Row],[Team Number]], 'Robot Game Scores'!$B:$B,0))),0,INDEX('Robot Game Scores'!E:E,MATCH(TournamentData[[#This Row],[Team Number]], 'Robot Game Scores'!$B:$B,0))))","v":""},{"$f":"IF(TournamentData[[#This Row],[Team Number]]=\"\",\"\",IF(ISNA(INDEX('Robot Game Scores'!F:F,MATCH(TournamentData[[#This Row],[Team Number]], 'Robot Game Scores'!$B:$B,0))),0,INDEX('Robot Game Scores'!F:F,MATCH(TournamentData[[#This Row],[Team Number]], 'Robot Game Scores'!$B:$B,0))))","v":""},{"$f":"IF(TournamentData[[#This Row],[Team Number]]=\"\",\"\",IF(ISNA(INDEX('Robot Game Scores'!G:G,MATCH(TournamentData[[#This Row],[Team Number]], 'Robot Game Scores'!$B:$B,0))),0,INDEX('Robot Game Scores'!G:G,MATCH(TournamentData[[#This Row],[Team Number]], 'Robot Game Scores'!$B:$B,0))))","v":""},{"$f":"IF(TournamentData[[#This Row],[Team Number]]=\"\",\"\",IF(ISNA(INDEX('Robot Game Scores'!H:H,MATCH(TournamentData[[#This Row],[Team Number]], 'Robot Game Scores'!$B:$B,0))),0,INDEX('Robot Game Scores'!H:H,MATCH(TournamentData[[#This Row],[Team Number]], 'Robot Game Scores'!$B:$B,0))))","v":""},{"$f":"IF(TournamentData[[#This Row],[Team Number]]=\"\",\"\",IF(ISNA(LARGE(TournamentData[[#This Row],[Robot Game Score 1]:[Robot Game Score 5]],1)+0.0001*LARGE(TournamentData[[#This Row],[Robot Game Score 1]:[Robot Game Score 5]],2)+0.0000001*LARGE(TournamentData[[#This Row],[Robot Game Score 1]:[Robot Game Score 5]],3)+0.00000000001*LARGE(TournamentData[[#This Row],[Robot Game Score 1]:[Robot Game Score 5]],4)+0.00000000000001*LARGE(TournamentData[[#This Row],[Robot Game Score 1]:[Robot Game Score 5]],5)),0,LARGE(TournamentData[[#This Row],[Robot Game Score 1]:[Robot Game Score 5]],1)+0.0001*LARGE(TournamentData[[#This Row],[Robot Game Score 1]:[Robot Game Score 5]],2)+0.0000001*LARGE(TournamentData[[#This Row],[Robot Game Score 1]:[Robot Game Score 5]],3)+0.00000000001*LARGE(TournamentData[[#This Row],[Robot Game Score 1]:[Robot Game Score 5]],4)+0.00000000000001*LARGE(TournamentData[[#This Row],[Robot Game Score 1]:[Robot Game Score 5]],5)))","v":""},{"$f":"IF(TournamentData[[#This Row],[Team Number]]=\"\",\"\",_xlfn.RANK.EQ(TournamentData[[#This Row],[Max Robot Game Score]],TournamentData[Max Robot Game Score]))","v":""},{"$f":"IF(TournamentData[[#This Row],[Team Number]]=\"\",\"\",IF(ISNA(INDEX(CoreValuesResults[Core Values Rank],MATCH(TournamentData[[#This Row],[Team Number]],CoreValuesResults[Team Number],0))),NumberOfTeams+1,INDEX(CoreValuesResults[Core Values Rank],MATCH(TournamentData[[#This Row],[Team Number]],CoreValuesResults[Team Number],0))))","v":""},{"$f":"IF(TournamentData[[#This Row],[Team Number]]=\"\",\"\",IF(ISNA(INDEX(InnovationProjectResults[Innovation Project Rank],MATCH(TournamentData[[#This Row],[Team Number]],InnovationProjectResults[Team Number],0))),NumberOfTeams+1,INDEX(InnovationProjectResults[Innovation Project Rank],MATCH(TournamentData[[#This Row],[Team Number]],InnovationProjectResults[Team Number],0))))","v":""},{"$f":"IF(TournamentData[[#This Row],[Team Number]]=\"\",\"\",IF(ISNA(INDEX(RobotDesignResults[Robot Design Rank],MATCH(TournamentData[[#This Row],[Team Number]],RobotDesignResults[Team Number],0))),NumberOfTeams+1,INDEX(RobotDesignResults[Robot Design Rank],MATCH(TournamentData[[#This Row],[Team Number]],RobotDesignResults[Team Number],0))))","v":""},{"$f":" IF(TournamentData[[#This Row],[Team Number]]=\"\",\"\",IF(TournamentData[[#This Row],[Core Values Rank]]=\"\",NumberOfTeams+1,TournamentData[[#This Row],[Core Values Rank]]) + IF(TournamentData[[#This Row],[Innovation Project Rank]]=\"\",NumberOfTeams+1,TournamentData[[#This Row],[Innovation Project Rank]]) + IF(TournamentData[[#This Row],[Robot Design Rank]]=\"\",NumberOfTeams+1,TournamentData[[#This Row],[Robot Design Rank]]) + TournamentData[[#This Row],[Robot Game Rank]])","v":""},{"$f":"IF(TournamentData[[#This Row],[Team Number]]=\"\",\"\",IF(M30,RANK(M30,M$3:M$110,1)-COUNTIF(M$3:M$110,0),NumberOfTeams+1))","v":""},{"$f":"IF(ISNA(INDEX(CoreValuesResults[Breakthrough Selection],MATCH(TournamentData[[#This Row],[Team Number]],CoreValuesResults[Team Number],0))),0, INDEX(CoreValuesResults[Breakthrough Selection],MATCH(TournamentData[[#This Row],[Team Number]],CoreValuesResults[Team Number],0)))","v":0},{"$f":"IF(ISNA(INDEX(CoreValuesResults[Rising All-Star Selection],MATCH(TournamentData[[#This Row],[Team Number]],CoreValuesResults[Team Number],0))),0, INDEX(CoreValuesResults[Rising All-Star Selection],MATCH(TournamentData[[#This Row],[Team Number]],CoreValuesResults[Team Number],0)))","v":0},{"$f":"IF(ISNA(INDEX(CoreValuesResults[Motivate Selection],MATCH(TournamentData[[#This Row],[Team Number]],CoreValuesResults[Team Number],0))),0, INDEX(CoreValuesResults[Motivate Selection],MATCH(TournamentData[[#This Row],[Team Number]],CoreValuesResults[Team Number],0)))","v":0},null,null,null,{"$f":"IF(ISNA(INDEX(CoreValuesResults[Core Values Score],MATCH(TournamentData[[#This Row],[Team Number]],CoreValuesResults[Team Number],0))),0,INDEX(CoreValuesResults[Core Values Score],MATCH(TournamentData[[#This Row],[Team Number]],CoreValuesResults[Team Number],0)))","v":0},{"$f":"IF(ISNA(INDEX(InnovationProjectResults[Innovation Project Score],MATCH(TournamentData[[#This Row],[Team Number]],InnovationProjectResults[Team Number],0))),0,INDEX(InnovationProjectResults[Innovation Project Score],MATCH(TournamentData[[#This Row],[Team Number]],InnovationProjectResults[Team Number],0)))","v":0},{"$f":"IF(ISNA(INDEX(RobotDesignResults[Robot Design Score],MATCH(TournamentData[[#This Row],[Team Number]],RobotDesignResults[Team Number],0))),0,INDEX(RobotDesignResults[Robot Design Score],MATCH(TournamentData[[#This Row],[Team Number]],RobotDesignResults[Team Number],0)))","v":0},{"$f":"IF(ISERR(GEOMEAN(TournamentData[[#This Row],[Max Robot Game Score]],TournamentData[[#This Row],[Core Values Score]],TournamentData[[#This Row],[Innovattion Project Score]],TournamentData[[#This Row],[Robot Design Score]])),0,GEOMEAN(TournamentData[[#This Row],[Max Robot Game Score]],TournamentData[[#This Row],[Core Values Score]],TournamentData[[#This Row],[Innovattion Project Score]],TournamentData[[#This Row],[Robot Design Score]]))","v":0},0]
[null,{"$f":"IF(ISNA(INDEX(OfficialTeamList[Team Name],MATCH(TournamentData[[#This Row],[Team Number]], OfficialTeamList[Team Number],0))),\"\",INDEX(OfficialTeamList[Team Name],MATCH(TournamentData[[#This Row],[Team Number]], OfficialTeamList[Team Number],0)))","v":""},{"$f":"IF(TournamentData[[#This Row],[Team Number]]=\"\",\"\",IF(ISNA(INDEX('Robot Game Scores'!D:D,MATCH(TournamentData[[#This Row],[Team Number]], 'Robot Game Scores'!$B:$B,0))),0,INDEX('Robot Game Scores'!D:D,MATCH(TournamentData[[#This Row],[Team Number]], 'Robot Game Scores'!$B:$B,0))))","v":""},{"$f":"IF(TournamentData[[#This Row],[Team Number]]=\"\",\"\",IF(ISNA(INDEX('Robot Game Scores'!E:E,MATCH(TournamentData[[#This Row],[Team Number]], 'Robot Game Scores'!$B:$B,0))),0,INDEX('Robot Game Scores'!E:E,MATCH(TournamentData[[#This Row],[Team Number]], 'Robot Game Scores'!$B:$B,0))))","v":""},{"$f":"IF(TournamentData[[#This Row],[Team Number]]=\"\",\"\",IF(ISNA(INDEX('Robot Game Scores'!F:F,MATCH(TournamentData[[#This Row],[Team Number]], 'Robot Game Scores'!$B:$B,0))),0,INDEX('Robot Game Scores'!F:F,MATCH(TournamentData[[#This Row],[Team Number]], 'Robot Game Scores'!$B:$B,0))))","v":""},{"$f":"IF(TournamentData[[#This Row],[Team Number]]=\"\",\"\",IF(ISNA(INDEX('Robot Game Scores'!G:G,MATCH(TournamentData[[#This Row],[Team Number]], 'Robot Game Scores'!$B:$B,0))),0,INDEX('Robot Game Scores'!G:G,MATCH(TournamentData[[#This Row],[Team Number]], 'Robot Game Scores'!$B:$B,0))))","v":""},{"$f":"IF(TournamentData[[#This Row],[Team Number]]=\"\",\"\",IF(ISNA(INDEX('Robot Game Scores'!H:H,MATCH(TournamentData[[#This Row],[Team Number]], 'Robot Game Scores'!$B:$B,0))),0,INDEX('Robot Game Scores'!H:H,MATCH(TournamentData[[#This Row],[Team Number]], 'Robot Game Scores'!$B:$B,0))))","v":""},{"$f":"IF(TournamentData[[#This Row],[Team Number]]=\"\",\"\",IF(ISNA(LARGE(TournamentData[[#This Row],[Robot Game Score 1]:[Robot Game Score 5]],1)+0.0001*LARGE(TournamentData[[#This Row],[Robot Game Score 1]:[Robot Game Score 5]],2)+0.0000001*LARGE(TournamentData[[#This Row],[Robot Game Score 1]:[Robot Game Score 5]],3)+0.00000000001*LARGE(TournamentData[[#This Row],[Robot Game Score 1]:[Robot Game Score 5]],4)+0.00000000000001*LARGE(TournamentData[[#This Row],[Robot Game Score 1]:[Robot Game Score 5]],5)),0,LARGE(TournamentData[[#This Row],[Robot Game Score 1]:[Robot Game Score 5]],1)+0.0001*LARGE(TournamentData[[#This Row],[Robot Game Score 1]:[Robot Game Score 5]],2)+0.0000001*LARGE(TournamentData[[#This Row],[Robot Game Score 1]:[Robot Game Score 5]],3)+0.00000000001*LARGE(TournamentData[[#This Row],[Robot Game Score 1]:[Robot Game Score 5]],4)+0.00000000000001*LARGE(TournamentData[[#This Row],[Robot Game Score 1]:[Robot Game Score 5]],5)))","v":""},{"$f":"IF(TournamentData[[#This Row],[Team Number]]=\"\",\"\",_xlfn.RANK.EQ(TournamentData[[#This Row],[Max Robot Game Score]],TournamentData[Max Robot Game Score]))","v":""},{"$f":"IF(TournamentData[[#This Row],[Team Number]]=\"\",\"\",IF(ISNA(INDEX(CoreValuesResults[Core Values Rank],MATCH(TournamentData[[#This Row],[Team Number]],CoreValuesResults[Team Number],0))),NumberOfTeams+1,INDEX(CoreValuesResults[Core Values Rank],MATCH(TournamentData[[#This Row],[Team Number]],CoreValuesResults[Team Number],0))))","v":""},{"$f":"IF(TournamentData[[#This Row],[Team Number]]=\"\",\"\",IF(ISNA(INDEX(InnovationProjectResults[Innovation Project Rank],MATCH(TournamentData[[#This Row],[Team Number]],InnovationProjectResults[Team Number],0))),NumberOfTeams+1,INDEX(InnovationProjectResults[Innovation Project Rank],MATCH(TournamentData[[#This Row],[Team Number]],InnovationProjectResults[Team Number],0))))","v":""},{"$f":"IF(TournamentData[[#This Row],[Team Number]]=\"\",\"\",IF(ISNA(INDEX(RobotDesignResults[Robot Design Rank],MATCH(TournamentData[[#This Row],[Team Number]],RobotDesignResults[Team Number],0))),NumberOfTeams+1,INDEX(RobotDesignResults[Robot Design Rank],MATCH(TournamentData[[#This Row],[Team Number]],RobotDesignResults[Team Number],0))))","v":""},{"$f":" IF(TournamentData[[#This Row],[Team Number]]=\"\",\"\",IF(TournamentData[[#This Row],[Core Values Rank]]=\"\",NumberOfTeams+1,TournamentData[[#This Row],[Core Values Rank]]) + IF(TournamentData[[#This Row],[Innovation Project Rank]]=\"\",NumberOfTeams+1,TournamentData[[#This Row],[Innovation Project Rank]]) + IF(TournamentData[[#This Row],[Robot Design Rank]]=\"\",NumberOfTeams+1,TournamentData[[#This Row],[Robot Design Rank]]) + TournamentData[[#This Row],[Robot Game Rank]])","v":""},{"$f":"IF(TournamentData[[#This Row],[Team Number]]=\"\",\"\",IF(M31,RANK(M31,M$3:M$110,1)-COUNTIF(M$3:M$110,0),NumberOfTeams+1))","v":""},{"$f":"IF(ISNA(INDEX(CoreValuesResults[Breakthrough Selection],MATCH(TournamentData[[#This Row],[Team Number]],CoreValuesResults[Team Number],0))),0, INDEX(CoreValuesResults[Breakthrough Selection],MATCH(TournamentData[[#This Row],[Team Number]],CoreValuesResults[Team Number],0)))","v":0},{"$f":"IF(ISNA(INDEX(CoreValuesResults[Rising All-Star Selection],MATCH(TournamentData[[#This Row],[Team Number]],CoreValuesResults[Team Number],0))),0, INDEX(CoreValuesResults[Rising All-Star Selection],MATCH(TournamentData[[#This Row],[Team Number]],CoreValuesResults[Team Number],0)))","v":0},{"$f":"IF(ISNA(INDEX(CoreValuesResults[Motivate Selection],MATCH(TournamentData[[#This Row],[Team Number]],CoreValuesResults[Team Number],0))),0, INDEX(CoreValuesResults[Motivate Selection],MATCH(TournamentData[[#This Row],[Team Number]],CoreValuesResults[Team Number],0)))","v":0},null,null,null,{"$f":"IF(ISNA(INDEX(CoreValuesResults[Core Values Score],MATCH(TournamentData[[#This Row],[Team Number]],CoreValuesResults[Team Number],0))),0,INDEX(CoreValuesResults[Core Values Score],MATCH(TournamentData[[#This Row],[Team Number]],CoreValuesResults[Team Number],0)))","v":0},{"$f":"IF(ISNA(INDEX(InnovationProjectResults[Innovation Project Score],MATCH(TournamentData[[#This Row],[Team Number]],InnovationProjectResults[Team Number],0))),0,INDEX(InnovationProjectResults[Innovation Project Score],MATCH(TournamentData[[#This Row],[Team Number]],InnovationProjectResults[Team Number],0)))","v":0},{"$f":"IF(ISNA(INDEX(RobotDesignResults[Robot Design Score],MATCH(TournamentData[[#This Row],[Team Number]],RobotDesignResults[Team Number],0))),0,INDEX(RobotDesignResults[Robot Design Score],MATCH(TournamentData[[#This Row],[Team Number]],RobotDesignResults[Team Number],0)))","v":0},{"$f":"IF(ISERR(GEOMEAN(TournamentData[[#This Row],[Max Robot Game Score]],TournamentData[[#This Row],[Core Values Score]],TournamentData[[#This Row],[Innovattion Project Score]],TournamentData[[#This Row],[Robot Design Score]])),0,GEOMEAN(TournamentData[[#This Row],[Max Robot Game Score]],TournamentData[[#This Row],[Core Values Score]],TournamentData[[#This Row],[Innovattion Project Score]],TournamentData[[#This Row],[Robot Design Score]]))","v":0},0]
[null,{"$f":"IF(ISNA(INDEX(OfficialTeamList[Team Name],MATCH(TournamentData[[#This Row],[Team Number]], OfficialTeamList[Team Number],0))),\"\",INDEX(OfficialTeamList[Team Name],MATCH(TournamentData[[#This Row],[Team Number]], OfficialTeamList[Team Number],0)))","v":""},{"$f":"IF(TournamentData[[#This Row],[Team Number]]=\"\",\"\",IF(ISNA(INDEX('Robot Game Scores'!D:D,MATCH(TournamentData[[#This Row],[Team Number]], 'Robot Game Scores'!$B:$B,0))),0,INDEX('Robot Game Scores'!D:D,MATCH(TournamentData[[#This Row],[Team Number]], 'Robot Game Scores'!$B:$B,0))))","v":""},{"$f":"IF(TournamentData[[#This Row],[Team Number]]=\"\",\"\",IF(ISNA(INDEX('Robot Game Scores'!E:E,MATCH(TournamentData[[#This Row],[Team Number]], 'Robot Game Scores'!$B:$B,0))),0,INDEX('Robot Game Scores'!E:E,MATCH(TournamentData[[#This Row],[Team Number]], 'Robot Game Scores'!$B:$B,0))))","v":""},{"$f":"IF(TournamentData[[#This Row],[Team Number]]=\"\",\"\",IF(ISNA(INDEX('Robot Game Scores'!F:F,MATCH(TournamentData[[#This Row],[Team Number]], 'Robot Game Scores'!$B:$B,0))),0,INDEX('Robot Game Scores'!F:F,MATCH(TournamentData[[#This Row],[Team Number]], 'Robot Game Scores'!$B:$B,0))))","v":""},{"$f":"IF(TournamentData[[#This Row],[Team Number]]=\"\",\"\",IF(ISNA(INDEX('Robot Game Scores'!G:G,MATCH(TournamentData[[#This Row],[Team Number]], 'Robot Game Scores'!$B:$B,0))),0,INDEX('Robot Game Scores'!G:G,MATCH(TournamentData[[#This Row],[Team Number]], 'Robot Game Scores'!$B:$B,0))))","v":""},{"$f":"IF(TournamentData[[#This Row],[Team Number]]=\"\",\"\",IF(ISNA(INDEX('Robot Game Scores'!H:H,MATCH(TournamentData[[#This Row],[Team Number]], 'Robot Game Scores'!$B:$B,0))),0,INDEX('Robot Game Scores'!H:H,MATCH(TournamentData[[#This Row],[Team Number]], 'Robot Game Scores'!$B:$B,0))))","v":""},{"$f":"IF(TournamentData[[#This Row],[Team Number]]=\"\",\"\",IF(ISNA(LARGE(TournamentData[[#This Row],[Robot Game Score 1]:[Robot Game Score 5]],1)+0.0001*LARGE(TournamentData[[#This Row],[Robot Game Score 1]:[Robot Game Score 5]],2)+0.0000001*LARGE(TournamentData[[#This Row],[Robot Game Score 1]:[Robot Game Score 5]],3)+0.00000000001*LARGE(TournamentData[[#This Row],[Robot Game Score 1]:[Robot Game Score 5]],4)+0.00000000000001*LARGE(TournamentData[[#This Row],[Robot Game Score 1]:[Robot Game Score 5]],5)),0,LARGE(TournamentData[[#This Row],[Robot Game Score 1]:[Robot Game Score 5]],1)+0.0001*LARGE(TournamentData[[#This Row],[Robot Game Score 1]:[Robot Game Score 5]],2)+0.0000001*LARGE(TournamentData[[#This Row],[Robot Game Score 1]:[Robot Game Score 5]],3)+0.00000000001*LARGE(TournamentData[[#This Row],[Robot Game Score 1]:[Robot Game Score 5]],4)+0.00000000000001*LARGE(TournamentData[[#This Row],[Robot Game Score 1]:[Robot Game Score 5]],5)))","v":""},{"$f":"IF(TournamentData[[#This Row],[Team Number]]=\"\",\"\",_xlfn.RANK.EQ(TournamentData[[#This Row],[Max Robot Game Score]],TournamentData[Max Robot Game Score]))","v":""},{"$f":"IF(TournamentData[[#This Row],[Team Number]]=\"\",\"\",IF(ISNA(INDEX(CoreValuesResults[Core Values Rank],MATCH(TournamentData[[#This Row],[Team Number]],CoreValuesResults[Team Number],0))),NumberOfTeams+1,INDEX(CoreValuesResults[Core Values Rank],MATCH(TournamentData[[#This Row],[Team Number]],CoreValuesResults[Team Number],0))))","v":""},{"$f":"IF(TournamentData[[#This Row],[Team Number]]=\"\",\"\",IF(ISNA(INDEX(InnovationProjectResults[Innovation Project Rank],MATCH(TournamentData[[#This Row],[Team Number]],InnovationProjectResults[Team Number],0))),NumberOfTeams+1,INDEX(InnovationProjectResults[Innovation Project Rank],MATCH(TournamentData[[#This Row],[Team Number]],InnovationProjectResults[Team Number],0))))","v":""},{"$f":"IF(TournamentData[[#This Row],[Team Number]]=\"\",\"\",IF(ISNA(INDEX(RobotDesignResults[Robot Design Rank],MATCH(TournamentData[[#This Row],[Team Number]],RobotDesignResults[Team Number],0))),NumberOfTeams+1,INDEX(RobotDesignResults[Robot Design Rank],MATCH(TournamentData[[#This Row],[Team Number]],RobotDesignResults[Team Number],0))))","v":""},{"$f":" IF(TournamentData[[#This Row],[Team Number]]=\"\",\"\",IF(TournamentData[[#This Row],[Core Values Rank]]=\"\",NumberOfTeams+1,TournamentData[[#This Row],[Core Values Rank]]) + IF(TournamentData[[#This Row],[Innovation Project Rank]]=\"\",NumberOfTeams+1,TournamentData[[#This Row],[Innovation Project Rank]]) + IF(TournamentData[[#This Row],[Robot Design Rank]]=\"\",NumberOfTeams+1,TournamentData[[#This Row],[Robot Design Rank]]) + TournamentData[[#This Row],[Robot Game Rank]])","v":""},{"$f":"IF(TournamentData[[#This Row],[Team Number]]=\"\",\"\",IF(M32,RANK(M32,M$3:M$110,1)-COUNTIF(M$3:M$110,0),NumberOfTeams+1))","v":""},{"$f":"IF(ISNA(INDEX(CoreValuesResults[Breakthrough Selection],MATCH(TournamentData[[#This Row],[Team Number]],CoreValuesResults[Team Number],0))),0, INDEX(CoreValuesResults[Breakthrough Selection],MATCH(TournamentData[[#This Row],[Team Number]],CoreValuesResults[Team Number],0)))","v":0},{"$f":"IF(ISNA(INDEX(CoreValuesResults[Rising All-Star Selection],MATCH(TournamentData[[#This Row],[Team Number]],CoreValuesResults[Team Number],0))),0, INDEX(CoreValuesResults[Rising All-Star Selection],MATCH(TournamentData[[#This Row],[Team Number]],CoreValuesResults[Team Number],0)))","v":0},{"$f":"IF(ISNA(INDEX(CoreValuesResults[Motivate Selection],MATCH(TournamentData[[#This Row],[Team Number]],CoreValuesResults[Team Number],0))),0, INDEX(CoreValuesResults[Motivate Selection],MATCH(TournamentData[[#This Row],[Team Number]],CoreValuesResults[Team Number],0)))","v":0},null,null,null,{"$f":"IF(ISNA(INDEX(CoreValuesResults[Core Values Score],MATCH(TournamentData[[#This Row],[Team Number]],CoreValuesResults[Team Number],0))),0,INDEX(CoreValuesResults[Core Values Score],MATCH(TournamentData[[#This Row],[Team Number]],CoreValuesResults[Team Number],0)))","v":0},{"$f":"IF(ISNA(INDEX(InnovationProjectResults[Innovation Project Score],MATCH(TournamentData[[#This Row],[Team Number]],InnovationProjectResults[Team Number],0))),0,INDEX(InnovationProjectResults[Innovation Project Score],MATCH(TournamentData[[#This Row],[Team Number]],InnovationProjectResults[Team Number],0)))","v":0},{"$f":"IF(ISNA(INDEX(RobotDesignResults[Robot Design Score],MATCH(TournamentData[[#This Row],[Team Number]],RobotDesignResults[Team Number],0))),0,INDEX(RobotDesignResults[Robot Design Score],MATCH(TournamentData[[#This Row],[Team Number]],RobotDesignResults[Team Number],0)))","v":0},{"$f":"IF(ISERR(GEOMEAN(TournamentData[[#This Row],[Max Robot Game Score]],TournamentData[[#This Row],[Core Values Score]],TournamentData[[#This Row],[Innovattion Project Score]],TournamentData[[#This Row],[Robot Design Score]])),0,GEOMEAN(TournamentData[[#This Row],[Max Robot Game Score]],TournamentData[[#This Row],[Core Values Score]],TournamentData[[#This Row],[Innovattion Project Score]],TournamentData[[#This Row],[Robot Design Score]]))","v":0},0]
[null,{"$f":"IF(ISNA(INDEX(OfficialTeamList[Team Name],MATCH(TournamentData[[#This Row],[Team Number]], OfficialTeamList[Team Number],0))),\"\",INDEX(OfficialTeamList[Team Name],MATCH(TournamentData[[#This Row],[Team Number]], OfficialTeamList[Team Number],0)))","v":""},{"$f":"IF(TournamentData[[#This Row],[Team Number]]=\"\",\"\",IF(ISNA(INDEX('Robot Game Scores'!D:D,MATCH(TournamentData[[#This Row],[Team Number]], 'Robot Game Scores'!$B:$B,0))),0,INDEX('Robot Game Scores'!D:D,MATCH(TournamentData[[#This Row],[Team Number]], 'Robot Game Scores'!$B:$B,0))))","v":""},{"$f":"IF(TournamentData[[#This Row],[Team Number]]=\"\",\"\",IF(ISNA(INDEX('Robot Game Scores'!E:E,MATCH(TournamentData[[#This Row],[Team Number]], 'Robot Game Scores'!$B:$B,0))),0,INDEX('Robot Game Scores'!E:E,MATCH(TournamentData[[#This Row],[Team Number]], 'Robot Game Scores'!$B:$B,0))))","v":""},{"$f":"IF(TournamentData[[#This Row],[Team Number]]=\"\",\"\",IF(ISNA(INDEX('Robot Game Scores'!F:F,MATCH(TournamentData[[#This Row],[Team Number]], 'Robot Game Scores'!$B:$B,0))),0,INDEX('Robot Game Scores'!F:F,MATCH(TournamentData[[#This Row],[Team Number]], 'Robot Game Scores'!$B:$B,0))))","v":""},{"$f":"IF(TournamentData[[#This Row],[Team Number]]=\"\",\"\",IF(ISNA(INDEX('Robot Game Scores'!G:G,MATCH(TournamentData[[#This Row],[Team Number]], 'Robot Game Scores'!$B:$B,0))),0,INDEX('Robot Game Scores'!G:G,MATCH(TournamentData[[#This Row],[Team Number]], 'Robot Game Scores'!$B:$B,0))))","v":""},{"$f":"IF(TournamentData[[#This Row],[Team Number]]=\"\",\"\",IF(ISNA(INDEX('Robot Game Scores'!H:H,MATCH(TournamentData[[#This Row],[Team Number]], 'Robot Game Scores'!$B:$B,0))),0,INDEX('Robot Game Scores'!H:H,MATCH(TournamentData[[#This Row],[Team Number]], 'Robot Game Scores'!$B:$B,0))))","v":""},{"$f":"IF(TournamentData[[#This Row],[Team Number]]=\"\",\"\",IF(ISNA(LARGE(TournamentData[[#This Row],[Robot Game Score 1]:[Robot Game Score 5]],1)+0.0001*LARGE(TournamentData[[#This Row],[Robot Game Score 1]:[Robot Game Score 5]],2)+0.0000001*LARGE(TournamentData[[#This Row],[Robot Game Score 1]:[Robot Game Score 5]],3)+0.00000000001*LARGE(TournamentData[[#This Row],[Robot Game Score 1]:[Robot Game Score 5]],4)+0.00000000000001*LARGE(TournamentData[[#This Row],[Robot Game Score 1]:[Robot Game Score 5]],5)),0,LARGE(TournamentData[[#This Row],[Robot Game Score 1]:[Robot Game Score 5]],1)+0.0001*LARGE(TournamentData[[#This Row],[Robot Game Score 1]:[Robot Game Score 5]],2)+0.0000001*LARGE(TournamentData[[#This Row],[Robot Game Score 1]:[Robot Game Score 5]],3)+0.00000000001*LARGE(TournamentData[[#This Row],[Robot Game Score 1]:[Robot Game Score 5]],4)+0.00000000000001*LARGE(TournamentData[[#This Row],[Robot Game Score 1]:[Robot Game Score 5]],5)))","v":""},{"$f":"IF(TournamentData[[#This Row],[Team Number]]=\"\",\"\",_xlfn.RANK.EQ(TournamentData[[#This Row],[Max Robot Game Score]],TournamentData[Max Robot Game Score]))","v":""},{"$f":"IF(TournamentData[[#This Row],[Team Number]]=\"\",\"\",IF(ISNA(INDEX(CoreValuesResults[Core Values Rank],MATCH(TournamentData[[#This Row],[Team Number]],CoreValuesResults[Team Number],0))),NumberOfTeams+1,INDEX(CoreValuesResults[Core Values Rank],MATCH(TournamentData[[#This Row],[Team Number]],CoreValuesResults[Team Number],0))))","v":""},{"$f":"IF(TournamentData[[#This Row],[Team Number]]=\"\",\"\",IF(ISNA(INDEX(InnovationProjectResults[Innovation Project Rank],MATCH(TournamentData[[#This Row],[Team Number]],InnovationProjectResults[Team Number],0))),NumberOfTeams+1,INDEX(InnovationProjectResults[Innovation Project Rank],MATCH(TournamentData[[#This Row],[Team Number]],InnovationProjectResults[Team Number],0))))","v":""},{"$f":"IF(TournamentData[[#This Row],[Team Number]]=\"\",\"\",IF(ISNA(INDEX(RobotDesignResults[Robot Design Rank],MATCH(TournamentData[[#This Row],[Team Number]],RobotDesignResults[Team Number],0))),NumberOfTeams+1,INDEX(RobotDesignResults[Robot Design Rank],MATCH(TournamentData[[#This Row],[Team Number]],RobotDesignResults[Team Number],0))))","v":""},{"$f":" IF(TournamentData[[#This Row],[Team Number]]=\"\",\"\",IF(TournamentData[[#This Row],[Core Values Rank]]=\"\",NumberOfTeams+1,TournamentData[[#This Row],[Core Values Rank]]) + IF(TournamentData[[#This Row],[Innovation Project Rank]]=\"\",NumberOfTeams+1,TournamentData[[#This Row],[Innovation Project Rank]]) + IF(TournamentData[[#This Row],[Robot Design Rank]]=\"\",NumberOfTeams+1,TournamentData[[#This Row],[Robot Design Rank]]) + TournamentData[[#This Row],[Robot Game Rank]])","v":""},{"$f":"IF(TournamentData[[#This Row],[Team Number]]=\"\",\"\",IF(M33,RANK(M33,M$3:M$110,1)-COUNTIF(M$3:M$110,0),NumberOfTeams+1))","v":""},{"$f":"IF(ISNA(INDEX(CoreValuesResults[Breakthrough Selection],MATCH(TournamentData[[#This Row],[Team Number]],CoreValuesResults[Team Number],0))),0, INDEX(CoreValuesResults[Breakthrough Selection],MATCH(TournamentData[[#This Row],[Team Number]],CoreValuesResults[Team Number],0)))","v":0},{"$f":"IF(ISNA(INDEX(CoreValuesResults[Rising All-Star Selection],MATCH(TournamentData[[#This Row],[Team Number]],CoreValuesResults[Team Number],0))),0, INDEX(CoreValuesResults[Rising All-Star Selection],MATCH(TournamentData[[#This Row],[Team Number]],CoreValuesResults[Team Number],0)))","v":0},{"$f":"IF(ISNA(INDEX(CoreValuesResults[Motivate Selection],MATCH(TournamentData[[#This Row],[Team Number]],CoreValuesResults[Team Number],0))),0, INDEX(CoreValuesResults[Motivate Selection],MATCH(TournamentData[[#This Row],[Team Number]],CoreValuesResults[Team Number],0)))","v":0},null,null,null,{"$f":"IF(ISNA(INDEX(CoreValuesResults[Core Values Score],MATCH(TournamentData[[#This Row],[Team Number]],CoreValuesResults[Team Number],0))),0,INDEX(CoreValuesResults[Core Values Score],MATCH(TournamentData[[#This Row],[Team Number]],CoreValuesResults[Team Number],0)))","v":0},{"$f":"IF(ISNA(INDEX(InnovationProjectResults[Innovation Project Score],MATCH(TournamentData[[#This Row],[Team Number]],InnovationProjectResults[Team Number],0))),0,INDEX(InnovationProjectResults[Innovation Project Score],MATCH(TournamentData[[#This Row],[Team Number]],InnovationProjectResults[Team Number],0)))","v":0},{"$f":"IF(ISNA(INDEX(RobotDesignResults[Robot Design Score],MATCH(TournamentData[[#This Row],[Team Number]],RobotDesignResults[Team Number],0))),0,INDEX(RobotDesignResults[Robot Design Score],MATCH(TournamentData[[#This Row],[Team Number]],RobotDesignResults[Team Number],0)))","v":0},{"$f":"IF(ISERR(GEOMEAN(TournamentData[[#This Row],[Max Robot Game Score]],TournamentData[[#This Row],[Core Values Score]],TournamentData[[#This Row],[Innovattion Project Score]],TournamentData[[#This Row],[Robot Design Score]])),0,GEOMEAN(TournamentData[[#This Row],[Max Robot Game Score]],TournamentData[[#This Row],[Core Values Score]],TournamentData[[#This Row],[Innovattion Project Score]],TournamentData[[#This Row],[Robot Design Score]]))","v":0},0]
[null,{"$f":"IF(ISNA(INDEX(OfficialTeamList[Team Name],MATCH(TournamentData[[#This Row],[Team Number]], OfficialTeamList[Team Number],0))),\"\",INDEX(OfficialTeamList[Team Name],MATCH(TournamentData[[#This Row],[Team Number]], OfficialTeamList[Team Number],0)))","v":""},{"$f":"IF(TournamentData[[#This Row],[Team Number]]=\"\",\"\",IF(ISNA(INDEX('Robot Game Scores'!D:D,MATCH(TournamentData[[#This Row],[Team Number]], 'Robot Game Scores'!$B:$B,0))),0,INDEX('Robot Game Scores'!D:D,MATCH(TournamentData[[#This Row],[Team Number]], 'Robot Game Scores'!$B:$B,0))))","v":""},{"$f":"IF(TournamentData[[#This Row],[Team Number]]=\"\",\"\",IF(ISNA(INDEX('Robot Game Scores'!E:E,MATCH(TournamentData[[#This Row],[Team Number]], 'Robot Game Scores'!$B:$B,0))),0,INDEX('Robot Game Scores'!E:E,MATCH(TournamentData[[#This Row],[Team Number]], 'Robot Game Scores'!$B:$B,0))))","v":""},{"$f":"IF(TournamentData[[#This Row],[Team Number]]=\"\",\"\",IF(ISNA(INDEX('Robot Game Scores'!F:F,MATCH(TournamentData[[#This Row],[Team Number]], 'Robot Game Scores'!$B:$B,0))),0,INDEX('Robot Game Scores'!F:F,MATCH(TournamentData[[#This Row],[Team Number]], 'Robot Game Scores'!$B:$B,0))))","v":""},{"$f":"IF(TournamentData[[#This Row],[Team Number]]=\"\",\"\",IF(ISNA(INDEX('Robot Game Scores'!G:G,MATCH(TournamentData[[#This Row],[Team Number]], 'Robot Game Scores'!$B:$B,0))),0,INDEX('Robot Game Scores'!G:G,MATCH(TournamentData[[#This Row],[Team Number]], 'Robot Game Scores'!$B:$B,0))))","v":""},{"$f":"IF(TournamentData[[#This Row],[Team Number]]=\"\",\"\",IF(ISNA(INDEX('Robot Game Scores'!H:H,MATCH(TournamentData[[#This Row],[Team Number]], 'Robot Game Scores'!$B:$B,0))),0,INDEX('Robot Game Scores'!H:H,MATCH(TournamentData[[#This Row],[Team Number]], 'Robot Game Scores'!$B:$B,0))))","v":""},{"$f":"IF(TournamentData[[#This Row],[Team Number]]=\"\",\"\",IF(ISNA(LARGE(TournamentData[[#This Row],[Robot Game Score 1]:[Robot Game Score 5]],1)+0.0001*LARGE(TournamentData[[#This Row],[Robot Game Score 1]:[Robot Game Score 5]],2)+0.0000001*LARGE(TournamentData[[#This Row],[Robot Game Score 1]:[Robot Game Score 5]],3)+0.00000000001*LARGE(TournamentData[[#This Row],[Robot Game Score 1]:[Robot Game Score 5]],4)+0.00000000000001*LARGE(TournamentData[[#This Row],[Robot Game Score 1]:[Robot Game Score 5]],5)),0,LARGE(TournamentData[[#This Row],[Robot Game Score 1]:[Robot Game Score 5]],1)+0.0001*LARGE(TournamentData[[#This Row],[Robot Game Score 1]:[Robot Game Score 5]],2)+0.0000001*LARGE(TournamentData[[#This Row],[Robot Game Score 1]:[Robot Game Score 5]],3)+0.00000000001*LARGE(TournamentData[[#This Row],[Robot Game Score 1]:[Robot Game Score 5]],4)+0.00000000000001*LARGE(TournamentData[[#This Row],[Robot Game Score 1]:[Robot Game Score 5]],5)))","v":""},{"$f":"IF(TournamentData[[#This Row],[Team Number]]=\"\",\"\",_xlfn.RANK.EQ(TournamentData[[#This Row],[Max Robot Game Score]],TournamentData[Max Robot Game Score]))","v":""},{"$f":"IF(TournamentData[[#This Row],[Team Number]]=\"\",\"\",IF(ISNA(INDEX(CoreValuesResults[Core Values Rank],MATCH(TournamentData[[#This Row],[Team Number]],CoreValuesResults[Team Number],0))),NumberOfTeams+1,INDEX(CoreValuesResults[Core Values Rank],MATCH(TournamentData[[#This Row],[Team Number]],CoreValuesResults[Team Number],0))))","v":""},{"$f":"IF(TournamentData[[#This Row],[Team Number]]=\"\",\"\",IF(ISNA(INDEX(InnovationProjectResults[Innovation Project Rank],MATCH(TournamentData[[#This Row],[Team Number]],InnovationProjectResults[Team Number],0))),NumberOfTeams+1,INDEX(InnovationProjectResults[Innovation Project Rank],MATCH(TournamentData[[#This Row],[Team Number]],InnovationProjectResults[Team Number],0))))","v":""},{"$f":"IF(TournamentData[[#This Row],[Team Number]]=\"\",\"\",IF(ISNA(INDEX(RobotDesignResults[Robot Design Rank],MATCH(TournamentData[[#This Row],[Team Number]],RobotDesignResults[Team Number],0))),NumberOfTeams+1,INDEX(RobotDesignResults[Robot Design Rank],MATCH(TournamentData[[#This Row],[Team Number]],RobotDesignResults[Team Number],0))))","v":""},{"$f":" IF(TournamentData[[#This Row],[Team Number]]=\"\",\"\",IF(TournamentData[[#This Row],[Core Values Rank]]=\"\",NumberOfTeams+1,TournamentData[[#This Row],[Core Values Rank]]) + IF(TournamentData[[#This Row],[Innovation Project Rank]]=\"\",NumberOfTeams+1,TournamentData[[#This Row],[Innovation Project Rank]]) + IF(TournamentData[[#This Row],[Robot Design Rank]]=\"\",NumberOfTeams+1,TournamentData[[#This Row],[Robot Design Rank]]) + TournamentData[[#This Row],[Robot Game Rank]])","v":""},{"$f":"IF(TournamentData[[#This Row],[Team Number]]=\"\",\"\",IF(M34,RANK(M34,M$3:M$110,1)-COUNTIF(M$3:M$110,0),NumberOfTeams+1))","v":""},{"$f":"IF(ISNA(INDEX(CoreValuesResults[Breakthrough Selection],MATCH(TournamentData[[#This Row],[Team Number]],CoreValuesResults[Team Number],0))),0, INDEX(CoreValuesResults[Breakthrough Selection],MATCH(TournamentData[[#This Row],[Team Number]],CoreValuesResults[Team Number],0)))","v":0},{"$f":"IF(ISNA(INDEX(CoreValuesResults[Rising All-Star Selection],MATCH(TournamentData[[#This Row],[Team Number]],CoreValuesResults[Team Number],0))),0, INDEX(CoreValuesResults[Rising All-Star Selection],MATCH(TournamentData[[#This Row],[Team Number]],CoreValuesResults[Team Number],0)))","v":0},{"$f":"IF(ISNA(INDEX(CoreValuesResults[Motivate Selection],MATCH(TournamentData[[#This Row],[Team Number]],CoreValuesResults[Team Number],0))),0, INDEX(CoreValuesResults[Motivate Selection],MATCH(TournamentData[[#This Row],[Team Number]],CoreValuesResults[Team Number],0)))","v":0},null,null,null,{"$f":"IF(ISNA(INDEX(CoreValuesResults[Core Values Score],MATCH(TournamentData[[#This Row],[Team Number]],CoreValuesResults[Team Number],0))),0,INDEX(CoreValuesResults[Core Values Score],MATCH(TournamentData[[#This Row],[Team Number]],CoreValuesResults[Team Number],0)))","v":0},{"$f":"IF(ISNA(INDEX(InnovationProjectResults[Innovation Project Score],MATCH(TournamentData[[#This Row],[Team Number]],InnovationProjectResults[Team Number],0))),0,INDEX(InnovationProjectResults[Innovation Project Score],MATCH(TournamentData[[#This Row],[Team Number]],InnovationProjectResults[Team Number],0)))","v":0},{"$f":"IF(ISNA(INDEX(RobotDesignResults[Robot Design Score],MATCH(TournamentData[[#This Row],[Team Number]],RobotDesignResults[Team Number],0))),0,INDEX(RobotDesignResults[Robot Design Score],MATCH(TournamentData[[#This Row],[Team Number]],RobotDesignResults[Team Number],0)))","v":0},{"$f":"IF(ISERR(GEOMEAN(TournamentData[[#This Row],[Max Robot Game Score]],TournamentData[[#This Row],[Core Values Score]],TournamentData[[#This Row],[Innovattion Project Score]],TournamentData[[#This Row],[Robot Design Score]])),0,GEOMEAN(TournamentData[[#This Row],[Max Robot Game Score]],TournamentData[[#This Row],[Core Values Score]],TournamentData[[#This Row],[Innovattion Project Score]],TournamentData[[#This Row],[Robot Design Score]]))","v":0},0]
[null,{"$f":"IF(ISNA(INDEX(OfficialTeamList[Team Name],MATCH(TournamentData[[#This Row],[Team Number]], OfficialTeamList[Team Number],0))),\"\",INDEX(OfficialTeamList[Team Name],MATCH(TournamentData[[#This Row],[Team Number]], OfficialTeamList[Team Number],0)))","v":""},{"$f":"IF(TournamentData[[#This Row],[Team Number]]=\"\",\"\",IF(ISNA(INDEX('Robot Game Scores'!D:D,MATCH(TournamentData[[#This Row],[Team Number]], 'Robot Game Scores'!$B:$B,0))),0,INDEX('Robot Game Scores'!D:D,MATCH(TournamentData[[#This Row],[Team Number]], 'Robot Game Scores'!$B:$B,0))))","v":""},{"$f":"IF(TournamentData[[#This Row],[Team Number]]=\"\",\"\",IF(ISNA(INDEX('Robot Game Scores'!E:E,MATCH(TournamentData[[#This Row],[Team Number]], 'Robot Game Scores'!$B:$B,0))),0,INDEX('Robot Game Scores'!E:E,MATCH(TournamentData[[#This Row],[Team Number]], 'Robot Game Scores'!$B:$B,0))))","v":""},{"$f":"IF(TournamentData[[#This Row],[Team Number]]=\"\",\"\",IF(ISNA(INDEX('Robot Game Scores'!F:F,MATCH(TournamentData[[#This Row],[Team Number]], 'Robot Game Scores'!$B:$B,0))),0,INDEX('Robot Game Scores'!F:F,MATCH(TournamentData[[#This Row],[Team Number]], 'Robot Game Scores'!$B:$B,0))))","v":""},{"$f":"IF(TournamentData[[#This Row],[Team Number]]=\"\",\"\",IF(ISNA(INDEX('Robot Game Scores'!G:G,MATCH(TournamentData[[#This Row],[Team Number]], 'Robot Game Scores'!$B:$B,0))),0,INDEX('Robot Game Scores'!G:G,MATCH(TournamentData[[#This Row],[Team Number]], 'Robot Game Scores'!$B:$B,0))))","v":""},{"$f":"IF(TournamentData[[#This Row],[Team Number]]=\"\",\"\",IF(ISNA(INDEX('Robot Game Scores'!H:H,MATCH(TournamentData[[#This Row],[Team Number]], 'Robot Game Scores'!$B:$B,0))),0,INDEX('Robot Game Scores'!H:H,MATCH(TournamentData[[#This Row],[Team Number]], 'Robot Game Scores'!$B:$B,0))))","v":""},{"$f":"IF(TournamentData[[#This Row],[Team Number]]=\"\",\"\",IF(ISNA(LARGE(TournamentData[[#This Row],[Robot Game Score 1]:[Robot Game Score 5]],1)+0.0001*LARGE(TournamentData[[#This Row],[Robot Game Score 1]:[Robot Game Score 5]],2)+0.0000001*LARGE(TournamentData[[#This Row],[Robot Game Score 1]:[Robot Game Score 5]],3)+0.00000000001*LARGE(TournamentData[[#This Row],[Robot Game Score 1]:[Robot Game Score 5]],4)+0.00000000000001*LARGE(TournamentData[[#This Row],[Robot Game Score 1]:[Robot Game Score 5]],5)),0,LARGE(TournamentData[[#This Row],[Robot Game Score 1]:[Robot Game Score 5]],1)+0.0001*LARGE(TournamentData[[#This Row],[Robot Game Score 1]:[Robot Game Score 5]],2)+0.0000001*LARGE(TournamentData[[#This Row],[Robot Game Score 1]:[Robot Game Score 5]],3)+0.00000000001*LARGE(TournamentData[[#This Row],[Robot Game Score 1]:[Robot Game Score 5]],4)+0.00000000000001*LARGE(TournamentData[[#This Row],[Robot Game Score 1]:[Robot Game Score 5]],5)))","v":""},{"$f":"IF(TournamentData[[#This Row],[Team Number]]=\"\",\"\",_xlfn.RANK.EQ(TournamentData[[#This Row],[Max Robot Game Score]],TournamentData[Max Robot Game Score]))","v":""},{"$f":"IF(TournamentData[[#This Row],[Team Number]]=\"\",\"\",IF(ISNA(INDEX(CoreValuesResults[Core Values Rank],MATCH(TournamentData[[#This Row],[Team Number]],CoreValuesResults[Team Number],0))),NumberOfTeams+1,INDEX(CoreValuesResults[Core Values Rank],MATCH(TournamentData[[#This Row],[Team Number]],CoreValuesResults[Team Number],0))))","v":""},{"$f":"IF(TournamentData[[#This Row],[Team Number]]=\"\",\"\",IF(ISNA(INDEX(InnovationProjectResults[Innovation Project Rank],MATCH(TournamentData[[#This Row],[Team Number]],InnovationProjectResults[Team Number],0))),NumberOfTeams+1,INDEX(InnovationProjectResults[Innovation Project Rank],MATCH(TournamentData[[#This Row],[Team Number]],InnovationProjectResults[Team Number],0))))","v":""},{"$f":"IF(TournamentData[[#This Row],[Team Number]]=\"\",\"\",IF(ISNA(INDEX(RobotDesignResults[Robot Design Rank],MATCH(TournamentData[[#This Row],[Team Number]],RobotDesignResults[Team Number],0))),NumberOfTeams+1,INDEX(RobotDesignResults[Robot Design Rank],MATCH(TournamentData[[#This Row],[Team Number]],RobotDesignResults[Team Number],0))))","v":""},{"$f":" IF(TournamentData[[#This Row],[Team Number]]=\"\",\"\",IF(TournamentData[[#This Row],[Core Values Rank]]=\"\",NumberOfTeams+1,TournamentData[[#This Row],[Core Values Rank]]) + IF(TournamentData[[#This Row],[Innovation Project Rank]]=\"\",NumberOfTeams+1,TournamentData[[#This Row],[Innovation Project Rank]]) + IF(TournamentData[[#This Row],[Robot Design Rank]]=\"\",NumberOfTeams+1,TournamentData[[#This Row],[Robot Design Rank]]) + TournamentData[[#This Row],[Robot Game Rank]])","v":""},{"$f":"IF(TournamentData[[#This Row],[Team Number]]=\"\",\"\",IF(M35,RANK(M35,M$3:M$110,1)-COUNTIF(M$3:M$110,0),NumberOfTeams+1))","v":""},{"$f":"IF(ISNA(INDEX(CoreValuesResults[Breakthrough Selection],MATCH(TournamentData[[#This Row],[Team Number]],CoreValuesResults[Team Number],0))),0, INDEX(CoreValuesResults[Breakthrough Selection],MATCH(TournamentData[[#This Row],[Team Number]],CoreValuesResults[Team Number],0)))","v":0},{"$f":"IF(ISNA(INDEX(CoreValuesResults[Rising All-Star Selection],MATCH(TournamentData[[#This Row],[Team Number]],CoreValuesResults[Team Number],0))),0, INDEX(CoreValuesResults[Rising All-Star Selection],MATCH(TournamentData[[#This Row],[Team Number]],CoreValuesResults[Team Number],0)))","v":0},{"$f":"IF(ISNA(INDEX(CoreValuesResults[Motivate Selection],MATCH(TournamentData[[#This Row],[Team Number]],CoreValuesResults[Team Number],0))),0, INDEX(CoreValuesResults[Motivate Selection],MATCH(TournamentData[[#This Row],[Team Number]],CoreValuesResults[Team Number],0)))","v":0},null,null,null,{"$f":"IF(ISNA(INDEX(CoreValuesResults[Core Values Score],MATCH(TournamentData[[#This Row],[Team Number]],CoreValuesResults[Team Number],0))),0,INDEX(CoreValuesResults[Core Values Score],MATCH(TournamentData[[#This Row],[Team Number]],CoreValuesResults[Team Number],0)))","v":0},{"$f":"IF(ISNA(INDEX(InnovationProjectResults[Innovation Project Score],MATCH(TournamentData[[#This Row],[Team Number]],InnovationProjectResults[Team Number],0))),0,INDEX(InnovationProjectResults[Innovation Project Score],MATCH(TournamentData[[#This Row],[Team Number]],InnovationProjectResults[Team Number],0)))","v":0},{"$f":"IF(ISNA(INDEX(RobotDesignResults[Robot Design Score],MATCH(TournamentData[[#This Row],[Team Number]],RobotDesignResults[Team Number],0))),0,INDEX(RobotDesignResults[Robot Design Score],MATCH(TournamentData[[#This Row],[Team Number]],RobotDesignResults[Team Number],0)))","v":0},{"$f":"IF(ISERR(GEOMEAN(TournamentData[[#This Row],[Max Robot Game Score]],TournamentData[[#This Row],[Core Values Score]],TournamentData[[#This Row],[Innovattion Project Score]],TournamentData[[#This Row],[Robot Design Score]])),0,GEOMEAN(TournamentData[[#This Row],[Max Robot Game Score]],TournamentData[[#This Row],[Core Values Score]],TournamentData[[#This Row],[Innovattion Project Score]],TournamentData[[#This Row],[Robot Design Score]]))","v":0},{"$f":"IF(X35,_xlfn.RANK.EQ(X35,X$3:X$110,0),NumberOfTeams)","v":0}]
[null,{"$f":"IF(ISNA(INDEX(OfficialTeamList[Team Name],MATCH(TournamentData[[#This Row],[Team Number]], OfficialTeamList[Team Number],0))),\"\",INDEX(OfficialTeamList[Team Name],MATCH(TournamentData[[#This Row],[Team Number]], OfficialTeamList[Team Number],0)))","v":""},{"$f":"IF(TournamentData[[#This Row],[Team Number]]=\"\",\"\",IF(ISNA(INDEX('Robot Game Scores'!D:D,MATCH(TournamentData[[#This Row],[Team Number]], 'Robot Game Scores'!$B:$B,0))),0,INDEX('Robot Game Scores'!D:D,MATCH(TournamentData[[#This Row],[Team Number]], 'Robot Game Scores'!$B:$B,0))))","v":""},{"$f":"IF(TournamentData[[#This Row],[Team Number]]=\"\",\"\",IF(ISNA(INDEX('Robot Game Scores'!E:E,MATCH(TournamentData[[#This Row],[Team Number]], 'Robot Game Scores'!$B:$B,0))),0,INDEX('Robot Game Scores'!E:E,MATCH(TournamentData[[#This Row],[Team Number]], 'Robot Game Scores'!$B:$B,0))))","v":""},{"$f":"IF(TournamentData[[#This Row],[Team Number]]=\"\",\"\",IF(ISNA(INDEX('Robot Game Scores'!F:F,MATCH(TournamentData[[#This Row],[Team Number]], 'Robot Game Scores'!$B:$B,0))),0,INDEX('Robot Game Scores'!F:F,MATCH(TournamentData[[#This Row],[Team Number]], 'Robot Game Scores'!$B:$B,0))))","v":""},{"$f":"IF(TournamentData[[#This Row],[Team Number]]=\"\",\"\",IF(ISNA(INDEX('Robot Game Scores'!G:G,MATCH(TournamentData[[#This Row],[Team Number]], 'Robot Game Scores'!$B:$B,0))),0,INDEX('Robot Game Scores'!G:G,MATCH(TournamentData[[#This Row],[Team Number]], 'Robot Game Scores'!$B:$B,0))))","v":""},{"$f":"IF(TournamentData[[#This Row],[Team Number]]=\"\",\"\",IF(ISNA(INDEX('Robot Game Scores'!H:H,MATCH(TournamentData[[#This Row],[Team Number]], 'Robot Game Scores'!$B:$B,0))),0,INDEX('Robot Game Scores'!H:H,MATCH(TournamentData[[#This Row],[Team Number]], 'Robot Game Scores'!$B:$B,0))))","v":""},{"$f":"IF(TournamentData[[#This Row],[Team Number]]=\"\",\"\",IF(ISNA(LARGE(TournamentData[[#This Row],[Robot Game Score 1]:[Robot Game Score 5]],1)+0.0001*LARGE(TournamentData[[#This Row],[Robot Game Score 1]:[Robot Game Score 5]],2)+0.0000001*LARGE(TournamentData[[#This Row],[Robot Game Score 1]:[Robot Game Score 5]],3)+0.00000000001*LARGE(TournamentData[[#This Row],[Robot Game Score 1]:[Robot Game Score 5]],4)+0.00000000000001*LARGE(TournamentData[[#This Row],[Robot Game Score 1]:[Robot Game Score 5]],5)),0,LARGE(TournamentData[[#This Row],[Robot Game Score 1]:[Robot Game Score 5]],1)+0.0001*LARGE(TournamentData[[#This Row],[Robot Game Score 1]:[Robot Game Score 5]],2)+0.0000001*LARGE(TournamentData[[#This Row],[Robot Game Score 1]:[Robot Game Score 5]],3)+0.00000000001*LARGE(TournamentData[[#This Row],[Robot Game Score 1]:[Robot Game Score 5]],4)+0.00000000000001*LARGE(TournamentData[[#This Row],[Robot Game Score 1]:[Robot Game Score 5]],5)))","v":""},{"$f":"IF(TournamentData[[#This Row],[Team Number]]=\"\",\"\",_xlfn.RANK.EQ(TournamentData[[#This Row],[Max Robot Game Score]],TournamentData[Max Robot Game Score]))","v":""},{"$f":"IF(TournamentData[[#This Row],[Team Number]]=\"\",\"\",IF(ISNA(INDEX(CoreValuesResults[Core Values Rank],MATCH(TournamentData[[#This Row],[Team Number]],CoreValuesResults[Team Number],0))),NumberOfTeams+1,INDEX(CoreValuesResults[Core Values Rank],MATCH(TournamentData[[#This Row],[Team Number]],CoreValuesResults[Team Number],0))))","v":""},{"$f":"IF(TournamentData[[#This Row],[Team Number]]=\"\",\"\",IF(ISNA(INDEX(InnovationProjectResults[Innovation Project Rank],MATCH(TournamentData[[#This Row],[Team Number]],InnovationProjectResults[Team Number],0))),NumberOfTeams+1,INDEX(InnovationProjectResults[Innovation Project Rank],MATCH(TournamentData[[#This Row],[Team Number]],InnovationProjectResults[Team Number],0))))","v":""},{"$f":"IF(TournamentData[[#This Row],[Team Number]]=\"\",\"\",IF(ISNA(INDEX(RobotDesignResults[Robot Design Rank],MATCH(TournamentData[[#This Row],[Team Number]],RobotDesignResults[Team Number],0))),NumberOfTeams+1,INDEX(RobotDesignResults[Robot Design Rank],MATCH(TournamentData[[#This Row],[Team Number]],RobotDesignResults[Team Number],0))))","v":""},{"$f":" IF(TournamentData[[#This Row],[Team Number]]=\"\",\"\",IF(TournamentData[[#This Row],[Core Values Rank]]=\"\",NumberOfTeams+1,TournamentData[[#This Row],[Core Values Rank]]) + IF(TournamentData[[#This Row],[Innovation Project Rank]]=\"\",NumberOfTeams+1,TournamentData[[#This Row],[Innovation Project Rank]]) + IF(TournamentData[[#This Row],[Robot Design Rank]]=\"\",NumberOfTeams+1,TournamentData[[#This Row],[Robot Design Rank]]) + TournamentData[[#This Row],[Robot Game Rank]])","v":""},{"$f":"IF(TournamentData[[#This Row],[Team Number]]=\"\",\"\",IF(M36,RANK(M36,M$3:M$110,1)-COUNTIF(M$3:M$110,0),NumberOfTeams+1))","v":""},{"$f":"IF(ISNA(INDEX(CoreValuesResults[Breakthrough Selection],MATCH(TournamentData[[#This Row],[Team Number]],CoreValuesResults[Team Number],0))),0, INDEX(CoreValuesResults[Breakthrough Selection],MATCH(TournamentData[[#This Row],[Team Number]],CoreValuesResults[Team Number],0)))","v":0},{"$f":"IF(ISNA(INDEX(CoreValuesResults[Rising All-Star Selection],MATCH(TournamentData[[#This Row],[Team Number]],CoreValuesResults[Team Number],0))),0, INDEX(CoreValuesResults[Rising All-Star Selection],MATCH(TournamentData[[#This Row],[Team Number]],CoreValuesResults[Team Number],0)))","v":0},{"$f":"IF(ISNA(INDEX(CoreValuesResults[Motivate Selection],MATCH(TournamentData[[#This Row],[Team Number]],CoreValuesResults[Team Number],0))),0, INDEX(CoreValuesResults[Motivate Selection],MATCH(TournamentData[[#This Row],[Team Number]],CoreValuesResults[Team Number],0)))","v":0},null,null,null,{"$f":"IF(ISNA(INDEX(CoreValuesResults[Core Values Score],MATCH(TournamentData[[#This Row],[Team Number]],CoreValuesResults[Team Number],0))),0,INDEX(CoreValuesResults[Core Values Score],MATCH(TournamentData[[#This Row],[Team Number]],CoreValuesResults[Team Number],0)))","v":0},{"$f":"IF(ISNA(INDEX(InnovationProjectResults[Innovation Project Score],MATCH(TournamentData[[#This Row],[Team Number]],InnovationProjectResults[Team Number],0))),0,INDEX(InnovationProjectResults[Innovation Project Score],MATCH(TournamentData[[#This Row],[Team Number]],InnovationProjectResults[Team Number],0)))","v":0},{"$f":"IF(ISNA(INDEX(RobotDesignResults[Robot Design Score],MATCH(TournamentData[[#This Row],[Team Number]],RobotDesignResults[Team Number],0))),0,INDEX(RobotDesignResults[Robot Design Score],MATCH(TournamentData[[#This Row],[Team Number]],RobotDesignResults[Team Number],0)))","v":0},{"$f":"IF(ISERR(GEOMEAN(TournamentData[[#This Row],[Max Robot Game Score]],TournamentData[[#This Row],[Core Values Score]],TournamentData[[#This Row],[Innovattion Project Score]],TournamentData[[#This Row],[Robot Design Score]])),0,GEOMEAN(TournamentData[[#This Row],[Max Robot Game Score]],TournamentData[[#This Row],[Core Values Score]],TournamentData[[#This Row],[Innovattion Project Score]],TournamentData[[#This Row],[Robot Design Score]]))","v":0},0]
[null,{"$f":"IF(ISNA(INDEX(OfficialTeamList[Team Name],MATCH(TournamentData[[#This Row],[Team Number]], OfficialTeamList[Team Number],0))),\"\",INDEX(OfficialTeamList[Team Name],MATCH(TournamentData[[#This Row],[Team Number]], OfficialTeamList[Team Number],0)))","v":""},{"$f":"IF(TournamentData[[#This Row],[Team Number]]=\"\",\"\",IF(ISNA(INDEX('Robot Game Scores'!D:D,MATCH(TournamentData[[#This Row],[Team Number]], 'Robot Game Scores'!$B:$B,0))),0,INDEX('Robot Game Scores'!D:D,MATCH(TournamentData[[#This Row],[Team Number]], 'Robot Game Scores'!$B:$B,0))))","v":""},{"$f":"IF(TournamentData[[#This Row],[Team Number]]=\"\",\"\",IF(ISNA(INDEX('Robot Game Scores'!E:E,MATCH(TournamentData[[#This Row],[Team Number]], 'Robot Game Scores'!$B:$B,0))),0,INDEX('Robot Game Scores'!E:E,MATCH(TournamentData[[#This Row],[Team Number]], 'Robot Game Scores'!$B:$B,0))))","v":""},{"$f":"IF(TournamentData[[#This Row],[Team Number]]=\"\",\"\",IF(ISNA(INDEX('Robot Game Scores'!F:F,MATCH(TournamentData[[#This Row],[Team Number]], 'Robot Game Scores'!$B:$B,0))),0,INDEX('Robot Game Scores'!F:F,MATCH(TournamentData[[#This Row],[Team Number]], 'Robot Game Scores'!$B:$B,0))))","v":""},{"$f":"IF(TournamentData[[#This Row],[Team Number]]=\"\",\"\",IF(ISNA(INDEX('Robot Game Scores'!G:G,MATCH(TournamentData[[#This Row],[Team Number]], 'Robot Game Scores'!$B:$B,0))),0,INDEX('Robot Game Scores'!G:G,MATCH(TournamentData[[#This Row],[Team Number]], 'Robot Game Scores'!$B:$B,0))))","v":""},{"$f":"IF(TournamentData[[#This Row],[Team Number]]=\"\",\"\",IF(ISNA(INDEX('Robot Game Scores'!H:H,MATCH(TournamentData[[#This Row],[Team Number]], 'Robot Game Scores'!$B:$B,0))),0,INDEX('Robot Game Scores'!H:H,MATCH(TournamentData[[#This Row],[Team Number]], 'Robot Game Scores'!$B:$B,0))))","v":""},{"$f":"IF(TournamentData[[#This Row],[Team Number]]=\"\",\"\",IF(ISNA(LARGE(TournamentData[[#This Row],[Robot Game Score 1]:[Robot Game Score 5]],1)+0.0001*LARGE(TournamentData[[#This Row],[Robot Game Score 1]:[Robot Game Score 5]],2)+0.0000001*LARGE(TournamentData[[#This Row],[Robot Game Score 1]:[Robot Game Score 5]],3)+0.00000000001*LARGE(TournamentData[[#This Row],[Robot Game Score 1]:[Robot Game Score 5]],4)+0.00000000000001*LARGE(TournamentData[[#This Row],[Robot Game Score 1]:[Robot Game Score 5]],5)),0,LARGE(TournamentData[[#This Row],[Robot Game Score 1]:[Robot Game Score 5]],1)+0.0001*LARGE(TournamentData[[#This Row],[Robot Game Score 1]:[Robot Game Score 5]],2)+0.0000001*LARGE(TournamentData[[#This Row],[Robot Game Score 1]:[Robot Game Score 5]],3)+0.00000000001*LARGE(TournamentData[[#This Row],[Robot Game Score 1]:[Robot Game Score 5]],4)+0.00000000000001*LARGE(TournamentData[[#This Row],[Robot Game Score 1]:[Robot Game Score 5]],5)))","v":""},{"$f":"IF(TournamentData[[#This Row],[Team Number]]=\"\",\"\",_xlfn.RANK.EQ(TournamentData[[#This Row],[Max Robot Game Score]],TournamentData[Max Robot Game Score]))","v":""},{"$f":"IF(TournamentData[[#This Row],[Team Number]]=\"\",\"\",IF(ISNA(INDEX(CoreValuesResults[Core Values Rank],MATCH(TournamentData[[#This Row],[Team Number]],CoreValuesResults[Team Number],0))),NumberOfTeams+1,INDEX(CoreValuesResults[Core Values Rank],MATCH(TournamentData[[#This Row],[Team Number]],CoreValuesResults[Team Number],0))))","v":""},{"$f":"IF(TournamentData[[#This Row],[Team Number]]=\"\",\"\",IF(ISNA(INDEX(InnovationProjectResults[Innovation Project Rank],MATCH(TournamentData[[#This Row],[Team Number]],InnovationProjectResults[Team Number],0))),NumberOfTeams+1,INDEX(InnovationProjectResults[Innovation Project Rank],MATCH(TournamentData[[#This Row],[Team Number]],InnovationProjectResults[Team Number],0))))","v":""},{"$f":"IF(TournamentData[[#This Row],[Team Number]]=\"\",\"\",IF(ISNA(INDEX(RobotDesignResults[Robot Design Rank],MATCH(TournamentData[[#This Row],[Team Number]],RobotDesignResults[Team Number],0))),NumberOfTeams+1,INDEX(RobotDesignResults[Robot Design Rank],MATCH(TournamentData[[#This Row],[Team Number]],RobotDesignResults[Team Number],0))))","v":""},{"$f":" IF(TournamentData[[#This Row],[Team Number]]=\"\",\"\",IF(TournamentData[[#This Row],[Core Values Rank]]=\"\",NumberOfTeams+1,TournamentData[[#This Row],[Core Values Rank]]) + IF(TournamentData[[#This Row],[Innovation Project Rank]]=\"\",NumberOfTeams+1,TournamentData[[#This Row],[Innovation Project Rank]]) + IF(TournamentData[[#This Row],[Robot Design Rank]]=\"\",NumberOfTeams+1,TournamentData[[#This Row],[Robot Design Rank]]) + TournamentData[[#This Row],[Robot Game Rank]])","v":""},{"$f":"IF(TournamentData[[#This Row],[Team Number]]=\"\",\"\",IF(M37,RANK(M37,M$3:M$110,1)-COUNTIF(M$3:M$110,0),NumberOfTeams+1))","v":""},{"$f":"IF(ISNA(INDEX(CoreValuesResults[Breakthrough Selection],MATCH(TournamentData[[#This Row],[Team Number]],CoreValuesResults[Team Number],0))),0, INDEX(CoreValuesResults[Breakthrough Selection],MATCH(TournamentData[[#This Row],[Team Number]],CoreValuesResults[Team Number],0)))","v":0},{"$f":"IF(ISNA(INDEX(CoreValuesResults[Rising All-Star Selection],MATCH(TournamentData[[#This Row],[Team Number]],CoreValuesResults[Team Number],0))),0, INDEX(CoreValuesResults[Rising All-Star Selection],MATCH(TournamentData[[#This Row],[Team Number]],CoreValuesResults[Team Number],0)))","v":0},{"$f":"IF(ISNA(INDEX(CoreValuesResults[Motivate Selection],MATCH(TournamentData[[#This Row],[Team Number]],CoreValuesResults[Team Number],0))),0, INDEX(CoreValuesResults[Motivate Selection],MATCH(TournamentData[[#This Row],[Team Number]],CoreValuesResults[Team Number],0)))","v":0},null,null,null,{"$f":"IF(ISNA(INDEX(CoreValuesResults[Core Values Score],MATCH(TournamentData[[#This Row],[Team Number]],CoreValuesResults[Team Number],0))),0,INDEX(CoreValuesResults[Core Values Score],MATCH(TournamentData[[#This Row],[Team Number]],CoreValuesResults[Team Number],0)))","v":0},{"$f":"IF(ISNA(INDEX(InnovationProjectResults[Innovation Project Score],MATCH(TournamentData[[#This Row],[Team Number]],InnovationProjectResults[Team Number],0))),0,INDEX(InnovationProjectResults[Innovation Project Score],MATCH(TournamentData[[#This Row],[Team Number]],InnovationProjectResults[Team Number],0)))","v":0},{"$f":"IF(ISNA(INDEX(RobotDesignResults[Robot Design Score],MATCH(TournamentData[[#This Row],[Team Number]],RobotDesignResults[Team Number],0))),0,INDEX(RobotDesignResults[Robot Design Score],MATCH(TournamentData[[#This Row],[Team Number]],RobotDesignResults[Team Number],0)))","v":0},{"$f":"IF(ISERR(GEOMEAN(TournamentData[[#This Row],[Max Robot Game Score]],TournamentData[[#This Row],[Core Values Score]],TournamentData[[#This Row],[Innovattion Project Score]],TournamentData[[#This Row],[Robot Design Score]])),0,GEOMEAN(TournamentData[[#This Row],[Max Robot Game Score]],TournamentData[[#This Row],[Core Values Score]],TournamentData[[#This Row],[Innovattion Project Score]],TournamentData[[#This Row],[Robot Design Score]]))","v":0},0]
[null,{"$f":"IF(ISNA(INDEX(OfficialTeamList[Team Name],MATCH(TournamentData[[#This Row],[Team Number]], OfficialTeamList[Team Number],0))),\"\",INDEX(OfficialTeamList[Team Name],MATCH(TournamentData[[#This Row],[Team Number]], OfficialTeamList[Team Number],0)))","v":""},{"$f":"IF(TournamentData[[#This Row],[Team Number]]=\"\",\"\",IF(ISNA(INDEX('Robot Game Scores'!D:D,MATCH(TournamentData[[#This Row],[Team Number]], 'Robot Game Scores'!$B:$B,0))),0,INDEX('Robot Game Scores'!D:D,MATCH(TournamentData[[#This Row],[Team Number]], 'Robot Game Scores'!$B:$B,0))))","v":""},{"$f":"IF(TournamentData[[#This Row],[Team Number]]=\"\",\"\",IF(ISNA(INDEX('Robot Game Scores'!E:E,MATCH(TournamentData[[#This Row],[Team Number]], 'Robot Game Scores'!$B:$B,0))),0,INDEX('Robot Game Scores'!E:E,MATCH(TournamentData[[#This Row],[Team Number]], 'Robot Game Scores'!$B:$B,0))))","v":""},{"$f":"IF(TournamentData[[#This Row],[Team Number]]=\"\",\"\",IF(ISNA(INDEX('Robot Game Scores'!F:F,MATCH(TournamentData[[#This Row],[Team Number]], 'Robot Game Scores'!$B:$B,0))),0,INDEX('Robot Game Scores'!F:F,MATCH(TournamentData[[#This Row],[Team Number]], 'Robot Game Scores'!$B:$B,0))))","v":""},{"$f":"IF(TournamentData[[#This Row],[Team Number]]=\"\",\"\",IF(ISNA(INDEX('Robot Game Scores'!G:G,MATCH(TournamentData[[#This Row],[Team Number]], 'Robot Game Scores'!$B:$B,0))),0,INDEX('Robot Game Scores'!G:G,MATCH(TournamentData[[#This Row],[Team Number]], 'Robot Game Scores'!$B:$B,0))))","v":""},{"$f":"IF(TournamentData[[#This Row],[Team Number]]=\"\",\"\",IF(ISNA(INDEX('Robot Game Scores'!H:H,MATCH(TournamentData[[#This Row],[Team Number]], 'Robot Game Scores'!$B:$B,0))),0,INDEX('Robot Game Scores'!H:H,MATCH(TournamentData[[#This Row],[Team Number]], 'Robot Game Scores'!$B:$B,0))))","v":""},{"$f":"IF(TournamentData[[#This Row],[Team Number]]=\"\",\"\",IF(ISNA(LARGE(TournamentData[[#This Row],[Robot Game Score 1]:[Robot Game Score 5]],1)+0.0001*LARGE(TournamentData[[#This Row],[Robot Game Score 1]:[Robot Game Score 5]],2)+0.0000001*LARGE(TournamentData[[#This Row],[Robot Game Score 1]:[Robot Game Score 5]],3)+0.00000000001*LARGE(TournamentData[[#This Row],[Robot Game Score 1]:[Robot Game Score 5]],4)+0.00000000000001*LARGE(TournamentData[[#This Row],[Robot Game Score 1]:[Robot Game Score 5]],5)),0,LARGE(TournamentData[[#This Row],[Robot Game Score 1]:[Robot Game Score 5]],1)+0.0001*LARGE(TournamentData[[#This Row],[Robot Game Score 1]:[Robot Game Score 5]],2)+0.0000001*LARGE(TournamentData[[#This Row],[Robot Game Score 1]:[Robot Game Score 5]],3)+0.00000000001*LARGE(TournamentData[[#This Row],[Robot Game Score 1]:[Robot Game Score 5]],4)+0.00000000000001*LARGE(TournamentData[[#This Row],[Robot Game Score 1]:[Robot Game Score 5]],5)))","v":""},{"$f":"IF(TournamentData[[#This Row],[Team Number]]=\"\",\"\",_xlfn.RANK.EQ(TournamentData[[#This Row],[Max Robot Game Score]],TournamentData[Max Robot Game Score]))","v":""},{"$f":"IF(TournamentData[[#This Row],[Team Number]]=\"\",\"\",IF(ISNA(INDEX(CoreValuesResults[Core Values Rank],MATCH(TournamentData[[#This Row],[Team Number]],CoreValuesResults[Team Number],0))),NumberOfTeams+1,INDEX(CoreValuesResults[Core Values Rank],MATCH(TournamentData[[#This Row],[Team Number]],CoreValuesResults[Team Number],0))))","v":""},{"$f":"IF(TournamentData[[#This Row],[Team Number]]=\"\",\"\",IF(ISNA(INDEX(InnovationProjectResults[Innovation Project Rank],MATCH(TournamentData[[#This Row],[Team Number]],InnovationProjectResults[Team Number],0))),NumberOfTeams+1,INDEX(InnovationProjectResults[Innovation Project Rank],MATCH(TournamentData[[#This Row],[Team Number]],InnovationProjectResults[Team Number],0))))","v":""},{"$f":"IF(TournamentData[[#This Row],[Team Number]]=\"\",\"\",IF(ISNA(INDEX(RobotDesignResults[Robot Design Rank],MATCH(TournamentData[[#This Row],[Team Number]],RobotDesignResults[Team Number],0))),NumberOfTeams+1,INDEX(RobotDesignResults[Robot Design Rank],MATCH(TournamentData[[#This Row],[Team Number]],RobotDesignResults[Team Number],0))))","v":""},{"$f":" IF(TournamentData[[#This Row],[Team Number]]=\"\",\"\",IF(TournamentData[[#This Row],[Core Values Rank]]=\"\",NumberOfTeams+1,TournamentData[[#This Row],[Core Values Rank]]) + IF(TournamentData[[#This Row],[Innovation Project Rank]]=\"\",NumberOfTeams+1,TournamentData[[#This Row],[Innovation Project Rank]]) + IF(TournamentData[[#This Row],[Robot Design Rank]]=\"\",NumberOfTeams+1,TournamentData[[#This Row],[Robot Design Rank]]) + TournamentData[[#This Row],[Robot Game Rank]])","v":""},{"$f":"IF(TournamentData[[#This Row],[Team Number]]=\"\",\"\",IF(M38,RANK(M38,M$3:M$110,1)-COUNTIF(M$3:M$110,0),NumberOfTeams+1))","v":""},{"$f":"IF(ISNA(INDEX(CoreValuesResults[Breakthrough Selection],MATCH(TournamentData[[#This Row],[Team Number]],CoreValuesResults[Team Number],0))),0, INDEX(CoreValuesResults[Breakthrough Selection],MATCH(TournamentData[[#This Row],[Team Number]],CoreValuesResults[Team Number],0)))","v":0},{"$f":"IF(ISNA(INDEX(CoreValuesResults[Rising All-Star Selection],MATCH(TournamentData[[#This Row],[Team Number]],CoreValuesResults[Team Number],0))),0, INDEX(CoreValuesResults[Rising All-Star Selection],MATCH(TournamentData[[#This Row],[Team Number]],CoreValuesResults[Team Number],0)))","v":0},{"$f":"IF(ISNA(INDEX(CoreValuesResults[Motivate Selection],MATCH(TournamentData[[#This Row],[Team Number]],CoreValuesResults[Team Number],0))),0, INDEX(CoreValuesResults[Motivate Selection],MATCH(TournamentData[[#This Row],[Team Number]],CoreValuesResults[Team Number],0)))","v":0},null,null,null,{"$f":"IF(ISNA(INDEX(CoreValuesResults[Core Values Score],MATCH(TournamentData[[#This Row],[Team Number]],CoreValuesResults[Team Number],0))),0,INDEX(CoreValuesResults[Core Values Score],MATCH(TournamentData[[#This Row],[Team Number]],CoreValuesResults[Team Number],0)))","v":0},{"$f":"IF(ISNA(INDEX(InnovationProjectResults[Innovation Project Score],MATCH(TournamentData[[#This Row],[Team Number]],InnovationProjectResults[Team Number],0))),0,INDEX(InnovationProjectResults[Innovation Project Score],MATCH(TournamentData[[#This Row],[Team Number]],InnovationProjectResults[Team Number],0)))","v":0},{"$f":"IF(ISNA(INDEX(RobotDesignResults[Robot Design Score],MATCH(TournamentData[[#This Row],[Team Number]],RobotDesignResults[Team Number],0))),0,INDEX(RobotDesignResults[Robot Design Score],MATCH(TournamentData[[#This Row],[Team Number]],RobotDesignResults[Team Number],0)))","v":0},{"$f":"IF(ISERR(GEOMEAN(TournamentData[[#This Row],[Max Robot Game Score]],TournamentData[[#This Row],[Core Values Score]],TournamentData[[#This Row],[Innovattion Project Score]],TournamentData[[#This Row],[Robot Design Score]])),0,GEOMEAN(TournamentData[[#This Row],[Max Robot Game Score]],TournamentData[[#This Row],[Core Values Score]],TournamentData[[#This Row],[Innovattion Project Score]],TournamentData[[#This Row],[Robot Design Score]]))","v":0},0]
[null,{"$f":"IF(ISNA(INDEX(OfficialTeamList[Team Name],MATCH(TournamentData[[#This Row],[Team Number]], OfficialTeamList[Team Number],0))),\"\",INDEX(OfficialTeamList[Team Name],MATCH(TournamentData[[#This Row],[Team Number]], OfficialTeamList[Team Number],0)))","v":""},{"$f":"IF(TournamentData[[#This Row],[Team Number]]=\"\",\"\",IF(ISNA(INDEX('Robot Game Scores'!D:D,MATCH(TournamentData[[#This Row],[Team Number]], 'Robot Game Scores'!$B:$B,0))),0,INDEX('Robot Game Scores'!D:D,MATCH(TournamentData[[#This Row],[Team Number]], 'Robot Game Scores'!$B:$B,0))))","v":""},{"$f":"IF(TournamentData[[#This Row],[Team Number]]=\"\",\"\",IF(ISNA(INDEX('Robot Game Scores'!E:E,MATCH(TournamentData[[#This Row],[Team Number]], 'Robot Game Scores'!$B:$B,0))),0,INDEX('Robot Game Scores'!E:E,MATCH(TournamentData[[#This Row],[Team Number]], 'Robot Game Scores'!$B:$B,0))))","v":""},{"$f":"IF(TournamentData[[#This Row],[Team Number]]=\"\",\"\",IF(ISNA(INDEX('Robot Game Scores'!F:F,MATCH(TournamentData[[#This Row],[Team Number]], 'Robot Game Scores'!$B:$B,0))),0,INDEX('Robot Game Scores'!F:F,MATCH(TournamentData[[#This Row],[Team Number]], 'Robot Game Scores'!$B:$B,0))))","v":""},{"$f":"IF(TournamentData[[#This Row],[Team Number]]=\"\",\"\",IF(ISNA(INDEX('Robot Game Scores'!G:G,MATCH(TournamentData[[#This Row],[Team Number]], 'Robot Game Scores'!$B:$B,0))),0,INDEX('Robot Game Scores'!G:G,MATCH(TournamentData[[#This Row],[Team Number]], 'Robot Game Scores'!$B:$B,0))))","v":""},{"$f":"IF(TournamentData[[#This Row],[Team Number]]=\"\",\"\",IF(ISNA(INDEX('Robot Game Scores'!H:H,MATCH(TournamentData[[#This Row],[Team Number]], 'Robot Game Scores'!$B:$B,0))),0,INDEX('Robot Game Scores'!H:H,MATCH(TournamentData[[#This Row],[Team Number]], 'Robot Game Scores'!$B:$B,0))))","v":""},{"$f":"IF(TournamentData[[#This Row],[Team Number]]=\"\",\"\",IF(ISNA(LARGE(TournamentData[[#This Row],[Robot Game Score 1]:[Robot Game Score 5]],1)+0.0001*LARGE(TournamentData[[#This Row],[Robot Game Score 1]:[Robot Game Score 5]],2)+0.0000001*LARGE(TournamentData[[#This Row],[Robot Game Score 1]:[Robot Game Score 5]],3)+0.00000000001*LARGE(TournamentData[[#This Row],[Robot Game Score 1]:[Robot Game Score 5]],4)+0.00000000000001*LARGE(TournamentData[[#This Row],[Robot Game Score 1]:[Robot Game Score 5]],5)),0,LARGE(TournamentData[[#This Row],[Robot Game Score 1]:[Robot Game Score 5]],1)+0.0001*LARGE(TournamentData[[#This Row],[Robot Game Score 1]:[Robot Game Score 5]],2)+0.0000001*LARGE(TournamentData[[#This Row],[Robot Game Score 1]:[Robot Game Score 5]],3)+0.00000000001*LARGE(TournamentData[[#This Row],[Robot Game Score 1]:[Robot Game Score 5]],4)+0.00000000000001*LARGE(TournamentData[[#This Row],[Robot Game Score 1]:[Robot Game Score 5]],5)))","v":""},{"$f":"IF(TournamentData[[#This Row],[Team Number]]=\"\",\"\",_xlfn.RANK.EQ(TournamentData[[#This Row],[Max Robot Game Score]],TournamentData[Max Robot Game Score]))","v":""},{"$f":"IF(TournamentData[[#This Row],[Team Number]]=\"\",\"\",IF(ISNA(INDEX(CoreValuesResults[Core Values Rank],MATCH(TournamentData[[#This Row],[Team Number]],CoreValuesResults[Team Number],0))),NumberOfTeams+1,INDEX(CoreValuesResults[Core Values Rank],MATCH(TournamentData[[#This Row],[Team Number]],CoreValuesResults[Team Number],0))))","v":""},{"$f":"IF(TournamentData[[#This Row],[Team Number]]=\"\",\"\",IF(ISNA(INDEX(InnovationProjectResults[Innovation Project Rank],MATCH(TournamentData[[#This Row],[Team Number]],InnovationProjectResults[Team Number],0))),NumberOfTeams+1,INDEX(InnovationProjectResults[Innovation Project Rank],MATCH(TournamentData[[#This Row],[Team Number]],InnovationProjectResults[Team Number],0))))","v":""},{"$f":"IF(TournamentData[[#This Row],[Team Number]]=\"\",\"\",IF(ISNA(INDEX(RobotDesignResults[Robot Design Rank],MATCH(TournamentData[[#This Row],[Team Number]],RobotDesignResults[Team Number],0))),NumberOfTeams+1,INDEX(RobotDesignResults[Robot Design Rank],MATCH(TournamentData[[#This Row],[Team Number]],RobotDesignResults[Team Number],0))))","v":""},{"$f":" IF(TournamentData[[#This Row],[Team Number]]=\"\",\"\",IF(TournamentData[[#This Row],[Core Values Rank]]=\"\",NumberOfTeams+1,TournamentData[[#This Row],[Core Values Rank]]) + IF(TournamentData[[#This Row],[Innovation Project Rank]]=\"\",NumberOfTeams+1,TournamentData[[#This Row],[Innovation Project Rank]]) + IF(TournamentData[[#This Row],[Robot Design Rank]]=\"\",NumberOfTeams+1,TournamentData[[#This Row],[Robot Design Rank]]) + TournamentData[[#This Row],[Robot Game Rank]])","v":""},{"$f":"IF(TournamentData[[#This Row],[Team Number]]=\"\",\"\",IF(M39,RANK(M39,M$3:M$110,1)-COUNTIF(M$3:M$110,0),NumberOfTeams+1))","v":""},{"$f":"IF(ISNA(INDEX(CoreValuesResults[Breakthrough Selection],MATCH(TournamentData[[#This Row],[Team Number]],CoreValuesResults[Team Number],0))),0, INDEX(CoreValuesResults[Breakthrough Selection],MATCH(TournamentData[[#This Row],[Team Number]],CoreValuesResults[Team Number],0)))","v":0},{"$f":"IF(ISNA(INDEX(CoreValuesResults[Rising All-Star Selection],MATCH(TournamentData[[#This Row],[Team Number]],CoreValuesResults[Team Number],0))),0, INDEX(CoreValuesResults[Rising All-Star Selection],MATCH(TournamentData[[#This Row],[Team Number]],CoreValuesResults[Team Number],0)))","v":0},{"$f":"IF(ISNA(INDEX(CoreValuesResults[Motivate Selection],MATCH(TournamentData[[#This Row],[Team Number]],CoreValuesResults[Team Number],0))),0, INDEX(CoreValuesResults[Motivate Selection],MATCH(TournamentData[[#This Row],[Team Number]],CoreValuesResults[Team Number],0)))","v":0},null,null,null,{"$f":"IF(ISNA(INDEX(CoreValuesResults[Core Values Score],MATCH(TournamentData[[#This Row],[Team Number]],CoreValuesResults[Team Number],0))),0,INDEX(CoreValuesResults[Core Values Score],MATCH(TournamentData[[#This Row],[Team Number]],CoreValuesResults[Team Number],0)))","v":0},{"$f":"IF(ISNA(INDEX(InnovationProjectResults[Innovation Project Score],MATCH(TournamentData[[#This Row],[Team Number]],InnovationProjectResults[Team Number],0))),0,INDEX(InnovationProjectResults[Innovation Project Score],MATCH(TournamentData[[#This Row],[Team Number]],InnovationProjectResults[Team Number],0)))","v":0},{"$f":"IF(ISNA(INDEX(RobotDesignResults[Robot Design Score],MATCH(TournamentData[[#This Row],[Team Number]],RobotDesignResults[Team Number],0))),0,INDEX(RobotDesignResults[Robot Design Score],MATCH(TournamentData[[#This Row],[Team Number]],RobotDesignResults[Team Number],0)))","v":0},{"$f":"IF(ISERR(GEOMEAN(TournamentData[[#This Row],[Max Robot Game Score]],TournamentData[[#This Row],[Core Values Score]],TournamentData[[#This Row],[Innovattion Project Score]],TournamentData[[#This Row],[Robot Design Score]])),0,GEOMEAN(TournamentData[[#This Row],[Max Robot Game Score]],TournamentData[[#This Row],[Core Values Score]],TournamentData[[#This Row],[Innovattion Project Score]],TournamentData[[#This Row],[Robot Design Score]]))","v":0},0]
[null,{"$f":"IF(ISNA(INDEX(OfficialTeamList[Team Name],MATCH(TournamentData[[#This Row],[Team Number]], OfficialTeamList[Team Number],0))),\"\",INDEX(OfficialTeamList[Team Name],MATCH(TournamentData[[#This Row],[Team Number]], OfficialTeamList[Team Number],0)))","v":""},{"$f":"IF(TournamentData[[#This Row],[Team Number]]=\"\",\"\",IF(ISNA(INDEX('Robot Game Scores'!D:D,MATCH(TournamentData[[#This Row],[Team Number]], 'Robot Game Scores'!$B:$B,0))),0,INDEX('Robot Game Scores'!D:D,MATCH(TournamentData[[#This Row],[Team Number]], 'Robot Game Scores'!$B:$B,0))))","v":""},{"$f":"IF(TournamentData[[#This Row],[Team Number]]=\"\",\"\",IF(ISNA(INDEX('Robot Game Scores'!E:E,MATCH(TournamentData[[#This Row],[Team Number]], 'Robot Game Scores'!$B:$B,0))),0,INDEX('Robot Game Scores'!E:E,MATCH(TournamentData[[#This Row],[Team Number]], 'Robot Game Scores'!$B:$B,0))))","v":""},{"$f":"IF(TournamentData[[#This Row],[Team Number]]=\"\",\"\",IF(ISNA(INDEX('Robot Game Scores'!F:F,MATCH(TournamentData[[#This Row],[Team Number]], 'Robot Game Scores'!$B:$B,0))),0,INDEX('Robot Game Scores'!F:F,MATCH(TournamentData[[#This Row],[Team Number]], 'Robot Game Scores'!$B:$B,0))))","v":""},{"$f":"IF(TournamentData[[#This Row],[Team Number]]=\"\",\"\",IF(ISNA(INDEX('Robot Game Scores'!G:G,MATCH(TournamentData[[#This Row],[Team Number]], 'Robot Game Scores'!$B:$B,0))),0,INDEX('Robot Game Scores'!G:G,MATCH(TournamentData[[#This Row],[Team Number]], 'Robot Game Scores'!$B:$B,0))))","v":""},{"$f":"IF(TournamentData[[#This Row],[Team Number]]=\"\",\"\",IF(ISNA(INDEX('Robot Game Scores'!H:H,MATCH(TournamentData[[#This Row],[Team Number]], 'Robot Game Scores'!$B:$B,0))),0,INDEX('Robot Game Scores'!H:H,MATCH(TournamentData[[#This Row],[Team Number]], 'Robot Game Scores'!$B:$B,0))))","v":""},{"$f":"IF(TournamentData[[#This Row],[Team Number]]=\"\",\"\",IF(ISNA(LARGE(TournamentData[[#This Row],[Robot Game Score 1]:[Robot Game Score 5]],1)+0.0001*LARGE(TournamentData[[#This Row],[Robot Game Score 1]:[Robot Game Score 5]],2)+0.0000001*LARGE(TournamentData[[#This Row],[Robot Game Score 1]:[Robot Game Score 5]],3)+0.00000000001*LARGE(TournamentData[[#This Row],[Robot Game Score 1]:[Robot Game Score 5]],4)+0.00000000000001*LARGE(TournamentData[[#This Row],[Robot Game Score 1]:[Robot Game Score 5]],5)),0,LARGE(TournamentData[[#This Row],[Robot Game Score 1]:[Robot Game Score 5]],1)+0.0001*LARGE(TournamentData[[#This Row],[Robot Game Score 1]:[Robot Game Score 5]],2)+0.0000001*LARGE(TournamentData[[#This Row],[Robot Game Score 1]:[Robot Game Score 5]],3)+0.00000000001*LARGE(TournamentData[[#This Row],[Robot Game Score 1]:[Robot Game Score 5]],4)+0.00000000000001*LARGE(TournamentData[[#This Row],[Robot Game Score 1]:[Robot Game Score 5]],5)))","v":""},{"$f":"IF(TournamentData[[#This Row],[Team Number]]=\"\",\"\",_xlfn.RANK.EQ(TournamentData[[#This Row],[Max Robot Game Score]],TournamentData[Max Robot Game Score]))","v":""},{"$f":"IF(TournamentData[[#This Row],[Team Number]]=\"\",\"\",IF(ISNA(INDEX(CoreValuesResults[Core Values Rank],MATCH(TournamentData[[#This Row],[Team Number]],CoreValuesResults[Team Number],0))),NumberOfTeams+1,INDEX(CoreValuesResults[Core Values Rank],MATCH(TournamentData[[#This Row],[Team Number]],CoreValuesResults[Team Number],0))))","v":""},{"$f":"IF(TournamentData[[#This Row],[Team Number]]=\"\",\"\",IF(ISNA(INDEX(InnovationProjectResults[Innovation Project Rank],MATCH(TournamentData[[#This Row],[Team Number]],InnovationProjectResults[Team Number],0))),NumberOfTeams+1,INDEX(InnovationProjectResults[Innovation Project Rank],MATCH(TournamentData[[#This Row],[Team Number]],InnovationProjectResults[Team Number],0))))","v":""},{"$f":"IF(TournamentData[[#This Row],[Team Number]]=\"\",\"\",IF(ISNA(INDEX(RobotDesignResults[Robot Design Rank],MATCH(TournamentData[[#This Row],[Team Number]],RobotDesignResults[Team Number],0))),NumberOfTeams+1,INDEX(RobotDesignResults[Robot Design Rank],MATCH(TournamentData[[#This Row],[Team Number]],RobotDesignResults[Team Number],0))))","v":""},{"$f":" IF(TournamentData[[#This Row],[Team Number]]=\"\",\"\",IF(TournamentData[[#This Row],[Core Values Rank]]=\"\",NumberOfTeams+1,TournamentData[[#This Row],[Core Values Rank]]) + IF(TournamentData[[#This Row],[Innovation Project Rank]]=\"\",NumberOfTeams+1,TournamentData[[#This Row],[Innovation Project Rank]]) + IF(TournamentData[[#This Row],[Robot Design Rank]]=\"\",NumberOfTeams+1,TournamentData[[#This Row],[Robot Design Rank]]) + TournamentData[[#This Row],[Robot Game Rank]])","v":""},{"$f":"IF(TournamentData[[#This Row],[Team Number]]=\"\",\"\",IF(M40,RANK(M40,M$3:M$110,1)-COUNTIF(M$3:M$110,0),NumberOfTeams+1))","v":""},{"$f":"IF(ISNA(INDEX(CoreValuesResults[Breakthrough Selection],MATCH(TournamentData[[#This Row],[Team Number]],CoreValuesResults[Team Number],0))),0, INDEX(CoreValuesResults[Breakthrough Selection],MATCH(TournamentData[[#This Row],[Team Number]],CoreValuesResults[Team Number],0)))","v":0},{"$f":"IF(ISNA(INDEX(CoreValuesResults[Rising All-Star Selection],MATCH(TournamentData[[#This Row],[Team Number]],CoreValuesResults[Team Number],0))),0, INDEX(CoreValuesResults[Rising All-Star Selection],MATCH(TournamentData[[#This Row],[Team Number]],CoreValuesResults[Team Number],0)))","v":0},{"$f":"IF(ISNA(INDEX(CoreValuesResults[Motivate Selection],MATCH(TournamentData[[#This Row],[Team Number]],CoreValuesResults[Team Number],0))),0, INDEX(CoreValuesResults[Motivate Selection],MATCH(TournamentData[[#This Row],[Team Number]],CoreValuesResults[Team Number],0)))","v":0},null,null,null,{"$f":"IF(ISNA(INDEX(CoreValuesResults[Core Values Score],MATCH(TournamentData[[#This Row],[Team Number]],CoreValuesResults[Team Number],0))),0,INDEX(CoreValuesResults[Core Values Score],MATCH(TournamentData[[#This Row],[Team Number]],CoreValuesResults[Team Number],0)))","v":0},{"$f":"IF(ISNA(INDEX(InnovationProjectResults[Innovation Project Score],MATCH(TournamentData[[#This Row],[Team Number]],InnovationProjectResults[Team Number],0))),0,INDEX(InnovationProjectResults[Innovation Project Score],MATCH(TournamentData[[#This Row],[Team Number]],InnovationProjectResults[Team Number],0)))","v":0},{"$f":"IF(ISNA(INDEX(RobotDesignResults[Robot Design Score],MATCH(TournamentData[[#This Row],[Team Number]],RobotDesignResults[Team Number],0))),0,INDEX(RobotDesignResults[Robot Design Score],MATCH(TournamentData[[#This Row],[Team Number]],RobotDesignResults[Team Number],0)))","v":0},{"$f":"IF(ISERR(GEOMEAN(TournamentData[[#This Row],[Max Robot Game Score]],TournamentData[[#This Row],[Core Values Score]],TournamentData[[#This Row],[Innovattion Project Score]],TournamentData[[#This Row],[Robot Design Score]])),0,GEOMEAN(TournamentData[[#This Row],[Max Robot Game Score]],TournamentData[[#This Row],[Core Values Score]],TournamentData[[#This Row],[Innovattion Project Score]],TournamentData[[#This Row],[Robot Design Score]]))","v":0},0]
[null,{"$f":"IF(ISNA(INDEX(OfficialTeamList[Team Name],MATCH(TournamentData[[#This Row],[Team Number]], OfficialTeamList[Team Number],0))),\"\",INDEX(OfficialTeamList[Team Name],MATCH(TournamentData[[#This Row],[Team Number]], OfficialTeamList[Team Number],0)))","v":""},{"$f":"IF(TournamentData[[#This Row],[Team Number]]=\"\",\"\",IF(ISNA(INDEX('Robot Game Scores'!D:D,MATCH(TournamentData[[#This Row],[Team Number]], 'Robot Game Scores'!$B:$B,0))),0,INDEX('Robot Game Scores'!D:D,MATCH(TournamentData[[#This Row],[Team Number]], 'Robot Game Scores'!$B:$B,0))))","v":""},{"$f":"IF(TournamentData[[#This Row],[Team Number]]=\"\",\"\",IF(ISNA(INDEX('Robot Game Scores'!E:E,MATCH(TournamentData[[#This Row],[Team Number]], 'Robot Game Scores'!$B:$B,0))),0,INDEX('Robot Game Scores'!E:E,MATCH(TournamentData[[#This Row],[Team Number]], 'Robot Game Scores'!$B:$B,0))))","v":""},{"$f":"IF(TournamentData[[#This Row],[Team Number]]=\"\",\"\",IF(ISNA(INDEX('Robot Game Scores'!F:F,MATCH(TournamentData[[#This Row],[Team Number]], 'Robot Game Scores'!$B:$B,0))),0,INDEX('Robot Game Scores'!F:F,MATCH(TournamentData[[#This Row],[Team Number]], 'Robot Game Scores'!$B:$B,0))))","v":""},{"$f":"IF(TournamentData[[#This Row],[Team Number]]=\"\",\"\",IF(ISNA(INDEX('Robot Game Scores'!G:G,MATCH(TournamentData[[#This Row],[Team Number]], 'Robot Game Scores'!$B:$B,0))),0,INDEX('Robot Game Scores'!G:G,MATCH(TournamentData[[#This Row],[Team Number]], 'Robot Game Scores'!$B:$B,0))))","v":""},{"$f":"IF(TournamentData[[#This Row],[Team Number]]=\"\",\"\",IF(ISNA(INDEX('Robot Game Scores'!H:H,MATCH(TournamentData[[#This Row],[Team Number]], 'Robot Game Scores'!$B:$B,0))),0,INDEX('Robot Game Scores'!H:H,MATCH(TournamentData[[#This Row],[Team Number]], 'Robot Game Scores'!$B:$B,0))))","v":""},{"$f":"IF(TournamentData[[#This Row],[Team Number]]=\"\",\"\",IF(ISNA(LARGE(TournamentData[[#This Row],[Robot Game Score 1]:[Robot Game Score 5]],1)+0.0001*LARGE(TournamentData[[#This Row],[Robot Game Score 1]:[Robot Game Score 5]],2)+0.0000001*LARGE(TournamentData[[#This Row],[Robot Game Score 1]:[Robot Game Score 5]],3)+0.00000000001*LARGE(TournamentData[[#This Row],[Robot Game Score 1]:[Robot Game Score 5]],4)+0.00000000000001*LARGE(TournamentData[[#This Row],[Robot Game Score 1]:[Robot Game Score 5]],5)),0,LARGE(TournamentData[[#This Row],[Robot Game Score 1]:[Robot Game Score 5]],1)+0.0001*LARGE(TournamentData[[#This Row],[Robot Game Score 1]:[Robot Game Score 5]],2)+0.0000001*LARGE(TournamentData[[#This Row],[Robot Game Score 1]:[Robot Game Score 5]],3)+0.00000000001*LARGE(TournamentData[[#This Row],[Robot Game Score 1]:[Robot Game Score 5]],4)+0.00000000000001*LARGE(TournamentData[[#This Row],[Robot Game Score 1]:[Robot Game Score 5]],5)))","v":""},{"$f":"IF(TournamentData[[#This Row],[Team Number]]=\"\",\"\",_xlfn.RANK.EQ(TournamentData[[#This Row],[Max Robot Game Score]],TournamentData[Max Robot Game Score]))","v":""},{"$f":"IF(TournamentData[[#This Row],[Team Number]]=\"\",\"\",IF(ISNA(INDEX(CoreValuesResults[Core Values Rank],MATCH(TournamentData[[#This Row],[Team Number]],CoreValuesResults[Team Number],0))),NumberOfTeams+1,INDEX(CoreValuesResults[Core Values Rank],MATCH(TournamentData[[#This Row],[Team Number]],CoreValuesResults[Team Number],0))))","v":""},{"$f":"IF(TournamentData[[#This Row],[Team Number]]=\"\",\"\",IF(ISNA(INDEX(InnovationProjectResults[Innovation Project Rank],MATCH(TournamentData[[#This Row],[Team Number]],InnovationProjectResults[Team Number],0))),NumberOfTeams+1,INDEX(InnovationProjectResults[Innovation Project Rank],MATCH(TournamentData[[#This Row],[Team Number]],InnovationProjectResults[Team Number],0))))","v":""},{"$f":"IF(TournamentData[[#This Row],[Team Number]]=\"\",\"\",IF(ISNA(INDEX(RobotDesignResults[Robot Design Rank],MATCH(TournamentData[[#This Row],[Team Number]],RobotDesignResults[Team Number],0))),NumberOfTeams+1,INDEX(RobotDesignResults[Robot Design Rank],MATCH(TournamentData[[#This Row],[Team Number]],RobotDesignResults[Team Number],0))))","v":""},{"$f":" IF(TournamentData[[#This Row],[Team Number]]=\"\",\"\",IF(TournamentData[[#This Row],[Core Values Rank]]=\"\",NumberOfTeams+1,TournamentData[[#This Row],[Core Values Rank]]) + IF(TournamentData[[#This Row],[Innovation Project Rank]]=\"\",NumberOfTeams+1,TournamentData[[#This Row],[Innovation Project Rank]]) + IF(TournamentData[[#This Row],[Robot Design Rank]]=\"\",NumberOfTeams+1,TournamentData[[#This Row],[Robot Design Rank]]) + TournamentData[[#This Row],[Robot Game Rank]])","v":""},{"$f":"IF(TournamentData[[#This Row],[Team Number]]=\"\",\"\",IF(M41,RANK(M41,M$3:M$110,1)-COUNTIF(M$3:M$110,0),NumberOfTeams+1))","v":""},{"$f":"IF(ISNA(INDEX(CoreValuesResults[Breakthrough Selection],MATCH(TournamentData[[#This Row],[Team Number]],CoreValuesResults[Team Number],0))),0, INDEX(CoreValuesResults[Breakthrough Selection],MATCH(TournamentData[[#This Row],[Team Number]],CoreValuesResults[Team Number],0)))","v":0},{"$f":"IF(ISNA(INDEX(CoreValuesResults[Rising All-Star Selection],MATCH(TournamentData[[#This Row],[Team Number]],CoreValuesResults[Team Number],0))),0, INDEX(CoreValuesResults[Rising All-Star Selection],MATCH(TournamentData[[#This Row],[Team Number]],CoreValuesResults[Team Number],0)))","v":0},{"$f":"IF(ISNA(INDEX(CoreValuesResults[Motivate Selection],MATCH(TournamentData[[#This Row],[Team Number]],CoreValuesResults[Team Number],0))),0, INDEX(CoreValuesResults[Motivate Selection],MATCH(TournamentData[[#This Row],[Team Number]],CoreValuesResults[Team Number],0)))","v":0},null,null,null,{"$f":"IF(ISNA(INDEX(CoreValuesResults[Core Values Score],MATCH(TournamentData[[#This Row],[Team Number]],CoreValuesResults[Team Number],0))),0,INDEX(CoreValuesResults[Core Values Score],MATCH(TournamentData[[#This Row],[Team Number]],CoreValuesResults[Team Number],0)))","v":0},{"$f":"IF(ISNA(INDEX(InnovationProjectResults[Innovation Project Score],MATCH(TournamentData[[#This Row],[Team Number]],InnovationProjectResults[Team Number],0))),0,INDEX(InnovationProjectResults[Innovation Project Score],MATCH(TournamentData[[#This Row],[Team Number]],InnovationProjectResults[Team Number],0)))","v":0},{"$f":"IF(ISNA(INDEX(RobotDesignResults[Robot Design Score],MATCH(TournamentData[[#This Row],[Team Number]],RobotDesignResults[Team Number],0))),0,INDEX(RobotDesignResults[Robot Design Score],MATCH(TournamentData[[#This Row],[Team Number]],RobotDesignResults[Team Number],0)))","v":0},{"$f":"IF(ISERR(GEOMEAN(TournamentData[[#This Row],[Max Robot Game Score]],TournamentData[[#This Row],[Core Values Score]],TournamentData[[#This Row],[Innovattion Project Score]],TournamentData[[#This Row],[Robot Design Score]])),0,GEOMEAN(TournamentData[[#This Row],[Max Robot Game Score]],TournamentData[[#This Row],[Core Values Score]],TournamentData[[#This Row],[Innovattion Project Score]],TournamentData[[#This Row],[Robot Design Score]]))","v":0},0]
[null,{"$f":"IF(ISNA(INDEX(OfficialTeamList[Team Name],MATCH(TournamentData[[#This Row],[Team Number]], OfficialTeamList[Team Number],0))),\"\",INDEX(OfficialTeamList[Team Name],MATCH(TournamentData[[#This Row],[Team Number]], OfficialTeamList[Team Number],0)))","v":""},{"$f":"IF(TournamentData[[#This Row],[Team Number]]=\"\",\"\",IF(ISNA(INDEX('Robot Game Scores'!D:D,MATCH(TournamentData[[#This Row],[Team Number]], 'Robot Game Scores'!$B:$B,0))),0,INDEX('Robot Game Scores'!D:D,MATCH(TournamentData[[#This Row],[Team Number]], 'Robot Game Scores'!$B:$B,0))))","v":""},{"$f":"IF(TournamentData[[#This Row],[Team Number]]=\"\",\"\",IF(ISNA(INDEX('Robot Game Scores'!E:E,MATCH(TournamentData[[#This Row],[Team Number]], 'Robot Game Scores'!$B:$B,0))),0,INDEX('Robot Game Scores'!E:E,MATCH(TournamentData[[#This Row],[Team Number]], 'Robot Game Scores'!$B:$B,0))))","v":""},{"$f":"IF(TournamentData[[#This Row],[Team Number]]=\"\",\"\",IF(ISNA(INDEX('Robot Game Scores'!F:F,MATCH(TournamentData[[#This Row],[Team Number]], 'Robot Game Scores'!$B:$B,0))),0,INDEX('Robot Game Scores'!F:F,MATCH(TournamentData[[#This Row],[Team Number]], 'Robot Game Scores'!$B:$B,0))))","v":""},{"$f":"IF(TournamentData[[#This Row],[Team Number]]=\"\",\"\",IF(ISNA(INDEX('Robot Game Scores'!G:G,MATCH(TournamentData[[#This Row],[Team Number]], 'Robot Game Scores'!$B:$B,0))),0,INDEX('Robot Game Scores'!G:G,MATCH(TournamentData[[#This Row],[Team Number]], 'Robot Game Scores'!$B:$B,0))))","v":""},{"$f":"IF(TournamentData[[#This Row],[Team Number]]=\"\",\"\",IF(ISNA(INDEX('Robot Game Scores'!H:H,MATCH(TournamentData[[#This Row],[Team Number]], 'Robot Game Scores'!$B:$B,0))),0,INDEX('Robot Game Scores'!H:H,MATCH(TournamentData[[#This Row],[Team Number]], 'Robot Game Scores'!$B:$B,0))))","v":""},{"$f":"IF(TournamentData[[#This Row],[Team Number]]=\"\",\"\",IF(ISNA(LARGE(TournamentData[[#This Row],[Robot Game Score 1]:[Robot Game Score 5]],1)+0.0001*LARGE(TournamentData[[#This Row],[Robot Game Score 1]:[Robot Game Score 5]],2)+0.0000001*LARGE(TournamentData[[#This Row],[Robot Game Score 1]:[Robot Game Score 5]],3)+0.00000000001*LARGE(TournamentData[[#This Row],[Robot Game Score 1]:[Robot Game Score 5]],4)+0.00000000000001*LARGE(TournamentData[[#This Row],[Robot Game Score 1]:[Robot Game Score 5]],5)),0,LARGE(TournamentData[[#This Row],[Robot Game Score 1]:[Robot Game Score 5]],1)+0.0001*LARGE(TournamentData[[#This Row],[Robot Game Score 1]:[Robot Game Score 5]],2)+0.0000001*LARGE(TournamentData[[#This Row],[Robot Game Score 1]:[Robot Game Score 5]],3)+0.00000000001*LARGE(TournamentData[[#This Row],[Robot Game Score 1]:[Robot Game Score 5]],4)+0.00000000000001*LARGE(TournamentData[[#This Row],[Robot Game Score 1]:[Robot Game Score 5]],5)))","v":""},{"$f":"IF(TournamentData[[#This Row],[Team Number]]=\"\",\"\",_xlfn.RANK.EQ(TournamentData[[#This Row],[Max Robot Game Score]],TournamentData[Max Robot Game Score]))","v":""},{"$f":"IF(TournamentData[[#This Row],[Team Number]]=\"\",\"\",IF(ISNA(INDEX(CoreValuesResults[Core Values Rank],MATCH(TournamentData[[#This Row],[Team Number]],CoreValuesResults[Team Number],0))),NumberOfTeams+1,INDEX(CoreValuesResults[Core Values Rank],MATCH(TournamentData[[#This Row],[Team Number]],CoreValuesResults[Team Number],0))))","v":""},{"$f":"IF(TournamentData[[#This Row],[Team Number]]=\"\",\"\",IF(ISNA(INDEX(InnovationProjectResults[Innovation Project Rank],MATCH(TournamentData[[#This Row],[Team Number]],InnovationProjectResults[Team Number],0))),NumberOfTeams+1,INDEX(InnovationProjectResults[Innovation Project Rank],MATCH(TournamentData[[#This Row],[Team Number]],InnovationProjectResults[Team Number],0))))","v":""},{"$f":"IF(TournamentData[[#This Row],[Team Number]]=\"\",\"\",IF(ISNA(INDEX(RobotDesignResults[Robot Design Rank],MATCH(TournamentData[[#This Row],[Team Number]],RobotDesignResults[Team Number],0))),NumberOfTeams+1,INDEX(RobotDesignResults[Robot Design Rank],MATCH(TournamentData[[#This Row],[Team Number]],RobotDesignResults[Team Number],0))))","v":""},{"$f":" IF(TournamentData[[#This Row],[Team Number]]=\"\",\"\",IF(TournamentData[[#This Row],[Core Values Rank]]=\"\",NumberOfTeams+1,TournamentData[[#This Row],[Core Values Rank]]) + IF(TournamentData[[#This Row],[Innovation Project Rank]]=\"\",NumberOfTeams+1,TournamentData[[#This Row],[Innovation Project Rank]]) + IF(TournamentData[[#This Row],[Robot Design Rank]]=\"\",NumberOfTeams+1,TournamentData[[#This Row],[Robot Design Rank]]) + TournamentData[[#This Row],[Robot Game Rank]])","v":""},{"$f":"IF(TournamentData[[#This Row],[Team Number]]=\"\",\"\",IF(M42,RANK(M42,M$3:M$110,1)-COUNTIF(M$3:M$110,0),NumberOfTeams+1))","v":""},{"$f":"IF(ISNA(INDEX(CoreValuesResults[Breakthrough Selection],MATCH(TournamentData[[#This Row],[Team Number]],CoreValuesResults[Team Number],0))),0, INDEX(CoreValuesResults[Breakthrough Selection],MATCH(TournamentData[[#This Row],[Team Number]],CoreValuesResults[Team Number],0)))","v":0},{"$f":"IF(ISNA(INDEX(CoreValuesResults[Rising All-Star Selection],MATCH(TournamentData[[#This Row],[Team Number]],CoreValuesResults[Team Number],0))),0, INDEX(CoreValuesResults[Rising All-Star Selection],MATCH(TournamentData[[#This Row],[Team Number]],CoreValuesResults[Team Number],0)))","v":0},{"$f":"IF(ISNA(INDEX(CoreValuesResults[Motivate Selection],MATCH(TournamentData[[#This Row],[Team Number]],CoreValuesResults[Team Number],0))),0, INDEX(CoreValuesResults[Motivate Selection],MATCH(TournamentData[[#This Row],[Team Number]],CoreValuesResults[Team Number],0)))","v":0},null,null,null,{"$f":"IF(ISNA(INDEX(CoreValuesResults[Core Values Score],MATCH(TournamentData[[#This Row],[Team Number]],CoreValuesResults[Team Number],0))),0,INDEX(CoreValuesResults[Core Values Score],MATCH(TournamentData[[#This Row],[Team Number]],CoreValuesResults[Team Number],0)))","v":0},{"$f":"IF(ISNA(INDEX(InnovationProjectResults[Innovation Project Score],MATCH(TournamentData[[#This Row],[Team Number]],InnovationProjectResults[Team Number],0))),0,INDEX(InnovationProjectResults[Innovation Project Score],MATCH(TournamentData[[#This Row],[Team Number]],InnovationProjectResults[Team Number],0)))","v":0},{"$f":"IF(ISNA(INDEX(RobotDesignResults[Robot Design Score],MATCH(TournamentData[[#This Row],[Team Number]],RobotDesignResults[Team Number],0))),0,INDEX(RobotDesignResults[Robot Design Score],MATCH(TournamentData[[#This Row],[Team Number]],RobotDesignResults[Team Number],0)))","v":0},{"$f":"IF(ISERR(GEOMEAN(TournamentData[[#This Row],[Max Robot Game Score]],TournamentData[[#This Row],[Core Values Score]],TournamentData[[#This Row],[Innovattion Project Score]],TournamentData[[#This Row],[Robot Design Score]])),0,GEOMEAN(TournamentData[[#This Row],[Max Robot Game Score]],TournamentData[[#This Row],[Core Values Score]],TournamentData[[#This Row],[Innovattion Project Score]],TournamentData[[#This Row],[Robot Design Score]]))","v":0},0]
[null,{"$f":"IF(ISNA(INDEX(OfficialTeamList[Team Name],MATCH(TournamentData[[#This Row],[Team Number]], OfficialTeamList[Team Number],0))),\"\",INDEX(OfficialTeamList[Team Name],MATCH(TournamentData[[#This Row],[Team Number]], OfficialTeamList[Team Number],0)))","v":""},{"$f":"IF(TournamentData[[#This Row],[Team Number]]=\"\",\"\",IF(ISNA(INDEX('Robot Game Scores'!D:D,MATCH(TournamentData[[#This Row],[Team Number]], 'Robot Game Scores'!$B:$B,0))),0,INDEX('Robot Game Scores'!D:D,MATCH(TournamentData[[#This Row],[Team Number]], 'Robot Game Scores'!$B:$B,0))))","v":""},{"$f":"IF(TournamentData[[#This Row],[Team Number]]=\"\",\"\",IF(ISNA(INDEX('Robot Game Scores'!E:E,MATCH(TournamentData[[#This Row],[Team Number]], 'Robot Game Scores'!$B:$B,0))),0,INDEX('Robot Game Scores'!E:E,MATCH(TournamentData[[#This Row],[Team Number]], 'Robot Game Scores'!$B:$B,0))))","v":""},{"$f":"IF(TournamentData[[#This Row],[Team Number]]=\"\",\"\",IF(ISNA(INDEX('Robot Game Scores'!F:F,MATCH(TournamentData[[#This Row],[Team Number]], 'Robot Game Scores'!$B:$B,0))),0,INDEX('Robot Game Scores'!F:F,MATCH(TournamentData[[#This Row],[Team Number]], 'Robot Game Scores'!$B:$B,0))))","v":""},{"$f":"IF(TournamentData[[#This Row],[Team Number]]=\"\",\"\",IF(ISNA(INDEX('Robot Game Scores'!G:G,MATCH(TournamentData[[#This Row],[Team Number]], 'Robot Game Scores'!$B:$B,0))),0,INDEX('Robot Game Scores'!G:G,MATCH(TournamentData[[#This Row],[Team Number]], 'Robot Game Scores'!$B:$B,0))))","v":""},{"$f":"IF(TournamentData[[#This Row],[Team Number]]=\"\",\"\",IF(ISNA(INDEX('Robot Game Scores'!H:H,MATCH(TournamentData[[#This Row],[Team Number]], 'Robot Game Scores'!$B:$B,0))),0,INDEX('Robot Game Scores'!H:H,MATCH(TournamentData[[#This Row],[Team Number]], 'Robot Game Scores'!$B:$B,0))))","v":""},{"$f":"IF(TournamentData[[#This Row],[Team Number]]=\"\",\"\",IF(ISNA(LARGE(TournamentData[[#This Row],[Robot Game Score 1]:[Robot Game Score 5]],1)+0.0001*LARGE(TournamentData[[#This Row],[Robot Game Score 1]:[Robot Game Score 5]],2)+0.0000001*LARGE(TournamentData[[#This Row],[Robot Game Score 1]:[Robot Game Score 5]],3)+0.00000000001*LARGE(TournamentData[[#This Row],[Robot Game Score 1]:[Robot Game Score 5]],4)+0.00000000000001*LARGE(TournamentData[[#This Row],[Robot Game Score 1]:[Robot Game Score 5]],5)),0,LARGE(TournamentData[[#This Row],[Robot Game Score 1]:[Robot Game Score 5]],1)+0.0001*LARGE(TournamentData[[#This Row],[Robot Game Score 1]:[Robot Game Score 5]],2)+0.0000001*LARGE(TournamentData[[#This Row],[Robot Game Score 1]:[Robot Game Score 5]],3)+0.00000000001*LARGE(TournamentData[[#This Row],[Robot Game Score 1]:[Robot Game Score 5]],4)+0.00000000000001*LARGE(TournamentData[[#This Row],[Robot Game Score 1]:[Robot Game Score 5]],5)))","v":""},{"$f":"IF(TournamentData[[#This Row],[Team Number]]=\"\",\"\",_xlfn.RANK.EQ(TournamentData[[#This Row],[Max Robot Game Score]],TournamentData[Max Robot Game Score]))","v":""},{"$f":"IF(TournamentData[[#This Row],[Team Number]]=\"\",\"\",IF(ISNA(INDEX(CoreValuesResults[Core Values Rank],MATCH(TournamentData[[#This Row],[Team Number]],CoreValuesResults[Team Number],0))),NumberOfTeams+1,INDEX(CoreValuesResults[Core Values Rank],MATCH(TournamentData[[#This Row],[Team Number]],CoreValuesResults[Team Number],0))))","v":""},{"$f":"IF(TournamentData[[#This Row],[Team Number]]=\"\",\"\",IF(ISNA(INDEX(InnovationProjectResults[Innovation Project Rank],MATCH(TournamentData[[#This Row],[Team Number]],InnovationProjectResults[Team Number],0))),NumberOfTeams+1,INDEX(InnovationProjectResults[Innovation Project Rank],MATCH(TournamentData[[#This Row],[Team Number]],InnovationProjectResults[Team Number],0))))","v":""},{"$f":"IF(TournamentData[[#This Row],[Team Number]]=\"\",\"\",IF(ISNA(INDEX(RobotDesignResults[Robot Design Rank],MATCH(TournamentData[[#This Row],[Team Number]],RobotDesignResults[Team Number],0))),NumberOfTeams+1,INDEX(RobotDesignResults[Robot Design Rank],MATCH(TournamentData[[#This Row],[Team Number]],RobotDesignResults[Team Number],0))))","v":""},{"$f":" IF(TournamentData[[#This Row],[Team Number]]=\"\",\"\",IF(TournamentData[[#This Row],[Core Values Rank]]=\"\",NumberOfTeams+1,TournamentData[[#This Row],[Core Values Rank]]) + IF(TournamentData[[#This Row],[Innovation Project Rank]]=\"\",NumberOfTeams+1,TournamentData[[#This Row],[Innovation Project Rank]]) + IF(TournamentData[[#This Row],[Robot Design Rank]]=\"\",NumberOfTeams+1,TournamentData[[#This Row],[Robot Design Rank]]) + TournamentData[[#This Row],[Robot Game Rank]])","v":""},{"$f":"IF(TournamentData[[#This Row],[Team Number]]=\"\",\"\",IF(M43,RANK(M43,M$3:M$110,1)-COUNTIF(M$3:M$110,0),NumberOfTeams+1))","v":""},{"$f":"IF(ISNA(INDEX(CoreValuesResults[Breakthrough Selection],MATCH(TournamentData[[#This Row],[Team Number]],CoreValuesResults[Team Number],0))),0, INDEX(CoreValuesResults[Breakthrough Selection],MATCH(TournamentData[[#This Row],[Team Number]],CoreValuesResults[Team Number],0)))","v":0},{"$f":"IF(ISNA(INDEX(CoreValuesResults[Rising All-Star Selection],MATCH(TournamentData[[#This Row],[Team Number]],CoreValuesResults[Team Number],0))),0, INDEX(CoreValuesResults[Rising All-Star Selection],MATCH(TournamentData[[#This Row],[Team Number]],CoreValuesResults[Team Number],0)))","v":0},{"$f":"IF(ISNA(INDEX(CoreValuesResults[Motivate Selection],MATCH(TournamentData[[#This Row],[Team Number]],CoreValuesResults[Team Number],0))),0, INDEX(CoreValuesResults[Motivate Selection],MATCH(TournamentData[[#This Row],[Team Number]],CoreValuesResults[Team Number],0)))","v":0},null,null,null,{"$f":"IF(ISNA(INDEX(CoreValuesResults[Core Values Score],MATCH(TournamentData[[#This Row],[Team Number]],CoreValuesResults[Team Number],0))),0,INDEX(CoreValuesResults[Core Values Score],MATCH(TournamentData[[#This Row],[Team Number]],CoreValuesResults[Team Number],0)))","v":0},{"$f":"IF(ISNA(INDEX(InnovationProjectResults[Innovation Project Score],MATCH(TournamentData[[#This Row],[Team Number]],InnovationProjectResults[Team Number],0))),0,INDEX(InnovationProjectResults[Innovation Project Score],MATCH(TournamentData[[#This Row],[Team Number]],InnovationProjectResults[Team Number],0)))","v":0},{"$f":"IF(ISNA(INDEX(RobotDesignResults[Robot Design Score],MATCH(TournamentData[[#This Row],[Team Number]],RobotDesignResults[Team Number],0))),0,INDEX(RobotDesignResults[Robot Design Score],MATCH(TournamentData[[#This Row],[Team Number]],RobotDesignResults[Team Number],0)))","v":0},{"$f":"IF(ISERR(GEOMEAN(TournamentData[[#This Row],[Max Robot Game Score]],TournamentData[[#This Row],[Core Values Score]],TournamentData[[#This Row],[Innovattion Project Score]],TournamentData[[#This Row],[Robot Design Score]])),0,GEOMEAN(TournamentData[[#This Row],[Max Robot Game Score]],TournamentData[[#This Row],[Core Values Score]],TournamentData[[#This Row],[Innovattion Project Score]],TournamentData[[#This Row],[Robot Design Score]]))","v":0},0]
[null,{"$f":"IF(ISNA(INDEX(OfficialTeamList[Team Name],MATCH(TournamentData[[#This Row],[Team Number]], OfficialTeamList[Team Number],0))),\"\",INDEX(OfficialTeamList[Team Name],MATCH(TournamentData[[#This Row],[Team Number]], OfficialTeamList[Team Number],0)))","v":""},{"$f":"IF(TournamentData[[#This Row],[Team Number]]=\"\",\"\",IF(ISNA(INDEX('Robot Game Scores'!D:D,MATCH(TournamentData[[#This Row],[Team Number]], 'Robot Game Scores'!$B:$B,0))),0,INDEX('Robot Game Scores'!D:D,MATCH(TournamentData[[#This Row],[Team Number]], 'Robot Game Scores'!$B:$B,0))))","v":""},{"$f":"IF(TournamentData[[#This Row],[Team Number]]=\"\",\"\",IF(ISNA(INDEX('Robot Game Scores'!E:E,MATCH(TournamentData[[#This Row],[Team Number]], 'Robot Game Scores'!$B:$B,0))),0,INDEX('Robot Game Scores'!E:E,MATCH(TournamentData[[#This Row],[Team Number]], 'Robot Game Scores'!$B:$B,0))))","v":""},{"$f":"IF(TournamentData[[#This Row],[Team Number]]=\"\",\"\",IF(ISNA(INDEX('Robot Game Scores'!F:F,MATCH(TournamentData[[#This Row],[Team Number]], 'Robot Game Scores'!$B:$B,0))),0,INDEX('Robot Game Scores'!F:F,MATCH(TournamentData[[#This Row],[Team Number]], 'Robot Game Scores'!$B:$B,0))))","v":""},{"$f":"IF(TournamentData[[#This Row],[Team Number]]=\"\",\"\",IF(ISNA(INDEX('Robot Game Scores'!G:G,MATCH(TournamentData[[#This Row],[Team Number]], 'Robot Game Scores'!$B:$B,0))),0,INDEX('Robot Game Scores'!G:G,MATCH(TournamentData[[#This Row],[Team Number]], 'Robot Game Scores'!$B:$B,0))))","v":""},{"$f":"IF(TournamentData[[#This Row],[Team Number]]=\"\",\"\",IF(ISNA(INDEX('Robot Game Scores'!H:H,MATCH(TournamentData[[#This Row],[Team Number]], 'Robot Game Scores'!$B:$B,0))),0,INDEX('Robot Game Scores'!H:H,MATCH(TournamentData[[#This Row],[Team Number]], 'Robot Game Scores'!$B:$B,0))))","v":""},{"$f":"IF(TournamentData[[#This Row],[Team Number]]=\"\",\"\",IF(ISNA(LARGE(TournamentData[[#This Row],[Robot Game Score 1]:[Robot Game Score 5]],1)+0.0001*LARGE(TournamentData[[#This Row],[Robot Game Score 1]:[Robot Game Score 5]],2)+0.0000001*LARGE(TournamentData[[#This Row],[Robot Game Score 1]:[Robot Game Score 5]],3)+0.00000000001*LARGE(TournamentData[[#This Row],[Robot Game Score 1]:[Robot Game Score 5]],4)+0.00000000000001*LARGE(TournamentData[[#This Row],[Robot Game Score 1]:[Robot Game Score 5]],5)),0,LARGE(TournamentData[[#This Row],[Robot Game Score 1]:[Robot Game Score 5]],1)+0.0001*LARGE(TournamentData[[#This Row],[Robot Game Score 1]:[Robot Game Score 5]],2)+0.0000001*LARGE(TournamentData[[#This Row],[Robot Game Score 1]:[Robot Game Score 5]],3)+0.00000000001*LARGE(TournamentData[[#This Row],[Robot Game Score 1]:[Robot Game Score 5]],4)+0.00000000000001*LARGE(TournamentData[[#This Row],[Robot Game Score 1]:[Robot Game Score 5]],5)))","v":""},{"$f":"IF(TournamentData[[#This Row],[Team Number]]=\"\",\"\",_xlfn.RANK.EQ(TournamentData[[#This Row],[Max Robot Game Score]],TournamentData[Max Robot Game Score]))","v":""},{"$f":"IF(TournamentData[[#This Row],[Team Number]]=\"\",\"\",IF(ISNA(INDEX(CoreValuesResults[Core Values Rank],MATCH(TournamentData[[#This Row],[Team Number]],CoreValuesResults[Team Number],0))),NumberOfTeams+1,INDEX(CoreValuesResults[Core Values Rank],MATCH(TournamentData[[#This Row],[Team Number]],CoreValuesResults[Team Number],0))))","v":""},{"$f":"IF(TournamentData[[#This Row],[Team Number]]=\"\",\"\",IF(ISNA(INDEX(InnovationProjectResults[Innovation Project Rank],MATCH(TournamentData[[#This Row],[Team Number]],InnovationProjectResults[Team Number],0))),NumberOfTeams+1,INDEX(InnovationProjectResults[Innovation Project Rank],MATCH(TournamentData[[#This Row],[Team Number]],InnovationProjectResults[Team Number],0))))","v":""},{"$f":"IF(TournamentData[[#This Row],[Team Number]]=\"\",\"\",IF(ISNA(INDEX(RobotDesignResults[Robot Design Rank],MATCH(TournamentData[[#This Row],[Team Number]],RobotDesignResults[Team Number],0))),NumberOfTeams+1,INDEX(RobotDesignResults[Robot Design Rank],MATCH(TournamentData[[#This Row],[Team Number]],RobotDesignResults[Team Number],0))))","v":""},{"$f":" IF(TournamentData[[#This Row],[Team Number]]=\"\",\"\",IF(TournamentData[[#This Row],[Core Values Rank]]=\"\",NumberOfTeams+1,TournamentData[[#This Row],[Core Values Rank]]) + IF(TournamentData[[#This Row],[Innovation Project Rank]]=\"\",NumberOfTeams+1,TournamentData[[#This Row],[Innovation Project Rank]]) + IF(TournamentData[[#This Row],[Robot Design Rank]]=\"\",NumberOfTeams+1,TournamentData[[#This Row],[Robot Design Rank]]) + TournamentData[[#This Row],[Robot Game Rank]])","v":""},{"$f":"IF(TournamentData[[#This Row],[Team Number]]=\"\",\"\",IF(M44,RANK(M44,M$3:M$110,1)-COUNTIF(M$3:M$110,0),NumberOfTeams+1))","v":""},{"$f":"IF(ISNA(INDEX(CoreValuesResults[Breakthrough Selection],MATCH(TournamentData[[#This Row],[Team Number]],CoreValuesResults[Team Number],0))),0, INDEX(CoreValuesResults[Breakthrough Selection],MATCH(TournamentData[[#This Row],[Team Number]],CoreValuesResults[Team Number],0)))","v":0},{"$f":"IF(ISNA(INDEX(CoreValuesResults[Rising All-Star Selection],MATCH(TournamentData[[#This Row],[Team Number]],CoreValuesResults[Team Number],0))),0, INDEX(CoreValuesResults[Rising All-Star Selection],MATCH(TournamentData[[#This Row],[Team Number]],CoreValuesResults[Team Number],0)))","v":0},{"$f":"IF(ISNA(INDEX(CoreValuesResults[Motivate Selection],MATCH(TournamentData[[#This Row],[Team Number]],CoreValuesResults[Team Number],0))),0, INDEX(CoreValuesResults[Motivate Selection],MATCH(TournamentData[[#This Row],[Team Number]],CoreValuesResults[Team Number],0)))","v":0},null,null,null,{"$f":"IF(ISNA(INDEX(CoreValuesResults[Core Values Score],MATCH(TournamentData[[#This Row],[Team Number]],CoreValuesResults[Team Number],0))),0,INDEX(CoreValuesResults[Core Values Score],MATCH(TournamentData[[#This Row],[Team Number]],CoreValuesResults[Team Number],0)))","v":0},{"$f":"IF(ISNA(INDEX(InnovationProjectResults[Innovation Project Score],MATCH(TournamentData[[#This Row],[Team Number]],InnovationProjectResults[Team Number],0))),0,INDEX(InnovationProjectResults[Innovation Project Score],MATCH(TournamentData[[#This Row],[Team Number]],InnovationProjectResults[Team Number],0)))","v":0},{"$f":"IF(ISNA(INDEX(RobotDesignResults[Robot Design Score],MATCH(TournamentData[[#This Row],[Team Number]],RobotDesignResults[Team Number],0))),0,INDEX(RobotDesignResults[Robot Design Score],MATCH(TournamentData[[#This Row],[Team Number]],RobotDesignResults[Team Number],0)))","v":0},{"$f":"IF(ISERR(GEOMEAN(TournamentData[[#This Row],[Max Robot Game Score]],TournamentData[[#This Row],[Core Values Score]],TournamentData[[#This Row],[Innovattion Project Score]],TournamentData[[#This Row],[Robot Design Score]])),0,GEOMEAN(TournamentData[[#This Row],[Max Robot Game Score]],TournamentData[[#This Row],[Core Values Score]],TournamentData[[#This Row],[Innovattion Project Score]],TournamentData[[#This Row],[Robot Design Score]]))","v":0},0]
[null,{"$f":"IF(ISNA(INDEX(OfficialTeamList[Team Name],MATCH(TournamentData[[#This Row],[Team Number]], OfficialTeamList[Team Number],0))),\"\",INDEX(OfficialTeamList[Team Name],MATCH(TournamentData[[#This Row],[Team Number]], OfficialTeamList[Team Number],0)))","v":""},{"$f":"IF(TournamentData[[#This Row],[Team Number]]=\"\",\"\",IF(ISNA(INDEX('Robot Game Scores'!D:D,MATCH(TournamentData[[#This Row],[Team Number]], 'Robot Game Scores'!$B:$B,0))),0,INDEX('Robot Game Scores'!D:D,MATCH(TournamentData[[#This Row],[Team Number]], 'Robot Game Scores'!$B:$B,0))))","v":""},{"$f":"IF(TournamentData[[#This Row],[Team Number]]=\"\",\"\",IF(ISNA(INDEX('Robot Game Scores'!E:E,MATCH(TournamentData[[#This Row],[Team Number]], 'Robot Game Scores'!$B:$B,0))),0,INDEX('Robot Game Scores'!E:E,MATCH(TournamentData[[#This Row],[Team Number]], 'Robot Game Scores'!$B:$B,0))))","v":""},{"$f":"IF(TournamentData[[#This Row],[Team Number]]=\"\",\"\",IF(ISNA(INDEX('Robot Game Scores'!F:F,MATCH(TournamentData[[#This Row],[Team Number]], 'Robot Game Scores'!$B:$B,0))),0,INDEX('Robot Game Scores'!F:F,MATCH(TournamentData[[#This Row],[Team Number]], 'Robot Game Scores'!$B:$B,0))))","v":""},{"$f":"IF(TournamentData[[#This Row],[Team Number]]=\"\",\"\",IF(ISNA(INDEX('Robot Game Scores'!G:G,MATCH(TournamentData[[#This Row],[Team Number]], 'Robot Game Scores'!$B:$B,0))),0,INDEX('Robot Game Scores'!G:G,MATCH(TournamentData[[#This Row],[Team Number]], 'Robot Game Scores'!$B:$B,0))))","v":""},{"$f":"IF(TournamentData[[#This Row],[Team Number]]=\"\",\"\",IF(ISNA(INDEX('Robot Game Scores'!H:H,MATCH(TournamentData[[#This Row],[Team Number]], 'Robot Game Scores'!$B:$B,0))),0,INDEX('Robot Game Scores'!H:H,MATCH(TournamentData[[#This Row],[Team Number]], 'Robot Game Scores'!$B:$B,0))))","v":""},{"$f":"IF(TournamentData[[#This Row],[Team Number]]=\"\",\"\",IF(ISNA(LARGE(TournamentData[[#This Row],[Robot Game Score 1]:[Robot Game Score 5]],1)+0.0001*LARGE(TournamentData[[#This Row],[Robot Game Score 1]:[Robot Game Score 5]],2)+0.0000001*LARGE(TournamentData[[#This Row],[Robot Game Score 1]:[Robot Game Score 5]],3)+0.00000000001*LARGE(TournamentData[[#This Row],[Robot Game Score 1]:[Robot Game Score 5]],4)+0.00000000000001*LARGE(TournamentData[[#This Row],[Robot Game Score 1]:[Robot Game Score 5]],5)),0,LARGE(TournamentData[[#This Row],[Robot Game Score 1]:[Robot Game Score 5]],1)+0.0001*LARGE(TournamentData[[#This Row],[Robot Game Score 1]:[Robot Game Score 5]],2)+0.0000001*LARGE(TournamentData[[#This Row],[Robot Game Score 1]:[Robot Game Score 5]],3)+0.00000000001*LARGE(TournamentData[[#This Row],[Robot Game Score 1]:[Robot Game Score 5]],4)+0.00000000000001*LARGE(TournamentData[[#This Row],[Robot Game Score 1]:[Robot Game Score 5]],5)))","v":""},{"$f":"IF(TournamentData[[#This Row],[Team Number]]=\"\",\"\",_xlfn.RANK.EQ(TournamentData[[#This Row],[Max Robot Game Score]],TournamentData[Max Robot Game Score]))","v":""},{"$f":"IF(TournamentData[[#This Row],[Team Number]]=\"\",\"\",IF(ISNA(INDEX(CoreValuesResults[Core Values Rank],MATCH(TournamentData[[#This Row],[Team Number]],CoreValuesResults[Team Number],0))),NumberOfTeams+1,INDEX(CoreValuesResults[Core Values Rank],MATCH(TournamentData[[#This Row],[Team Number]],CoreValuesResults[Team Number],0))))","v":""},{"$f":"IF(TournamentData[[#This Row],[Team Number]]=\"\",\"\",IF(ISNA(INDEX(InnovationProjectResults[Innovation Project Rank],MATCH(TournamentData[[#This Row],[Team Number]],InnovationProjectResults[Team Number],0))),NumberOfTeams+1,INDEX(InnovationProjectResults[Innovation Project Rank],MATCH(TournamentData[[#This Row],[Team Number]],InnovationProjectResults[Team Number],0))))","v":""},{"$f":"IF(TournamentData[[#This Row],[Team Number]]=\"\",\"\",IF(ISNA(INDEX(RobotDesignResults[Robot Design Rank],MATCH(TournamentData[[#This Row],[Team Number]],RobotDesignResults[Team Number],0))),NumberOfTeams+1,INDEX(RobotDesignResults[Robot Design Rank],MATCH(TournamentData[[#This Row],[Team Number]],RobotDesignResults[Team Number],0))))","v":""},{"$f":" IF(TournamentData[[#This Row],[Team Number]]=\"\",\"\",IF(TournamentData[[#This Row],[Core Values Rank]]=\"\",NumberOfTeams+1,TournamentData[[#This Row],[Core Values Rank]]) + IF(TournamentData[[#This Row],[Innovation Project Rank]]=\"\",NumberOfTeams+1,TournamentData[[#This Row],[Innovation Project Rank]]) + IF(TournamentData[[#This Row],[Robot Design Rank]]=\"\",NumberOfTeams+1,TournamentData[[#This Row],[Robot Design Rank]]) + TournamentData[[#This Row],[Robot Game Rank]])","v":""},{"$f":"IF(TournamentData[[#This Row],[Team Number]]=\"\",\"\",IF(M45,RANK(M45,M$3:M$110,1)-COUNTIF(M$3:M$110,0),NumberOfTeams+1))","v":""},{"$f":"IF(ISNA(INDEX(CoreValuesResults[Breakthrough Selection],MATCH(TournamentData[[#This Row],[Team Number]],CoreValuesResults[Team Number],0))),0, INDEX(CoreValuesResults[Breakthrough Selection],MATCH(TournamentData[[#This Row],[Team Number]],CoreValuesResults[Team Number],0)))","v":0},{"$f":"IF(ISNA(INDEX(CoreValuesResults[Rising All-Star Selection],MATCH(TournamentData[[#This Row],[Team Number]],CoreValuesResults[Team Number],0))),0, INDEX(CoreValuesResults[Rising All-Star Selection],MATCH(TournamentData[[#This Row],[Team Number]],CoreValuesResults[Team Number],0)))","v":0},{"$f":"IF(ISNA(INDEX(CoreValuesResults[Motivate Selection],MATCH(TournamentData[[#This Row],[Team Number]],CoreValuesResults[Team Number],0))),0, INDEX(CoreValuesResults[Motivate Selection],MATCH(TournamentData[[#This Row],[Team Number]],CoreValuesResults[Team Number],0)))","v":0},null,null,null,{"$f":"IF(ISNA(INDEX(CoreValuesResults[Core Values Score],MATCH(TournamentData[[#This Row],[Team Number]],CoreValuesResults[Team Number],0))),0,INDEX(CoreValuesResults[Core Values Score],MATCH(TournamentData[[#This Row],[Team Number]],CoreValuesResults[Team Number],0)))","v":0},{"$f":"IF(ISNA(INDEX(InnovationProjectResults[Innovation Project Score],MATCH(TournamentData[[#This Row],[Team Number]],InnovationProjectResults[Team Number],0))),0,INDEX(InnovationProjectResults[Innovation Project Score],MATCH(TournamentData[[#This Row],[Team Number]],InnovationProjectResults[Team Number],0)))","v":0},{"$f":"IF(ISNA(INDEX(RobotDesignResults[Robot Design Score],MATCH(TournamentData[[#This Row],[Team Number]],RobotDesignResults[Team Number],0))),0,INDEX(RobotDesignResults[Robot Design Score],MATCH(TournamentData[[#This Row],[Team Number]],RobotDesignResults[Team Number],0)))","v":0},{"$f":"IF(ISERR(GEOMEAN(TournamentData[[#This Row],[Max Robot Game Score]],TournamentData[[#This Row],[Core Values Score]],TournamentData[[#This Row],[Innovattion Project Score]],TournamentData[[#This Row],[Robot Design Score]])),0,GEOMEAN(TournamentData[[#This Row],[Max Robot Game Score]],TournamentData[[#This Row],[Core Values Score]],TournamentData[[#This Row],[Innovattion Project Score]],TournamentData[[#This Row],[Robot Design Score]]))","v":0},0]
[null,{"$f":"IF(ISNA(INDEX(OfficialTeamList[Team Name],MATCH(TournamentData[[#This Row],[Team Number]], OfficialTeamList[Team Number],0))),\"\",INDEX(OfficialTeamList[Team Name],MATCH(TournamentData[[#This Row],[Team Number]], OfficialTeamList[Team Number],0)))","v":""},{"$f":"IF(TournamentData[[#This Row],[Team Number]]=\"\",\"\",IF(ISNA(INDEX('Robot Game Scores'!D:D,MATCH(TournamentData[[#This Row],[Team Number]], 'Robot Game Scores'!$B:$B,0))),0,INDEX('Robot Game Scores'!D:D,MATCH(TournamentData[[#This Row],[Team Number]], 'Robot Game Scores'!$B:$B,0))))","v":""},{"$f":"IF(TournamentData[[#This Row],[Team Number]]=\"\",\"\",IF(ISNA(INDEX('Robot Game Scores'!E:E,MATCH(TournamentData[[#This Row],[Team Number]], 'Robot Game Scores'!$B:$B,0))),0,INDEX('Robot Game Scores'!E:E,MATCH(TournamentData[[#This Row],[Team Number]], 'Robot Game Scores'!$B:$B,0))))","v":""},{"$f":"IF(TournamentData[[#This Row],[Team Number]]=\"\",\"\",IF(ISNA(INDEX('Robot Game Scores'!F:F,MATCH(TournamentData[[#This Row],[Team Number]], 'Robot Game Scores'!$B:$B,0))),0,INDEX('Robot Game Scores'!F:F,MATCH(TournamentData[[#This Row],[Team Number]], 'Robot Game Scores'!$B:$B,0))))","v":""},{"$f":"IF(TournamentData[[#This Row],[Team Number]]=\"\",\"\",IF(ISNA(INDEX('Robot Game Scores'!G:G,MATCH(TournamentData[[#This Row],[Team Number]], 'Robot Game Scores'!$B:$B,0))),0,INDEX('Robot Game Scores'!G:G,MATCH(TournamentData[[#This Row],[Team Number]], 'Robot Game Scores'!$B:$B,0))))","v":""},{"$f":"IF(TournamentData[[#This Row],[Team Number]]=\"\",\"\",IF(ISNA(INDEX('Robot Game Scores'!H:H,MATCH(TournamentData[[#This Row],[Team Number]], 'Robot Game Scores'!$B:$B,0))),0,INDEX('Robot Game Scores'!H:H,MATCH(TournamentData[[#This Row],[Team Number]], 'Robot Game Scores'!$B:$B,0))))","v":""},{"$f":"IF(TournamentData[[#This Row],[Team Number]]=\"\",\"\",IF(ISNA(LARGE(TournamentData[[#This Row],[Robot Game Score 1]:[Robot Game Score 5]],1)+0.0001*LARGE(TournamentData[[#This Row],[Robot Game Score 1]:[Robot Game Score 5]],2)+0.0000001*LARGE(TournamentData[[#This Row],[Robot Game Score 1]:[Robot Game Score 5]],3)+0.00000000001*LARGE(TournamentData[[#This Row],[Robot Game Score 1]:[Robot Game Score 5]],4)+0.00000000000001*LARGE(TournamentData[[#This Row],[Robot Game Score 1]:[Robot Game Score 5]],5)),0,LARGE(TournamentData[[#This Row],[Robot Game Score 1]:[Robot Game Score 5]],1)+0.0001*LARGE(TournamentData[[#This Row],[Robot Game Score 1]:[Robot Game Score 5]],2)+0.0000001*LARGE(TournamentData[[#This Row],[Robot Game Score 1]:[Robot Game Score 5]],3)+0.00000000001*LARGE(TournamentData[[#This Row],[Robot Game Score 1]:[Robot Game Score 5]],4)+0.00000000000001*LARGE(TournamentData[[#This Row],[Robot Game Score 1]:[Robot Game Score 5]],5)))","v":""},{"$f":"IF(TournamentData[[#This Row],[Team Number]]=\"\",\"\",_xlfn.RANK.EQ(TournamentData[[#This Row],[Max Robot Game Score]],TournamentData[Max Robot Game Score]))","v":""},{"$f":"IF(TournamentData[[#This Row],[Team Number]]=\"\",\"\",IF(ISNA(INDEX(CoreValuesResults[Core Values Rank],MATCH(TournamentData[[#This Row],[Team Number]],CoreValuesResults[Team Number],0))),NumberOfTeams+1,INDEX(CoreValuesResults[Core Values Rank],MATCH(TournamentData[[#This Row],[Team Number]],CoreValuesResults[Team Number],0))))","v":""},{"$f":"IF(TournamentData[[#This Row],[Team Number]]=\"\",\"\",IF(ISNA(INDEX(InnovationProjectResults[Innovation Project Rank],MATCH(TournamentData[[#This Row],[Team Number]],InnovationProjectResults[Team Number],0))),NumberOfTeams+1,INDEX(InnovationProjectResults[Innovation Project Rank],MATCH(TournamentData[[#This Row],[Team Number]],InnovationProjectResults[Team Number],0))))","v":""},{"$f":"IF(TournamentData[[#This Row],[Team Number]]=\"\",\"\",IF(ISNA(INDEX(RobotDesignResults[Robot Design Rank],MATCH(TournamentData[[#This Row],[Team Number]],RobotDesignResults[Team Number],0))),NumberOfTeams+1,INDEX(RobotDesignResults[Robot Design Rank],MATCH(TournamentData[[#This Row],[Team Number]],RobotDesignResults[Team Number],0))))","v":""},{"$f":" IF(TournamentData[[#This Row],[Team Number]]=\"\",\"\",IF(TournamentData[[#This Row],[Core Values Rank]]=\"\",NumberOfTeams+1,TournamentData[[#This Row],[Core Values Rank]]) + IF(TournamentData[[#This Row],[Innovation Project Rank]]=\"\",NumberOfTeams+1,TournamentData[[#This Row],[Innovation Project Rank]]) + IF(TournamentData[[#This Row],[Robot Design Rank]]=\"\",NumberOfTeams+1,TournamentData[[#This Row],[Robot Design Rank]]) + TournamentData[[#This Row],[Robot Game Rank]])","v":""},{"$f":"IF(TournamentData[[#This Row],[Team Number]]=\"\",\"\",IF(M46,RANK(M46,M$3:M$110,1)-COUNTIF(M$3:M$110,0),NumberOfTeams+1))","v":""},{"$f":"IF(ISNA(INDEX(CoreValuesResults[Breakthrough Selection],MATCH(TournamentData[[#This Row],[Team Number]],CoreValuesResults[Team Number],0))),0, INDEX(CoreValuesResults[Breakthrough Selection],MATCH(TournamentData[[#This Row],[Team Number]],CoreValuesResults[Team Number],0)))","v":0},{"$f":"IF(ISNA(INDEX(CoreValuesResults[Rising All-Star Selection],MATCH(TournamentData[[#This Row],[Team Number]],CoreValuesResults[Team Number],0))),0, INDEX(CoreValuesResults[Rising All-Star Selection],MATCH(TournamentData[[#This Row],[Team Number]],CoreValuesResults[Team Number],0)))","v":0},{"$f":"IF(ISNA(INDEX(CoreValuesResults[Motivate Selection],MATCH(TournamentData[[#This Row],[Team Number]],CoreValuesResults[Team Number],0))),0, INDEX(CoreValuesResults[Motivate Selection],MATCH(TournamentData[[#This Row],[Team Number]],CoreValuesResults[Team Number],0)))","v":0},null,null,null,{"$f":"IF(ISNA(INDEX(CoreValuesResults[Core Values Score],MATCH(TournamentData[[#This Row],[Team Number]],CoreValuesResults[Team Number],0))),0,INDEX(CoreValuesResults[Core Values Score],MATCH(TournamentData[[#This Row],[Team Number]],CoreValuesResults[Team Number],0)))","v":0},{"$f":"IF(ISNA(INDEX(InnovationProjectResults[Innovation Project Score],MATCH(TournamentData[[#This Row],[Team Number]],InnovationProjectResults[Team Number],0))),0,INDEX(InnovationProjectResults[Innovation Project Score],MATCH(TournamentData[[#This Row],[Team Number]],InnovationProjectResults[Team Number],0)))","v":0},{"$f":"IF(ISNA(INDEX(RobotDesignResults[Robot Design Score],MATCH(TournamentData[[#This Row],[Team Number]],RobotDesignResults[Team Number],0))),0,INDEX(RobotDesignResults[Robot Design Score],MATCH(TournamentData[[#This Row],[Team Number]],RobotDesignResults[Team Number],0)))","v":0},{"$f":"IF(ISERR(GEOMEAN(TournamentData[[#This Row],[Max Robot Game Score]],TournamentData[[#This Row],[Core Values Score]],TournamentData[[#This Row],[Innovattion Project Score]],TournamentData[[#This Row],[Robot Design Score]])),0,GEOMEAN(TournamentData[[#This Row],[Max Robot Game Score]],TournamentData[[#This Row],[Core Values Score]],TournamentData[[#This Row],[Innovattion Project Score]],TournamentData[[#This Row],[Robot Design Score]]))","v":0},0]
[null,{"$f":"IF(ISNA(INDEX(OfficialTeamList[Team Name],MATCH(TournamentData[[#This Row],[Team Number]], OfficialTeamList[Team Number],0))),\"\",INDEX(OfficialTeamList[Team Name],MATCH(TournamentData[[#This Row],[Team Number]], OfficialTeamList[Team Number],0)))","v":""},{"$f":"IF(TournamentData[[#This Row],[Team Number]]=\"\",\"\",IF(ISNA(INDEX('Robot Game Scores'!D:D,MATCH(TournamentData[[#This Row],[Team Number]], 'Robot Game Scores'!$B:$B,0))),0,INDEX('Robot Game Scores'!D:D,MATCH(TournamentData[[#This Row],[Team Number]], 'Robot Game Scores'!$B:$B,0))))","v":""},{"$f":"IF(TournamentData[[#This Row],[Team Number]]=\"\",\"\",IF(ISNA(INDEX('Robot Game Scores'!E:E,MATCH(TournamentData[[#This Row],[Team Number]], 'Robot Game Scores'!$B:$B,0))),0,INDEX('Robot Game Scores'!E:E,MATCH(TournamentData[[#This Row],[Team Number]], 'Robot Game Scores'!$B:$B,0))))","v":""},{"$f":"IF(TournamentData[[#This Row],[Team Number]]=\"\",\"\",IF(ISNA(INDEX('Robot Game Scores'!F:F,MATCH(TournamentData[[#This Row],[Team Number]], 'Robot Game Scores'!$B:$B,0))),0,INDEX('Robot Game Scores'!F:F,MATCH(TournamentData[[#This Row],[Team Number]], 'Robot Game Scores'!$B:$B,0))))","v":""},{"$f":"IF(TournamentData[[#This Row],[Team Number]]=\"\",\"\",IF(ISNA(INDEX('Robot Game Scores'!G:G,MATCH(TournamentData[[#This Row],[Team Number]], 'Robot Game Scores'!$B:$B,0))),0,INDEX('Robot Game Scores'!G:G,MATCH(TournamentData[[#This Row],[Team Number]], 'Robot Game Scores'!$B:$B,0))))","v":""},{"$f":"IF(TournamentData[[#This Row],[Team Number]]=\"\",\"\",IF(ISNA(INDEX('Robot Game Scores'!H:H,MATCH(TournamentData[[#This Row],[Team Number]], 'Robot Game Scores'!$B:$B,0))),0,INDEX('Robot Game Scores'!H:H,MATCH(TournamentData[[#This Row],[Team Number]], 'Robot Game Scores'!$B:$B,0))))","v":""},{"$f":"IF(TournamentData[[#This Row],[Team Number]]=\"\",\"\",IF(ISNA(LARGE(TournamentData[[#This Row],[Robot Game Score 1]:[Robot Game Score 5]],1)+0.0001*LARGE(TournamentData[[#This Row],[Robot Game Score 1]:[Robot Game Score 5]],2)+0.0000001*LARGE(TournamentData[[#This Row],[Robot Game Score 1]:[Robot Game Score 5]],3)+0.00000000001*LARGE(TournamentData[[#This Row],[Robot Game Score 1]:[Robot Game Score 5]],4)+0.00000000000001*LARGE(TournamentData[[#This Row],[Robot Game Score 1]:[Robot Game Score 5]],5)),0,LARGE(TournamentData[[#This Row],[Robot Game Score 1]:[Robot Game Score 5]],1)+0.0001*LARGE(TournamentData[[#This Row],[Robot Game Score 1]:[Robot Game Score 5]],2)+0.0000001*LARGE(TournamentData[[#This Row],[Robot Game Score 1]:[Robot Game Score 5]],3)+0.00000000001*LARGE(TournamentData[[#This Row],[Robot Game Score 1]:[Robot Game Score 5]],4)+0.00000000000001*LARGE(TournamentData[[#This Row],[Robot Game Score 1]:[Robot Game Score 5]],5)))","v":""},{"$f":"IF(TournamentData[[#This Row],[Team Number]]=\"\",\"\",_xlfn.RANK.EQ(TournamentData[[#This Row],[Max Robot Game Score]],TournamentData[Max Robot Game Score]))","v":""},{"$f":"IF(TournamentData[[#This Row],[Team Number]]=\"\",\"\",IF(ISNA(INDEX(CoreValuesResults[Core Values Rank],MATCH(TournamentData[[#This Row],[Team Number]],CoreValuesResults[Team Number],0))),NumberOfTeams+1,INDEX(CoreValuesResults[Core Values Rank],MATCH(TournamentData[[#This Row],[Team Number]],CoreValuesResults[Team Number],0))))","v":""},{"$f":"IF(TournamentData[[#This Row],[Team Number]]=\"\",\"\",IF(ISNA(INDEX(InnovationProjectResults[Innovation Project Rank],MATCH(TournamentData[[#This Row],[Team Number]],InnovationProjectResults[Team Number],0))),NumberOfTeams+1,INDEX(InnovationProjectResults[Innovation Project Rank],MATCH(TournamentData[[#This Row],[Team Number]],InnovationProjectResults[Team Number],0))))","v":""},{"$f":"IF(TournamentData[[#This Row],[Team Number]]=\"\",\"\",IF(ISNA(INDEX(RobotDesignResults[Robot Design Rank],MATCH(TournamentData[[#This Row],[Team Number]],RobotDesignResults[Team Number],0))),NumberOfTeams+1,INDEX(RobotDesignResults[Robot Design Rank],MATCH(TournamentData[[#This Row],[Team Number]],RobotDesignResults[Team Number],0))))","v":""},{"$f":" IF(TournamentData[[#This Row],[Team Number]]=\"\",\"\",IF(TournamentData[[#This Row],[Core Values Rank]]=\"\",NumberOfTeams+1,TournamentData[[#This Row],[Core Values Rank]]) + IF(TournamentData[[#This Row],[Innovation Project Rank]]=\"\",NumberOfTeams+1,TournamentData[[#This Row],[Innovation Project Rank]]) + IF(TournamentData[[#This Row],[Robot Design Rank]]=\"\",NumberOfTeams+1,TournamentData[[#This Row],[Robot Design Rank]]) + TournamentData[[#This Row],[Robot Game Rank]])","v":""},{"$f":"IF(TournamentData[[#This Row],[Team Number]]=\"\",\"\",IF(M47,RANK(M47,M$3:M$110,1)-COUNTIF(M$3:M$110,0),NumberOfTeams+1))","v":""},{"$f":"IF(ISNA(INDEX(CoreValuesResults[Breakthrough Selection],MATCH(TournamentData[[#This Row],[Team Number]],CoreValuesResults[Team Number],0))),0, INDEX(CoreValuesResults[Breakthrough Selection],MATCH(TournamentData[[#This Row],[Team Number]],CoreValuesResults[Team Number],0)))","v":0},{"$f":"IF(ISNA(INDEX(CoreValuesResults[Rising All-Star Selection],MATCH(TournamentData[[#This Row],[Team Number]],CoreValuesResults[Team Number],0))),0, INDEX(CoreValuesResults[Rising All-Star Selection],MATCH(TournamentData[[#This Row],[Team Number]],CoreValuesResults[Team Number],0)))","v":0},{"$f":"IF(ISNA(INDEX(CoreValuesResults[Motivate Selection],MATCH(TournamentData[[#This Row],[Team Number]],CoreValuesResults[Team Number],0))),0, INDEX(CoreValuesResults[Motivate Selection],MATCH(TournamentData[[#This Row],[Team Number]],CoreValuesResults[Team Number],0)))","v":0},null,null,null,{"$f":"IF(ISNA(INDEX(CoreValuesResults[Core Values Score],MATCH(TournamentData[[#This Row],[Team Number]],CoreValuesResults[Team Number],0))),0,INDEX(CoreValuesResults[Core Values Score],MATCH(TournamentData[[#This Row],[Team Number]],CoreValuesResults[Team Number],0)))","v":0},{"$f":"IF(ISNA(INDEX(InnovationProjectResults[Innovation Project Score],MATCH(TournamentData[[#This Row],[Team Number]],InnovationProjectResults[Team Number],0))),0,INDEX(InnovationProjectResults[Innovation Project Score],MATCH(TournamentData[[#This Row],[Team Number]],InnovationProjectResults[Team Number],0)))","v":0},{"$f":"IF(ISNA(INDEX(RobotDesignResults[Robot Design Score],MATCH(TournamentData[[#This Row],[Team Number]],RobotDesignResults[Team Number],0))),0,INDEX(RobotDesignResults[Robot Design Score],MATCH(TournamentData[[#This Row],[Team Number]],RobotDesignResults[Team Number],0)))","v":0},{"$f":"IF(ISERR(GEOMEAN(TournamentData[[#This Row],[Max Robot Game Score]],TournamentData[[#This Row],[Core Values Score]],TournamentData[[#This Row],[Innovattion Project Score]],TournamentData[[#This Row],[Robot Design Score]])),0,GEOMEAN(TournamentData[[#This Row],[Max Robot Game Score]],TournamentData[[#This Row],[Core Values Score]],TournamentData[[#This Row],[Innovattion Project Score]],TournamentData[[#This Row],[Robot Design Score]]))","v":0},0]
[null,{"$f":"IF(ISNA(INDEX(OfficialTeamList[Team Name],MATCH(TournamentData[[#This Row],[Team Number]], OfficialTeamList[Team Number],0))),\"\",INDEX(OfficialTeamList[Team Name],MATCH(TournamentData[[#This Row],[Team Number]], OfficialTeamList[Team Number],0)))","v":""},{"$f":"IF(TournamentData[[#This Row],[Team Number]]=\"\",\"\",IF(ISNA(INDEX('Robot Game Scores'!D:D,MATCH(TournamentData[[#This Row],[Team Number]], 'Robot Game Scores'!$B:$B,0))),0,INDEX('Robot Game Scores'!D:D,MATCH(TournamentData[[#This Row],[Team Number]], 'Robot Game Scores'!$B:$B,0))))","v":""},{"$f":"IF(TournamentData[[#This Row],[Team Number]]=\"\",\"\",IF(ISNA(INDEX('Robot Game Scores'!E:E,MATCH(TournamentData[[#This Row],[Team Number]], 'Robot Game Scores'!$B:$B,0))),0,INDEX('Robot Game Scores'!E:E,MATCH(TournamentData[[#This Row],[Team Number]], 'Robot Game Scores'!$B:$B,0))))","v":""},{"$f":"IF(TournamentData[[#This Row],[Team Number]]=\"\",\"\",IF(ISNA(INDEX('Robot Game Scores'!F:F,MATCH(TournamentData[[#This Row],[Team Number]], 'Robot Game Scores'!$B:$B,0))),0,INDEX('Robot Game Scores'!F:F,MATCH(TournamentData[[#This Row],[Team Number]], 'Robot Game Scores'!$B:$B,0))))","v":""},{"$f":"IF(TournamentData[[#This Row],[Team Number]]=\"\",\"\",IF(ISNA(INDEX('Robot Game Scores'!G:G,MATCH(TournamentData[[#This Row],[Team Number]], 'Robot Game Scores'!$B:$B,0))),0,INDEX('Robot Game Scores'!G:G,MATCH(TournamentData[[#This Row],[Team Number]], 'Robot Game Scores'!$B:$B,0))))","v":""},{"$f":"IF(TournamentData[[#This Row],[Team Number]]=\"\",\"\",IF(ISNA(INDEX('Robot Game Scores'!H:H,MATCH(TournamentData[[#This Row],[Team Number]], 'Robot Game Scores'!$B:$B,0))),0,INDEX('Robot Game Scores'!H:H,MATCH(TournamentData[[#This Row],[Team Number]], 'Robot Game Scores'!$B:$B,0))))","v":""},{"$f":"IF(TournamentData[[#This Row],[Team Number]]=\"\",\"\",IF(ISNA(LARGE(TournamentData[[#This Row],[Robot Game Score 1]:[Robot Game Score 5]],1)+0.0001*LARGE(TournamentData[[#This Row],[Robot Game Score 1]:[Robot Game Score 5]],2)+0.0000001*LARGE(TournamentData[[#This Row],[Robot Game Score 1]:[Robot Game Score 5]],3)+0.00000000001*LARGE(TournamentData[[#This Row],[Robot Game Score 1]:[Robot Game Score 5]],4)+0.00000000000001*LARGE(TournamentData[[#This Row],[Robot Game Score 1]:[Robot Game Score 5]],5)),0,LARGE(TournamentData[[#This Row],[Robot Game Score 1]:[Robot Game Score 5]],1)+0.0001*LARGE(TournamentData[[#This Row],[Robot Game Score 1]:[Robot Game Score 5]],2)+0.0000001*LARGE(TournamentData[[#This Row],[Robot Game Score 1]:[Robot Game Score 5]],3)+0.00000000001*LARGE(TournamentData[[#This Row],[Robot Game Score 1]:[Robot Game Score 5]],4)+0.00000000000001*LARGE(TournamentData[[#This Row],[Robot Game Score 1]:[Robot Game Score 5]],5)))","v":""},{"$f":"IF(TournamentData[[#This Row],[Team Number]]=\"\",\"\",_xlfn.RANK.EQ(TournamentData[[#This Row],[Max Robot Game Score]],TournamentData[Max Robot Game Score]))","v":""},{"$f":"IF(TournamentData[[#This Row],[Team Number]]=\"\",\"\",IF(ISNA(INDEX(CoreValuesResults[Core Values Rank],MATCH(TournamentData[[#This Row],[Team Number]],CoreValuesResults[Team Number],0))),NumberOfTeams+1,INDEX(CoreValuesResults[Core Values Rank],MATCH(TournamentData[[#This Row],[Team Number]],CoreValuesResults[Team Number],0))))","v":""},{"$f":"IF(TournamentData[[#This Row],[Team Number]]=\"\",\"\",IF(ISNA(INDEX(InnovationProjectResults[Innovation Project Rank],MATCH(TournamentData[[#This Row],[Team Number]],InnovationProjectResults[Team Number],0))),NumberOfTeams+1,INDEX(InnovationProjectResults[Innovation Project Rank],MATCH(TournamentData[[#This Row],[Team Number]],InnovationProjectResults[Team Number],0))))","v":""},{"$f":"IF(TournamentData[[#This Row],[Team Number]]=\"\",\"\",IF(ISNA(INDEX(RobotDesignResults[Robot Design Rank],MATCH(TournamentData[[#This Row],[Team Number]],RobotDesignResults[Team Number],0))),NumberOfTeams+1,INDEX(RobotDesignResults[Robot Design Rank],MATCH(TournamentData[[#This Row],[Team Number]],RobotDesignResults[Team Number],0))))","v":""},{"$f":" IF(TournamentData[[#This Row],[Team Number]]=\"\",\"\",IF(TournamentData[[#This Row],[Core Values Rank]]=\"\",NumberOfTeams+1,TournamentData[[#This Row],[Core Values Rank]]) + IF(TournamentData[[#This Row],[Innovation Project Rank]]=\"\",NumberOfTeams+1,TournamentData[[#This Row],[Innovation Project Rank]]) + IF(TournamentData[[#This Row],[Robot Design Rank]]=\"\",NumberOfTeams+1,TournamentData[[#This Row],[Robot Design Rank]]) + TournamentData[[#This Row],[Robot Game Rank]])","v":""},{"$f":"IF(TournamentData[[#This Row],[Team Number]]=\"\",\"\",IF(M48,RANK(M48,M$3:M$110,1)-COUNTIF(M$3:M$110,0),NumberOfTeams+1))","v":""},{"$f":"IF(ISNA(INDEX(CoreValuesResults[Breakthrough Selection],MATCH(TournamentData[[#This Row],[Team Number]],CoreValuesResults[Team Number],0))),0, INDEX(CoreValuesResults[Breakthrough Selection],MATCH(TournamentData[[#This Row],[Team Number]],CoreValuesResults[Team Number],0)))","v":0},{"$f":"IF(ISNA(INDEX(CoreValuesResults[Rising All-Star Selection],MATCH(TournamentData[[#This Row],[Team Number]],CoreValuesResults[Team Number],0))),0, INDEX(CoreValuesResults[Rising All-Star Selection],MATCH(TournamentData[[#This Row],[Team Number]],CoreValuesResults[Team Number],0)))","v":0},{"$f":"IF(ISNA(INDEX(CoreValuesResults[Motivate Selection],MATCH(TournamentData[[#This Row],[Team Number]],CoreValuesResults[Team Number],0))),0, INDEX(CoreValuesResults[Motivate Selection],MATCH(TournamentData[[#This Row],[Team Number]],CoreValuesResults[Team Number],0)))","v":0},null,null,null,{"$f":"IF(ISNA(INDEX(CoreValuesResults[Core Values Score],MATCH(TournamentData[[#This Row],[Team Number]],CoreValuesResults[Team Number],0))),0,INDEX(CoreValuesResults[Core Values Score],MATCH(TournamentData[[#This Row],[Team Number]],CoreValuesResults[Team Number],0)))","v":0},{"$f":"IF(ISNA(INDEX(InnovationProjectResults[Innovation Project Score],MATCH(TournamentData[[#This Row],[Team Number]],InnovationProjectResults[Team Number],0))),0,INDEX(InnovationProjectResults[Innovation Project Score],MATCH(TournamentData[[#This Row],[Team Number]],InnovationProjectResults[Team Number],0)))","v":0},{"$f":"IF(ISNA(INDEX(RobotDesignResults[Robot Design Score],MATCH(TournamentData[[#This Row],[Team Number]],RobotDesignResults[Team Number],0))),0,INDEX(RobotDesignResults[Robot Design Score],MATCH(TournamentData[[#This Row],[Team Number]],RobotDesignResults[Team Number],0)))","v":0},{"$f":"IF(ISERR(GEOMEAN(TournamentData[[#This Row],[Max Robot Game Score]],TournamentData[[#This Row],[Core Values Score]],TournamentData[[#This Row],[Innovattion Project Score]],TournamentData[[#This Row],[Robot Design Score]])),0,GEOMEAN(TournamentData[[#This Row],[Max Robot Game Score]],TournamentData[[#This Row],[Core Values Score]],TournamentData[[#This Row],[Innovattion Project Score]],TournamentData[[#This Row],[Robot Design Score]]))","v":0},0]
[null,{"$f":"IF(ISNA(INDEX(OfficialTeamList[Team Name],MATCH(TournamentData[[#This Row],[Team Number]], OfficialTeamList[Team Number],0))),\"\",INDEX(OfficialTeamList[Team Name],MATCH(TournamentData[[#This Row],[Team Number]], OfficialTeamList[Team Number],0)))","v":""},{"$f":"IF(TournamentData[[#This Row],[Team Number]]=\"\",\"\",IF(ISNA(INDEX('Robot Game Scores'!D:D,MATCH(TournamentData[[#This Row],[Team Number]], 'Robot Game Scores'!$B:$B,0))),0,INDEX('Robot Game Scores'!D:D,MATCH(TournamentData[[#This Row],[Team Number]], 'Robot Game Scores'!$B:$B,0))))","v":""},{"$f":"IF(TournamentData[[#This Row],[Team Number]]=\"\",\"\",IF(ISNA(INDEX('Robot Game Scores'!E:E,MATCH(TournamentData[[#This Row],[Team Number]], 'Robot Game Scores'!$B:$B,0))),0,INDEX('Robot Game Scores'!E:E,MATCH(TournamentData[[#This Row],[Team Number]], 'Robot Game Scores'!$B:$B,0))))","v":""},{"$f":"IF(TournamentData[[#This Row],[Team Number]]=\"\",\"\",IF(ISNA(INDEX('Robot Game Scores'!F:F,MATCH(TournamentData[[#This Row],[Team Number]], 'Robot Game Scores'!$B:$B,0))),0,INDEX('Robot Game Scores'!F:F,MATCH(TournamentData[[#This Row],[Team Number]], 'Robot Game Scores'!$B:$B,0))))","v":""},{"$f":"IF(TournamentData[[#This Row],[Team Number]]=\"\",\"\",IF(ISNA(INDEX('Robot Game Scores'!G:G,MATCH(TournamentData[[#This Row],[Team Number]], 'Robot Game Scores'!$B:$B,0))),0,INDEX('Robot Game Scores'!G:G,MATCH(TournamentData[[#This Row],[Team Number]], 'Robot Game Scores'!$B:$B,0))))","v":""},{"$f":"IF(TournamentData[[#This Row],[Team Number]]=\"\",\"\",IF(ISNA(INDEX('Robot Game Scores'!H:H,MATCH(TournamentData[[#This Row],[Team Number]], 'Robot Game Scores'!$B:$B,0))),0,INDEX('Robot Game Scores'!H:H,MATCH(TournamentData[[#This Row],[Team Number]], 'Robot Game Scores'!$B:$B,0))))","v":""},{"$f":"IF(TournamentData[[#This Row],[Team Number]]=\"\",\"\",IF(ISNA(LARGE(TournamentData[[#This Row],[Robot Game Score 1]:[Robot Game Score 5]],1)+0.0001*LARGE(TournamentData[[#This Row],[Robot Game Score 1]:[Robot Game Score 5]],2)+0.0000001*LARGE(TournamentData[[#This Row],[Robot Game Score 1]:[Robot Game Score 5]],3)+0.00000000001*LARGE(TournamentData[[#This Row],[Robot Game Score 1]:[Robot Game Score 5]],4)+0.00000000000001*LARGE(TournamentData[[#This Row],[Robot Game Score 1]:[Robot Game Score 5]],5)),0,LARGE(TournamentData[[#This Row],[Robot Game Score 1]:[Robot Game Score 5]],1)+0.0001*LARGE(TournamentData[[#This Row],[Robot Game Score 1]:[Robot Game Score 5]],2)+0.0000001*LARGE(TournamentData[[#This Row],[Robot Game Score 1]:[Robot Game Score 5]],3)+0.00000000001*LARGE(TournamentData[[#This Row],[Robot Game Score 1]:[Robot Game Score 5]],4)+0.00000000000001*LARGE(TournamentData[[#This Row],[Robot Game Score 1]:[Robot Game Score 5]],5)))","v":""},{"$f":"IF(TournamentData[[#This Row],[Team Number]]=\"\",\"\",_xlfn.RANK.EQ(TournamentData[[#This Row],[Max Robot Game Score]],TournamentData[Max Robot Game Score]))","v":""},{"$f":"IF(TournamentData[[#This Row],[Team Number]]=\"\",\"\",IF(ISNA(INDEX(CoreValuesResults[Core Values Rank],MATCH(TournamentData[[#This Row],[Team Number]],CoreValuesResults[Team Number],0))),NumberOfTeams+1,INDEX(CoreValuesResults[Core Values Rank],MATCH(TournamentData[[#This Row],[Team Number]],CoreValuesResults[Team Number],0))))","v":""},{"$f":"IF(TournamentData[[#This Row],[Team Number]]=\"\",\"\",IF(ISNA(INDEX(InnovationProjectResults[Innovation Project Rank],MATCH(TournamentData[[#This Row],[Team Number]],InnovationProjectResults[Team Number],0))),NumberOfTeams+1,INDEX(InnovationProjectResults[Innovation Project Rank],MATCH(TournamentData[[#This Row],[Team Number]],InnovationProjectResults[Team Number],0))))","v":""},{"$f":"IF(TournamentData[[#This Row],[Team Number]]=\"\",\"\",IF(ISNA(INDEX(RobotDesignResults[Robot Design Rank],MATCH(TournamentData[[#This Row],[Team Number]],RobotDesignResults[Team Number],0))),NumberOfTeams+1,INDEX(RobotDesignResults[Robot Design Rank],MATCH(TournamentData[[#This Row],[Team Number]],RobotDesignResults[Team Number],0))))","v":""},{"$f":" IF(TournamentData[[#This Row],[Team Number]]=\"\",\"\",IF(TournamentData[[#This Row],[Core Values Rank]]=\"\",NumberOfTeams+1,TournamentData[[#This Row],[Core Values Rank]]) + IF(TournamentData[[#This Row],[Innovation Project Rank]]=\"\",NumberOfTeams+1,TournamentData[[#This Row],[Innovation Project Rank]]) + IF(TournamentData[[#This Row],[Robot Design Rank]]=\"\",NumberOfTeams+1,TournamentData[[#This Row],[Robot Design Rank]]) + TournamentData[[#This Row],[Robot Game Rank]])","v":""},{"$f":"IF(TournamentData[[#This Row],[Team Number]]=\"\",\"\",IF(M49,RANK(M49,M$3:M$110,1)-COUNTIF(M$3:M$110,0),NumberOfTeams+1))","v":""},{"$f":"IF(ISNA(INDEX(CoreValuesResults[Breakthrough Selection],MATCH(TournamentData[[#This Row],[Team Number]],CoreValuesResults[Team Number],0))),0, INDEX(CoreValuesResults[Breakthrough Selection],MATCH(TournamentData[[#This Row],[Team Number]],CoreValuesResults[Team Number],0)))","v":0},{"$f":"IF(ISNA(INDEX(CoreValuesResults[Rising All-Star Selection],MATCH(TournamentData[[#This Row],[Team Number]],CoreValuesResults[Team Number],0))),0, INDEX(CoreValuesResults[Rising All-Star Selection],MATCH(TournamentData[[#This Row],[Team Number]],CoreValuesResults[Team Number],0)))","v":0},{"$f":"IF(ISNA(INDEX(CoreValuesResults[Motivate Selection],MATCH(TournamentData[[#This Row],[Team Number]],CoreValuesResults[Team Number],0))),0, INDEX(CoreValuesResults[Motivate Selection],MATCH(TournamentData[[#This Row],[Team Number]],CoreValuesResults[Team Number],0)))","v":0},null,null,null,{"$f":"IF(ISNA(INDEX(CoreValuesResults[Core Values Score],MATCH(TournamentData[[#This Row],[Team Number]],CoreValuesResults[Team Number],0))),0,INDEX(CoreValuesResults[Core Values Score],MATCH(TournamentData[[#This Row],[Team Number]],CoreValuesResults[Team Number],0)))","v":0},{"$f":"IF(ISNA(INDEX(InnovationProjectResults[Innovation Project Score],MATCH(TournamentData[[#This Row],[Team Number]],InnovationProjectResults[Team Number],0))),0,INDEX(InnovationProjectResults[Innovation Project Score],MATCH(TournamentData[[#This Row],[Team Number]],InnovationProjectResults[Team Number],0)))","v":0},{"$f":"IF(ISNA(INDEX(RobotDesignResults[Robot Design Score],MATCH(TournamentData[[#This Row],[Team Number]],RobotDesignResults[Team Number],0))),0,INDEX(RobotDesignResults[Robot Design Score],MATCH(TournamentData[[#This Row],[Team Number]],RobotDesignResults[Team Number],0)))","v":0},{"$f":"IF(ISERR(GEOMEAN(TournamentData[[#This Row],[Max Robot Game Score]],TournamentData[[#This Row],[Core Values Score]],TournamentData[[#This Row],[Innovattion Project Score]],TournamentData[[#This Row],[Robot Design Score]])),0,GEOMEAN(TournamentData[[#This Row],[Max Robot Game Score]],TournamentData[[#This Row],[Core Values Score]],TournamentData[[#This Row],[Innovattion Project Score]],TournamentData[[#This Row],[Robot Design Score]]))","v":0},0]
[null,{"$f":"IF(ISNA(INDEX(OfficialTeamList[Team Name],MATCH(TournamentData[[#This Row],[Team Number]], OfficialTeamList[Team Number],0))),\"\",INDEX(OfficialTeamList[Team Name],MATCH(TournamentData[[#This Row],[Team Number]], OfficialTeamList[Team Number],0)))","v":""},{"$f":"IF(TournamentData[[#This Row],[Team Number]]=\"\",\"\",IF(ISNA(INDEX('Robot Game Scores'!D:D,MATCH(TournamentData[[#This Row],[Team Number]], 'Robot Game Scores'!$B:$B,0))),0,INDEX('Robot Game Scores'!D:D,MATCH(TournamentData[[#This Row],[Team Number]], 'Robot Game Scores'!$B:$B,0))))","v":""},{"$f":"IF(TournamentData[[#This Row],[Team Number]]=\"\",\"\",IF(ISNA(INDEX('Robot Game Scores'!E:E,MATCH(TournamentData[[#This Row],[Team Number]], 'Robot Game Scores'!$B:$B,0))),0,INDEX('Robot Game Scores'!E:E,MATCH(TournamentData[[#This Row],[Team Number]], 'Robot Game Scores'!$B:$B,0))))","v":""},{"$f":"IF(TournamentData[[#This Row],[Team Number]]=\"\",\"\",IF(ISNA(INDEX('Robot Game Scores'!F:F,MATCH(TournamentData[[#This Row],[Team Number]], 'Robot Game Scores'!$B:$B,0))),0,INDEX('Robot Game Scores'!F:F,MATCH(TournamentData[[#This Row],[Team Number]], 'Robot Game Scores'!$B:$B,0))))","v":""},{"$f":"IF(TournamentData[[#This Row],[Team Number]]=\"\",\"\",IF(ISNA(INDEX('Robot Game Scores'!G:G,MATCH(TournamentData[[#This Row],[Team Number]], 'Robot Game Scores'!$B:$B,0))),0,INDEX('Robot Game Scores'!G:G,MATCH(TournamentData[[#This Row],[Team Number]], 'Robot Game Scores'!$B:$B,0))))","v":""},{"$f":"IF(TournamentData[[#This Row],[Team Number]]=\"\",\"\",IF(ISNA(INDEX('Robot Game Scores'!H:H,MATCH(TournamentData[[#This Row],[Team Number]], 'Robot Game Scores'!$B:$B,0))),0,INDEX('Robot Game Scores'!H:H,MATCH(TournamentData[[#This Row],[Team Number]], 'Robot Game Scores'!$B:$B,0))))","v":""},{"$f":"IF(TournamentData[[#This Row],[Team Number]]=\"\",\"\",IF(ISNA(LARGE(TournamentData[[#This Row],[Robot Game Score 1]:[Robot Game Score 5]],1)+0.0001*LARGE(TournamentData[[#This Row],[Robot Game Score 1]:[Robot Game Score 5]],2)+0.0000001*LARGE(TournamentData[[#This Row],[Robot Game Score 1]:[Robot Game Score 5]],3)+0.00000000001*LARGE(TournamentData[[#This Row],[Robot Game Score 1]:[Robot Game Score 5]],4)+0.00000000000001*LARGE(TournamentData[[#This Row],[Robot Game Score 1]:[Robot Game Score 5]],5)),0,LARGE(TournamentData[[#This Row],[Robot Game Score 1]:[Robot Game Score 5]],1)+0.0001*LARGE(TournamentData[[#This Row],[Robot Game Score 1]:[Robot Game Score 5]],2)+0.0000001*LARGE(TournamentData[[#This Row],[Robot Game Score 1]:[Robot Game Score 5]],3)+0.00000000001*LARGE(TournamentData[[#This Row],[Robot Game Score 1]:[Robot Game Score 5]],4)+0.00000000000001*LARGE(TournamentData[[#This Row],[Robot Game Score 1]:[Robot Game Score 5]],5)))","v":""},{"$f":"IF(TournamentData[[#This Row],[Team Number]]=\"\",\"\",_xlfn.RANK.EQ(TournamentData[[#This Row],[Max Robot Game Score]],TournamentData[Max Robot Game Score]))","v":""},{"$f":"IF(TournamentData[[#This Row],[Team Number]]=\"\",\"\",IF(ISNA(INDEX(CoreValuesResults[Core Values Rank],MATCH(TournamentData[[#This Row],[Team Number]],CoreValuesResults[Team Number],0))),NumberOfTeams+1,INDEX(CoreValuesResults[Core Values Rank],MATCH(TournamentData[[#This Row],[Team Number]],CoreValuesResults[Team Number],0))))","v":""},{"$f":"IF(TournamentData[[#This Row],[Team Number]]=\"\",\"\",IF(ISNA(INDEX(InnovationProjectResults[Innovation Project Rank],MATCH(TournamentData[[#This Row],[Team Number]],InnovationProjectResults[Team Number],0))),NumberOfTeams+1,INDEX(InnovationProjectResults[Innovation Project Rank],MATCH(TournamentData[[#This Row],[Team Number]],InnovationProjectResults[Team Number],0))))","v":""},{"$f":"IF(TournamentData[[#This Row],[Team Number]]=\"\",\"\",IF(ISNA(INDEX(RobotDesignResults[Robot Design Rank],MATCH(TournamentData[[#This Row],[Team Number]],RobotDesignResults[Team Number],0))),NumberOfTeams+1,INDEX(RobotDesignResults[Robot Design Rank],MATCH(TournamentData[[#This Row],[Team Number]],RobotDesignResults[Team Number],0))))","v":""},{"$f":" IF(TournamentData[[#This Row],[Team Number]]=\"\",\"\",IF(TournamentData[[#This Row],[Core Values Rank]]=\"\",NumberOfTeams+1,TournamentData[[#This Row],[Core Values Rank]]) + IF(TournamentData[[#This Row],[Innovation Project Rank]]=\"\",NumberOfTeams+1,TournamentData[[#This Row],[Innovation Project Rank]]) + IF(TournamentData[[#This Row],[Robot Design Rank]]=\"\",NumberOfTeams+1,TournamentData[[#This Row],[Robot Design Rank]]) + TournamentData[[#This Row],[Robot Game Rank]])","v":""},{"$f":"IF(TournamentData[[#This Row],[Team Number]]=\"\",\"\",IF(M50,RANK(M50,M$3:M$110,1)-COUNTIF(M$3:M$110,0),NumberOfTeams+1))","v":""},{"$f":"IF(ISNA(INDEX(CoreValuesResults[Breakthrough Selection],MATCH(TournamentData[[#This Row],[Team Number]],CoreValuesResults[Team Number],0))),0, INDEX(CoreValuesResults[Breakthrough Selection],MATCH(TournamentData[[#This Row],[Team Number]],CoreValuesResults[Team Number],0)))","v":0},{"$f":"IF(ISNA(INDEX(CoreValuesResults[Rising All-Star Selection],MATCH(TournamentData[[#This Row],[Team Number]],CoreValuesResults[Team Number],0))),0, INDEX(CoreValuesResults[Rising All-Star Selection],MATCH(TournamentData[[#This Row],[Team Number]],CoreValuesResults[Team Number],0)))","v":0},{"$f":"IF(ISNA(INDEX(CoreValuesResults[Motivate Selection],MATCH(TournamentData[[#This Row],[Team Number]],CoreValuesResults[Team Number],0))),0, INDEX(CoreValuesResults[Motivate Selection],MATCH(TournamentData[[#This Row],[Team Number]],CoreValuesResults[Team Number],0)))","v":0},null,null,null,{"$f":"IF(ISNA(INDEX(CoreValuesResults[Core Values Score],MATCH(TournamentData[[#This Row],[Team Number]],CoreValuesResults[Team Number],0))),0,INDEX(CoreValuesResults[Core Values Score],MATCH(TournamentData[[#This Row],[Team Number]],CoreValuesResults[Team Number],0)))","v":0},{"$f":"IF(ISNA(INDEX(InnovationProjectResults[Innovation Project Score],MATCH(TournamentData[[#This Row],[Team Number]],InnovationProjectResults[Team Number],0))),0,INDEX(InnovationProjectResults[Innovation Project Score],MATCH(TournamentData[[#This Row],[Team Number]],InnovationProjectResults[Team Number],0)))","v":0},{"$f":"IF(ISNA(INDEX(RobotDesignResults[Robot Design Score],MATCH(TournamentData[[#This Row],[Team Number]],RobotDesignResults[Team Number],0))),0,INDEX(RobotDesignResults[Robot Design Score],MATCH(TournamentData[[#This Row],[Team Number]],RobotDesignResults[Team Number],0)))","v":0},{"$f":"IF(ISERR(GEOMEAN(TournamentData[[#This Row],[Max Robot Game Score]],TournamentData[[#This Row],[Core Values Score]],TournamentData[[#This Row],[Innovattion Project Score]],TournamentData[[#This Row],[Robot Design Score]])),0,GEOMEAN(TournamentData[[#This Row],[Max Robot Game Score]],TournamentData[[#This Row],[Core Values Score]],TournamentData[[#This Row],[Innovattion Project Score]],TournamentData[[#This Row],[Robot Design Score]]))","v":0},0]
[null,{"$f":"IF(ISNA(INDEX(OfficialTeamList[Team Name],MATCH(TournamentData[[#This Row],[Team Number]], OfficialTeamList[Team Number],0))),\"\",INDEX(OfficialTeamList[Team Name],MATCH(TournamentData[[#This Row],[Team Number]], OfficialTeamList[Team Number],0)))","v":""},{"$f":"IF(TournamentData[[#This Row],[Team Number]]=\"\",\"\",IF(ISNA(INDEX('Robot Game Scores'!D:D,MATCH(TournamentData[[#This Row],[Team Number]], 'Robot Game Scores'!$B:$B,0))),0,INDEX('Robot Game Scores'!D:D,MATCH(TournamentData[[#This Row],[Team Number]], 'Robot Game Scores'!$B:$B,0))))","v":""},{"$f":"IF(TournamentData[[#This Row],[Team Number]]=\"\",\"\",IF(ISNA(INDEX('Robot Game Scores'!E:E,MATCH(TournamentData[[#This Row],[Team Number]], 'Robot Game Scores'!$B:$B,0))),0,INDEX('Robot Game Scores'!E:E,MATCH(TournamentData[[#This Row],[Team Number]], 'Robot Game Scores'!$B:$B,0))))","v":""},{"$f":"IF(TournamentData[[#This Row],[Team Number]]=\"\",\"\",IF(ISNA(INDEX('Robot Game Scores'!F:F,MATCH(TournamentData[[#This Row],[Team Number]], 'Robot Game Scores'!$B:$B,0))),0,INDEX('Robot Game Scores'!F:F,MATCH(TournamentData[[#This Row],[Team Number]], 'Robot Game Scores'!$B:$B,0))))","v":""},{"$f":"IF(TournamentData[[#This Row],[Team Number]]=\"\",\"\",IF(ISNA(INDEX('Robot Game Scores'!G:G,MATCH(TournamentData[[#This Row],[Team Number]], 'Robot Game Scores'!$B:$B,0))),0,INDEX('Robot Game Scores'!G:G,MATCH(TournamentData[[#This Row],[Team Number]], 'Robot Game Scores'!$B:$B,0))))","v":""},{"$f":"IF(TournamentData[[#This Row],[Team Number]]=\"\",\"\",IF(ISNA(INDEX('Robot Game Scores'!H:H,MATCH(TournamentData[[#This Row],[Team Number]], 'Robot Game Scores'!$B:$B,0))),0,INDEX('Robot Game Scores'!H:H,MATCH(TournamentData[[#This Row],[Team Number]], 'Robot Game Scores'!$B:$B,0))))","v":""},{"$f":"IF(TournamentData[[#This Row],[Team Number]]=\"\",\"\",IF(ISNA(LARGE(TournamentData[[#This Row],[Robot Game Score 1]:[Robot Game Score 5]],1)+0.0001*LARGE(TournamentData[[#This Row],[Robot Game Score 1]:[Robot Game Score 5]],2)+0.0000001*LARGE(TournamentData[[#This Row],[Robot Game Score 1]:[Robot Game Score 5]],3)+0.00000000001*LARGE(TournamentData[[#This Row],[Robot Game Score 1]:[Robot Game Score 5]],4)+0.00000000000001*LARGE(TournamentData[[#This Row],[Robot Game Score 1]:[Robot Game Score 5]],5)),0,LARGE(TournamentData[[#This Row],[Robot Game Score 1]:[Robot Game Score 5]],1)+0.0001*LARGE(TournamentData[[#This Row],[Robot Game Score 1]:[Robot Game Score 5]],2)+0.0000001*LARGE(TournamentData[[#This Row],[Robot Game Score 1]:[Robot Game Score 5]],3)+0.00000000001*LARGE(TournamentData[[#This Row],[Robot Game Score 1]:[Robot Game Score 5]],4)+0.00000000000001*LARGE(TournamentData[[#This Row],[Robot Game Score 1]:[Robot Game Score 5]],5)))","v":""},{"$f":"IF(TournamentData[[#This Row],[Team Number]]=\"\",\"\",_xlfn.RANK.EQ(TournamentData[[#This Row],[Max Robot Game Score]],TournamentData[Max Robot Game Score]))","v":""},{"$f":"IF(TournamentData[[#This Row],[Team Number]]=\"\",\"\",IF(ISNA(INDEX(CoreValuesResults[Core Values Rank],MATCH(TournamentData[[#This Row],[Team Number]],CoreValuesResults[Team Number],0))),NumberOfTeams+1,INDEX(CoreValuesResults[Core Values Rank],MATCH(TournamentData[[#This Row],[Team Number]],CoreValuesResults[Team Number],0))))","v":""},{"$f":"IF(TournamentData[[#This Row],[Team Number]]=\"\",\"\",IF(ISNA(INDEX(InnovationProjectResults[Innovation Project Rank],MATCH(TournamentData[[#This Row],[Team Number]],InnovationProjectResults[Team Number],0))),NumberOfTeams+1,INDEX(InnovationProjectResults[Innovation Project Rank],MATCH(TournamentData[[#This Row],[Team Number]],InnovationProjectResults[Team Number],0))))","v":""},{"$f":"IF(TournamentData[[#This Row],[Team Number]]=\"\",\"\",IF(ISNA(INDEX(RobotDesignResults[Robot Design Rank],MATCH(TournamentData[[#This Row],[Team Number]],RobotDesignResults[Team Number],0))),NumberOfTeams+1,INDEX(RobotDesignResults[Robot Design Rank],MATCH(TournamentData[[#This Row],[Team Number]],RobotDesignResults[Team Number],0))))","v":""},{"$f":" IF(TournamentData[[#This Row],[Team Number]]=\"\",\"\",IF(TournamentData[[#This Row],[Core Values Rank]]=\"\",NumberOfTeams+1,TournamentData[[#This Row],[Core Values Rank]]) + IF(TournamentData[[#This Row],[Innovation Project Rank]]=\"\",NumberOfTeams+1,TournamentData[[#This Row],[Innovation Project Rank]]) + IF(TournamentData[[#This Row],[Robot Design Rank]]=\"\",NumberOfTeams+1,TournamentData[[#This Row],[Robot Design Rank]]) + TournamentData[[#This Row],[Robot Game Rank]])","v":""},{"$f":"IF(TournamentData[[#This Row],[Team Number]]=\"\",\"\",IF(M51,RANK(M51,M$3:M$110,1)-COUNTIF(M$3:M$110,0),NumberOfTeams+1))","v":""},{"$f":"IF(ISNA(INDEX(CoreValuesResults[Breakthrough Selection],MATCH(TournamentData[[#This Row],[Team Number]],CoreValuesResults[Team Number],0))),0, INDEX(CoreValuesResults[Breakthrough Selection],MATCH(TournamentData[[#This Row],[Team Number]],CoreValuesResults[Team Number],0)))","v":0},{"$f":"IF(ISNA(INDEX(CoreValuesResults[Rising All-Star Selection],MATCH(TournamentData[[#This Row],[Team Number]],CoreValuesResults[Team Number],0))),0, INDEX(CoreValuesResults[Rising All-Star Selection],MATCH(TournamentData[[#This Row],[Team Number]],CoreValuesResults[Team Number],0)))","v":0},{"$f":"IF(ISNA(INDEX(CoreValuesResults[Motivate Selection],MATCH(TournamentData[[#This Row],[Team Number]],CoreValuesResults[Team Number],0))),0, INDEX(CoreValuesResults[Motivate Selection],MATCH(TournamentData[[#This Row],[Team Number]],CoreValuesResults[Team Number],0)))","v":0},null,null,null,{"$f":"IF(ISNA(INDEX(CoreValuesResults[Core Values Score],MATCH(TournamentData[[#This Row],[Team Number]],CoreValuesResults[Team Number],0))),0,INDEX(CoreValuesResults[Core Values Score],MATCH(TournamentData[[#This Row],[Team Number]],CoreValuesResults[Team Number],0)))","v":0},{"$f":"IF(ISNA(INDEX(InnovationProjectResults[Innovation Project Score],MATCH(TournamentData[[#This Row],[Team Number]],InnovationProjectResults[Team Number],0))),0,INDEX(InnovationProjectResults[Innovation Project Score],MATCH(TournamentData[[#This Row],[Team Number]],InnovationProjectResults[Team Number],0)))","v":0},{"$f":"IF(ISNA(INDEX(RobotDesignResults[Robot Design Score],MATCH(TournamentData[[#This Row],[Team Number]],RobotDesignResults[Team Number],0))),0,INDEX(RobotDesignResults[Robot Design Score],MATCH(TournamentData[[#This Row],[Team Number]],RobotDesignResults[Team Number],0)))","v":0},{"$f":"IF(ISERR(GEOMEAN(TournamentData[[#This Row],[Max Robot Game Score]],TournamentData[[#This Row],[Core Values Score]],TournamentData[[#This Row],[Innovattion Project Score]],TournamentData[[#This Row],[Robot Design Score]])),0,GEOMEAN(TournamentData[[#This Row],[Max Robot Game Score]],TournamentData[[#This Row],[Core Values Score]],TournamentData[[#This Row],[Innovattion Project Score]],TournamentData[[#This Row],[Robot Design Score]]))","v":0},0]
[null,{"$f":"IF(ISNA(INDEX(OfficialTeamList[Team Name],MATCH(TournamentData[[#This Row],[Team Number]], OfficialTeamList[Team Number],0))),\"\",INDEX(OfficialTeamList[Team Name],MATCH(TournamentData[[#This Row],[Team Number]], OfficialTeamList[Team Number],0)))","v":""},{"$f":"IF(TournamentData[[#This Row],[Team Number]]=\"\",\"\",IF(ISNA(INDEX('Robot Game Scores'!D:D,MATCH(TournamentData[[#This Row],[Team Number]], 'Robot Game Scores'!$B:$B,0))),0,INDEX('Robot Game Scores'!D:D,MATCH(TournamentData[[#This Row],[Team Number]], 'Robot Game Scores'!$B:$B,0))))","v":""},{"$f":"IF(TournamentData[[#This Row],[Team Number]]=\"\",\"\",IF(ISNA(INDEX('Robot Game Scores'!E:E,MATCH(TournamentData[[#This Row],[Team Number]], 'Robot Game Scores'!$B:$B,0))),0,INDEX('Robot Game Scores'!E:E,MATCH(TournamentData[[#This Row],[Team Number]], 'Robot Game Scores'!$B:$B,0))))","v":""},{"$f":"IF(TournamentData[[#This Row],[Team Number]]=\"\",\"\",IF(ISNA(INDEX('Robot Game Scores'!F:F,MATCH(TournamentData[[#This Row],[Team Number]], 'Robot Game Scores'!$B:$B,0))),0,INDEX('Robot Game Scores'!F:F,MATCH(TournamentData[[#This Row],[Team Number]], 'Robot Game Scores'!$B:$B,0))))","v":""},{"$f":"IF(TournamentData[[#This Row],[Team Number]]=\"\",\"\",IF(ISNA(INDEX('Robot Game Scores'!G:G,MATCH(TournamentData[[#This Row],[Team Number]], 'Robot Game Scores'!$B:$B,0))),0,INDEX('Robot Game Scores'!G:G,MATCH(TournamentData[[#This Row],[Team Number]], 'Robot Game Scores'!$B:$B,0))))","v":""},{"$f":"IF(TournamentData[[#This Row],[Team Number]]=\"\",\"\",IF(ISNA(INDEX('Robot Game Scores'!H:H,MATCH(TournamentData[[#This Row],[Team Number]], 'Robot Game Scores'!$B:$B,0))),0,INDEX('Robot Game Scores'!H:H,MATCH(TournamentData[[#This Row],[Team Number]], 'Robot Game Scores'!$B:$B,0))))","v":""},{"$f":"IF(TournamentData[[#This Row],[Team Number]]=\"\",\"\",IF(ISNA(LARGE(TournamentData[[#This Row],[Robot Game Score 1]:[Robot Game Score 5]],1)+0.0001*LARGE(TournamentData[[#This Row],[Robot Game Score 1]:[Robot Game Score 5]],2)+0.0000001*LARGE(TournamentData[[#This Row],[Robot Game Score 1]:[Robot Game Score 5]],3)+0.00000000001*LARGE(TournamentData[[#This Row],[Robot Game Score 1]:[Robot Game Score 5]],4)+0.00000000000001*LARGE(TournamentData[[#This Row],[Robot Game Score 1]:[Robot Game Score 5]],5)),0,LARGE(TournamentData[[#This Row],[Robot Game Score 1]:[Robot Game Score 5]],1)+0.0001*LARGE(TournamentData[[#This Row],[Robot Game Score 1]:[Robot Game Score 5]],2)+0.0000001*LARGE(TournamentData[[#This Row],[Robot Game Score 1]:[Robot Game Score 5]],3)+0.00000000001*LARGE(TournamentData[[#This Row],[Robot Game Score 1]:[Robot Game Score 5]],4)+0.00000000000001*LARGE(TournamentData[[#This Row],[Robot Game Score 1]:[Robot Game Score 5]],5)))","v":""},{"$f":"IF(TournamentData[[#This Row],[Team Number]]=\"\",\"\",_xlfn.RANK.EQ(TournamentData[[#This Row],[Max Robot Game Score]],TournamentData[Max Robot Game Score]))","v":""},{"$f":"IF(TournamentData[[#This Row],[Team Number]]=\"\",\"\",IF(ISNA(INDEX(CoreValuesResults[Core Values Rank],MATCH(TournamentData[[#This Row],[Team Number]],CoreValuesResults[Team Number],0))),NumberOfTeams+1,INDEX(CoreValuesResults[Core Values Rank],MATCH(TournamentData[[#This Row],[Team Number]],CoreValuesResults[Team Number],0))))","v":""},{"$f":"IF(TournamentData[[#This Row],[Team Number]]=\"\",\"\",IF(ISNA(INDEX(InnovationProjectResults[Innovation Project Rank],MATCH(TournamentData[[#This Row],[Team Number]],InnovationProjectResults[Team Number],0))),NumberOfTeams+1,INDEX(InnovationProjectResults[Innovation Project Rank],MATCH(TournamentData[[#This Row],[Team Number]],InnovationProjectResults[Team Number],0))))","v":""},{"$f":"IF(TournamentData[[#This Row],[Team Number]]=\"\",\"\",IF(ISNA(INDEX(RobotDesignResults[Robot Design Rank],MATCH(TournamentData[[#This Row],[Team Number]],RobotDesignResults[Team Number],0))),NumberOfTeams+1,INDEX(RobotDesignResults[Robot Design Rank],MATCH(TournamentData[[#This Row],[Team Number]],RobotDesignResults[Team Number],0))))","v":""},{"$f":" IF(TournamentData[[#This Row],[Team Number]]=\"\",\"\",IF(TournamentData[[#This Row],[Core Values Rank]]=\"\",NumberOfTeams+1,TournamentData[[#This Row],[Core Values Rank]]) + IF(TournamentData[[#This Row],[Innovation Project Rank]]=\"\",NumberOfTeams+1,TournamentData[[#This Row],[Innovation Project Rank]]) + IF(TournamentData[[#This Row],[Robot Design Rank]]=\"\",NumberOfTeams+1,TournamentData[[#This Row],[Robot Design Rank]]) + TournamentData[[#This Row],[Robot Game Rank]])","v":""},{"$f":"IF(TournamentData[[#This Row],[Team Number]]=\"\",\"\",IF(M52,RANK(M52,M$3:M$110,1)-COUNTIF(M$3:M$110,0),NumberOfTeams+1))","v":""},{"$f":"IF(ISNA(INDEX(CoreValuesResults[Breakthrough Selection],MATCH(TournamentData[[#This Row],[Team Number]],CoreValuesResults[Team Number],0))),0, INDEX(CoreValuesResults[Breakthrough Selection],MATCH(TournamentData[[#This Row],[Team Number]],CoreValuesResults[Team Number],0)))","v":0},{"$f":"IF(ISNA(INDEX(CoreValuesResults[Rising All-Star Selection],MATCH(TournamentData[[#This Row],[Team Number]],CoreValuesResults[Team Number],0))),0, INDEX(CoreValuesResults[Rising All-Star Selection],MATCH(TournamentData[[#This Row],[Team Number]],CoreValuesResults[Team Number],0)))","v":0},{"$f":"IF(ISNA(INDEX(CoreValuesResults[Motivate Selection],MATCH(TournamentData[[#This Row],[Team Number]],CoreValuesResults[Team Number],0))),0, INDEX(CoreValuesResults[Motivate Selection],MATCH(TournamentData[[#This Row],[Team Number]],CoreValuesResults[Team Number],0)))","v":0},null,null,null,{"$f":"IF(ISNA(INDEX(CoreValuesResults[Core Values Score],MATCH(TournamentData[[#This Row],[Team Number]],CoreValuesResults[Team Number],0))),0,INDEX(CoreValuesResults[Core Values Score],MATCH(TournamentData[[#This Row],[Team Number]],CoreValuesResults[Team Number],0)))","v":0},{"$f":"IF(ISNA(INDEX(InnovationProjectResults[Innovation Project Score],MATCH(TournamentData[[#This Row],[Team Number]],InnovationProjectResults[Team Number],0))),0,INDEX(InnovationProjectResults[Innovation Project Score],MATCH(TournamentData[[#This Row],[Team Number]],InnovationProjectResults[Team Number],0)))","v":0},{"$f":"IF(ISNA(INDEX(RobotDesignResults[Robot Design Score],MATCH(TournamentData[[#This Row],[Team Number]],RobotDesignResults[Team Number],0))),0,INDEX(RobotDesignResults[Robot Design Score],MATCH(TournamentData[[#This Row],[Team Number]],RobotDesignResults[Team Number],0)))","v":0},{"$f":"IF(ISERR(GEOMEAN(TournamentData[[#This Row],[Max Robot Game Score]],TournamentData[[#This Row],[Core Values Score]],TournamentData[[#This Row],[Innovattion Project Score]],TournamentData[[#This Row],[Robot Design Score]])),0,GEOMEAN(TournamentData[[#This Row],[Max Robot Game Score]],TournamentData[[#This Row],[Core Values Score]],TournamentData[[#This Row],[Innovattion Project Score]],TournamentData[[#This Row],[Robot Design Score]]))","v":0},0]
[null,{"$f":"IF(ISNA(INDEX(OfficialTeamList[Team Name],MATCH(TournamentData[[#This Row],[Team Number]], OfficialTeamList[Team Number],0))),\"\",INDEX(OfficialTeamList[Team Name],MATCH(TournamentData[[#This Row],[Team Number]], OfficialTeamList[Team Number],0)))","v":""},{"$f":"IF(TournamentData[[#This Row],[Team Number]]=\"\",\"\",IF(ISNA(INDEX('Robot Game Scores'!D:D,MATCH(TournamentData[[#This Row],[Team Number]], 'Robot Game Scores'!$B:$B,0))),0,INDEX('Robot Game Scores'!D:D,MATCH(TournamentData[[#This Row],[Team Number]], 'Robot Game Scores'!$B:$B,0))))","v":""},{"$f":"IF(TournamentData[[#This Row],[Team Number]]=\"\",\"\",IF(ISNA(INDEX('Robot Game Scores'!E:E,MATCH(TournamentData[[#This Row],[Team Number]], 'Robot Game Scores'!$B:$B,0))),0,INDEX('Robot Game Scores'!E:E,MATCH(TournamentData[[#This Row],[Team Number]], 'Robot Game Scores'!$B:$B,0))))","v":""},{"$f":"IF(TournamentData[[#This Row],[Team Number]]=\"\",\"\",IF(ISNA(INDEX('Robot Game Scores'!F:F,MATCH(TournamentData[[#This Row],[Team Number]], 'Robot Game Scores'!$B:$B,0))),0,INDEX('Robot Game Scores'!F:F,MATCH(TournamentData[[#This Row],[Team Number]], 'Robot Game Scores'!$B:$B,0))))","v":""},{"$f":"IF(TournamentData[[#This Row],[Team Number]]=\"\",\"\",IF(ISNA(INDEX('Robot Game Scores'!G:G,MATCH(TournamentData[[#This Row],[Team Number]], 'Robot Game Scores'!$B:$B,0))),0,INDEX('Robot Game Scores'!G:G,MATCH(TournamentData[[#This Row],[Team Number]], 'Robot Game Scores'!$B:$B,0))))","v":""},{"$f":"IF(TournamentData[[#This Row],[Team Number]]=\"\",\"\",IF(ISNA(INDEX('Robot Game Scores'!H:H,MATCH(TournamentData[[#This Row],[Team Number]], 'Robot Game Scores'!$B:$B,0))),0,INDEX('Robot Game Scores'!H:H,MATCH(TournamentData[[#This Row],[Team Number]], 'Robot Game Scores'!$B:$B,0))))","v":""},{"$f":"IF(TournamentData[[#This Row],[Team Number]]=\"\",\"\",IF(ISNA(LARGE(TournamentData[[#This Row],[Robot Game Score 1]:[Robot Game Score 5]],1)+0.0001*LARGE(TournamentData[[#This Row],[Robot Game Score 1]:[Robot Game Score 5]],2)+0.0000001*LARGE(TournamentData[[#This Row],[Robot Game Score 1]:[Robot Game Score 5]],3)+0.00000000001*LARGE(TournamentData[[#This Row],[Robot Game Score 1]:[Robot Game Score 5]],4)+0.00000000000001*LARGE(TournamentData[[#This Row],[Robot Game Score 1]:[Robot Game Score 5]],5)),0,LARGE(TournamentData[[#This Row],[Robot Game Score 1]:[Robot Game Score 5]],1)+0.0001*LARGE(TournamentData[[#This Row],[Robot Game Score 1]:[Robot Game Score 5]],2)+0.0000001*LARGE(TournamentData[[#This Row],[Robot Game Score 1]:[Robot Game Score 5]],3)+0.00000000001*LARGE(TournamentData[[#This Row],[Robot Game Score 1]:[Robot Game Score 5]],4)+0.00000000000001*LARGE(TournamentData[[#This Row],[Robot Game Score 1]:[Robot Game Score 5]],5)))","v":""},{"$f":"IF(TournamentData[[#This Row],[Team Number]]=\"\",\"\",_xlfn.RANK.EQ(TournamentData[[#This Row],[Max Robot Game Score]],TournamentData[Max Robot Game Score]))","v":""},{"$f":"IF(TournamentData[[#This Row],[Team Number]]=\"\",\"\",IF(ISNA(INDEX(CoreValuesResults[Core Values Rank],MATCH(TournamentData[[#This Row],[Team Number]],CoreValuesResults[Team Number],0))),NumberOfTeams+1,INDEX(CoreValuesResults[Core Values Rank],MATCH(TournamentData[[#This Row],[Team Number]],CoreValuesResults[Team Number],0))))","v":""},{"$f":"IF(TournamentData[[#This Row],[Team Number]]=\"\",\"\",IF(ISNA(INDEX(InnovationProjectResults[Innovation Project Rank],MATCH(TournamentData[[#This Row],[Team Number]],InnovationProjectResults[Team Number],0))),NumberOfTeams+1,INDEX(InnovationProjectResults[Innovation Project Rank],MATCH(TournamentData[[#This Row],[Team Number]],InnovationProjectResults[Team Number],0))))","v":""},{"$f":"IF(TournamentData[[#This Row],[Team Number]]=\"\",\"\",IF(ISNA(INDEX(RobotDesignResults[Robot Design Rank],MATCH(TournamentData[[#This Row],[Team Number]],RobotDesignResults[Team Number],0))),NumberOfTeams+1,INDEX(RobotDesignResults[Robot Design Rank],MATCH(TournamentData[[#This Row],[Team Number]],RobotDesignResults[Team Number],0))))","v":""},{"$f":" IF(TournamentData[[#This Row],[Team Number]]=\"\",\"\",IF(TournamentData[[#This Row],[Core Values Rank]]=\"\",NumberOfTeams+1,TournamentData[[#This Row],[Core Values Rank]]) + IF(TournamentData[[#This Row],[Innovation Project Rank]]=\"\",NumberOfTeams+1,TournamentData[[#This Row],[Innovation Project Rank]]) + IF(TournamentData[[#This Row],[Robot Design Rank]]=\"\",NumberOfTeams+1,TournamentData[[#This Row],[Robot Design Rank]]) + TournamentData[[#This Row],[Robot Game Rank]])","v":""},{"$f":"IF(TournamentData[[#This Row],[Team Number]]=\"\",\"\",IF(M53,RANK(M53,M$3:M$110,1)-COUNTIF(M$3:M$110,0),NumberOfTeams+1))","v":""},{"$f":"IF(ISNA(INDEX(CoreValuesResults[Breakthrough Selection],MATCH(TournamentData[[#This Row],[Team Number]],CoreValuesResults[Team Number],0))),0, INDEX(CoreValuesResults[Breakthrough Selection],MATCH(TournamentData[[#This Row],[Team Number]],CoreValuesResults[Team Number],0)))","v":0},{"$f":"IF(ISNA(INDEX(CoreValuesResults[Rising All-Star Selection],MATCH(TournamentData[[#This Row],[Team Number]],CoreValuesResults[Team Number],0))),0, INDEX(CoreValuesResults[Rising All-Star Selection],MATCH(TournamentData[[#This Row],[Team Number]],CoreValuesResults[Team Number],0)))","v":0},{"$f":"IF(ISNA(INDEX(CoreValuesResults[Motivate Selection],MATCH(TournamentData[[#This Row],[Team Number]],CoreValuesResults[Team Number],0))),0, INDEX(CoreValuesResults[Motivate Selection],MATCH(TournamentData[[#This Row],[Team Number]],CoreValuesResults[Team Number],0)))","v":0},null,null,null,{"$f":"IF(ISNA(INDEX(CoreValuesResults[Core Values Score],MATCH(TournamentData[[#This Row],[Team Number]],CoreValuesResults[Team Number],0))),0,INDEX(CoreValuesResults[Core Values Score],MATCH(TournamentData[[#This Row],[Team Number]],CoreValuesResults[Team Number],0)))","v":0},{"$f":"IF(ISNA(INDEX(InnovationProjectResults[Innovation Project Score],MATCH(TournamentData[[#This Row],[Team Number]],InnovationProjectResults[Team Number],0))),0,INDEX(InnovationProjectResults[Innovation Project Score],MATCH(TournamentData[[#This Row],[Team Number]],InnovationProjectResults[Team Number],0)))","v":0},{"$f":"IF(ISNA(INDEX(RobotDesignResults[Robot Design Score],MATCH(TournamentData[[#This Row],[Team Number]],RobotDesignResults[Team Number],0))),0,INDEX(RobotDesignResults[Robot Design Score],MATCH(TournamentData[[#This Row],[Team Number]],RobotDesignResults[Team Number],0)))","v":0},{"$f":"IF(ISERR(GEOMEAN(TournamentData[[#This Row],[Max Robot Game Score]],TournamentData[[#This Row],[Core Values Score]],TournamentData[[#This Row],[Innovattion Project Score]],TournamentData[[#This Row],[Robot Design Score]])),0,GEOMEAN(TournamentData[[#This Row],[Max Robot Game Score]],TournamentData[[#This Row],[Core Values Score]],TournamentData[[#This Row],[Innovattion Project Score]],TournamentData[[#This Row],[Robot Design Score]]))","v":0},0]
[null,{"$f":"IF(ISNA(INDEX(OfficialTeamList[Team Name],MATCH(TournamentData[[#This Row],[Team Number]], OfficialTeamList[Team Number],0))),\"\",INDEX(OfficialTeamList[Team Name],MATCH(TournamentData[[#This Row],[Team Number]], OfficialTeamList[Team Number],0)))","v":""},{"$f":"IF(TournamentData[[#This Row],[Team Number]]=\"\",\"\",IF(ISNA(INDEX('Robot Game Scores'!D:D,MATCH(TournamentData[[#This Row],[Team Number]], 'Robot Game Scores'!$B:$B,0))),0,INDEX('Robot Game Scores'!D:D,MATCH(TournamentData[[#This Row],[Team Number]], 'Robot Game Scores'!$B:$B,0))))","v":""},{"$f":"IF(TournamentData[[#This Row],[Team Number]]=\"\",\"\",IF(ISNA(INDEX('Robot Game Scores'!E:E,MATCH(TournamentData[[#This Row],[Team Number]], 'Robot Game Scores'!$B:$B,0))),0,INDEX('Robot Game Scores'!E:E,MATCH(TournamentData[[#This Row],[Team Number]], 'Robot Game Scores'!$B:$B,0))))","v":""},{"$f":"IF(TournamentData[[#This Row],[Team Number]]=\"\",\"\",IF(ISNA(INDEX('Robot Game Scores'!F:F,MATCH(TournamentData[[#This Row],[Team Number]], 'Robot Game Scores'!$B:$B,0))),0,INDEX('Robot Game Scores'!F:F,MATCH(TournamentData[[#This Row],[Team Number]], 'Robot Game Scores'!$B:$B,0))))","v":""},{"$f":"IF(TournamentData[[#This Row],[Team Number]]=\"\",\"\",IF(ISNA(INDEX('Robot Game Scores'!G:G,MATCH(TournamentData[[#This Row],[Team Number]], 'Robot Game Scores'!$B:$B,0))),0,INDEX('Robot Game Scores'!G:G,MATCH(TournamentData[[#This Row],[Team Number]], 'Robot Game Scores'!$B:$B,0))))","v":""},{"$f":"IF(TournamentData[[#This Row],[Team Number]]=\"\",\"\",IF(ISNA(INDEX('Robot Game Scores'!H:H,MATCH(TournamentData[[#This Row],[Team Number]], 'Robot Game Scores'!$B:$B,0))),0,INDEX('Robot Game Scores'!H:H,MATCH(TournamentData[[#This Row],[Team Number]], 'Robot Game Scores'!$B:$B,0))))","v":""},{"$f":"IF(TournamentData[[#This Row],[Team Number]]=\"\",\"\",IF(ISNA(LARGE(TournamentData[[#This Row],[Robot Game Score 1]:[Robot Game Score 5]],1)+0.0001*LARGE(TournamentData[[#This Row],[Robot Game Score 1]:[Robot Game Score 5]],2)+0.0000001*LARGE(TournamentData[[#This Row],[Robot Game Score 1]:[Robot Game Score 5]],3)+0.00000000001*LARGE(TournamentData[[#This Row],[Robot Game Score 1]:[Robot Game Score 5]],4)+0.00000000000001*LARGE(TournamentData[[#This Row],[Robot Game Score 1]:[Robot Game Score 5]],5)),0,LARGE(TournamentData[[#This Row],[Robot Game Score 1]:[Robot Game Score 5]],1)+0.0001*LARGE(TournamentData[[#This Row],[Robot Game Score 1]:[Robot Game Score 5]],2)+0.0000001*LARGE(TournamentData[[#This Row],[Robot Game Score 1]:[Robot Game Score 5]],3)+0.00000000001*LARGE(TournamentData[[#This Row],[Robot Game Score 1]:[Robot Game Score 5]],4)+0.00000000000001*LARGE(TournamentData[[#This Row],[Robot Game Score 1]:[Robot Game Score 5]],5)))","v":""},{"$f":"IF(TournamentData[[#This Row],[Team Number]]=\"\",\"\",_xlfn.RANK.EQ(TournamentData[[#This Row],[Max Robot Game Score]],TournamentData[Max Robot Game Score]))","v":""},{"$f":"IF(TournamentData[[#This Row],[Team Number]]=\"\",\"\",IF(ISNA(INDEX(CoreValuesResults[Core Values Rank],MATCH(TournamentData[[#This Row],[Team Number]],CoreValuesResults[Team Number],0))),NumberOfTeams+1,INDEX(CoreValuesResults[Core Values Rank],MATCH(TournamentData[[#This Row],[Team Number]],CoreValuesResults[Team Number],0))))","v":""},{"$f":"IF(TournamentData[[#This Row],[Team Number]]=\"\",\"\",IF(ISNA(INDEX(InnovationProjectResults[Innovation Project Rank],MATCH(TournamentData[[#This Row],[Team Number]],InnovationProjectResults[Team Number],0))),NumberOfTeams+1,INDEX(InnovationProjectResults[Innovation Project Rank],MATCH(TournamentData[[#This Row],[Team Number]],InnovationProjectResults[Team Number],0))))","v":""},{"$f":"IF(TournamentData[[#This Row],[Team Number]]=\"\",\"\",IF(ISNA(INDEX(RobotDesignResults[Robot Design Rank],MATCH(TournamentData[[#This Row],[Team Number]],RobotDesignResults[Team Number],0))),NumberOfTeams+1,INDEX(RobotDesignResults[Robot Design Rank],MATCH(TournamentData[[#This Row],[Team Number]],RobotDesignResults[Team Number],0))))","v":""},{"$f":" IF(TournamentData[[#This Row],[Team Number]]=\"\",\"\",IF(TournamentData[[#This Row],[Core Values Rank]]=\"\",NumberOfTeams+1,TournamentData[[#This Row],[Core Values Rank]]) + IF(TournamentData[[#This Row],[Innovation Project Rank]]=\"\",NumberOfTeams+1,TournamentData[[#This Row],[Innovation Project Rank]]) + IF(TournamentData[[#This Row],[Robot Design Rank]]=\"\",NumberOfTeams+1,TournamentData[[#This Row],[Robot Design Rank]]) + TournamentData[[#This Row],[Robot Game Rank]])","v":""},{"$f":"IF(TournamentData[[#This Row],[Team Number]]=\"\",\"\",IF(M54,RANK(M54,M$3:M$110,1)-COUNTIF(M$3:M$110,0),NumberOfTeams+1))","v":""},{"$f":"IF(ISNA(INDEX(CoreValuesResults[Breakthrough Selection],MATCH(TournamentData[[#This Row],[Team Number]],CoreValuesResults[Team Number],0))),0, INDEX(CoreValuesResults[Breakthrough Selection],MATCH(TournamentData[[#This Row],[Team Number]],CoreValuesResults[Team Number],0)))","v":0},{"$f":"IF(ISNA(INDEX(CoreValuesResults[Rising All-Star Selection],MATCH(TournamentData[[#This Row],[Team Number]],CoreValuesResults[Team Number],0))),0, INDEX(CoreValuesResults[Rising All-Star Selection],MATCH(TournamentData[[#This Row],[Team Number]],CoreValuesResults[Team Number],0)))","v":0},{"$f":"IF(ISNA(INDEX(CoreValuesResults[Motivate Selection],MATCH(TournamentData[[#This Row],[Team Number]],CoreValuesResults[Team Number],0))),0, INDEX(CoreValuesResults[Motivate Selection],MATCH(TournamentData[[#This Row],[Team Number]],CoreValuesResults[Team Number],0)))","v":0},null,null,null,{"$f":"IF(ISNA(INDEX(CoreValuesResults[Core Values Score],MATCH(TournamentData[[#This Row],[Team Number]],CoreValuesResults[Team Number],0))),0,INDEX(CoreValuesResults[Core Values Score],MATCH(TournamentData[[#This Row],[Team Number]],CoreValuesResults[Team Number],0)))","v":0},{"$f":"IF(ISNA(INDEX(InnovationProjectResults[Innovation Project Score],MATCH(TournamentData[[#This Row],[Team Number]],InnovationProjectResults[Team Number],0))),0,INDEX(InnovationProjectResults[Innovation Project Score],MATCH(TournamentData[[#This Row],[Team Number]],InnovationProjectResults[Team Number],0)))","v":0},{"$f":"IF(ISNA(INDEX(RobotDesignResults[Robot Design Score],MATCH(TournamentData[[#This Row],[Team Number]],RobotDesignResults[Team Number],0))),0,INDEX(RobotDesignResults[Robot Design Score],MATCH(TournamentData[[#This Row],[Team Number]],RobotDesignResults[Team Number],0)))","v":0},{"$f":"IF(ISERR(GEOMEAN(TournamentData[[#This Row],[Max Robot Game Score]],TournamentData[[#This Row],[Core Values Score]],TournamentData[[#This Row],[Innovattion Project Score]],TournamentData[[#This Row],[Robot Design Score]])),0,GEOMEAN(TournamentData[[#This Row],[Max Robot Game Score]],TournamentData[[#This Row],[Core Values Score]],TournamentData[[#This Row],[Innovattion Project Score]],TournamentData[[#This Row],[Robot Design Score]]))","v":0},0]
[null,{"$f":"IF(ISNA(INDEX(OfficialTeamList[Team Name],MATCH(TournamentData[[#This Row],[Team Number]], OfficialTeamList[Team Number],0))),\"\",INDEX(OfficialTeamList[Team Name],MATCH(TournamentData[[#This Row],[Team Number]], OfficialTeamList[Team Number],0)))","v":""},{"$f":"IF(TournamentData[[#This Row],[Team Number]]=\"\",\"\",IF(ISNA(INDEX('Robot Game Scores'!D:D,MATCH(TournamentData[[#This Row],[Team Number]], 'Robot Game Scores'!$B:$B,0))),0,INDEX('Robot Game Scores'!D:D,MATCH(TournamentData[[#This Row],[Team Number]], 'Robot Game Scores'!$B:$B,0))))","v":""},{"$f":"IF(TournamentData[[#This Row],[Team Number]]=\"\",\"\",IF(ISNA(INDEX('Robot Game Scores'!E:E,MATCH(TournamentData[[#This Row],[Team Number]], 'Robot Game Scores'!$B:$B,0))),0,INDEX('Robot Game Scores'!E:E,MATCH(TournamentData[[#This Row],[Team Number]], 'Robot Game Scores'!$B:$B,0))))","v":""},{"$f":"IF(TournamentData[[#This Row],[Team Number]]=\"\",\"\",IF(ISNA(INDEX('Robot Game Scores'!F:F,MATCH(TournamentData[[#This Row],[Team Number]], 'Robot Game Scores'!$B:$B,0))),0,INDEX('Robot Game Scores'!F:F,MATCH(TournamentData[[#This Row],[Team Number]], 'Robot Game Scores'!$B:$B,0))))","v":""},{"$f":"IF(TournamentData[[#This Row],[Team Number]]=\"\",\"\",IF(ISNA(INDEX('Robot Game Scores'!G:G,MATCH(TournamentData[[#This Row],[Team Number]], 'Robot Game Scores'!$B:$B,0))),0,INDEX('Robot Game Scores'!G:G,MATCH(TournamentData[[#This Row],[Team Number]], 'Robot Game Scores'!$B:$B,0))))","v":""},{"$f":"IF(TournamentData[[#This Row],[Team Number]]=\"\",\"\",IF(ISNA(INDEX('Robot Game Scores'!H:H,MATCH(TournamentData[[#This Row],[Team Number]], 'Robot Game Scores'!$B:$B,0))),0,INDEX('Robot Game Scores'!H:H,MATCH(TournamentData[[#This Row],[Team Number]], 'Robot Game Scores'!$B:$B,0))))","v":""},{"$f":"IF(TournamentData[[#This Row],[Team Number]]=\"\",\"\",IF(ISNA(LARGE(TournamentData[[#This Row],[Robot Game Score 1]:[Robot Game Score 5]],1)+0.0001*LARGE(TournamentData[[#This Row],[Robot Game Score 1]:[Robot Game Score 5]],2)+0.0000001*LARGE(TournamentData[[#This Row],[Robot Game Score 1]:[Robot Game Score 5]],3)+0.00000000001*LARGE(TournamentData[[#This Row],[Robot Game Score 1]:[Robot Game Score 5]],4)+0.00000000000001*LARGE(TournamentData[[#This Row],[Robot Game Score 1]:[Robot Game Score 5]],5)),0,LARGE(TournamentData[[#This Row],[Robot Game Score 1]:[Robot Game Score 5]],1)+0.0001*LARGE(TournamentData[[#This Row],[Robot Game Score 1]:[Robot Game Score 5]],2)+0.0000001*LARGE(TournamentData[[#This Row],[Robot Game Score 1]:[Robot Game Score 5]],3)+0.00000000001*LARGE(TournamentData[[#This Row],[Robot Game Score 1]:[Robot Game Score 5]],4)+0.00000000000001*LARGE(TournamentData[[#This Row],[Robot Game Score 1]:[Robot Game Score 5]],5)))","v":""},{"$f":"IF(TournamentData[[#This Row],[Team Number]]=\"\",\"\",_xlfn.RANK.EQ(TournamentData[[#This Row],[Max Robot Game Score]],TournamentData[Max Robot Game Score]))","v":""},{"$f":"IF(TournamentData[[#This Row],[Team Number]]=\"\",\"\",IF(ISNA(INDEX(CoreValuesResults[Core Values Rank],MATCH(TournamentData[[#This Row],[Team Number]],CoreValuesResults[Team Number],0))),NumberOfTeams+1,INDEX(CoreValuesResults[Core Values Rank],MATCH(TournamentData[[#This Row],[Team Number]],CoreValuesResults[Team Number],0))))","v":""},{"$f":"IF(TournamentData[[#This Row],[Team Number]]=\"\",\"\",IF(ISNA(INDEX(InnovationProjectResults[Innovation Project Rank],MATCH(TournamentData[[#This Row],[Team Number]],InnovationProjectResults[Team Number],0))),NumberOfTeams+1,INDEX(InnovationProjectResults[Innovation Project Rank],MATCH(TournamentData[[#This Row],[Team Number]],InnovationProjectResults[Team Number],0))))","v":""},{"$f":"IF(TournamentData[[#This Row],[Team Number]]=\"\",\"\",IF(ISNA(INDEX(RobotDesignResults[Robot Design Rank],MATCH(TournamentData[[#This Row],[Team Number]],RobotDesignResults[Team Number],0))),NumberOfTeams+1,INDEX(RobotDesignResults[Robot Design Rank],MATCH(TournamentData[[#This Row],[Team Number]],RobotDesignResults[Team Number],0))))","v":""},{"$f":" IF(TournamentData[[#This Row],[Team Number]]=\"\",\"\",IF(TournamentData[[#This Row],[Core Values Rank]]=\"\",NumberOfTeams+1,TournamentData[[#This Row],[Core Values Rank]]) + IF(TournamentData[[#This Row],[Innovation Project Rank]]=\"\",NumberOfTeams+1,TournamentData[[#This Row],[Innovation Project Rank]]) + IF(TournamentData[[#This Row],[Robot Design Rank]]=\"\",NumberOfTeams+1,TournamentData[[#This Row],[Robot Design Rank]]) + TournamentData[[#This Row],[Robot Game Rank]])","v":""},{"$f":"IF(TournamentData[[#This Row],[Team Number]]=\"\",\"\",IF(M55,RANK(M55,M$3:M$110,1)-COUNTIF(M$3:M$110,0),NumberOfTeams+1))","v":""},{"$f":"IF(ISNA(INDEX(CoreValuesResults[Breakthrough Selection],MATCH(TournamentData[[#This Row],[Team Number]],CoreValuesResults[Team Number],0))),0, INDEX(CoreValuesResults[Breakthrough Selection],MATCH(TournamentData[[#This Row],[Team Number]],CoreValuesResults[Team Number],0)))","v":0},{"$f":"IF(ISNA(INDEX(CoreValuesResults[Rising All-Star Selection],MATCH(TournamentData[[#This Row],[Team Number]],CoreValuesResults[Team Number],0))),0, INDEX(CoreValuesResults[Rising All-Star Selection],MATCH(TournamentData[[#This Row],[Team Number]],CoreValuesResults[Team Number],0)))","v":0},{"$f":"IF(ISNA(INDEX(CoreValuesResults[Motivate Selection],MATCH(TournamentData[[#This Row],[Team Number]],CoreValuesResults[Team Number],0))),0, INDEX(CoreValuesResults[Motivate Selection],MATCH(TournamentData[[#This Row],[Team Number]],CoreValuesResults[Team Number],0)))","v":0},null,null,null,{"$f":"IF(ISNA(INDEX(CoreValuesResults[Core Values Score],MATCH(TournamentData[[#This Row],[Team Number]],CoreValuesResults[Team Number],0))),0,INDEX(CoreValuesResults[Core Values Score],MATCH(TournamentData[[#This Row],[Team Number]],CoreValuesResults[Team Number],0)))","v":0},{"$f":"IF(ISNA(INDEX(InnovationProjectResults[Innovation Project Score],MATCH(TournamentData[[#This Row],[Team Number]],InnovationProjectResults[Team Number],0))),0,INDEX(InnovationProjectResults[Innovation Project Score],MATCH(TournamentData[[#This Row],[Team Number]],InnovationProjectResults[Team Number],0)))","v":0},{"$f":"IF(ISNA(INDEX(RobotDesignResults[Robot Design Score],MATCH(TournamentData[[#This Row],[Team Number]],RobotDesignResults[Team Number],0))),0,INDEX(RobotDesignResults[Robot Design Score],MATCH(TournamentData[[#This Row],[Team Number]],RobotDesignResults[Team Number],0)))","v":0},{"$f":"IF(ISERR(GEOMEAN(TournamentData[[#This Row],[Max Robot Game Score]],TournamentData[[#This Row],[Core Values Score]],TournamentData[[#This Row],[Innovattion Project Score]],TournamentData[[#This Row],[Robot Design Score]])),0,GEOMEAN(TournamentData[[#This Row],[Max Robot Game Score]],TournamentData[[#This Row],[Core Values Score]],TournamentData[[#This Row],[Innovattion Project Score]],TournamentData[[#This Row],[Robot Design Score]]))","v":0},0]
[null,{"$f":"IF(ISNA(INDEX(OfficialTeamList[Team Name],MATCH(TournamentData[[#This Row],[Team Number]], OfficialTeamList[Team Number],0))),\"\",INDEX(OfficialTeamList[Team Name],MATCH(TournamentData[[#This Row],[Team Number]], OfficialTeamList[Team Number],0)))","v":""},{"$f":"IF(TournamentData[[#This Row],[Team Number]]=\"\",\"\",IF(ISNA(INDEX('Robot Game Scores'!D:D,MATCH(TournamentData[[#This Row],[Team Number]], 'Robot Game Scores'!$B:$B,0))),0,INDEX('Robot Game Scores'!D:D,MATCH(TournamentData[[#This Row],[Team Number]], 'Robot Game Scores'!$B:$B,0))))","v":""},{"$f":"IF(TournamentData[[#This Row],[Team Number]]=\"\",\"\",IF(ISNA(INDEX('Robot Game Scores'!E:E,MATCH(TournamentData[[#This Row],[Team Number]], 'Robot Game Scores'!$B:$B,0))),0,INDEX('Robot Game Scores'!E:E,MATCH(TournamentData[[#This Row],[Team Number]], 'Robot Game Scores'!$B:$B,0))))","v":""},{"$f":"IF(TournamentData[[#This Row],[Team Number]]=\"\",\"\",IF(ISNA(INDEX('Robot Game Scores'!F:F,MATCH(TournamentData[[#This Row],[Team Number]], 'Robot Game Scores'!$B:$B,0))),0,INDEX('Robot Game Scores'!F:F,MATCH(TournamentData[[#This Row],[Team Number]], 'Robot Game Scores'!$B:$B,0))))","v":""},{"$f":"IF(TournamentData[[#This Row],[Team Number]]=\"\",\"\",IF(ISNA(INDEX('Robot Game Scores'!G:G,MATCH(TournamentData[[#This Row],[Team Number]], 'Robot Game Scores'!$B:$B,0))),0,INDEX('Robot Game Scores'!G:G,MATCH(TournamentData[[#This Row],[Team Number]], 'Robot Game Scores'!$B:$B,0))))","v":""},{"$f":"IF(TournamentData[[#This Row],[Team Number]]=\"\",\"\",IF(ISNA(INDEX('Robot Game Scores'!H:H,MATCH(TournamentData[[#This Row],[Team Number]], 'Robot Game Scores'!$B:$B,0))),0,INDEX('Robot Game Scores'!H:H,MATCH(TournamentData[[#This Row],[Team Number]], 'Robot Game Scores'!$B:$B,0))))","v":""},{"$f":"IF(TournamentData[[#This Row],[Team Number]]=\"\",\"\",IF(ISNA(LARGE(TournamentData[[#This Row],[Robot Game Score 1]:[Robot Game Score 5]],1)+0.0001*LARGE(TournamentData[[#This Row],[Robot Game Score 1]:[Robot Game Score 5]],2)+0.0000001*LARGE(TournamentData[[#This Row],[Robot Game Score 1]:[Robot Game Score 5]],3)+0.00000000001*LARGE(TournamentData[[#This Row],[Robot Game Score 1]:[Robot Game Score 5]],4)+0.00000000000001*LARGE(TournamentData[[#This Row],[Robot Game Score 1]:[Robot Game Score 5]],5)),0,LARGE(TournamentData[[#This Row],[Robot Game Score 1]:[Robot Game Score 5]],1)+0.0001*LARGE(TournamentData[[#This Row],[Robot Game Score 1]:[Robot Game Score 5]],2)+0.0000001*LARGE(TournamentData[[#This Row],[Robot Game Score 1]:[Robot Game Score 5]],3)+0.00000000001*LARGE(TournamentData[[#This Row],[Robot Game Score 1]:[Robot Game Score 5]],4)+0.00000000000001*LARGE(TournamentData[[#This Row],[Robot Game Score 1]:[Robot Game Score 5]],5)))","v":""},{"$f":"IF(TournamentData[[#This Row],[Team Number]]=\"\",\"\",_xlfn.RANK.EQ(TournamentData[[#This Row],[Max Robot Game Score]],TournamentData[Max Robot Game Score]))","v":""},{"$f":"IF(TournamentData[[#This Row],[Team Number]]=\"\",\"\",IF(ISNA(INDEX(CoreValuesResults[Core Values Rank],MATCH(TournamentData[[#This Row],[Team Number]],CoreValuesResults[Team Number],0))),NumberOfTeams+1,INDEX(CoreValuesResults[Core Values Rank],MATCH(TournamentData[[#This Row],[Team Number]],CoreValuesResults[Team Number],0))))","v":""},{"$f":"IF(TournamentData[[#This Row],[Team Number]]=\"\",\"\",IF(ISNA(INDEX(InnovationProjectResults[Innovation Project Rank],MATCH(TournamentData[[#This Row],[Team Number]],InnovationProjectResults[Team Number],0))),NumberOfTeams+1,INDEX(InnovationProjectResults[Innovation Project Rank],MATCH(TournamentData[[#This Row],[Team Number]],InnovationProjectResults[Team Number],0))))","v":""},{"$f":"IF(TournamentData[[#This Row],[Team Number]]=\"\",\"\",IF(ISNA(INDEX(RobotDesignResults[Robot Design Rank],MATCH(TournamentData[[#This Row],[Team Number]],RobotDesignResults[Team Number],0))),NumberOfTeams+1,INDEX(RobotDesignResults[Robot Design Rank],MATCH(TournamentData[[#This Row],[Team Number]],RobotDesignResults[Team Number],0))))","v":""},{"$f":" IF(TournamentData[[#This Row],[Team Number]]=\"\",\"\",IF(TournamentData[[#This Row],[Core Values Rank]]=\"\",NumberOfTeams+1,TournamentData[[#This Row],[Core Values Rank]]) + IF(TournamentData[[#This Row],[Innovation Project Rank]]=\"\",NumberOfTeams+1,TournamentData[[#This Row],[Innovation Project Rank]]) + IF(TournamentData[[#This Row],[Robot Design Rank]]=\"\",NumberOfTeams+1,TournamentData[[#This Row],[Robot Design Rank]]) + TournamentData[[#This Row],[Robot Game Rank]])","v":""},{"$f":"IF(TournamentData[[#This Row],[Team Number]]=\"\",\"\",IF(M56,RANK(M56,M$3:M$110,1)-COUNTIF(M$3:M$110,0),NumberOfTeams+1))","v":""},{"$f":"IF(ISNA(INDEX(CoreValuesResults[Breakthrough Selection],MATCH(TournamentData[[#This Row],[Team Number]],CoreValuesResults[Team Number],0))),0, INDEX(CoreValuesResults[Breakthrough Selection],MATCH(TournamentData[[#This Row],[Team Number]],CoreValuesResults[Team Number],0)))","v":0},{"$f":"IF(ISNA(INDEX(CoreValuesResults[Rising All-Star Selection],MATCH(TournamentData[[#This Row],[Team Number]],CoreValuesResults[Team Number],0))),0, INDEX(CoreValuesResults[Rising All-Star Selection],MATCH(TournamentData[[#This Row],[Team Number]],CoreValuesResults[Team Number],0)))","v":0},{"$f":"IF(ISNA(INDEX(CoreValuesResults[Motivate Selection],MATCH(TournamentData[[#This Row],[Team Number]],CoreValuesResults[Team Number],0))),0, INDEX(CoreValuesResults[Motivate Selection],MATCH(TournamentData[[#This Row],[Team Number]],CoreValuesResults[Team Number],0)))","v":0},null,null,null,{"$f":"IF(ISNA(INDEX(CoreValuesResults[Core Values Score],MATCH(TournamentData[[#This Row],[Team Number]],CoreValuesResults[Team Number],0))),0,INDEX(CoreValuesResults[Core Values Score],MATCH(TournamentData[[#This Row],[Team Number]],CoreValuesResults[Team Number],0)))","v":0},{"$f":"IF(ISNA(INDEX(InnovationProjectResults[Innovation Project Score],MATCH(TournamentData[[#This Row],[Team Number]],InnovationProjectResults[Team Number],0))),0,INDEX(InnovationProjectResults[Innovation Project Score],MATCH(TournamentData[[#This Row],[Team Number]],InnovationProjectResults[Team Number],0)))","v":0},{"$f":"IF(ISNA(INDEX(RobotDesignResults[Robot Design Score],MATCH(TournamentData[[#This Row],[Team Number]],RobotDesignResults[Team Number],0))),0,INDEX(RobotDesignResults[Robot Design Score],MATCH(TournamentData[[#This Row],[Team Number]],RobotDesignResults[Team Number],0)))","v":0},{"$f":"IF(ISERR(GEOMEAN(TournamentData[[#This Row],[Max Robot Game Score]],TournamentData[[#This Row],[Core Values Score]],TournamentData[[#This Row],[Innovattion Project Score]],TournamentData[[#This Row],[Robot Design Score]])),0,GEOMEAN(TournamentData[[#This Row],[Max Robot Game Score]],TournamentData[[#This Row],[Core Values Score]],TournamentData[[#This Row],[Innovattion Project Score]],TournamentData[[#This Row],[Robot Design Score]]))","v":0},0]
[null,{"$f":"IF(ISNA(INDEX(OfficialTeamList[Team Name],MATCH(TournamentData[[#This Row],[Team Number]], OfficialTeamList[Team Number],0))),\"\",INDEX(OfficialTeamList[Team Name],MATCH(TournamentData[[#This Row],[Team Number]], OfficialTeamList[Team Number],0)))","v":""},{"$f":"IF(TournamentData[[#This Row],[Team Number]]=\"\",\"\",IF(ISNA(INDEX('Robot Game Scores'!D:D,MATCH(TournamentData[[#This Row],[Team Number]], 'Robot Game Scores'!$B:$B,0))),0,INDEX('Robot Game Scores'!D:D,MATCH(TournamentData[[#This Row],[Team Number]], 'Robot Game Scores'!$B:$B,0))))","v":""},{"$f":"IF(TournamentData[[#This Row],[Team Number]]=\"\",\"\",IF(ISNA(INDEX('Robot Game Scores'!E:E,MATCH(TournamentData[[#This Row],[Team Number]], 'Robot Game Scores'!$B:$B,0))),0,INDEX('Robot Game Scores'!E:E,MATCH(TournamentData[[#This Row],[Team Number]], 'Robot Game Scores'!$B:$B,0))))","v":""},{"$f":"IF(TournamentData[[#This Row],[Team Number]]=\"\",\"\",IF(ISNA(INDEX('Robot Game Scores'!F:F,MATCH(TournamentData[[#This Row],[Team Number]], 'Robot Game Scores'!$B:$B,0))),0,INDEX('Robot Game Scores'!F:F,MATCH(TournamentData[[#This Row],[Team Number]], 'Robot Game Scores'!$B:$B,0))))","v":""},{"$f":"IF(TournamentData[[#This Row],[Team Number]]=\"\",\"\",IF(ISNA(INDEX('Robot Game Scores'!G:G,MATCH(TournamentData[[#This Row],[Team Number]], 'Robot Game Scores'!$B:$B,0))),0,INDEX('Robot Game Scores'!G:G,MATCH(TournamentData[[#This Row],[Team Number]], 'Robot Game Scores'!$B:$B,0))))","v":""},{"$f":"IF(TournamentData[[#This Row],[Team Number]]=\"\",\"\",IF(ISNA(INDEX('Robot Game Scores'!H:H,MATCH(TournamentData[[#This Row],[Team Number]], 'Robot Game Scores'!$B:$B,0))),0,INDEX('Robot Game Scores'!H:H,MATCH(TournamentData[[#This Row],[Team Number]], 'Robot Game Scores'!$B:$B,0))))","v":""},{"$f":"IF(TournamentData[[#This Row],[Team Number]]=\"\",\"\",IF(ISNA(LARGE(TournamentData[[#This Row],[Robot Game Score 1]:[Robot Game Score 5]],1)+0.0001*LARGE(TournamentData[[#This Row],[Robot Game Score 1]:[Robot Game Score 5]],2)+0.0000001*LARGE(TournamentData[[#This Row],[Robot Game Score 1]:[Robot Game Score 5]],3)+0.00000000001*LARGE(TournamentData[[#This Row],[Robot Game Score 1]:[Robot Game Score 5]],4)+0.00000000000001*LARGE(TournamentData[[#This Row],[Robot Game Score 1]:[Robot Game Score 5]],5)),0,LARGE(TournamentData[[#This Row],[Robot Game Score 1]:[Robot Game Score 5]],1)+0.0001*LARGE(TournamentData[[#This Row],[Robot Game Score 1]:[Robot Game Score 5]],2)+0.0000001*LARGE(TournamentData[[#This Row],[Robot Game Score 1]:[Robot Game Score 5]],3)+0.00000000001*LARGE(TournamentData[[#This Row],[Robot Game Score 1]:[Robot Game Score 5]],4)+0.00000000000001*LARGE(TournamentData[[#This Row],[Robot Game Score 1]:[Robot Game Score 5]],5)))","v":""},{"$f":"IF(TournamentData[[#This Row],[Team Number]]=\"\",\"\",_xlfn.RANK.EQ(TournamentData[[#This Row],[Max Robot Game Score]],TournamentData[Max Robot Game Score]))","v":""},{"$f":"IF(TournamentData[[#This Row],[Team Number]]=\"\",\"\",IF(ISNA(INDEX(CoreValuesResults[Core Values Rank],MATCH(TournamentData[[#This Row],[Team Number]],CoreValuesResults[Team Number],0))),NumberOfTeams+1,INDEX(CoreValuesResults[Core Values Rank],MATCH(TournamentData[[#This Row],[Team Number]],CoreValuesResults[Team Number],0))))","v":""},{"$f":"IF(TournamentData[[#This Row],[Team Number]]=\"\",\"\",IF(ISNA(INDEX(InnovationProjectResults[Innovation Project Rank],MATCH(TournamentData[[#This Row],[Team Number]],InnovationProjectResults[Team Number],0))),NumberOfTeams+1,INDEX(InnovationProjectResults[Innovation Project Rank],MATCH(TournamentData[[#This Row],[Team Number]],InnovationProjectResults[Team Number],0))))","v":""},{"$f":"IF(TournamentData[[#This Row],[Team Number]]=\"\",\"\",IF(ISNA(INDEX(RobotDesignResults[Robot Design Rank],MATCH(TournamentData[[#This Row],[Team Number]],RobotDesignResults[Team Number],0))),NumberOfTeams+1,INDEX(RobotDesignResults[Robot Design Rank],MATCH(TournamentData[[#This Row],[Team Number]],RobotDesignResults[Team Number],0))))","v":""},{"$f":" IF(TournamentData[[#This Row],[Team Number]]=\"\",\"\",IF(TournamentData[[#This Row],[Core Values Rank]]=\"\",NumberOfTeams+1,TournamentData[[#This Row],[Core Values Rank]]) + IF(TournamentData[[#This Row],[Innovation Project Rank]]=\"\",NumberOfTeams+1,TournamentData[[#This Row],[Innovation Project Rank]]) + IF(TournamentData[[#This Row],[Robot Design Rank]]=\"\",NumberOfTeams+1,TournamentData[[#This Row],[Robot Design Rank]]) + TournamentData[[#This Row],[Robot Game Rank]])","v":""},{"$f":"IF(TournamentData[[#This Row],[Team Number]]=\"\",\"\",IF(M57,RANK(M57,M$3:M$110,1)-COUNTIF(M$3:M$110,0),NumberOfTeams+1))","v":""},{"$f":"IF(ISNA(INDEX(CoreValuesResults[Breakthrough Selection],MATCH(TournamentData[[#This Row],[Team Number]],CoreValuesResults[Team Number],0))),0, INDEX(CoreValuesResults[Breakthrough Selection],MATCH(TournamentData[[#This Row],[Team Number]],CoreValuesResults[Team Number],0)))","v":0},{"$f":"IF(ISNA(INDEX(CoreValuesResults[Rising All-Star Selection],MATCH(TournamentData[[#This Row],[Team Number]],CoreValuesResults[Team Number],0))),0, INDEX(CoreValuesResults[Rising All-Star Selection],MATCH(TournamentData[[#This Row],[Team Number]],CoreValuesResults[Team Number],0)))","v":0},{"$f":"IF(ISNA(INDEX(CoreValuesResults[Motivate Selection],MATCH(TournamentData[[#This Row],[Team Number]],CoreValuesResults[Team Number],0))),0, INDEX(CoreValuesResults[Motivate Selection],MATCH(TournamentData[[#This Row],[Team Number]],CoreValuesResults[Team Number],0)))","v":0},null,null,null,{"$f":"IF(ISNA(INDEX(CoreValuesResults[Core Values Score],MATCH(TournamentData[[#This Row],[Team Number]],CoreValuesResults[Team Number],0))),0,INDEX(CoreValuesResults[Core Values Score],MATCH(TournamentData[[#This Row],[Team Number]],CoreValuesResults[Team Number],0)))","v":0},{"$f":"IF(ISNA(INDEX(InnovationProjectResults[Innovation Project Score],MATCH(TournamentData[[#This Row],[Team Number]],InnovationProjectResults[Team Number],0))),0,INDEX(InnovationProjectResults[Innovation Project Score],MATCH(TournamentData[[#This Row],[Team Number]],InnovationProjectResults[Team Number],0)))","v":0},{"$f":"IF(ISNA(INDEX(RobotDesignResults[Robot Design Score],MATCH(TournamentData[[#This Row],[Team Number]],RobotDesignResults[Team Number],0))),0,INDEX(RobotDesignResults[Robot Design Score],MATCH(TournamentData[[#This Row],[Team Number]],RobotDesignResults[Team Number],0)))","v":0},{"$f":"IF(ISERR(GEOMEAN(TournamentData[[#This Row],[Max Robot Game Score]],TournamentData[[#This Row],[Core Values Score]],TournamentData[[#This Row],[Innovattion Project Score]],TournamentData[[#This Row],[Robot Design Score]])),0,GEOMEAN(TournamentData[[#This Row],[Max Robot Game Score]],TournamentData[[#This Row],[Core Values Score]],TournamentData[[#This Row],[Innovattion Project Score]],TournamentData[[#This Row],[Robot Design Score]]))","v":0},0]
[null,{"$f":"IF(ISNA(INDEX(OfficialTeamList[Team Name],MATCH(TournamentData[[#This Row],[Team Number]], OfficialTeamList[Team Number],0))),\"\",INDEX(OfficialTeamList[Team Name],MATCH(TournamentData[[#This Row],[Team Number]], OfficialTeamList[Team Number],0)))","v":""},{"$f":"IF(TournamentData[[#This Row],[Team Number]]=\"\",\"\",IF(ISNA(INDEX('Robot Game Scores'!D:D,MATCH(TournamentData[[#This Row],[Team Number]], 'Robot Game Scores'!$B:$B,0))),0,INDEX('Robot Game Scores'!D:D,MATCH(TournamentData[[#This Row],[Team Number]], 'Robot Game Scores'!$B:$B,0))))","v":""},{"$f":"IF(TournamentData[[#This Row],[Team Number]]=\"\",\"\",IF(ISNA(INDEX('Robot Game Scores'!E:E,MATCH(TournamentData[[#This Row],[Team Number]], 'Robot Game Scores'!$B:$B,0))),0,INDEX('Robot Game Scores'!E:E,MATCH(TournamentData[[#This Row],[Team Number]], 'Robot Game Scores'!$B:$B,0))))","v":""},{"$f":"IF(TournamentData[[#This Row],[Team Number]]=\"\",\"\",IF(ISNA(INDEX('Robot Game Scores'!F:F,MATCH(TournamentData[[#This Row],[Team Number]], 'Robot Game Scores'!$B:$B,0))),0,INDEX('Robot Game Scores'!F:F,MATCH(TournamentData[[#This Row],[Team Number]], 'Robot Game Scores'!$B:$B,0))))","v":""},{"$f":"IF(TournamentData[[#This Row],[Team Number]]=\"\",\"\",IF(ISNA(INDEX('Robot Game Scores'!G:G,MATCH(TournamentData[[#This Row],[Team Number]], 'Robot Game Scores'!$B:$B,0))),0,INDEX('Robot Game Scores'!G:G,MATCH(TournamentData[[#This Row],[Team Number]], 'Robot Game Scores'!$B:$B,0))))","v":""},{"$f":"IF(TournamentData[[#This Row],[Team Number]]=\"\",\"\",IF(ISNA(INDEX('Robot Game Scores'!H:H,MATCH(TournamentData[[#This Row],[Team Number]], 'Robot Game Scores'!$B:$B,0))),0,INDEX('Robot Game Scores'!H:H,MATCH(TournamentData[[#This Row],[Team Number]], 'Robot Game Scores'!$B:$B,0))))","v":""},{"$f":"IF(TournamentData[[#This Row],[Team Number]]=\"\",\"\",IF(ISNA(LARGE(TournamentData[[#This Row],[Robot Game Score 1]:[Robot Game Score 5]],1)+0.0001*LARGE(TournamentData[[#This Row],[Robot Game Score 1]:[Robot Game Score 5]],2)+0.0000001*LARGE(TournamentData[[#This Row],[Robot Game Score 1]:[Robot Game Score 5]],3)+0.00000000001*LARGE(TournamentData[[#This Row],[Robot Game Score 1]:[Robot Game Score 5]],4)+0.00000000000001*LARGE(TournamentData[[#This Row],[Robot Game Score 1]:[Robot Game Score 5]],5)),0,LARGE(TournamentData[[#This Row],[Robot Game Score 1]:[Robot Game Score 5]],1)+0.0001*LARGE(TournamentData[[#This Row],[Robot Game Score 1]:[Robot Game Score 5]],2)+0.0000001*LARGE(TournamentData[[#This Row],[Robot Game Score 1]:[Robot Game Score 5]],3)+0.00000000001*LARGE(TournamentData[[#This Row],[Robot Game Score 1]:[Robot Game Score 5]],4)+0.00000000000001*LARGE(TournamentData[[#This Row],[Robot Game Score 1]:[Robot Game Score 5]],5)))","v":""},{"$f":"IF(TournamentData[[#This Row],[Team Number]]=\"\",\"\",_xlfn.RANK.EQ(TournamentData[[#This Row],[Max Robot Game Score]],TournamentData[Max Robot Game Score]))","v":""},{"$f":"IF(TournamentData[[#This Row],[Team Number]]=\"\",\"\",IF(ISNA(INDEX(CoreValuesResults[Core Values Rank],MATCH(TournamentData[[#This Row],[Team Number]],CoreValuesResults[Team Number],0))),NumberOfTeams+1,INDEX(CoreValuesResults[Core Values Rank],MATCH(TournamentData[[#This Row],[Team Number]],CoreValuesResults[Team Number],0))))","v":""},{"$f":"IF(TournamentData[[#This Row],[Team Number]]=\"\",\"\",IF(ISNA(INDEX(InnovationProjectResults[Innovation Project Rank],MATCH(TournamentData[[#This Row],[Team Number]],InnovationProjectResults[Team Number],0))),NumberOfTeams+1,INDEX(InnovationProjectResults[Innovation Project Rank],MATCH(TournamentData[[#This Row],[Team Number]],InnovationProjectResults[Team Number],0))))","v":""},{"$f":"IF(TournamentData[[#This Row],[Team Number]]=\"\",\"\",IF(ISNA(INDEX(RobotDesignResults[Robot Design Rank],MATCH(TournamentData[[#This Row],[Team Number]],RobotDesignResults[Team Number],0))),NumberOfTeams+1,INDEX(RobotDesignResults[Robot Design Rank],MATCH(TournamentData[[#This Row],[Team Number]],RobotDesignResults[Team Number],0))))","v":""},{"$f":" IF(TournamentData[[#This Row],[Team Number]]=\"\",\"\",IF(TournamentData[[#This Row],[Core Values Rank]]=\"\",NumberOfTeams+1,TournamentData[[#This Row],[Core Values Rank]]) + IF(TournamentData[[#This Row],[Innovation Project Rank]]=\"\",NumberOfTeams+1,TournamentData[[#This Row],[Innovation Project Rank]]) + IF(TournamentData[[#This Row],[Robot Design Rank]]=\"\",NumberOfTeams+1,TournamentData[[#This Row],[Robot Design Rank]]) + TournamentData[[#This Row],[Robot Game Rank]])","v":""},{"$f":"IF(TournamentData[[#This Row],[Team Number]]=\"\",\"\",IF(M58,RANK(M58,M$3:M$110,1)-COUNTIF(M$3:M$110,0),NumberOfTeams+1))","v":""},{"$f":"IF(ISNA(INDEX(CoreValuesResults[Breakthrough Selection],MATCH(TournamentData[[#This Row],[Team Number]],CoreValuesResults[Team Number],0))),0, INDEX(CoreValuesResults[Breakthrough Selection],MATCH(TournamentData[[#This Row],[Team Number]],CoreValuesResults[Team Number],0)))","v":0},{"$f":"IF(ISNA(INDEX(CoreValuesResults[Rising All-Star Selection],MATCH(TournamentData[[#This Row],[Team Number]],CoreValuesResults[Team Number],0))),0, INDEX(CoreValuesResults[Rising All-Star Selection],MATCH(TournamentData[[#This Row],[Team Number]],CoreValuesResults[Team Number],0)))","v":0},{"$f":"IF(ISNA(INDEX(CoreValuesResults[Motivate Selection],MATCH(TournamentData[[#This Row],[Team Number]],CoreValuesResults[Team Number],0))),0, INDEX(CoreValuesResults[Motivate Selection],MATCH(TournamentData[[#This Row],[Team Number]],CoreValuesResults[Team Number],0)))","v":0},null,null,null,{"$f":"IF(ISNA(INDEX(CoreValuesResults[Core Values Score],MATCH(TournamentData[[#This Row],[Team Number]],CoreValuesResults[Team Number],0))),0,INDEX(CoreValuesResults[Core Values Score],MATCH(TournamentData[[#This Row],[Team Number]],CoreValuesResults[Team Number],0)))","v":0},{"$f":"IF(ISNA(INDEX(InnovationProjectResults[Innovation Project Score],MATCH(TournamentData[[#This Row],[Team Number]],InnovationProjectResults[Team Number],0))),0,INDEX(InnovationProjectResults[Innovation Project Score],MATCH(TournamentData[[#This Row],[Team Number]],InnovationProjectResults[Team Number],0)))","v":0},{"$f":"IF(ISNA(INDEX(RobotDesignResults[Robot Design Score],MATCH(TournamentData[[#This Row],[Team Number]],RobotDesignResults[Team Number],0))),0,INDEX(RobotDesignResults[Robot Design Score],MATCH(TournamentData[[#This Row],[Team Number]],RobotDesignResults[Team Number],0)))","v":0},{"$f":"IF(ISERR(GEOMEAN(TournamentData[[#This Row],[Max Robot Game Score]],TournamentData[[#This Row],[Core Values Score]],TournamentData[[#This Row],[Innovattion Project Score]],TournamentData[[#This Row],[Robot Design Score]])),0,GEOMEAN(TournamentData[[#This Row],[Max Robot Game Score]],TournamentData[[#This Row],[Core Values Score]],TournamentData[[#This Row],[Innovattion Project Score]],TournamentData[[#This Row],[Robot Design Score]]))","v":0},0]
[null,{"$f":"IF(ISNA(INDEX(OfficialTeamList[Team Name],MATCH(TournamentData[[#This Row],[Team Number]], OfficialTeamList[Team Number],0))),\"\",INDEX(OfficialTeamList[Team Name],MATCH(TournamentData[[#This Row],[Team Number]], OfficialTeamList[Team Number],0)))","v":""},{"$f":"IF(TournamentData[[#This Row],[Team Number]]=\"\",\"\",IF(ISNA(INDEX('Robot Game Scores'!D:D,MATCH(TournamentData[[#This Row],[Team Number]], 'Robot Game Scores'!$B:$B,0))),0,INDEX('Robot Game Scores'!D:D,MATCH(TournamentData[[#This Row],[Team Number]], 'Robot Game Scores'!$B:$B,0))))","v":""},{"$f":"IF(TournamentData[[#This Row],[Team Number]]=\"\",\"\",IF(ISNA(INDEX('Robot Game Scores'!E:E,MATCH(TournamentData[[#This Row],[Team Number]], 'Robot Game Scores'!$B:$B,0))),0,INDEX('Robot Game Scores'!E:E,MATCH(TournamentData[[#This Row],[Team Number]], 'Robot Game Scores'!$B:$B,0))))","v":""},{"$f":"IF(TournamentData[[#This Row],[Team Number]]=\"\",\"\",IF(ISNA(INDEX('Robot Game Scores'!F:F,MATCH(TournamentData[[#This Row],[Team Number]], 'Robot Game Scores'!$B:$B,0))),0,INDEX('Robot Game Scores'!F:F,MATCH(TournamentData[[#This Row],[Team Number]], 'Robot Game Scores'!$B:$B,0))))","v":""},{"$f":"IF(TournamentData[[#This Row],[Team Number]]=\"\",\"\",IF(ISNA(INDEX('Robot Game Scores'!G:G,MATCH(TournamentData[[#This Row],[Team Number]], 'Robot Game Scores'!$B:$B,0))),0,INDEX('Robot Game Scores'!G:G,MATCH(TournamentData[[#This Row],[Team Number]], 'Robot Game Scores'!$B:$B,0))))","v":""},{"$f":"IF(TournamentData[[#This Row],[Team Number]]=\"\",\"\",IF(ISNA(INDEX('Robot Game Scores'!H:H,MATCH(TournamentData[[#This Row],[Team Number]], 'Robot Game Scores'!$B:$B,0))),0,INDEX('Robot Game Scores'!H:H,MATCH(TournamentData[[#This Row],[Team Number]], 'Robot Game Scores'!$B:$B,0))))","v":""},{"$f":"IF(TournamentData[[#This Row],[Team Number]]=\"\",\"\",IF(ISNA(LARGE(TournamentData[[#This Row],[Robot Game Score 1]:[Robot Game Score 5]],1)+0.0001*LARGE(TournamentData[[#This Row],[Robot Game Score 1]:[Robot Game Score 5]],2)+0.0000001*LARGE(TournamentData[[#This Row],[Robot Game Score 1]:[Robot Game Score 5]],3)+0.00000000001*LARGE(TournamentData[[#This Row],[Robot Game Score 1]:[Robot Game Score 5]],4)+0.00000000000001*LARGE(TournamentData[[#This Row],[Robot Game Score 1]:[Robot Game Score 5]],5)),0,LARGE(TournamentData[[#This Row],[Robot Game Score 1]:[Robot Game Score 5]],1)+0.0001*LARGE(TournamentData[[#This Row],[Robot Game Score 1]:[Robot Game Score 5]],2)+0.0000001*LARGE(TournamentData[[#This Row],[Robot Game Score 1]:[Robot Game Score 5]],3)+0.00000000001*LARGE(TournamentData[[#This Row],[Robot Game Score 1]:[Robot Game Score 5]],4)+0.00000000000001*LARGE(TournamentData[[#This Row],[Robot Game Score 1]:[Robot Game Score 5]],5)))","v":""},{"$f":"IF(TournamentData[[#This Row],[Team Number]]=\"\",\"\",_xlfn.RANK.EQ(TournamentData[[#This Row],[Max Robot Game Score]],TournamentData[Max Robot Game Score]))","v":""},{"$f":"IF(TournamentData[[#This Row],[Team Number]]=\"\",\"\",IF(ISNA(INDEX(CoreValuesResults[Core Values Rank],MATCH(TournamentData[[#This Row],[Team Number]],CoreValuesResults[Team Number],0))),NumberOfTeams+1,INDEX(CoreValuesResults[Core Values Rank],MATCH(TournamentData[[#This Row],[Team Number]],CoreValuesResults[Team Number],0))))","v":""},{"$f":"IF(TournamentData[[#This Row],[Team Number]]=\"\",\"\",IF(ISNA(INDEX(InnovationProjectResults[Innovation Project Rank],MATCH(TournamentData[[#This Row],[Team Number]],InnovationProjectResults[Team Number],0))),NumberOfTeams+1,INDEX(InnovationProjectResults[Innovation Project Rank],MATCH(TournamentData[[#This Row],[Team Number]],InnovationProjectResults[Team Number],0))))","v":""},{"$f":"IF(TournamentData[[#This Row],[Team Number]]=\"\",\"\",IF(ISNA(INDEX(RobotDesignResults[Robot Design Rank],MATCH(TournamentData[[#This Row],[Team Number]],RobotDesignResults[Team Number],0))),NumberOfTeams+1,INDEX(RobotDesignResults[Robot Design Rank],MATCH(TournamentData[[#This Row],[Team Number]],RobotDesignResults[Team Number],0))))","v":""},{"$f":" IF(TournamentData[[#This Row],[Team Number]]=\"\",\"\",IF(TournamentData[[#This Row],[Core Values Rank]]=\"\",NumberOfTeams+1,TournamentData[[#This Row],[Core Values Rank]]) + IF(TournamentData[[#This Row],[Innovation Project Rank]]=\"\",NumberOfTeams+1,TournamentData[[#This Row],[Innovation Project Rank]]) + IF(TournamentData[[#This Row],[Robot Design Rank]]=\"\",NumberOfTeams+1,TournamentData[[#This Row],[Robot Design Rank]]) + TournamentData[[#This Row],[Robot Game Rank]])","v":""},{"$f":"IF(TournamentData[[#This Row],[Team Number]]=\"\",\"\",IF(M59,RANK(M59,M$3:M$110,1)-COUNTIF(M$3:M$110,0),NumberOfTeams+1))","v":""},{"$f":"IF(ISNA(INDEX(CoreValuesResults[Breakthrough Selection],MATCH(TournamentData[[#This Row],[Team Number]],CoreValuesResults[Team Number],0))),0, INDEX(CoreValuesResults[Breakthrough Selection],MATCH(TournamentData[[#This Row],[Team Number]],CoreValuesResults[Team Number],0)))","v":0},{"$f":"IF(ISNA(INDEX(CoreValuesResults[Rising All-Star Selection],MATCH(TournamentData[[#This Row],[Team Number]],CoreValuesResults[Team Number],0))),0, INDEX(CoreValuesResults[Rising All-Star Selection],MATCH(TournamentData[[#This Row],[Team Number]],CoreValuesResults[Team Number],0)))","v":0},{"$f":"IF(ISNA(INDEX(CoreValuesResults[Motivate Selection],MATCH(TournamentData[[#This Row],[Team Number]],CoreValuesResults[Team Number],0))),0, INDEX(CoreValuesResults[Motivate Selection],MATCH(TournamentData[[#This Row],[Team Number]],CoreValuesResults[Team Number],0)))","v":0},null,null,null,{"$f":"IF(ISNA(INDEX(CoreValuesResults[Core Values Score],MATCH(TournamentData[[#This Row],[Team Number]],CoreValuesResults[Team Number],0))),0,INDEX(CoreValuesResults[Core Values Score],MATCH(TournamentData[[#This Row],[Team Number]],CoreValuesResults[Team Number],0)))","v":0},{"$f":"IF(ISNA(INDEX(InnovationProjectResults[Innovation Project Score],MATCH(TournamentData[[#This Row],[Team Number]],InnovationProjectResults[Team Number],0))),0,INDEX(InnovationProjectResults[Innovation Project Score],MATCH(TournamentData[[#This Row],[Team Number]],InnovationProjectResults[Team Number],0)))","v":0},{"$f":"IF(ISNA(INDEX(RobotDesignResults[Robot Design Score],MATCH(TournamentData[[#This Row],[Team Number]],RobotDesignResults[Team Number],0))),0,INDEX(RobotDesignResults[Robot Design Score],MATCH(TournamentData[[#This Row],[Team Number]],RobotDesignResults[Team Number],0)))","v":0},{"$f":"IF(ISERR(GEOMEAN(TournamentData[[#This Row],[Max Robot Game Score]],TournamentData[[#This Row],[Core Values Score]],TournamentData[[#This Row],[Innovattion Project Score]],TournamentData[[#This Row],[Robot Design Score]])),0,GEOMEAN(TournamentData[[#This Row],[Max Robot Game Score]],TournamentData[[#This Row],[Core Values Score]],TournamentData[[#This Row],[Innovattion Project Score]],TournamentData[[#This Row],[Robot Design Score]]))","v":0},0]
[null,{"$f":"IF(ISNA(INDEX(OfficialTeamList[Team Name],MATCH(TournamentData[[#This Row],[Team Number]], OfficialTeamList[Team Number],0))),\"\",INDEX(OfficialTeamList[Team Name],MATCH(TournamentData[[#This Row],[Team Number]], OfficialTeamList[Team Number],0)))","v":""},{"$f":"IF(TournamentData[[#This Row],[Team Number]]=\"\",\"\",IF(ISNA(INDEX('Robot Game Scores'!D:D,MATCH(TournamentData[[#This Row],[Team Number]], 'Robot Game Scores'!$B:$B,0))),0,INDEX('Robot Game Scores'!D:D,MATCH(TournamentData[[#This Row],[Team Number]], 'Robot Game Scores'!$B:$B,0))))","v":""},{"$f":"IF(TournamentData[[#This Row],[Team Number]]=\"\",\"\",IF(ISNA(INDEX('Robot Game Scores'!E:E,MATCH(TournamentData[[#This Row],[Team Number]], 'Robot Game Scores'!$B:$B,0))),0,INDEX('Robot Game Scores'!E:E,MATCH(TournamentData[[#This Row],[Team Number]], 'Robot Game Scores'!$B:$B,0))))","v":""},{"$f":"IF(TournamentData[[#This Row],[Team Number]]=\"\",\"\",IF(ISNA(INDEX('Robot Game Scores'!F:F,MATCH(TournamentData[[#This Row],[Team Number]], 'Robot Game Scores'!$B:$B,0))),0,INDEX('Robot Game Scores'!F:F,MATCH(TournamentData[[#This Row],[Team Number]], 'Robot Game Scores'!$B:$B,0))))","v":""},{"$f":"IF(TournamentData[[#This Row],[Team Number]]=\"\",\"\",IF(ISNA(INDEX('Robot Game Scores'!G:G,MATCH(TournamentData[[#This Row],[Team Number]], 'Robot Game Scores'!$B:$B,0))),0,INDEX('Robot Game Scores'!G:G,MATCH(TournamentData[[#This Row],[Team Number]], 'Robot Game Scores'!$B:$B,0))))","v":""},{"$f":"IF(TournamentData[[#This Row],[Team Number]]=\"\",\"\",IF(ISNA(INDEX('Robot Game Scores'!H:H,MATCH(TournamentData[[#This Row],[Team Number]], 'Robot Game Scores'!$B:$B,0))),0,INDEX('Robot Game Scores'!H:H,MATCH(TournamentData[[#This Row],[Team Number]], 'Robot Game Scores'!$B:$B,0))))","v":""},{"$f":"IF(TournamentData[[#This Row],[Team Number]]=\"\",\"\",IF(ISNA(LARGE(TournamentData[[#This Row],[Robot Game Score 1]:[Robot Game Score 5]],1)+0.0001*LARGE(TournamentData[[#This Row],[Robot Game Score 1]:[Robot Game Score 5]],2)+0.0000001*LARGE(TournamentData[[#This Row],[Robot Game Score 1]:[Robot Game Score 5]],3)+0.00000000001*LARGE(TournamentData[[#This Row],[Robot Game Score 1]:[Robot Game Score 5]],4)+0.00000000000001*LARGE(TournamentData[[#This Row],[Robot Game Score 1]:[Robot Game Score 5]],5)),0,LARGE(TournamentData[[#This Row],[Robot Game Score 1]:[Robot Game Score 5]],1)+0.0001*LARGE(TournamentData[[#This Row],[Robot Game Score 1]:[Robot Game Score 5]],2)+0.0000001*LARGE(TournamentData[[#This Row],[Robot Game Score 1]:[Robot Game Score 5]],3)+0.00000000001*LARGE(TournamentData[[#This Row],[Robot Game Score 1]:[Robot Game Score 5]],4)+0.00000000000001*LARGE(TournamentData[[#This Row],[Robot Game Score 1]:[Robot Game Score 5]],5)))","v":""},{"$f":"IF(TournamentData[[#This Row],[Team Number]]=\"\",\"\",_xlfn.RANK.EQ(TournamentData[[#This Row],[Max Robot Game Score]],TournamentData[Max Robot Game Score]))","v":""},{"$f":"IF(TournamentData[[#This Row],[Team Number]]=\"\",\"\",IF(ISNA(INDEX(CoreValuesResults[Core Values Rank],MATCH(TournamentData[[#This Row],[Team Number]],CoreValuesResults[Team Number],0))),NumberOfTeams+1,INDEX(CoreValuesResults[Core Values Rank],MATCH(TournamentData[[#This Row],[Team Number]],CoreValuesResults[Team Number],0))))","v":""},{"$f":"IF(TournamentData[[#This Row],[Team Number]]=\"\",\"\",IF(ISNA(INDEX(InnovationProjectResults[Innovation Project Rank],MATCH(TournamentData[[#This Row],[Team Number]],InnovationProjectResults[Team Number],0))),NumberOfTeams+1,INDEX(InnovationProjectResults[Innovation Project Rank],MATCH(TournamentData[[#This Row],[Team Number]],InnovationProjectResults[Team Number],0))))","v":""},{"$f":"IF(TournamentData[[#This Row],[Team Number]]=\"\",\"\",IF(ISNA(INDEX(RobotDesignResults[Robot Design Rank],MATCH(TournamentData[[#This Row],[Team Number]],RobotDesignResults[Team Number],0))),NumberOfTeams+1,INDEX(RobotDesignResults[Robot Design Rank],MATCH(TournamentData[[#This Row],[Team Number]],RobotDesignResults[Team Number],0))))","v":""},{"$f":" IF(TournamentData[[#This Row],[Team Number]]=\"\",\"\",IF(TournamentData[[#This Row],[Core Values Rank]]=\"\",NumberOfTeams+1,TournamentData[[#This Row],[Core Values Rank]]) + IF(TournamentData[[#This Row],[Innovation Project Rank]]=\"\",NumberOfTeams+1,TournamentData[[#This Row],[Innovation Project Rank]]) + IF(TournamentData[[#This Row],[Robot Design Rank]]=\"\",NumberOfTeams+1,TournamentData[[#This Row],[Robot Design Rank]]) + TournamentData[[#This Row],[Robot Game Rank]])","v":""},{"$f":"IF(TournamentData[[#This Row],[Team Number]]=\"\",\"\",IF(M60,RANK(M60,M$3:M$110,1)-COUNTIF(M$3:M$110,0),NumberOfTeams+1))","v":""},{"$f":"IF(ISNA(INDEX(CoreValuesResults[Breakthrough Selection],MATCH(TournamentData[[#This Row],[Team Number]],CoreValuesResults[Team Number],0))),0, INDEX(CoreValuesResults[Breakthrough Selection],MATCH(TournamentData[[#This Row],[Team Number]],CoreValuesResults[Team Number],0)))","v":0},{"$f":"IF(ISNA(INDEX(CoreValuesResults[Rising All-Star Selection],MATCH(TournamentData[[#This Row],[Team Number]],CoreValuesResults[Team Number],0))),0, INDEX(CoreValuesResults[Rising All-Star Selection],MATCH(TournamentData[[#This Row],[Team Number]],CoreValuesResults[Team Number],0)))","v":0},{"$f":"IF(ISNA(INDEX(CoreValuesResults[Motivate Selection],MATCH(TournamentData[[#This Row],[Team Number]],CoreValuesResults[Team Number],0))),0, INDEX(CoreValuesResults[Motivate Selection],MATCH(TournamentData[[#This Row],[Team Number]],CoreValuesResults[Team Number],0)))","v":0},null,null,null,{"$f":"IF(ISNA(INDEX(CoreValuesResults[Core Values Score],MATCH(TournamentData[[#This Row],[Team Number]],CoreValuesResults[Team Number],0))),0,INDEX(CoreValuesResults[Core Values Score],MATCH(TournamentData[[#This Row],[Team Number]],CoreValuesResults[Team Number],0)))","v":0},{"$f":"IF(ISNA(INDEX(InnovationProjectResults[Innovation Project Score],MATCH(TournamentData[[#This Row],[Team Number]],InnovationProjectResults[Team Number],0))),0,INDEX(InnovationProjectResults[Innovation Project Score],MATCH(TournamentData[[#This Row],[Team Number]],InnovationProjectResults[Team Number],0)))","v":0},{"$f":"IF(ISNA(INDEX(RobotDesignResults[Robot Design Score],MATCH(TournamentData[[#This Row],[Team Number]],RobotDesignResults[Team Number],0))),0,INDEX(RobotDesignResults[Robot Design Score],MATCH(TournamentData[[#This Row],[Team Number]],RobotDesignResults[Team Number],0)))","v":0},{"$f":"IF(ISERR(GEOMEAN(TournamentData[[#This Row],[Max Robot Game Score]],TournamentData[[#This Row],[Core Values Score]],TournamentData[[#This Row],[Innovattion Project Score]],TournamentData[[#This Row],[Robot Design Score]])),0,GEOMEAN(TournamentData[[#This Row],[Max Robot Game Score]],TournamentData[[#This Row],[Core Values Score]],TournamentData[[#This Row],[Innovattion Project Score]],TournamentData[[#This Row],[Robot Design Score]]))","v":0},0]
[null,{"$f":"IF(ISNA(INDEX(OfficialTeamList[Team Name],MATCH(TournamentData[[#This Row],[Team Number]], OfficialTeamList[Team Number],0))),\"\",INDEX(OfficialTeamList[Team Name],MATCH(TournamentData[[#This Row],[Team Number]], OfficialTeamList[Team Number],0)))","v":""},{"$f":"IF(TournamentData[[#This Row],[Team Number]]=\"\",\"\",IF(ISNA(INDEX('Robot Game Scores'!D:D,MATCH(TournamentData[[#This Row],[Team Number]], 'Robot Game Scores'!$B:$B,0))),0,INDEX('Robot Game Scores'!D:D,MATCH(TournamentData[[#This Row],[Team Number]], 'Robot Game Scores'!$B:$B,0))))","v":""},{"$f":"IF(TournamentData[[#This Row],[Team Number]]=\"\",\"\",IF(ISNA(INDEX('Robot Game Scores'!E:E,MATCH(TournamentData[[#This Row],[Team Number]], 'Robot Game Scores'!$B:$B,0))),0,INDEX('Robot Game Scores'!E:E,MATCH(TournamentData[[#This Row],[Team Number]], 'Robot Game Scores'!$B:$B,0))))","v":""},{"$f":"IF(TournamentData[[#This Row],[Team Number]]=\"\",\"\",IF(ISNA(INDEX('Robot Game Scores'!F:F,MATCH(TournamentData[[#This Row],[Team Number]], 'Robot Game Scores'!$B:$B,0))),0,INDEX('Robot Game Scores'!F:F,MATCH(TournamentData[[#This Row],[Team Number]], 'Robot Game Scores'!$B:$B,0))))","v":""},{"$f":"IF(TournamentData[[#This Row],[Team Number]]=\"\",\"\",IF(ISNA(INDEX('Robot Game Scores'!G:G,MATCH(TournamentData[[#This Row],[Team Number]], 'Robot Game Scores'!$B:$B,0))),0,INDEX('Robot Game Scores'!G:G,MATCH(TournamentData[[#This Row],[Team Number]], 'Robot Game Scores'!$B:$B,0))))","v":""},{"$f":"IF(TournamentData[[#This Row],[Team Number]]=\"\",\"\",IF(ISNA(INDEX('Robot Game Scores'!H:H,MATCH(TournamentData[[#This Row],[Team Number]], 'Robot Game Scores'!$B:$B,0))),0,INDEX('Robot Game Scores'!H:H,MATCH(TournamentData[[#This Row],[Team Number]], 'Robot Game Scores'!$B:$B,0))))","v":""},{"$f":"IF(TournamentData[[#This Row],[Team Number]]=\"\",\"\",IF(ISNA(LARGE(TournamentData[[#This Row],[Robot Game Score 1]:[Robot Game Score 5]],1)+0.0001*LARGE(TournamentData[[#This Row],[Robot Game Score 1]:[Robot Game Score 5]],2)+0.0000001*LARGE(TournamentData[[#This Row],[Robot Game Score 1]:[Robot Game Score 5]],3)+0.00000000001*LARGE(TournamentData[[#This Row],[Robot Game Score 1]:[Robot Game Score 5]],4)+0.00000000000001*LARGE(TournamentData[[#This Row],[Robot Game Score 1]:[Robot Game Score 5]],5)),0,LARGE(TournamentData[[#This Row],[Robot Game Score 1]:[Robot Game Score 5]],1)+0.0001*LARGE(TournamentData[[#This Row],[Robot Game Score 1]:[Robot Game Score 5]],2)+0.0000001*LARGE(TournamentData[[#This Row],[Robot Game Score 1]:[Robot Game Score 5]],3)+0.00000000001*LARGE(TournamentData[[#This Row],[Robot Game Score 1]:[Robot Game Score 5]],4)+0.00000000000001*LARGE(TournamentData[[#This Row],[Robot Game Score 1]:[Robot Game Score 5]],5)))","v":""},{"$f":"IF(TournamentData[[#This Row],[Team Number]]=\"\",\"\",_xlfn.RANK.EQ(TournamentData[[#This Row],[Max Robot Game Score]],TournamentData[Max Robot Game Score]))","v":""},{"$f":"IF(TournamentData[[#This Row],[Team Number]]=\"\",\"\",IF(ISNA(INDEX(CoreValuesResults[Core Values Rank],MATCH(TournamentData[[#This Row],[Team Number]],CoreValuesResults[Team Number],0))),NumberOfTeams+1,INDEX(CoreValuesResults[Core Values Rank],MATCH(TournamentData[[#This Row],[Team Number]],CoreValuesResults[Team Number],0))))","v":""},{"$f":"IF(TournamentData[[#This Row],[Team Number]]=\"\",\"\",IF(ISNA(INDEX(InnovationProjectResults[Innovation Project Rank],MATCH(TournamentData[[#This Row],[Team Number]],InnovationProjectResults[Team Number],0))),NumberOfTeams+1,INDEX(InnovationProjectResults[Innovation Project Rank],MATCH(TournamentData[[#This Row],[Team Number]],InnovationProjectResults[Team Number],0))))","v":""},{"$f":"IF(TournamentData[[#This Row],[Team Number]]=\"\",\"\",IF(ISNA(INDEX(RobotDesignResults[Robot Design Rank],MATCH(TournamentData[[#This Row],[Team Number]],RobotDesignResults[Team Number],0))),NumberOfTeams+1,INDEX(RobotDesignResults[Robot Design Rank],MATCH(TournamentData[[#This Row],[Team Number]],RobotDesignResults[Team Number],0))))","v":""},{"$f":" IF(TournamentData[[#This Row],[Team Number]]=\"\",\"\",IF(TournamentData[[#This Row],[Core Values Rank]]=\"\",NumberOfTeams+1,TournamentData[[#This Row],[Core Values Rank]]) + IF(TournamentData[[#This Row],[Innovation Project Rank]]=\"\",NumberOfTeams+1,TournamentData[[#This Row],[Innovation Project Rank]]) + IF(TournamentData[[#This Row],[Robot Design Rank]]=\"\",NumberOfTeams+1,TournamentData[[#This Row],[Robot Design Rank]]) + TournamentData[[#This Row],[Robot Game Rank]])","v":""},{"$f":"IF(TournamentData[[#This Row],[Team Number]]=\"\",\"\",IF(M61,RANK(M61,M$3:M$110,1)-COUNTIF(M$3:M$110,0),NumberOfTeams+1))","v":""},{"$f":"IF(ISNA(INDEX(CoreValuesResults[Breakthrough Selection],MATCH(TournamentData[[#This Row],[Team Number]],CoreValuesResults[Team Number],0))),0, INDEX(CoreValuesResults[Breakthrough Selection],MATCH(TournamentData[[#This Row],[Team Number]],CoreValuesResults[Team Number],0)))","v":0},{"$f":"IF(ISNA(INDEX(CoreValuesResults[Rising All-Star Selection],MATCH(TournamentData[[#This Row],[Team Number]],CoreValuesResults[Team Number],0))),0, INDEX(CoreValuesResults[Rising All-Star Selection],MATCH(TournamentData[[#This Row],[Team Number]],CoreValuesResults[Team Number],0)))","v":0},{"$f":"IF(ISNA(INDEX(CoreValuesResults[Motivate Selection],MATCH(TournamentData[[#This Row],[Team Number]],CoreValuesResults[Team Number],0))),0, INDEX(CoreValuesResults[Motivate Selection],MATCH(TournamentData[[#This Row],[Team Number]],CoreValuesResults[Team Number],0)))","v":0},null,null,null,{"$f":"IF(ISNA(INDEX(CoreValuesResults[Core Values Score],MATCH(TournamentData[[#This Row],[Team Number]],CoreValuesResults[Team Number],0))),0,INDEX(CoreValuesResults[Core Values Score],MATCH(TournamentData[[#This Row],[Team Number]],CoreValuesResults[Team Number],0)))","v":0},{"$f":"IF(ISNA(INDEX(InnovationProjectResults[Innovation Project Score],MATCH(TournamentData[[#This Row],[Team Number]],InnovationProjectResults[Team Number],0))),0,INDEX(InnovationProjectResults[Innovation Project Score],MATCH(TournamentData[[#This Row],[Team Number]],InnovationProjectResults[Team Number],0)))","v":0},{"$f":"IF(ISNA(INDEX(RobotDesignResults[Robot Design Score],MATCH(TournamentData[[#This Row],[Team Number]],RobotDesignResults[Team Number],0))),0,INDEX(RobotDesignResults[Robot Design Score],MATCH(TournamentData[[#This Row],[Team Number]],RobotDesignResults[Team Number],0)))","v":0},{"$f":"IF(ISERR(GEOMEAN(TournamentData[[#This Row],[Max Robot Game Score]],TournamentData[[#This Row],[Core Values Score]],TournamentData[[#This Row],[Innovattion Project Score]],TournamentData[[#This Row],[Robot Design Score]])),0,GEOMEAN(TournamentData[[#This Row],[Max Robot Game Score]],TournamentData[[#This Row],[Core Values Score]],TournamentData[[#This Row],[Innovattion Project Score]],TournamentData[[#This Row],[Robot Design Score]]))","v":0},0]
[null,{"$f":"IF(ISNA(INDEX(OfficialTeamList[Team Name],MATCH(TournamentData[[#This Row],[Team Number]], OfficialTeamList[Team Number],0))),\"\",INDEX(OfficialTeamList[Team Name],MATCH(TournamentData[[#This Row],[Team Number]], OfficialTeamList[Team Number],0)))","v":""},{"$f":"IF(TournamentData[[#This Row],[Team Number]]=\"\",\"\",IF(ISNA(INDEX('Robot Game Scores'!D:D,MATCH(TournamentData[[#This Row],[Team Number]], 'Robot Game Scores'!$B:$B,0))),0,INDEX('Robot Game Scores'!D:D,MATCH(TournamentData[[#This Row],[Team Number]], 'Robot Game Scores'!$B:$B,0))))","v":""},{"$f":"IF(TournamentData[[#This Row],[Team Number]]=\"\",\"\",IF(ISNA(INDEX('Robot Game Scores'!E:E,MATCH(TournamentData[[#This Row],[Team Number]], 'Robot Game Scores'!$B:$B,0))),0,INDEX('Robot Game Scores'!E:E,MATCH(TournamentData[[#This Row],[Team Number]], 'Robot Game Scores'!$B:$B,0))))","v":""},{"$f":"IF(TournamentData[[#This Row],[Team Number]]=\"\",\"\",IF(ISNA(INDEX('Robot Game Scores'!F:F,MATCH(TournamentData[[#This Row],[Team Number]], 'Robot Game Scores'!$B:$B,0))),0,INDEX('Robot Game Scores'!F:F,MATCH(TournamentData[[#This Row],[Team Number]], 'Robot Game Scores'!$B:$B,0))))","v":""},{"$f":"IF(TournamentData[[#This Row],[Team Number]]=\"\",\"\",IF(ISNA(INDEX('Robot Game Scores'!G:G,MATCH(TournamentData[[#This Row],[Team Number]], 'Robot Game Scores'!$B:$B,0))),0,INDEX('Robot Game Scores'!G:G,MATCH(TournamentData[[#This Row],[Team Number]], 'Robot Game Scores'!$B:$B,0))))","v":""},{"$f":"IF(TournamentData[[#This Row],[Team Number]]=\"\",\"\",IF(ISNA(INDEX('Robot Game Scores'!H:H,MATCH(TournamentData[[#This Row],[Team Number]], 'Robot Game Scores'!$B:$B,0))),0,INDEX('Robot Game Scores'!H:H,MATCH(TournamentData[[#This Row],[Team Number]], 'Robot Game Scores'!$B:$B,0))))","v":""},{"$f":"IF(TournamentData[[#This Row],[Team Number]]=\"\",\"\",IF(ISNA(LARGE(TournamentData[[#This Row],[Robot Game Score 1]:[Robot Game Score 5]],1)+0.0001*LARGE(TournamentData[[#This Row],[Robot Game Score 1]:[Robot Game Score 5]],2)+0.0000001*LARGE(TournamentData[[#This Row],[Robot Game Score 1]:[Robot Game Score 5]],3)+0.00000000001*LARGE(TournamentData[[#This Row],[Robot Game Score 1]:[Robot Game Score 5]],4)+0.00000000000001*LARGE(TournamentData[[#This Row],[Robot Game Score 1]:[Robot Game Score 5]],5)),0,LARGE(TournamentData[[#This Row],[Robot Game Score 1]:[Robot Game Score 5]],1)+0.0001*LARGE(TournamentData[[#This Row],[Robot Game Score 1]:[Robot Game Score 5]],2)+0.0000001*LARGE(TournamentData[[#This Row],[Robot Game Score 1]:[Robot Game Score 5]],3)+0.00000000001*LARGE(TournamentData[[#This Row],[Robot Game Score 1]:[Robot Game Score 5]],4)+0.00000000000001*LARGE(TournamentData[[#This Row],[Robot Game Score 1]:[Robot Game Score 5]],5)))","v":""},{"$f":"IF(TournamentData[[#This Row],[Team Number]]=\"\",\"\",_xlfn.RANK.EQ(TournamentData[[#This Row],[Max Robot Game Score]],TournamentData[Max Robot Game Score]))","v":""},{"$f":"IF(TournamentData[[#This Row],[Team Number]]=\"\",\"\",IF(ISNA(INDEX(CoreValuesResults[Core Values Rank],MATCH(TournamentData[[#This Row],[Team Number]],CoreValuesResults[Team Number],0))),NumberOfTeams+1,INDEX(CoreValuesResults[Core Values Rank],MATCH(TournamentData[[#This Row],[Team Number]],CoreValuesResults[Team Number],0))))","v":""},{"$f":"IF(TournamentData[[#This Row],[Team Number]]=\"\",\"\",IF(ISNA(INDEX(InnovationProjectResults[Innovation Project Rank],MATCH(TournamentData[[#This Row],[Team Number]],InnovationProjectResults[Team Number],0))),NumberOfTeams+1,INDEX(InnovationProjectResults[Innovation Project Rank],MATCH(TournamentData[[#This Row],[Team Number]],InnovationProjectResults[Team Number],0))))","v":""},{"$f":"IF(TournamentData[[#This Row],[Team Number]]=\"\",\"\",IF(ISNA(INDEX(RobotDesignResults[Robot Design Rank],MATCH(TournamentData[[#This Row],[Team Number]],RobotDesignResults[Team Number],0))),NumberOfTeams+1,INDEX(RobotDesignResults[Robot Design Rank],MATCH(TournamentData[[#This Row],[Team Number]],RobotDesignResults[Team Number],0))))","v":""},{"$f":" IF(TournamentData[[#This Row],[Team Number]]=\"\",\"\",IF(TournamentData[[#This Row],[Core Values Rank]]=\"\",NumberOfTeams+1,TournamentData[[#This Row],[Core Values Rank]]) + IF(TournamentData[[#This Row],[Innovation Project Rank]]=\"\",NumberOfTeams+1,TournamentData[[#This Row],[Innovation Project Rank]]) + IF(TournamentData[[#This Row],[Robot Design Rank]]=\"\",NumberOfTeams+1,TournamentData[[#This Row],[Robot Design Rank]]) + TournamentData[[#This Row],[Robot Game Rank]])","v":""},{"$f":"IF(TournamentData[[#This Row],[Team Number]]=\"\",\"\",IF(M62,RANK(M62,M$3:M$110,1)-COUNTIF(M$3:M$110,0),NumberOfTeams+1))","v":""},{"$f":"IF(ISNA(INDEX(CoreValuesResults[Breakthrough Selection],MATCH(TournamentData[[#This Row],[Team Number]],CoreValuesResults[Team Number],0))),0, INDEX(CoreValuesResults[Breakthrough Selection],MATCH(TournamentData[[#This Row],[Team Number]],CoreValuesResults[Team Number],0)))","v":0},{"$f":"IF(ISNA(INDEX(CoreValuesResults[Rising All-Star Selection],MATCH(TournamentData[[#This Row],[Team Number]],CoreValuesResults[Team Number],0))),0, INDEX(CoreValuesResults[Rising All-Star Selection],MATCH(TournamentData[[#This Row],[Team Number]],CoreValuesResults[Team Number],0)))","v":0},{"$f":"IF(ISNA(INDEX(CoreValuesResults[Motivate Selection],MATCH(TournamentData[[#This Row],[Team Number]],CoreValuesResults[Team Number],0))),0, INDEX(CoreValuesResults[Motivate Selection],MATCH(TournamentData[[#This Row],[Team Number]],CoreValuesResults[Team Number],0)))","v":0},null,null,null,{"$f":"IF(ISNA(INDEX(CoreValuesResults[Core Values Score],MATCH(TournamentData[[#This Row],[Team Number]],CoreValuesResults[Team Number],0))),0,INDEX(CoreValuesResults[Core Values Score],MATCH(TournamentData[[#This Row],[Team Number]],CoreValuesResults[Team Number],0)))","v":0},{"$f":"IF(ISNA(INDEX(InnovationProjectResults[Innovation Project Score],MATCH(TournamentData[[#This Row],[Team Number]],InnovationProjectResults[Team Number],0))),0,INDEX(InnovationProjectResults[Innovation Project Score],MATCH(TournamentData[[#This Row],[Team Number]],InnovationProjectResults[Team Number],0)))","v":0},{"$f":"IF(ISNA(INDEX(RobotDesignResults[Robot Design Score],MATCH(TournamentData[[#This Row],[Team Number]],RobotDesignResults[Team Number],0))),0,INDEX(RobotDesignResults[Robot Design Score],MATCH(TournamentData[[#This Row],[Team Number]],RobotDesignResults[Team Number],0)))","v":0},{"$f":"IF(ISERR(GEOMEAN(TournamentData[[#This Row],[Max Robot Game Score]],TournamentData[[#This Row],[Core Values Score]],TournamentData[[#This Row],[Innovattion Project Score]],TournamentData[[#This Row],[Robot Design Score]])),0,GEOMEAN(TournamentData[[#This Row],[Max Robot Game Score]],TournamentData[[#This Row],[Core Values Score]],TournamentData[[#This Row],[Innovattion Project Score]],TournamentData[[#This Row],[Robot Design Score]]))","v":0},0]
[null,{"$f":"IF(ISNA(INDEX(OfficialTeamList[Team Name],MATCH(TournamentData[[#This Row],[Team Number]], OfficialTeamList[Team Number],0))),\"\",INDEX(OfficialTeamList[Team Name],MATCH(TournamentData[[#This Row],[Team Number]], OfficialTeamList[Team Number],0)))","v":""},{"$f":"IF(TournamentData[[#This Row],[Team Number]]=\"\",\"\",IF(ISNA(INDEX('Robot Game Scores'!D:D,MATCH(TournamentData[[#This Row],[Team Number]], 'Robot Game Scores'!$B:$B,0))),0,INDEX('Robot Game Scores'!D:D,MATCH(TournamentData[[#This Row],[Team Number]], 'Robot Game Scores'!$B:$B,0))))","v":""},{"$f":"IF(TournamentData[[#This Row],[Team Number]]=\"\",\"\",IF(ISNA(INDEX('Robot Game Scores'!E:E,MATCH(TournamentData[[#This Row],[Team Number]], 'Robot Game Scores'!$B:$B,0))),0,INDEX('Robot Game Scores'!E:E,MATCH(TournamentData[[#This Row],[Team Number]], 'Robot Game Scores'!$B:$B,0))))","v":""},{"$f":"IF(TournamentData[[#This Row],[Team Number]]=\"\",\"\",IF(ISNA(INDEX('Robot Game Scores'!F:F,MATCH(TournamentData[[#This Row],[Team Number]], 'Robot Game Scores'!$B:$B,0))),0,INDEX('Robot Game Scores'!F:F,MATCH(TournamentData[[#This Row],[Team Number]], 'Robot Game Scores'!$B:$B,0))))","v":""},{"$f":"IF(TournamentData[[#This Row],[Team Number]]=\"\",\"\",IF(ISNA(INDEX('Robot Game Scores'!G:G,MATCH(TournamentData[[#This Row],[Team Number]], 'Robot Game Scores'!$B:$B,0))),0,INDEX('Robot Game Scores'!G:G,MATCH(TournamentData[[#This Row],[Team Number]], 'Robot Game Scores'!$B:$B,0))))","v":""},{"$f":"IF(TournamentData[[#This Row],[Team Number]]=\"\",\"\",IF(ISNA(INDEX('Robot Game Scores'!H:H,MATCH(TournamentData[[#This Row],[Team Number]], 'Robot Game Scores'!$B:$B,0))),0,INDEX('Robot Game Scores'!H:H,MATCH(TournamentData[[#This Row],[Team Number]], 'Robot Game Scores'!$B:$B,0))))","v":""},{"$f":"IF(TournamentData[[#This Row],[Team Number]]=\"\",\"\",IF(ISNA(LARGE(TournamentData[[#This Row],[Robot Game Score 1]:[Robot Game Score 5]],1)+0.0001*LARGE(TournamentData[[#This Row],[Robot Game Score 1]:[Robot Game Score 5]],2)+0.0000001*LARGE(TournamentData[[#This Row],[Robot Game Score 1]:[Robot Game Score 5]],3)+0.00000000001*LARGE(TournamentData[[#This Row],[Robot Game Score 1]:[Robot Game Score 5]],4)+0.00000000000001*LARGE(TournamentData[[#This Row],[Robot Game Score 1]:[Robot Game Score 5]],5)),0,LARGE(TournamentData[[#This Row],[Robot Game Score 1]:[Robot Game Score 5]],1)+0.0001*LARGE(TournamentData[[#This Row],[Robot Game Score 1]:[Robot Game Score 5]],2)+0.0000001*LARGE(TournamentData[[#This Row],[Robot Game Score 1]:[Robot Game Score 5]],3)+0.00000000001*LARGE(TournamentData[[#This Row],[Robot Game Score 1]:[Robot Game Score 5]],4)+0.00000000000001*LARGE(TournamentData[[#This Row],[Robot Game Score 1]:[Robot Game Score 5]],5)))","v":""},{"$f":"IF(TournamentData[[#This Row],[Team Number]]=\"\",\"\",_xlfn.RANK.EQ(TournamentData[[#This Row],[Max Robot Game Score]],TournamentData[Max Robot Game Score]))","v":""},{"$f":"IF(TournamentData[[#This Row],[Team Number]]=\"\",\"\",IF(ISNA(INDEX(CoreValuesResults[Core Values Rank],MATCH(TournamentData[[#This Row],[Team Number]],CoreValuesResults[Team Number],0))),NumberOfTeams+1,INDEX(CoreValuesResults[Core Values Rank],MATCH(TournamentData[[#This Row],[Team Number]],CoreValuesResults[Team Number],0))))","v":""},{"$f":"IF(TournamentData[[#This Row],[Team Number]]=\"\",\"\",IF(ISNA(INDEX(InnovationProjectResults[Innovation Project Rank],MATCH(TournamentData[[#This Row],[Team Number]],InnovationProjectResults[Team Number],0))),NumberOfTeams+1,INDEX(InnovationProjectResults[Innovation Project Rank],MATCH(TournamentData[[#This Row],[Team Number]],InnovationProjectResults[Team Number],0))))","v":""},{"$f":"IF(TournamentData[[#This Row],[Team Number]]=\"\",\"\",IF(ISNA(INDEX(RobotDesignResults[Robot Design Rank],MATCH(TournamentData[[#This Row],[Team Number]],RobotDesignResults[Team Number],0))),NumberOfTeams+1,INDEX(RobotDesignResults[Robot Design Rank],MATCH(TournamentData[[#This Row],[Team Number]],RobotDesignResults[Team Number],0))))","v":""},{"$f":" IF(TournamentData[[#This Row],[Team Number]]=\"\",\"\",IF(TournamentData[[#This Row],[Core Values Rank]]=\"\",NumberOfTeams+1,TournamentData[[#This Row],[Core Values Rank]]) + IF(TournamentData[[#This Row],[Innovation Project Rank]]=\"\",NumberOfTeams+1,TournamentData[[#This Row],[Innovation Project Rank]]) + IF(TournamentData[[#This Row],[Robot Design Rank]]=\"\",NumberOfTeams+1,TournamentData[[#This Row],[Robot Design Rank]]) + TournamentData[[#This Row],[Robot Game Rank]])","v":""},{"$f":"IF(TournamentData[[#This Row],[Team Number]]=\"\",\"\",IF(M63,RANK(M63,M$3:M$110,1)-COUNTIF(M$3:M$110,0),NumberOfTeams+1))","v":""},{"$f":"IF(ISNA(INDEX(CoreValuesResults[Breakthrough Selection],MATCH(TournamentData[[#This Row],[Team Number]],CoreValuesResults[Team Number],0))),0, INDEX(CoreValuesResults[Breakthrough Selection],MATCH(TournamentData[[#This Row],[Team Number]],CoreValuesResults[Team Number],0)))","v":0},{"$f":"IF(ISNA(INDEX(CoreValuesResults[Rising All-Star Selection],MATCH(TournamentData[[#This Row],[Team Number]],CoreValuesResults[Team Number],0))),0, INDEX(CoreValuesResults[Rising All-Star Selection],MATCH(TournamentData[[#This Row],[Team Number]],CoreValuesResults[Team Number],0)))","v":0},{"$f":"IF(ISNA(INDEX(CoreValuesResults[Motivate Selection],MATCH(TournamentData[[#This Row],[Team Number]],CoreValuesResults[Team Number],0))),0, INDEX(CoreValuesResults[Motivate Selection],MATCH(TournamentData[[#This Row],[Team Number]],CoreValuesResults[Team Number],0)))","v":0},null,null,null,{"$f":"IF(ISNA(INDEX(CoreValuesResults[Core Values Score],MATCH(TournamentData[[#This Row],[Team Number]],CoreValuesResults[Team Number],0))),0,INDEX(CoreValuesResults[Core Values Score],MATCH(TournamentData[[#This Row],[Team Number]],CoreValuesResults[Team Number],0)))","v":0},{"$f":"IF(ISNA(INDEX(InnovationProjectResults[Innovation Project Score],MATCH(TournamentData[[#This Row],[Team Number]],InnovationProjectResults[Team Number],0))),0,INDEX(InnovationProjectResults[Innovation Project Score],MATCH(TournamentData[[#This Row],[Team Number]],InnovationProjectResults[Team Number],0)))","v":0},{"$f":"IF(ISNA(INDEX(RobotDesignResults[Robot Design Score],MATCH(TournamentData[[#This Row],[Team Number]],RobotDesignResults[Team Number],0))),0,INDEX(RobotDesignResults[Robot Design Score],MATCH(TournamentData[[#This Row],[Team Number]],RobotDesignResults[Team Number],0)))","v":0},{"$f":"IF(ISERR(GEOMEAN(TournamentData[[#This Row],[Max Robot Game Score]],TournamentData[[#This Row],[Core Values Score]],TournamentData[[#This Row],[Innovattion Project Score]],TournamentData[[#This Row],[Robot Design Score]])),0,GEOMEAN(TournamentData[[#This Row],[Max Robot Game Score]],TournamentData[[#This Row],[Core Values Score]],TournamentData[[#This Row],[Innovattion Project Score]],TournamentData[[#This Row],[Robot Design Score]]))","v":0},0]
[null,{"$f":"IF(ISNA(INDEX(OfficialTeamList[Team Name],MATCH(TournamentData[[#This Row],[Team Number]], OfficialTeamList[Team Number],0))),\"\",INDEX(OfficialTeamList[Team Name],MATCH(TournamentData[[#This Row],[Team Number]], OfficialTeamList[Team Number],0)))","v":""},{"$f":"IF(TournamentData[[#This Row],[Team Number]]=\"\",\"\",IF(ISNA(INDEX('Robot Game Scores'!D:D,MATCH(TournamentData[[#This Row],[Team Number]], 'Robot Game Scores'!$B:$B,0))),0,INDEX('Robot Game Scores'!D:D,MATCH(TournamentData[[#This Row],[Team Number]], 'Robot Game Scores'!$B:$B,0))))","v":""},{"$f":"IF(TournamentData[[#This Row],[Team Number]]=\"\",\"\",IF(ISNA(INDEX('Robot Game Scores'!E:E,MATCH(TournamentData[[#This Row],[Team Number]], 'Robot Game Scores'!$B:$B,0))),0,INDEX('Robot Game Scores'!E:E,MATCH(TournamentData[[#This Row],[Team Number]], 'Robot Game Scores'!$B:$B,0))))","v":""},{"$f":"IF(TournamentData[[#This Row],[Team Number]]=\"\",\"\",IF(ISNA(INDEX('Robot Game Scores'!F:F,MATCH(TournamentData[[#This Row],[Team Number]], 'Robot Game Scores'!$B:$B,0))),0,INDEX('Robot Game Scores'!F:F,MATCH(TournamentData[[#This Row],[Team Number]], 'Robot Game Scores'!$B:$B,0))))","v":""},{"$f":"IF(TournamentData[[#This Row],[Team Number]]=\"\",\"\",IF(ISNA(INDEX('Robot Game Scores'!G:G,MATCH(TournamentData[[#This Row],[Team Number]], 'Robot Game Scores'!$B:$B,0))),0,INDEX('Robot Game Scores'!G:G,MATCH(TournamentData[[#This Row],[Team Number]], 'Robot Game Scores'!$B:$B,0))))","v":""},{"$f":"IF(TournamentData[[#This Row],[Team Number]]=\"\",\"\",IF(ISNA(INDEX('Robot Game Scores'!H:H,MATCH(TournamentData[[#This Row],[Team Number]], 'Robot Game Scores'!$B:$B,0))),0,INDEX('Robot Game Scores'!H:H,MATCH(TournamentData[[#This Row],[Team Number]], 'Robot Game Scores'!$B:$B,0))))","v":""},{"$f":"IF(TournamentData[[#This Row],[Team Number]]=\"\",\"\",IF(ISNA(LARGE(TournamentData[[#This Row],[Robot Game Score 1]:[Robot Game Score 5]],1)+0.0001*LARGE(TournamentData[[#This Row],[Robot Game Score 1]:[Robot Game Score 5]],2)+0.0000001*LARGE(TournamentData[[#This Row],[Robot Game Score 1]:[Robot Game Score 5]],3)+0.00000000001*LARGE(TournamentData[[#This Row],[Robot Game Score 1]:[Robot Game Score 5]],4)+0.00000000000001*LARGE(TournamentData[[#This Row],[Robot Game Score 1]:[Robot Game Score 5]],5)),0,LARGE(TournamentData[[#This Row],[Robot Game Score 1]:[Robot Game Score 5]],1)+0.0001*LARGE(TournamentData[[#This Row],[Robot Game Score 1]:[Robot Game Score 5]],2)+0.0000001*LARGE(TournamentData[[#This Row],[Robot Game Score 1]:[Robot Game Score 5]],3)+0.00000000001*LARGE(TournamentData[[#This Row],[Robot Game Score 1]:[Robot Game Score 5]],4)+0.00000000000001*LARGE(TournamentData[[#This Row],[Robot Game Score 1]:[Robot Game Score 5]],5)))","v":""},{"$f":"IF(TournamentData[[#This Row],[Team Number]]=\"\",\"\",_xlfn.RANK.EQ(TournamentData[[#This Row],[Max Robot Game Score]],TournamentData[Max Robot Game Score]))","v":""},{"$f":"IF(TournamentData[[#This Row],[Team Number]]=\"\",\"\",IF(ISNA(INDEX(CoreValuesResults[Core Values Rank],MATCH(TournamentData[[#This Row],[Team Number]],CoreValuesResults[Team Number],0))),NumberOfTeams+1,INDEX(CoreValuesResults[Core Values Rank],MATCH(TournamentData[[#This Row],[Team Number]],CoreValuesResults[Team Number],0))))","v":""},{"$f":"IF(TournamentData[[#This Row],[Team Number]]=\"\",\"\",IF(ISNA(INDEX(InnovationProjectResults[Innovation Project Rank],MATCH(TournamentData[[#This Row],[Team Number]],InnovationProjectResults[Team Number],0))),NumberOfTeams+1,INDEX(InnovationProjectResults[Innovation Project Rank],MATCH(TournamentData[[#This Row],[Team Number]],InnovationProjectResults[Team Number],0))))","v":""},{"$f":"IF(TournamentData[[#This Row],[Team Number]]=\"\",\"\",IF(ISNA(INDEX(RobotDesignResults[Robot Design Rank],MATCH(TournamentData[[#This Row],[Team Number]],RobotDesignResults[Team Number],0))),NumberOfTeams+1,INDEX(RobotDesignResults[Robot Design Rank],MATCH(TournamentData[[#This Row],[Team Number]],RobotDesignResults[Team Number],0))))","v":""},{"$f":" IF(TournamentData[[#This Row],[Team Number]]=\"\",\"\",IF(TournamentData[[#This Row],[Core Values Rank]]=\"\",NumberOfTeams+1,TournamentData[[#This Row],[Core Values Rank]]) + IF(TournamentData[[#This Row],[Innovation Project Rank]]=\"\",NumberOfTeams+1,TournamentData[[#This Row],[Innovation Project Rank]]) + IF(TournamentData[[#This Row],[Robot Design Rank]]=\"\",NumberOfTeams+1,TournamentData[[#This Row],[Robot Design Rank]]) + TournamentData[[#This Row],[Robot Game Rank]])","v":""},{"$f":"IF(TournamentData[[#This Row],[Team Number]]=\"\",\"\",IF(M64,RANK(M64,M$3:M$110,1)-COUNTIF(M$3:M$110,0),NumberOfTeams+1))","v":""},{"$f":"IF(ISNA(INDEX(CoreValuesResults[Breakthrough Selection],MATCH(TournamentData[[#This Row],[Team Number]],CoreValuesResults[Team Number],0))),0, INDEX(CoreValuesResults[Breakthrough Selection],MATCH(TournamentData[[#This Row],[Team Number]],CoreValuesResults[Team Number],0)))","v":0},{"$f":"IF(ISNA(INDEX(CoreValuesResults[Rising All-Star Selection],MATCH(TournamentData[[#This Row],[Team Number]],CoreValuesResults[Team Number],0))),0, INDEX(CoreValuesResults[Rising All-Star Selection],MATCH(TournamentData[[#This Row],[Team Number]],CoreValuesResults[Team Number],0)))","v":0},{"$f":"IF(ISNA(INDEX(CoreValuesResults[Motivate Selection],MATCH(TournamentData[[#This Row],[Team Number]],CoreValuesResults[Team Number],0))),0, INDEX(CoreValuesResults[Motivate Selection],MATCH(TournamentData[[#This Row],[Team Number]],CoreValuesResults[Team Number],0)))","v":0},null,null,null,{"$f":"IF(ISNA(INDEX(CoreValuesResults[Core Values Score],MATCH(TournamentData[[#This Row],[Team Number]],CoreValuesResults[Team Number],0))),0,INDEX(CoreValuesResults[Core Values Score],MATCH(TournamentData[[#This Row],[Team Number]],CoreValuesResults[Team Number],0)))","v":0},{"$f":"IF(ISNA(INDEX(InnovationProjectResults[Innovation Project Score],MATCH(TournamentData[[#This Row],[Team Number]],InnovationProjectResults[Team Number],0))),0,INDEX(InnovationProjectResults[Innovation Project Score],MATCH(TournamentData[[#This Row],[Team Number]],InnovationProjectResults[Team Number],0)))","v":0},{"$f":"IF(ISNA(INDEX(RobotDesignResults[Robot Design Score],MATCH(TournamentData[[#This Row],[Team Number]],RobotDesignResults[Team Number],0))),0,INDEX(RobotDesignResults[Robot Design Score],MATCH(TournamentData[[#This Row],[Team Number]],RobotDesignResults[Team Number],0)))","v":0},{"$f":"IF(ISERR(GEOMEAN(TournamentData[[#This Row],[Max Robot Game Score]],TournamentData[[#This Row],[Core Values Score]],TournamentData[[#This Row],[Innovattion Project Score]],TournamentData[[#This Row],[Robot Design Score]])),0,GEOMEAN(TournamentData[[#This Row],[Max Robot Game Score]],TournamentData[[#This Row],[Core Values Score]],TournamentData[[#This Row],[Innovattion Project Score]],TournamentData[[#This Row],[Robot Design Score]]))","v":0},0]
[null,{"$f":"IF(ISNA(INDEX(OfficialTeamList[Team Name],MATCH(TournamentData[[#This Row],[Team Number]], OfficialTeamList[Team Number],0))),\"\",INDEX(OfficialTeamList[Team Name],MATCH(TournamentData[[#This Row],[Team Number]], OfficialTeamList[Team Number],0)))","v":""},{"$f":"IF(TournamentData[[#This Row],[Team Number]]=\"\",\"\",IF(ISNA(INDEX('Robot Game Scores'!D:D,MATCH(TournamentData[[#This Row],[Team Number]], 'Robot Game Scores'!$B:$B,0))),0,INDEX('Robot Game Scores'!D:D,MATCH(TournamentData[[#This Row],[Team Number]], 'Robot Game Scores'!$B:$B,0))))","v":""},{"$f":"IF(TournamentData[[#This Row],[Team Number]]=\"\",\"\",IF(ISNA(INDEX('Robot Game Scores'!E:E,MATCH(TournamentData[[#This Row],[Team Number]], 'Robot Game Scores'!$B:$B,0))),0,INDEX('Robot Game Scores'!E:E,MATCH(TournamentData[[#This Row],[Team Number]], 'Robot Game Scores'!$B:$B,0))))","v":""},{"$f":"IF(TournamentData[[#This Row],[Team Number]]=\"\",\"\",IF(ISNA(INDEX('Robot Game Scores'!F:F,MATCH(TournamentData[[#This Row],[Team Number]], 'Robot Game Scores'!$B:$B,0))),0,INDEX('Robot Game Scores'!F:F,MATCH(TournamentData[[#This Row],[Team Number]], 'Robot Game Scores'!$B:$B,0))))","v":""},{"$f":"IF(TournamentData[[#This Row],[Team Number]]=\"\",\"\",IF(ISNA(INDEX('Robot Game Scores'!G:G,MATCH(TournamentData[[#This Row],[Team Number]], 'Robot Game Scores'!$B:$B,0))),0,INDEX('Robot Game Scores'!G:G,MATCH(TournamentData[[#This Row],[Team Number]], 'Robot Game Scores'!$B:$B,0))))","v":""},{"$f":"IF(TournamentData[[#This Row],[Team Number]]=\"\",\"\",IF(ISNA(INDEX('Robot Game Scores'!H:H,MATCH(TournamentData[[#This Row],[Team Number]], 'Robot Game Scores'!$B:$B,0))),0,INDEX('Robot Game Scores'!H:H,MATCH(TournamentData[[#This Row],[Team Number]], 'Robot Game Scores'!$B:$B,0))))","v":""},{"$f":"IF(TournamentData[[#This Row],[Team Number]]=\"\",\"\",IF(ISNA(LARGE(TournamentData[[#This Row],[Robot Game Score 1]:[Robot Game Score 5]],1)+0.0001*LARGE(TournamentData[[#This Row],[Robot Game Score 1]:[Robot Game Score 5]],2)+0.0000001*LARGE(TournamentData[[#This Row],[Robot Game Score 1]:[Robot Game Score 5]],3)+0.00000000001*LARGE(TournamentData[[#This Row],[Robot Game Score 1]:[Robot Game Score 5]],4)+0.00000000000001*LARGE(TournamentData[[#This Row],[Robot Game Score 1]:[Robot Game Score 5]],5)),0,LARGE(TournamentData[[#This Row],[Robot Game Score 1]:[Robot Game Score 5]],1)+0.0001*LARGE(TournamentData[[#This Row],[Robot Game Score 1]:[Robot Game Score 5]],2)+0.0000001*LARGE(TournamentData[[#This Row],[Robot Game Score 1]:[Robot Game Score 5]],3)+0.00000000001*LARGE(TournamentData[[#This Row],[Robot Game Score 1]:[Robot Game Score 5]],4)+0.00000000000001*LARGE(TournamentData[[#This Row],[Robot Game Score 1]:[Robot Game Score 5]],5)))","v":""},{"$f":"IF(TournamentData[[#This Row],[Team Number]]=\"\",\"\",_xlfn.RANK.EQ(TournamentData[[#This Row],[Max Robot Game Score]],TournamentData[Max Robot Game Score]))","v":""},{"$f":"IF(TournamentData[[#This Row],[Team Number]]=\"\",\"\",IF(ISNA(INDEX(CoreValuesResults[Core Values Rank],MATCH(TournamentData[[#This Row],[Team Number]],CoreValuesResults[Team Number],0))),NumberOfTeams+1,INDEX(CoreValuesResults[Core Values Rank],MATCH(TournamentData[[#This Row],[Team Number]],CoreValuesResults[Team Number],0))))","v":""},{"$f":"IF(TournamentData[[#This Row],[Team Number]]=\"\",\"\",IF(ISNA(INDEX(InnovationProjectResults[Innovation Project Rank],MATCH(TournamentData[[#This Row],[Team Number]],InnovationProjectResults[Team Number],0))),NumberOfTeams+1,INDEX(InnovationProjectResults[Innovation Project Rank],MATCH(TournamentData[[#This Row],[Team Number]],InnovationProjectResults[Team Number],0))))","v":""},{"$f":"IF(TournamentData[[#This Row],[Team Number]]=\"\",\"\",IF(ISNA(INDEX(RobotDesignResults[Robot Design Rank],MATCH(TournamentData[[#This Row],[Team Number]],RobotDesignResults[Team Number],0))),NumberOfTeams+1,INDEX(RobotDesignResults[Robot Design Rank],MATCH(TournamentData[[#This Row],[Team Number]],RobotDesignResults[Team Number],0))))","v":""},{"$f":" IF(TournamentData[[#This Row],[Team Number]]=\"\",\"\",IF(TournamentData[[#This Row],[Core Values Rank]]=\"\",NumberOfTeams+1,TournamentData[[#This Row],[Core Values Rank]]) + IF(TournamentData[[#This Row],[Innovation Project Rank]]=\"\",NumberOfTeams+1,TournamentData[[#This Row],[Innovation Project Rank]]) + IF(TournamentData[[#This Row],[Robot Design Rank]]=\"\",NumberOfTeams+1,TournamentData[[#This Row],[Robot Design Rank]]) + TournamentData[[#This Row],[Robot Game Rank]])","v":""},{"$f":"IF(TournamentData[[#This Row],[Team Number]]=\"\",\"\",IF(M65,RANK(M65,M$3:M$110,1)-COUNTIF(M$3:M$110,0),NumberOfTeams+1))","v":""},{"$f":"IF(ISNA(INDEX(CoreValuesResults[Breakthrough Selection],MATCH(TournamentData[[#This Row],[Team Number]],CoreValuesResults[Team Number],0))),0, INDEX(CoreValuesResults[Breakthrough Selection],MATCH(TournamentData[[#This Row],[Team Number]],CoreValuesResults[Team Number],0)))","v":0},{"$f":"IF(ISNA(INDEX(CoreValuesResults[Rising All-Star Selection],MATCH(TournamentData[[#This Row],[Team Number]],CoreValuesResults[Team Number],0))),0, INDEX(CoreValuesResults[Rising All-Star Selection],MATCH(TournamentData[[#This Row],[Team Number]],CoreValuesResults[Team Number],0)))","v":0},{"$f":"IF(ISNA(INDEX(CoreValuesResults[Motivate Selection],MATCH(TournamentData[[#This Row],[Team Number]],CoreValuesResults[Team Number],0))),0, INDEX(CoreValuesResults[Motivate Selection],MATCH(TournamentData[[#This Row],[Team Number]],CoreValuesResults[Team Number],0)))","v":0},null,null,null,{"$f":"IF(ISNA(INDEX(CoreValuesResults[Core Values Score],MATCH(TournamentData[[#This Row],[Team Number]],CoreValuesResults[Team Number],0))),0,INDEX(CoreValuesResults[Core Values Score],MATCH(TournamentData[[#This Row],[Team Number]],CoreValuesResults[Team Number],0)))","v":0},{"$f":"IF(ISNA(INDEX(InnovationProjectResults[Innovation Project Score],MATCH(TournamentData[[#This Row],[Team Number]],InnovationProjectResults[Team Number],0))),0,INDEX(InnovationProjectResults[Innovation Project Score],MATCH(TournamentData[[#This Row],[Team Number]],InnovationProjectResults[Team Number],0)))","v":0},{"$f":"IF(ISNA(INDEX(RobotDesignResults[Robot Design Score],MATCH(TournamentData[[#This Row],[Team Number]],RobotDesignResults[Team Number],0))),0,INDEX(RobotDesignResults[Robot Design Score],MATCH(TournamentData[[#This Row],[Team Number]],RobotDesignResults[Team Number],0)))","v":0},{"$f":"IF(ISERR(GEOMEAN(TournamentData[[#This Row],[Max Robot Game Score]],TournamentData[[#This Row],[Core Values Score]],TournamentData[[#This Row],[Innovattion Project Score]],TournamentData[[#This Row],[Robot Design Score]])),0,GEOMEAN(TournamentData[[#This Row],[Max Robot Game Score]],TournamentData[[#This Row],[Core Values Score]],TournamentData[[#This Row],[Innovattion Project Score]],TournamentData[[#This Row],[Robot Design Score]]))","v":0},0]
[null,{"$f":"IF(ISNA(INDEX(OfficialTeamList[Team Name],MATCH(TournamentData[[#This Row],[Team Number]], OfficialTeamList[Team Number],0))),\"\",INDEX(OfficialTeamList[Team Name],MATCH(TournamentData[[#This Row],[Team Number]], OfficialTeamList[Team Number],0)))","v":""},{"$f":"IF(TournamentData[[#This Row],[Team Number]]=\"\",\"\",IF(ISNA(INDEX('Robot Game Scores'!D:D,MATCH(TournamentData[[#This Row],[Team Number]], 'Robot Game Scores'!$B:$B,0))),0,INDEX('Robot Game Scores'!D:D,MATCH(TournamentData[[#This Row],[Team Number]], 'Robot Game Scores'!$B:$B,0))))","v":""},{"$f":"IF(TournamentData[[#This Row],[Team Number]]=\"\",\"\",IF(ISNA(INDEX('Robot Game Scores'!E:E,MATCH(TournamentData[[#This Row],[Team Number]], 'Robot Game Scores'!$B:$B,0))),0,INDEX('Robot Game Scores'!E:E,MATCH(TournamentData[[#This Row],[Team Number]], 'Robot Game Scores'!$B:$B,0))))","v":""},{"$f":"IF(TournamentData[[#This Row],[Team Number]]=\"\",\"\",IF(ISNA(INDEX('Robot Game Scores'!F:F,MATCH(TournamentData[[#This Row],[Team Number]], 'Robot Game Scores'!$B:$B,0))),0,INDEX('Robot Game Scores'!F:F,MATCH(TournamentData[[#This Row],[Team Number]], 'Robot Game Scores'!$B:$B,0))))","v":""},{"$f":"IF(TournamentData[[#This Row],[Team Number]]=\"\",\"\",IF(ISNA(INDEX('Robot Game Scores'!G:G,MATCH(TournamentData[[#This Row],[Team Number]], 'Robot Game Scores'!$B:$B,0))),0,INDEX('Robot Game Scores'!G:G,MATCH(TournamentData[[#This Row],[Team Number]], 'Robot Game Scores'!$B:$B,0))))","v":""},{"$f":"IF(TournamentData[[#This Row],[Team Number]]=\"\",\"\",IF(ISNA(INDEX('Robot Game Scores'!H:H,MATCH(TournamentData[[#This Row],[Team Number]], 'Robot Game Scores'!$B:$B,0))),0,INDEX('Robot Game Scores'!H:H,MATCH(TournamentData[[#This Row],[Team Number]], 'Robot Game Scores'!$B:$B,0))))","v":""},{"$f":"IF(TournamentData[[#This Row],[Team Number]]=\"\",\"\",IF(ISNA(LARGE(TournamentData[[#This Row],[Robot Game Score 1]:[Robot Game Score 5]],1)+0.0001*LARGE(TournamentData[[#This Row],[Robot Game Score 1]:[Robot Game Score 5]],2)+0.0000001*LARGE(TournamentData[[#This Row],[Robot Game Score 1]:[Robot Game Score 5]],3)+0.00000000001*LARGE(TournamentData[[#This Row],[Robot Game Score 1]:[Robot Game Score 5]],4)+0.00000000000001*LARGE(TournamentData[[#This Row],[Robot Game Score 1]:[Robot Game Score 5]],5)),0,LARGE(TournamentData[[#This Row],[Robot Game Score 1]:[Robot Game Score 5]],1)+0.0001*LARGE(TournamentData[[#This Row],[Robot Game Score 1]:[Robot Game Score 5]],2)+0.0000001*LARGE(TournamentData[[#This Row],[Robot Game Score 1]:[Robot Game Score 5]],3)+0.00000000001*LARGE(TournamentData[[#This Row],[Robot Game Score 1]:[Robot Game Score 5]],4)+0.00000000000001*LARGE(TournamentData[[#This Row],[Robot Game Score 1]:[Robot Game Score 5]],5)))","v":""},{"$f":"IF(TournamentData[[#This Row],[Team Number]]=\"\",\"\",_xlfn.RANK.EQ(TournamentData[[#This Row],[Max Robot Game Score]],TournamentData[Max Robot Game Score]))","v":""},{"$f":"IF(TournamentData[[#This Row],[Team Number]]=\"\",\"\",IF(ISNA(INDEX(CoreValuesResults[Core Values Rank],MATCH(TournamentData[[#This Row],[Team Number]],CoreValuesResults[Team Number],0))),NumberOfTeams+1,INDEX(CoreValuesResults[Core Values Rank],MATCH(TournamentData[[#This Row],[Team Number]],CoreValuesResults[Team Number],0))))","v":""},{"$f":"IF(TournamentData[[#This Row],[Team Number]]=\"\",\"\",IF(ISNA(INDEX(InnovationProjectResults[Innovation Project Rank],MATCH(TournamentData[[#This Row],[Team Number]],InnovationProjectResults[Team Number],0))),NumberOfTeams+1,INDEX(InnovationProjectResults[Innovation Project Rank],MATCH(TournamentData[[#This Row],[Team Number]],InnovationProjectResults[Team Number],0))))","v":""},{"$f":"IF(TournamentData[[#This Row],[Team Number]]=\"\",\"\",IF(ISNA(INDEX(RobotDesignResults[Robot Design Rank],MATCH(TournamentData[[#This Row],[Team Number]],RobotDesignResults[Team Number],0))),NumberOfTeams+1,INDEX(RobotDesignResults[Robot Design Rank],MATCH(TournamentData[[#This Row],[Team Number]],RobotDesignResults[Team Number],0))))","v":""},{"$f":" IF(TournamentData[[#This Row],[Team Number]]=\"\",\"\",IF(TournamentData[[#This Row],[Core Values Rank]]=\"\",NumberOfTeams+1,TournamentData[[#This Row],[Core Values Rank]]) + IF(TournamentData[[#This Row],[Innovation Project Rank]]=\"\",NumberOfTeams+1,TournamentData[[#This Row],[Innovation Project Rank]]) + IF(TournamentData[[#This Row],[Robot Design Rank]]=\"\",NumberOfTeams+1,TournamentData[[#This Row],[Robot Design Rank]]) + TournamentData[[#This Row],[Robot Game Rank]])","v":""},{"$f":"IF(TournamentData[[#This Row],[Team Number]]=\"\",\"\",IF(M66,RANK(M66,M$3:M$110,1)-COUNTIF(M$3:M$110,0),NumberOfTeams+1))","v":""},{"$f":"IF(ISNA(INDEX(CoreValuesResults[Breakthrough Selection],MATCH(TournamentData[[#This Row],[Team Number]],CoreValuesResults[Team Number],0))),0, INDEX(CoreValuesResults[Breakthrough Selection],MATCH(TournamentData[[#This Row],[Team Number]],CoreValuesResults[Team Number],0)))","v":0},{"$f":"IF(ISNA(INDEX(CoreValuesResults[Rising All-Star Selection],MATCH(TournamentData[[#This Row],[Team Number]],CoreValuesResults[Team Number],0))),0, INDEX(CoreValuesResults[Rising All-Star Selection],MATCH(TournamentData[[#This Row],[Team Number]],CoreValuesResults[Team Number],0)))","v":0},{"$f":"IF(ISNA(INDEX(CoreValuesResults[Motivate Selection],MATCH(TournamentData[[#This Row],[Team Number]],CoreValuesResults[Team Number],0))),0, INDEX(CoreValuesResults[Motivate Selection],MATCH(TournamentData[[#This Row],[Team Number]],CoreValuesResults[Team Number],0)))","v":0},null,null,null,{"$f":"IF(ISNA(INDEX(CoreValuesResults[Core Values Score],MATCH(TournamentData[[#This Row],[Team Number]],CoreValuesResults[Team Number],0))),0,INDEX(CoreValuesResults[Core Values Score],MATCH(TournamentData[[#This Row],[Team Number]],CoreValuesResults[Team Number],0)))","v":0},{"$f":"IF(ISNA(INDEX(InnovationProjectResults[Innovation Project Score],MATCH(TournamentData[[#This Row],[Team Number]],InnovationProjectResults[Team Number],0))),0,INDEX(InnovationProjectResults[Innovation Project Score],MATCH(TournamentData[[#This Row],[Team Number]],InnovationProjectResults[Team Number],0)))","v":0},{"$f":"IF(ISNA(INDEX(RobotDesignResults[Robot Design Score],MATCH(TournamentData[[#This Row],[Team Number]],RobotDesignResults[Team Number],0))),0,INDEX(RobotDesignResults[Robot Design Score],MATCH(TournamentData[[#This Row],[Team Number]],RobotDesignResults[Team Number],0)))","v":0},{"$f":"IF(ISERR(GEOMEAN(TournamentData[[#This Row],[Max Robot Game Score]],TournamentData[[#This Row],[Core Values Score]],TournamentData[[#This Row],[Innovattion Project Score]],TournamentData[[#This Row],[Robot Design Score]])),0,GEOMEAN(TournamentData[[#This Row],[Max Robot Game Score]],TournamentData[[#This Row],[Core Values Score]],TournamentData[[#This Row],[Innovattion Project Score]],TournamentData[[#This Row],[Robot Design Score]]))","v":0},0]
[null,{"$f":"IF(ISNA(INDEX(OfficialTeamList[Team Name],MATCH(TournamentData[[#This Row],[Team Number]], OfficialTeamList[Team Number],0))),\"\",INDEX(OfficialTeamList[Team Name],MATCH(TournamentData[[#This Row],[Team Number]], OfficialTeamList[Team Number],0)))","v":""},{"$f":"IF(TournamentData[[#This Row],[Team Number]]=\"\",\"\",IF(ISNA(INDEX('Robot Game Scores'!D:D,MATCH(TournamentData[[#This Row],[Team Number]], 'Robot Game Scores'!$B:$B,0))),0,INDEX('Robot Game Scores'!D:D,MATCH(TournamentData[[#This Row],[Team Number]], 'Robot Game Scores'!$B:$B,0))))","v":""},{"$f":"IF(TournamentData[[#This Row],[Team Number]]=\"\",\"\",IF(ISNA(INDEX('Robot Game Scores'!E:E,MATCH(TournamentData[[#This Row],[Team Number]], 'Robot Game Scores'!$B:$B,0))),0,INDEX('Robot Game Scores'!E:E,MATCH(TournamentData[[#This Row],[Team Number]], 'Robot Game Scores'!$B:$B,0))))","v":""},{"$f":"IF(TournamentData[[#This Row],[Team Number]]=\"\",\"\",IF(ISNA(INDEX('Robot Game Scores'!F:F,MATCH(TournamentData[[#This Row],[Team Number]], 'Robot Game Scores'!$B:$B,0))),0,INDEX('Robot Game Scores'!F:F,MATCH(TournamentData[[#This Row],[Team Number]], 'Robot Game Scores'!$B:$B,0))))","v":""},{"$f":"IF(TournamentData[[#This Row],[Team Number]]=\"\",\"\",IF(ISNA(INDEX('Robot Game Scores'!G:G,MATCH(TournamentData[[#This Row],[Team Number]], 'Robot Game Scores'!$B:$B,0))),0,INDEX('Robot Game Scores'!G:G,MATCH(TournamentData[[#This Row],[Team Number]], 'Robot Game Scores'!$B:$B,0))))","v":""},{"$f":"IF(TournamentData[[#This Row],[Team Number]]=\"\",\"\",IF(ISNA(INDEX('Robot Game Scores'!H:H,MATCH(TournamentData[[#This Row],[Team Number]], 'Robot Game Scores'!$B:$B,0))),0,INDEX('Robot Game Scores'!H:H,MATCH(TournamentData[[#This Row],[Team Number]], 'Robot Game Scores'!$B:$B,0))))","v":""},{"$f":"IF(TournamentData[[#This Row],[Team Number]]=\"\",\"\",IF(ISNA(LARGE(TournamentData[[#This Row],[Robot Game Score 1]:[Robot Game Score 5]],1)+0.0001*LARGE(TournamentData[[#This Row],[Robot Game Score 1]:[Robot Game Score 5]],2)+0.0000001*LARGE(TournamentData[[#This Row],[Robot Game Score 1]:[Robot Game Score 5]],3)+0.00000000001*LARGE(TournamentData[[#This Row],[Robot Game Score 1]:[Robot Game Score 5]],4)+0.00000000000001*LARGE(TournamentData[[#This Row],[Robot Game Score 1]:[Robot Game Score 5]],5)),0,LARGE(TournamentData[[#This Row],[Robot Game Score 1]:[Robot Game Score 5]],1)+0.0001*LARGE(TournamentData[[#This Row],[Robot Game Score 1]:[Robot Game Score 5]],2)+0.0000001*LARGE(TournamentData[[#This Row],[Robot Game Score 1]:[Robot Game Score 5]],3)+0.00000000001*LARGE(TournamentData[[#This Row],[Robot Game Score 1]:[Robot Game Score 5]],4)+0.00000000000001*LARGE(TournamentData[[#This Row],[Robot Game Score 1]:[Robot Game Score 5]],5)))","v":""},{"$f":"IF(TournamentData[[#This Row],[Team Number]]=\"\",\"\",_xlfn.RANK.EQ(TournamentData[[#This Row],[Max Robot Game Score]],TournamentData[Max Robot Game Score]))","v":""},{"$f":"IF(TournamentData[[#This Row],[Team Number]]=\"\",\"\",IF(ISNA(INDEX(CoreValuesResults[Core Values Rank],MATCH(TournamentData[[#This Row],[Team Number]],CoreValuesResults[Team Number],0))),NumberOfTeams+1,INDEX(CoreValuesResults[Core Values Rank],MATCH(TournamentData[[#This Row],[Team Number]],CoreValuesResults[Team Number],0))))","v":""},{"$f":"IF(TournamentData[[#This Row],[Team Number]]=\"\",\"\",IF(ISNA(INDEX(InnovationProjectResults[Innovation Project Rank],MATCH(TournamentData[[#This Row],[Team Number]],InnovationProjectResults[Team Number],0))),NumberOfTeams+1,INDEX(InnovationProjectResults[Innovation Project Rank],MATCH(TournamentData[[#This Row],[Team Number]],InnovationProjectResults[Team Number],0))))","v":""},{"$f":"IF(TournamentData[[#This Row],[Team Number]]=\"\",\"\",IF(ISNA(INDEX(RobotDesignResults[Robot Design Rank],MATCH(TournamentData[[#This Row],[Team Number]],RobotDesignResults[Team Number],0))),NumberOfTeams+1,INDEX(RobotDesignResults[Robot Design Rank],MATCH(TournamentData[[#This Row],[Team Number]],RobotDesignResults[Team Number],0))))","v":""},{"$f":" IF(TournamentData[[#This Row],[Team Number]]=\"\",\"\",IF(TournamentData[[#This Row],[Core Values Rank]]=\"\",NumberOfTeams+1,TournamentData[[#This Row],[Core Values Rank]]) + IF(TournamentData[[#This Row],[Innovation Project Rank]]=\"\",NumberOfTeams+1,TournamentData[[#This Row],[Innovation Project Rank]]) + IF(TournamentData[[#This Row],[Robot Design Rank]]=\"\",NumberOfTeams+1,TournamentData[[#This Row],[Robot Design Rank]]) + TournamentData[[#This Row],[Robot Game Rank]])","v":""},{"$f":"IF(TournamentData[[#This Row],[Team Number]]=\"\",\"\",IF(M67,RANK(M67,M$3:M$110,1)-COUNTIF(M$3:M$110,0),NumberOfTeams+1))","v":""},{"$f":"IF(ISNA(INDEX(CoreValuesResults[Breakthrough Selection],MATCH(TournamentData[[#This Row],[Team Number]],CoreValuesResults[Team Number],0))),0, INDEX(CoreValuesResults[Breakthrough Selection],MATCH(TournamentData[[#This Row],[Team Number]],CoreValuesResults[Team Number],0)))","v":0},{"$f":"IF(ISNA(INDEX(CoreValuesResults[Rising All-Star Selection],MATCH(TournamentData[[#This Row],[Team Number]],CoreValuesResults[Team Number],0))),0, INDEX(CoreValuesResults[Rising All-Star Selection],MATCH(TournamentData[[#This Row],[Team Number]],CoreValuesResults[Team Number],0)))","v":0},{"$f":"IF(ISNA(INDEX(CoreValuesResults[Motivate Selection],MATCH(TournamentData[[#This Row],[Team Number]],CoreValuesResults[Team Number],0))),0, INDEX(CoreValuesResults[Motivate Selection],MATCH(TournamentData[[#This Row],[Team Number]],CoreValuesResults[Team Number],0)))","v":0},null,null,null,{"$f":"IF(ISNA(INDEX(CoreValuesResults[Core Values Score],MATCH(TournamentData[[#This Row],[Team Number]],CoreValuesResults[Team Number],0))),0,INDEX(CoreValuesResults[Core Values Score],MATCH(TournamentData[[#This Row],[Team Number]],CoreValuesResults[Team Number],0)))","v":0},{"$f":"IF(ISNA(INDEX(InnovationProjectResults[Innovation Project Score],MATCH(TournamentData[[#This Row],[Team Number]],InnovationProjectResults[Team Number],0))),0,INDEX(InnovationProjectResults[Innovation Project Score],MATCH(TournamentData[[#This Row],[Team Number]],InnovationProjectResults[Team Number],0)))","v":0},{"$f":"IF(ISNA(INDEX(RobotDesignResults[Robot Design Score],MATCH(TournamentData[[#This Row],[Team Number]],RobotDesignResults[Team Number],0))),0,INDEX(RobotDesignResults[Robot Design Score],MATCH(TournamentData[[#This Row],[Team Number]],RobotDesignResults[Team Number],0)))","v":0},{"$f":"IF(ISERR(GEOMEAN(TournamentData[[#This Row],[Max Robot Game Score]],TournamentData[[#This Row],[Core Values Score]],TournamentData[[#This Row],[Innovattion Project Score]],TournamentData[[#This Row],[Robot Design Score]])),0,GEOMEAN(TournamentData[[#This Row],[Max Robot Game Score]],TournamentData[[#This Row],[Core Values Score]],TournamentData[[#This Row],[Innovattion Project Score]],TournamentData[[#This Row],[Robot Design Score]]))","v":0},{"$f":"IF(X67,_xlfn.RANK.EQ(X67,X$3:X$110,0),NumberOfTeams)","v":0}]
[null,{"$f":"IF(ISNA(INDEX(OfficialTeamList[Team Name],MATCH(TournamentData[[#This Row],[Team Number]], OfficialTeamList[Team Number],0))),\"\",INDEX(OfficialTeamList[Team Name],MATCH(TournamentData[[#This Row],[Team Number]], OfficialTeamList[Team Number],0)))","v":""},{"$f":"IF(TournamentData[[#This Row],[Team Number]]=\"\",\"\",IF(ISNA(INDEX('Robot Game Scores'!D:D,MATCH(TournamentData[[#This Row],[Team Number]], 'Robot Game Scores'!$B:$B,0))),0,INDEX('Robot Game Scores'!D:D,MATCH(TournamentData[[#This Row],[Team Number]], 'Robot Game Scores'!$B:$B,0))))","v":""},{"$f":"IF(TournamentData[[#This Row],[Team Number]]=\"\",\"\",IF(ISNA(INDEX('Robot Game Scores'!E:E,MATCH(TournamentData[[#This Row],[Team Number]], 'Robot Game Scores'!$B:$B,0))),0,INDEX('Robot Game Scores'!E:E,MATCH(TournamentData[[#This Row],[Team Number]], 'Robot Game Scores'!$B:$B,0))))","v":""},{"$f":"IF(TournamentData[[#This Row],[Team Number]]=\"\",\"\",IF(ISNA(INDEX('Robot Game Scores'!F:F,MATCH(TournamentData[[#This Row],[Team Number]], 'Robot Game Scores'!$B:$B,0))),0,INDEX('Robot Game Scores'!F:F,MATCH(TournamentData[[#This Row],[Team Number]], 'Robot Game Scores'!$B:$B,0))))","v":""},{"$f":"IF(TournamentData[[#This Row],[Team Number]]=\"\",\"\",IF(ISNA(INDEX('Robot Game Scores'!G:G,MATCH(TournamentData[[#This Row],[Team Number]], 'Robot Game Scores'!$B:$B,0))),0,INDEX('Robot Game Scores'!G:G,MATCH(TournamentData[[#This Row],[Team Number]], 'Robot Game Scores'!$B:$B,0))))","v":""},{"$f":"IF(TournamentData[[#This Row],[Team Number]]=\"\",\"\",IF(ISNA(INDEX('Robot Game Scores'!H:H,MATCH(TournamentData[[#This Row],[Team Number]], 'Robot Game Scores'!$B:$B,0))),0,INDEX('Robot Game Scores'!H:H,MATCH(TournamentData[[#This Row],[Team Number]], 'Robot Game Scores'!$B:$B,0))))","v":""},{"$f":"IF(TournamentData[[#This Row],[Team Number]]=\"\",\"\",IF(ISNA(LARGE(TournamentData[[#This Row],[Robot Game Score 1]:[Robot Game Score 5]],1)+0.0001*LARGE(TournamentData[[#This Row],[Robot Game Score 1]:[Robot Game Score 5]],2)+0.0000001*LARGE(TournamentData[[#This Row],[Robot Game Score 1]:[Robot Game Score 5]],3)+0.00000000001*LARGE(TournamentData[[#This Row],[Robot Game Score 1]:[Robot Game Score 5]],4)+0.00000000000001*LARGE(TournamentData[[#This Row],[Robot Game Score 1]:[Robot Game Score 5]],5)),0,LARGE(TournamentData[[#This Row],[Robot Game Score 1]:[Robot Game Score 5]],1)+0.0001*LARGE(TournamentData[[#This Row],[Robot Game Score 1]:[Robot Game Score 5]],2)+0.0000001*LARGE(TournamentData[[#This Row],[Robot Game Score 1]:[Robot Game Score 5]],3)+0.00000000001*LARGE(TournamentData[[#This Row],[Robot Game Score 1]:[Robot Game Score 5]],4)+0.00000000000001*LARGE(TournamentData[[#This Row],[Robot Game Score 1]:[Robot Game Score 5]],5)))","v":""},{"$f":"IF(TournamentData[[#This Row],[Team Number]]=\"\",\"\",_xlfn.RANK.EQ(TournamentData[[#This Row],[Max Robot Game Score]],TournamentData[Max Robot Game Score]))","v":""},{"$f":"IF(TournamentData[[#This Row],[Team Number]]=\"\",\"\",IF(ISNA(INDEX(CoreValuesResults[Core Values Rank],MATCH(TournamentData[[#This Row],[Team Number]],CoreValuesResults[Team Number],0))),NumberOfTeams+1,INDEX(CoreValuesResults[Core Values Rank],MATCH(TournamentData[[#This Row],[Team Number]],CoreValuesResults[Team Number],0))))","v":""},{"$f":"IF(TournamentData[[#This Row],[Team Number]]=\"\",\"\",IF(ISNA(INDEX(InnovationProjectResults[Innovation Project Rank],MATCH(TournamentData[[#This Row],[Team Number]],InnovationProjectResults[Team Number],0))),NumberOfTeams+1,INDEX(InnovationProjectResults[Innovation Project Rank],MATCH(TournamentData[[#This Row],[Team Number]],InnovationProjectResults[Team Number],0))))","v":""},{"$f":"IF(TournamentData[[#This Row],[Team Number]]=\"\",\"\",IF(ISNA(INDEX(RobotDesignResults[Robot Design Rank],MATCH(TournamentData[[#This Row],[Team Number]],RobotDesignResults[Team Number],0))),NumberOfTeams+1,INDEX(RobotDesignResults[Robot Design Rank],MATCH(TournamentData[[#This Row],[Team Number]],RobotDesignResults[Team Number],0))))","v":""},{"$f":" IF(TournamentData[[#This Row],[Team Number]]=\"\",\"\",IF(TournamentData[[#This Row],[Core Values Rank]]=\"\",NumberOfTeams+1,TournamentData[[#This Row],[Core Values Rank]]) + IF(TournamentData[[#This Row],[Innovation Project Rank]]=\"\",NumberOfTeams+1,TournamentData[[#This Row],[Innovation Project Rank]]) + IF(TournamentData[[#This Row],[Robot Design Rank]]=\"\",NumberOfTeams+1,TournamentData[[#This Row],[Robot Design Rank]]) + TournamentData[[#This Row],[Robot Game Rank]])","v":""},{"$f":"IF(TournamentData[[#This Row],[Team Number]]=\"\",\"\",IF(M68,RANK(M68,M$3:M$110,1)-COUNTIF(M$3:M$110,0),NumberOfTeams+1))","v":""},{"$f":"IF(ISNA(INDEX(CoreValuesResults[Breakthrough Selection],MATCH(TournamentData[[#This Row],[Team Number]],CoreValuesResults[Team Number],0))),0, INDEX(CoreValuesResults[Breakthrough Selection],MATCH(TournamentData[[#This Row],[Team Number]],CoreValuesResults[Team Number],0)))","v":0},{"$f":"IF(ISNA(INDEX(CoreValuesResults[Rising All-Star Selection],MATCH(TournamentData[[#This Row],[Team Number]],CoreValuesResults[Team Number],0))),0, INDEX(CoreValuesResults[Rising All-Star Selection],MATCH(TournamentData[[#This Row],[Team Number]],CoreValuesResults[Team Number],0)))","v":0},{"$f":"IF(ISNA(INDEX(CoreValuesResults[Motivate Selection],MATCH(TournamentData[[#This Row],[Team Number]],CoreValuesResults[Team Number],0))),0, INDEX(CoreValuesResults[Motivate Selection],MATCH(TournamentData[[#This Row],[Team Number]],CoreValuesResults[Team Number],0)))","v":0},null,null,null,{"$f":"IF(ISNA(INDEX(CoreValuesResults[Core Values Score],MATCH(TournamentData[[#This Row],[Team Number]],CoreValuesResults[Team Number],0))),0,INDEX(CoreValuesResults[Core Values Score],MATCH(TournamentData[[#This Row],[Team Number]],CoreValuesResults[Team Number],0)))","v":0},{"$f":"IF(ISNA(INDEX(InnovationProjectResults[Innovation Project Score],MATCH(TournamentData[[#This Row],[Team Number]],InnovationProjectResults[Team Number],0))),0,INDEX(InnovationProjectResults[Innovation Project Score],MATCH(TournamentData[[#This Row],[Team Number]],InnovationProjectResults[Team Number],0)))","v":0},{"$f":"IF(ISNA(INDEX(RobotDesignResults[Robot Design Score],MATCH(TournamentData[[#This Row],[Team Number]],RobotDesignResults[Team Number],0))),0,INDEX(RobotDesignResults[Robot Design Score],MATCH(TournamentData[[#This Row],[Team Number]],RobotDesignResults[Team Number],0)))","v":0},{"$f":"IF(ISERR(GEOMEAN(TournamentData[[#This Row],[Max Robot Game Score]],TournamentData[[#This Row],[Core Values Score]],TournamentData[[#This Row],[Innovattion Project Score]],TournamentData[[#This Row],[Robot Design Score]])),0,GEOMEAN(TournamentData[[#This Row],[Max Robot Game Score]],TournamentData[[#This Row],[Core Values Score]],TournamentData[[#This Row],[Innovattion Project Score]],TournamentData[[#This Row],[Robot Design Score]]))","v":0},0]
[null,{"$f":"IF(ISNA(INDEX(OfficialTeamList[Team Name],MATCH(TournamentData[[#This Row],[Team Number]], OfficialTeamList[Team Number],0))),\"\",INDEX(OfficialTeamList[Team Name],MATCH(TournamentData[[#This Row],[Team Number]], OfficialTeamList[Team Number],0)))","v":""},{"$f":"IF(TournamentData[[#This Row],[Team Number]]=\"\",\"\",IF(ISNA(INDEX('Robot Game Scores'!D:D,MATCH(TournamentData[[#This Row],[Team Number]], 'Robot Game Scores'!$B:$B,0))),0,INDEX('Robot Game Scores'!D:D,MATCH(TournamentData[[#This Row],[Team Number]], 'Robot Game Scores'!$B:$B,0))))","v":""},{"$f":"IF(TournamentData[[#This Row],[Team Number]]=\"\",\"\",IF(ISNA(INDEX('Robot Game Scores'!E:E,MATCH(TournamentData[[#This Row],[Team Number]], 'Robot Game Scores'!$B:$B,0))),0,INDEX('Robot Game Scores'!E:E,MATCH(TournamentData[[#This Row],[Team Number]], 'Robot Game Scores'!$B:$B,0))))","v":""},{"$f":"IF(TournamentData[[#This Row],[Team Number]]=\"\",\"\",IF(ISNA(INDEX('Robot Game Scores'!F:F,MATCH(TournamentData[[#This Row],[Team Number]], 'Robot Game Scores'!$B:$B,0))),0,INDEX('Robot Game Scores'!F:F,MATCH(TournamentData[[#This Row],[Team Number]], 'Robot Game Scores'!$B:$B,0))))","v":""},{"$f":"IF(TournamentData[[#This Row],[Team Number]]=\"\",\"\",IF(ISNA(INDEX('Robot Game Scores'!G:G,MATCH(TournamentData[[#This Row],[Team Number]], 'Robot Game Scores'!$B:$B,0))),0,INDEX('Robot Game Scores'!G:G,MATCH(TournamentData[[#This Row],[Team Number]], 'Robot Game Scores'!$B:$B,0))))","v":""},{"$f":"IF(TournamentData[[#This Row],[Team Number]]=\"\",\"\",IF(ISNA(INDEX('Robot Game Scores'!H:H,MATCH(TournamentData[[#This Row],[Team Number]], 'Robot Game Scores'!$B:$B,0))),0,INDEX('Robot Game Scores'!H:H,MATCH(TournamentData[[#This Row],[Team Number]], 'Robot Game Scores'!$B:$B,0))))","v":""},{"$f":"IF(TournamentData[[#This Row],[Team Number]]=\"\",\"\",IF(ISNA(LARGE(TournamentData[[#This Row],[Robot Game Score 1]:[Robot Game Score 5]],1)+0.0001*LARGE(TournamentData[[#This Row],[Robot Game Score 1]:[Robot Game Score 5]],2)+0.0000001*LARGE(TournamentData[[#This Row],[Robot Game Score 1]:[Robot Game Score 5]],3)+0.00000000001*LARGE(TournamentData[[#This Row],[Robot Game Score 1]:[Robot Game Score 5]],4)+0.00000000000001*LARGE(TournamentData[[#This Row],[Robot Game Score 1]:[Robot Game Score 5]],5)),0,LARGE(TournamentData[[#This Row],[Robot Game Score 1]:[Robot Game Score 5]],1)+0.0001*LARGE(TournamentData[[#This Row],[Robot Game Score 1]:[Robot Game Score 5]],2)+0.0000001*LARGE(TournamentData[[#This Row],[Robot Game Score 1]:[Robot Game Score 5]],3)+0.00000000001*LARGE(TournamentData[[#This Row],[Robot Game Score 1]:[Robot Game Score 5]],4)+0.00000000000001*LARGE(TournamentData[[#This Row],[Robot Game Score 1]:[Robot Game Score 5]],5)))","v":""},{"$f":"IF(TournamentData[[#This Row],[Team Number]]=\"\",\"\",_xlfn.RANK.EQ(TournamentData[[#This Row],[Max Robot Game Score]],TournamentData[Max Robot Game Score]))","v":""},{"$f":"IF(TournamentData[[#This Row],[Team Number]]=\"\",\"\",IF(ISNA(INDEX(CoreValuesResults[Core Values Rank],MATCH(TournamentData[[#This Row],[Team Number]],CoreValuesResults[Team Number],0))),NumberOfTeams+1,INDEX(CoreValuesResults[Core Values Rank],MATCH(TournamentData[[#This Row],[Team Number]],CoreValuesResults[Team Number],0))))","v":""},{"$f":"IF(TournamentData[[#This Row],[Team Number]]=\"\",\"\",IF(ISNA(INDEX(InnovationProjectResults[Innovation Project Rank],MATCH(TournamentData[[#This Row],[Team Number]],InnovationProjectResults[Team Number],0))),NumberOfTeams+1,INDEX(InnovationProjectResults[Innovation Project Rank],MATCH(TournamentData[[#This Row],[Team Number]],InnovationProjectResults[Team Number],0))))","v":""},{"$f":"IF(TournamentData[[#This Row],[Team Number]]=\"\",\"\",IF(ISNA(INDEX(RobotDesignResults[Robot Design Rank],MATCH(TournamentData[[#This Row],[Team Number]],RobotDesignResults[Team Number],0))),NumberOfTeams+1,INDEX(RobotDesignResults[Robot Design Rank],MATCH(TournamentData[[#This Row],[Team Number]],RobotDesignResults[Team Number],0))))","v":""},{"$f":" IF(TournamentData[[#This Row],[Team Number]]=\"\",\"\",IF(TournamentData[[#This Row],[Core Values Rank]]=\"\",NumberOfTeams+1,TournamentData[[#This Row],[Core Values Rank]]) + IF(TournamentData[[#This Row],[Innovation Project Rank]]=\"\",NumberOfTeams+1,TournamentData[[#This Row],[Innovation Project Rank]]) + IF(TournamentData[[#This Row],[Robot Design Rank]]=\"\",NumberOfTeams+1,TournamentData[[#This Row],[Robot Design Rank]]) + TournamentData[[#This Row],[Robot Game Rank]])","v":""},{"$f":"IF(TournamentData[[#This Row],[Team Number]]=\"\",\"\",IF(M69,RANK(M69,M$3:M$110,1)-COUNTIF(M$3:M$110,0),NumberOfTeams+1))","v":""},{"$f":"IF(ISNA(INDEX(CoreValuesResults[Breakthrough Selection],MATCH(TournamentData[[#This Row],[Team Number]],CoreValuesResults[Team Number],0))),0, INDEX(CoreValuesResults[Breakthrough Selection],MATCH(TournamentData[[#This Row],[Team Number]],CoreValuesResults[Team Number],0)))","v":0},{"$f":"IF(ISNA(INDEX(CoreValuesResults[Rising All-Star Selection],MATCH(TournamentData[[#This Row],[Team Number]],CoreValuesResults[Team Number],0))),0, INDEX(CoreValuesResults[Rising All-Star Selection],MATCH(TournamentData[[#This Row],[Team Number]],CoreValuesResults[Team Number],0)))","v":0},{"$f":"IF(ISNA(INDEX(CoreValuesResults[Motivate Selection],MATCH(TournamentData[[#This Row],[Team Number]],CoreValuesResults[Team Number],0))),0, INDEX(CoreValuesResults[Motivate Selection],MATCH(TournamentData[[#This Row],[Team Number]],CoreValuesResults[Team Number],0)))","v":0},null,null,null,{"$f":"IF(ISNA(INDEX(CoreValuesResults[Core Values Score],MATCH(TournamentData[[#This Row],[Team Number]],CoreValuesResults[Team Number],0))),0,INDEX(CoreValuesResults[Core Values Score],MATCH(TournamentData[[#This Row],[Team Number]],CoreValuesResults[Team Number],0)))","v":0},{"$f":"IF(ISNA(INDEX(InnovationProjectResults[Innovation Project Score],MATCH(TournamentData[[#This Row],[Team Number]],InnovationProjectResults[Team Number],0))),0,INDEX(InnovationProjectResults[Innovation Project Score],MATCH(TournamentData[[#This Row],[Team Number]],InnovationProjectResults[Team Number],0)))","v":0},{"$f":"IF(ISNA(INDEX(RobotDesignResults[Robot Design Score],MATCH(TournamentData[[#This Row],[Team Number]],RobotDesignResults[Team Number],0))),0,INDEX(RobotDesignResults[Robot Design Score],MATCH(TournamentData[[#This Row],[Team Number]],RobotDesignResults[Team Number],0)))","v":0},{"$f":"IF(ISERR(GEOMEAN(TournamentData[[#This Row],[Max Robot Game Score]],TournamentData[[#This Row],[Core Values Score]],TournamentData[[#This Row],[Innovattion Project Score]],TournamentData[[#This Row],[Robot Design Score]])),0,GEOMEAN(TournamentData[[#This Row],[Max Robot Game Score]],TournamentData[[#This Row],[Core Values Score]],TournamentData[[#This Row],[Innovattion Project Score]],TournamentData[[#This Row],[Robot Design Score]]))","v":0},0]
[null,{"$f":"IF(ISNA(INDEX(OfficialTeamList[Team Name],MATCH(TournamentData[[#This Row],[Team Number]], OfficialTeamList[Team Number],0))),\"\",INDEX(OfficialTeamList[Team Name],MATCH(TournamentData[[#This Row],[Team Number]], OfficialTeamList[Team Number],0)))","v":""},{"$f":"IF(TournamentData[[#This Row],[Team Number]]=\"\",\"\",IF(ISNA(INDEX('Robot Game Scores'!D:D,MATCH(TournamentData[[#This Row],[Team Number]], 'Robot Game Scores'!$B:$B,0))),0,INDEX('Robot Game Scores'!D:D,MATCH(TournamentData[[#This Row],[Team Number]], 'Robot Game Scores'!$B:$B,0))))","v":""},{"$f":"IF(TournamentData[[#This Row],[Team Number]]=\"\",\"\",IF(ISNA(INDEX('Robot Game Scores'!E:E,MATCH(TournamentData[[#This Row],[Team Number]], 'Robot Game Scores'!$B:$B,0))),0,INDEX('Robot Game Scores'!E:E,MATCH(TournamentData[[#This Row],[Team Number]], 'Robot Game Scores'!$B:$B,0))))","v":""},{"$f":"IF(TournamentData[[#This Row],[Team Number]]=\"\",\"\",IF(ISNA(INDEX('Robot Game Scores'!F:F,MATCH(TournamentData[[#This Row],[Team Number]], 'Robot Game Scores'!$B:$B,0))),0,INDEX('Robot Game Scores'!F:F,MATCH(TournamentData[[#This Row],[Team Number]], 'Robot Game Scores'!$B:$B,0))))","v":""},{"$f":"IF(TournamentData[[#This Row],[Team Number]]=\"\",\"\",IF(ISNA(INDEX('Robot Game Scores'!G:G,MATCH(TournamentData[[#This Row],[Team Number]], 'Robot Game Scores'!$B:$B,0))),0,INDEX('Robot Game Scores'!G:G,MATCH(TournamentData[[#This Row],[Team Number]], 'Robot Game Scores'!$B:$B,0))))","v":""},{"$f":"IF(TournamentData[[#This Row],[Team Number]]=\"\",\"\",IF(ISNA(INDEX('Robot Game Scores'!H:H,MATCH(TournamentData[[#This Row],[Team Number]], 'Robot Game Scores'!$B:$B,0))),0,INDEX('Robot Game Scores'!H:H,MATCH(TournamentData[[#This Row],[Team Number]], 'Robot Game Scores'!$B:$B,0))))","v":""},{"$f":"IF(TournamentData[[#This Row],[Team Number]]=\"\",\"\",IF(ISNA(LARGE(TournamentData[[#This Row],[Robot Game Score 1]:[Robot Game Score 5]],1)+0.0001*LARGE(TournamentData[[#This Row],[Robot Game Score 1]:[Robot Game Score 5]],2)+0.0000001*LARGE(TournamentData[[#This Row],[Robot Game Score 1]:[Robot Game Score 5]],3)+0.00000000001*LARGE(TournamentData[[#This Row],[Robot Game Score 1]:[Robot Game Score 5]],4)+0.00000000000001*LARGE(TournamentData[[#This Row],[Robot Game Score 1]:[Robot Game Score 5]],5)),0,LARGE(TournamentData[[#This Row],[Robot Game Score 1]:[Robot Game Score 5]],1)+0.0001*LARGE(TournamentData[[#This Row],[Robot Game Score 1]:[Robot Game Score 5]],2)+0.0000001*LARGE(TournamentData[[#This Row],[Robot Game Score 1]:[Robot Game Score 5]],3)+0.00000000001*LARGE(TournamentData[[#This Row],[Robot Game Score 1]:[Robot Game Score 5]],4)+0.00000000000001*LARGE(TournamentData[[#This Row],[Robot Game Score 1]:[Robot Game Score 5]],5)))","v":""},{"$f":"IF(TournamentData[[#This Row],[Team Number]]=\"\",\"\",_xlfn.RANK.EQ(TournamentData[[#This Row],[Max Robot Game Score]],TournamentData[Max Robot Game Score]))","v":""},{"$f":"IF(TournamentData[[#This Row],[Team Number]]=\"\",\"\",IF(ISNA(INDEX(CoreValuesResults[Core Values Rank],MATCH(TournamentData[[#This Row],[Team Number]],CoreValuesResults[Team Number],0))),NumberOfTeams+1,INDEX(CoreValuesResults[Core Values Rank],MATCH(TournamentData[[#This Row],[Team Number]],CoreValuesResults[Team Number],0))))","v":""},{"$f":"IF(TournamentData[[#This Row],[Team Number]]=\"\",\"\",IF(ISNA(INDEX(InnovationProjectResults[Innovation Project Rank],MATCH(TournamentData[[#This Row],[Team Number]],InnovationProjectResults[Team Number],0))),NumberOfTeams+1,INDEX(InnovationProjectResults[Innovation Project Rank],MATCH(TournamentData[[#This Row],[Team Number]],InnovationProjectResults[Team Number],0))))","v":""},{"$f":"IF(TournamentData[[#This Row],[Team Number]]=\"\",\"\",IF(ISNA(INDEX(RobotDesignResults[Robot Design Rank],MATCH(TournamentData[[#This Row],[Team Number]],RobotDesignResults[Team Number],0))),NumberOfTeams+1,INDEX(RobotDesignResults[Robot Design Rank],MATCH(TournamentData[[#This Row],[Team Number]],RobotDesignResults[Team Number],0))))","v":""},{"$f":" IF(TournamentData[[#This Row],[Team Number]]=\"\",\"\",IF(TournamentData[[#This Row],[Core Values Rank]]=\"\",NumberOfTeams+1,TournamentData[[#This Row],[Core Values Rank]]) + IF(TournamentData[[#This Row],[Innovation Project Rank]]=\"\",NumberOfTeams+1,TournamentData[[#This Row],[Innovation Project Rank]]) + IF(TournamentData[[#This Row],[Robot Design Rank]]=\"\",NumberOfTeams+1,TournamentData[[#This Row],[Robot Design Rank]]) + TournamentData[[#This Row],[Robot Game Rank]])","v":""},{"$f":"IF(TournamentData[[#This Row],[Team Number]]=\"\",\"\",IF(M70,RANK(M70,M$3:M$110,1)-COUNTIF(M$3:M$110,0),NumberOfTeams+1))","v":""},{"$f":"IF(ISNA(INDEX(CoreValuesResults[Breakthrough Selection],MATCH(TournamentData[[#This Row],[Team Number]],CoreValuesResults[Team Number],0))),0, INDEX(CoreValuesResults[Breakthrough Selection],MATCH(TournamentData[[#This Row],[Team Number]],CoreValuesResults[Team Number],0)))","v":0},{"$f":"IF(ISNA(INDEX(CoreValuesResults[Rising All-Star Selection],MATCH(TournamentData[[#This Row],[Team Number]],CoreValuesResults[Team Number],0))),0, INDEX(CoreValuesResults[Rising All-Star Selection],MATCH(TournamentData[[#This Row],[Team Number]],CoreValuesResults[Team Number],0)))","v":0},{"$f":"IF(ISNA(INDEX(CoreValuesResults[Motivate Selection],MATCH(TournamentData[[#This Row],[Team Number]],CoreValuesResults[Team Number],0))),0, INDEX(CoreValuesResults[Motivate Selection],MATCH(TournamentData[[#This Row],[Team Number]],CoreValuesResults[Team Number],0)))","v":0},null,null,null,{"$f":"IF(ISNA(INDEX(CoreValuesResults[Core Values Score],MATCH(TournamentData[[#This Row],[Team Number]],CoreValuesResults[Team Number],0))),0,INDEX(CoreValuesResults[Core Values Score],MATCH(TournamentData[[#This Row],[Team Number]],CoreValuesResults[Team Number],0)))","v":0},{"$f":"IF(ISNA(INDEX(InnovationProjectResults[Innovation Project Score],MATCH(TournamentData[[#This Row],[Team Number]],InnovationProjectResults[Team Number],0))),0,INDEX(InnovationProjectResults[Innovation Project Score],MATCH(TournamentData[[#This Row],[Team Number]],InnovationProjectResults[Team Number],0)))","v":0},{"$f":"IF(ISNA(INDEX(RobotDesignResults[Robot Design Score],MATCH(TournamentData[[#This Row],[Team Number]],RobotDesignResults[Team Number],0))),0,INDEX(RobotDesignResults[Robot Design Score],MATCH(TournamentData[[#This Row],[Team Number]],RobotDesignResults[Team Number],0)))","v":0},{"$f":"IF(ISERR(GEOMEAN(TournamentData[[#This Row],[Max Robot Game Score]],TournamentData[[#This Row],[Core Values Score]],TournamentData[[#This Row],[Innovattion Project Score]],TournamentData[[#This Row],[Robot Design Score]])),0,GEOMEAN(TournamentData[[#This Row],[Max Robot Game Score]],TournamentData[[#This Row],[Core Values Score]],TournamentData[[#This Row],[Innovattion Project Score]],TournamentData[[#This Row],[Robot Design Score]]))","v":0},0]
[null,{"$f":"IF(ISNA(INDEX(OfficialTeamList[Team Name],MATCH(TournamentData[[#This Row],[Team Number]], OfficialTeamList[Team Number],0))),\"\",INDEX(OfficialTeamList[Team Name],MATCH(TournamentData[[#This Row],[Team Number]], OfficialTeamList[Team Number],0)))","v":""},{"$f":"IF(TournamentData[[#This Row],[Team Number]]=\"\",\"\",IF(ISNA(INDEX('Robot Game Scores'!D:D,MATCH(TournamentData[[#This Row],[Team Number]], 'Robot Game Scores'!$B:$B,0))),0,INDEX('Robot Game Scores'!D:D,MATCH(TournamentData[[#This Row],[Team Number]], 'Robot Game Scores'!$B:$B,0))))","v":""},{"$f":"IF(TournamentData[[#This Row],[Team Number]]=\"\",\"\",IF(ISNA(INDEX('Robot Game Scores'!E:E,MATCH(TournamentData[[#This Row],[Team Number]], 'Robot Game Scores'!$B:$B,0))),0,INDEX('Robot Game Scores'!E:E,MATCH(TournamentData[[#This Row],[Team Number]], 'Robot Game Scores'!$B:$B,0))))","v":""},{"$f":"IF(TournamentData[[#This Row],[Team Number]]=\"\",\"\",IF(ISNA(INDEX('Robot Game Scores'!F:F,MATCH(TournamentData[[#This Row],[Team Number]], 'Robot Game Scores'!$B:$B,0))),0,INDEX('Robot Game Scores'!F:F,MATCH(TournamentData[[#This Row],[Team Number]], 'Robot Game Scores'!$B:$B,0))))","v":""},{"$f":"IF(TournamentData[[#This Row],[Team Number]]=\"\",\"\",IF(ISNA(INDEX('Robot Game Scores'!G:G,MATCH(TournamentData[[#This Row],[Team Number]], 'Robot Game Scores'!$B:$B,0))),0,INDEX('Robot Game Scores'!G:G,MATCH(TournamentData[[#This Row],[Team Number]], 'Robot Game Scores'!$B:$B,0))))","v":""},{"$f":"IF(TournamentData[[#This Row],[Team Number]]=\"\",\"\",IF(ISNA(INDEX('Robot Game Scores'!H:H,MATCH(TournamentData[[#This Row],[Team Number]], 'Robot Game Scores'!$B:$B,0))),0,INDEX('Robot Game Scores'!H:H,MATCH(TournamentData[[#This Row],[Team Number]], 'Robot Game Scores'!$B:$B,0))))","v":""},{"$f":"IF(TournamentData[[#This Row],[Team Number]]=\"\",\"\",IF(ISNA(LARGE(TournamentData[[#This Row],[Robot Game Score 1]:[Robot Game Score 5]],1)+0.0001*LARGE(TournamentData[[#This Row],[Robot Game Score 1]:[Robot Game Score 5]],2)+0.0000001*LARGE(TournamentData[[#This Row],[Robot Game Score 1]:[Robot Game Score 5]],3)+0.00000000001*LARGE(TournamentData[[#This Row],[Robot Game Score 1]:[Robot Game Score 5]],4)+0.00000000000001*LARGE(TournamentData[[#This Row],[Robot Game Score 1]:[Robot Game Score 5]],5)),0,LARGE(TournamentData[[#This Row],[Robot Game Score 1]:[Robot Game Score 5]],1)+0.0001*LARGE(TournamentData[[#This Row],[Robot Game Score 1]:[Robot Game Score 5]],2)+0.0000001*LARGE(TournamentData[[#This Row],[Robot Game Score 1]:[Robot Game Score 5]],3)+0.00000000001*LARGE(TournamentData[[#This Row],[Robot Game Score 1]:[Robot Game Score 5]],4)+0.00000000000001*LARGE(TournamentData[[#This Row],[Robot Game Score 1]:[Robot Game Score 5]],5)))","v":""},{"$f":"IF(TournamentData[[#This Row],[Team Number]]=\"\",\"\",_xlfn.RANK.EQ(TournamentData[[#This Row],[Max Robot Game Score]],TournamentData[Max Robot Game Score]))","v":""},{"$f":"IF(TournamentData[[#This Row],[Team Number]]=\"\",\"\",IF(ISNA(INDEX(CoreValuesResults[Core Values Rank],MATCH(TournamentData[[#This Row],[Team Number]],CoreValuesResults[Team Number],0))),NumberOfTeams+1,INDEX(CoreValuesResults[Core Values Rank],MATCH(TournamentData[[#This Row],[Team Number]],CoreValuesResults[Team Number],0))))","v":""},{"$f":"IF(TournamentData[[#This Row],[Team Number]]=\"\",\"\",IF(ISNA(INDEX(InnovationProjectResults[Innovation Project Rank],MATCH(TournamentData[[#This Row],[Team Number]],InnovationProjectResults[Team Number],0))),NumberOfTeams+1,INDEX(InnovationProjectResults[Innovation Project Rank],MATCH(TournamentData[[#This Row],[Team Number]],InnovationProjectResults[Team Number],0))))","v":""},{"$f":"IF(TournamentData[[#This Row],[Team Number]]=\"\",\"\",IF(ISNA(INDEX(RobotDesignResults[Robot Design Rank],MATCH(TournamentData[[#This Row],[Team Number]],RobotDesignResults[Team Number],0))),NumberOfTeams+1,INDEX(RobotDesignResults[Robot Design Rank],MATCH(TournamentData[[#This Row],[Team Number]],RobotDesignResults[Team Number],0))))","v":""},{"$f":" IF(TournamentData[[#This Row],[Team Number]]=\"\",\"\",IF(TournamentData[[#This Row],[Core Values Rank]]=\"\",NumberOfTeams+1,TournamentData[[#This Row],[Core Values Rank]]) + IF(TournamentData[[#This Row],[Innovation Project Rank]]=\"\",NumberOfTeams+1,TournamentData[[#This Row],[Innovation Project Rank]]) + IF(TournamentData[[#This Row],[Robot Design Rank]]=\"\",NumberOfTeams+1,TournamentData[[#This Row],[Robot Design Rank]]) + TournamentData[[#This Row],[Robot Game Rank]])","v":""},{"$f":"IF(TournamentData[[#This Row],[Team Number]]=\"\",\"\",IF(M71,RANK(M71,M$3:M$110,1)-COUNTIF(M$3:M$110,0),NumberOfTeams+1))","v":""},{"$f":"IF(ISNA(INDEX(CoreValuesResults[Breakthrough Selection],MATCH(TournamentData[[#This Row],[Team Number]],CoreValuesResults[Team Number],0))),0, INDEX(CoreValuesResults[Breakthrough Selection],MATCH(TournamentData[[#This Row],[Team Number]],CoreValuesResults[Team Number],0)))","v":0},{"$f":"IF(ISNA(INDEX(CoreValuesResults[Rising All-Star Selection],MATCH(TournamentData[[#This Row],[Team Number]],CoreValuesResults[Team Number],0))),0, INDEX(CoreValuesResults[Rising All-Star Selection],MATCH(TournamentData[[#This Row],[Team Number]],CoreValuesResults[Team Number],0)))","v":0},{"$f":"IF(ISNA(INDEX(CoreValuesResults[Motivate Selection],MATCH(TournamentData[[#This Row],[Team Number]],CoreValuesResults[Team Number],0))),0, INDEX(CoreValuesResults[Motivate Selection],MATCH(TournamentData[[#This Row],[Team Number]],CoreValuesResults[Team Number],0)))","v":0},null,null,null,{"$f":"IF(ISNA(INDEX(CoreValuesResults[Core Values Score],MATCH(TournamentData[[#This Row],[Team Number]],CoreValuesResults[Team Number],0))),0,INDEX(CoreValuesResults[Core Values Score],MATCH(TournamentData[[#This Row],[Team Number]],CoreValuesResults[Team Number],0)))","v":0},{"$f":"IF(ISNA(INDEX(InnovationProjectResults[Innovation Project Score],MATCH(TournamentData[[#This Row],[Team Number]],InnovationProjectResults[Team Number],0))),0,INDEX(InnovationProjectResults[Innovation Project Score],MATCH(TournamentData[[#This Row],[Team Number]],InnovationProjectResults[Team Number],0)))","v":0},{"$f":"IF(ISNA(INDEX(RobotDesignResults[Robot Design Score],MATCH(TournamentData[[#This Row],[Team Number]],RobotDesignResults[Team Number],0))),0,INDEX(RobotDesignResults[Robot Design Score],MATCH(TournamentData[[#This Row],[Team Number]],RobotDesignResults[Team Number],0)))","v":0},{"$f":"IF(ISERR(GEOMEAN(TournamentData[[#This Row],[Max Robot Game Score]],TournamentData[[#This Row],[Core Values Score]],TournamentData[[#This Row],[Innovattion Project Score]],TournamentData[[#This Row],[Robot Design Score]])),0,GEOMEAN(TournamentData[[#This Row],[Max Robot Game Score]],TournamentData[[#This Row],[Core Values Score]],TournamentData[[#This Row],[Innovattion Project Score]],TournamentData[[#This Row],[Robot Design Score]]))","v":0},0]
[null,{"$f":"IF(ISNA(INDEX(OfficialTeamList[Team Name],MATCH(TournamentData[[#This Row],[Team Number]], OfficialTeamList[Team Number],0))),\"\",INDEX(OfficialTeamList[Team Name],MATCH(TournamentData[[#This Row],[Team Number]], OfficialTeamList[Team Number],0)))","v":""},{"$f":"IF(TournamentData[[#This Row],[Team Number]]=\"\",\"\",IF(ISNA(INDEX('Robot Game Scores'!D:D,MATCH(TournamentData[[#This Row],[Team Number]], 'Robot Game Scores'!$B:$B,0))),0,INDEX('Robot Game Scores'!D:D,MATCH(TournamentData[[#This Row],[Team Number]], 'Robot Game Scores'!$B:$B,0))))","v":""},{"$f":"IF(TournamentData[[#This Row],[Team Number]]=\"\",\"\",IF(ISNA(INDEX('Robot Game Scores'!E:E,MATCH(TournamentData[[#This Row],[Team Number]], 'Robot Game Scores'!$B:$B,0))),0,INDEX('Robot Game Scores'!E:E,MATCH(TournamentData[[#This Row],[Team Number]], 'Robot Game Scores'!$B:$B,0))))","v":""},{"$f":"IF(TournamentData[[#This Row],[Team Number]]=\"\",\"\",IF(ISNA(INDEX('Robot Game Scores'!F:F,MATCH(TournamentData[[#This Row],[Team Number]], 'Robot Game Scores'!$B:$B,0))),0,INDEX('Robot Game Scores'!F:F,MATCH(TournamentData[[#This Row],[Team Number]], 'Robot Game Scores'!$B:$B,0))))","v":""},{"$f":"IF(TournamentData[[#This Row],[Team Number]]=\"\",\"\",IF(ISNA(INDEX('Robot Game Scores'!G:G,MATCH(TournamentData[[#This Row],[Team Number]], 'Robot Game Scores'!$B:$B,0))),0,INDEX('Robot Game Scores'!G:G,MATCH(TournamentData[[#This Row],[Team Number]], 'Robot Game Scores'!$B:$B,0))))","v":""},{"$f":"IF(TournamentData[[#This Row],[Team Number]]=\"\",\"\",IF(ISNA(INDEX('Robot Game Scores'!H:H,MATCH(TournamentData[[#This Row],[Team Number]], 'Robot Game Scores'!$B:$B,0))),0,INDEX('Robot Game Scores'!H:H,MATCH(TournamentData[[#This Row],[Team Number]], 'Robot Game Scores'!$B:$B,0))))","v":""},{"$f":"IF(TournamentData[[#This Row],[Team Number]]=\"\",\"\",IF(ISNA(LARGE(TournamentData[[#This Row],[Robot Game Score 1]:[Robot Game Score 5]],1)+0.0001*LARGE(TournamentData[[#This Row],[Robot Game Score 1]:[Robot Game Score 5]],2)+0.0000001*LARGE(TournamentData[[#This Row],[Robot Game Score 1]:[Robot Game Score 5]],3)+0.00000000001*LARGE(TournamentData[[#This Row],[Robot Game Score 1]:[Robot Game Score 5]],4)+0.00000000000001*LARGE(TournamentData[[#This Row],[Robot Game Score 1]:[Robot Game Score 5]],5)),0,LARGE(TournamentData[[#This Row],[Robot Game Score 1]:[Robot Game Score 5]],1)+0.0001*LARGE(TournamentData[[#This Row],[Robot Game Score 1]:[Robot Game Score 5]],2)+0.0000001*LARGE(TournamentData[[#This Row],[Robot Game Score 1]:[Robot Game Score 5]],3)+0.00000000001*LARGE(TournamentData[[#This Row],[Robot Game Score 1]:[Robot Game Score 5]],4)+0.00000000000001*LARGE(TournamentData[[#This Row],[Robot Game Score 1]:[Robot Game Score 5]],5)))","v":""},{"$f":"IF(TournamentData[[#This Row],[Team Number]]=\"\",\"\",_xlfn.RANK.EQ(TournamentData[[#This Row],[Max Robot Game Score]],TournamentData[Max Robot Game Score]))","v":""},{"$f":"IF(TournamentData[[#This Row],[Team Number]]=\"\",\"\",IF(ISNA(INDEX(CoreValuesResults[Core Values Rank],MATCH(TournamentData[[#This Row],[Team Number]],CoreValuesResults[Team Number],0))),NumberOfTeams+1,INDEX(CoreValuesResults[Core Values Rank],MATCH(TournamentData[[#This Row],[Team Number]],CoreValuesResults[Team Number],0))))","v":""},{"$f":"IF(TournamentData[[#This Row],[Team Number]]=\"\",\"\",IF(ISNA(INDEX(InnovationProjectResults[Innovation Project Rank],MATCH(TournamentData[[#This Row],[Team Number]],InnovationProjectResults[Team Number],0))),NumberOfTeams+1,INDEX(InnovationProjectResults[Innovation Project Rank],MATCH(TournamentData[[#This Row],[Team Number]],InnovationProjectResults[Team Number],0))))","v":""},{"$f":"IF(TournamentData[[#This Row],[Team Number]]=\"\",\"\",IF(ISNA(INDEX(RobotDesignResults[Robot Design Rank],MATCH(TournamentData[[#This Row],[Team Number]],RobotDesignResults[Team Number],0))),NumberOfTeams+1,INDEX(RobotDesignResults[Robot Design Rank],MATCH(TournamentData[[#This Row],[Team Number]],RobotDesignResults[Team Number],0))))","v":""},{"$f":" IF(TournamentData[[#This Row],[Team Number]]=\"\",\"\",IF(TournamentData[[#This Row],[Core Values Rank]]=\"\",NumberOfTeams+1,TournamentData[[#This Row],[Core Values Rank]]) + IF(TournamentData[[#This Row],[Innovation Project Rank]]=\"\",NumberOfTeams+1,TournamentData[[#This Row],[Innovation Project Rank]]) + IF(TournamentData[[#This Row],[Robot Design Rank]]=\"\",NumberOfTeams+1,TournamentData[[#This Row],[Robot Design Rank]]) + TournamentData[[#This Row],[Robot Game Rank]])","v":""},{"$f":"IF(TournamentData[[#This Row],[Team Number]]=\"\",\"\",IF(M72,RANK(M72,M$3:M$110,1)-COUNTIF(M$3:M$110,0),NumberOfTeams+1))","v":""},{"$f":"IF(ISNA(INDEX(CoreValuesResults[Breakthrough Selection],MATCH(TournamentData[[#This Row],[Team Number]],CoreValuesResults[Team Number],0))),0, INDEX(CoreValuesResults[Breakthrough Selection],MATCH(TournamentData[[#This Row],[Team Number]],CoreValuesResults[Team Number],0)))","v":0},{"$f":"IF(ISNA(INDEX(CoreValuesResults[Rising All-Star Selection],MATCH(TournamentData[[#This Row],[Team Number]],CoreValuesResults[Team Number],0))),0, INDEX(CoreValuesResults[Rising All-Star Selection],MATCH(TournamentData[[#This Row],[Team Number]],CoreValuesResults[Team Number],0)))","v":0},{"$f":"IF(ISNA(INDEX(CoreValuesResults[Motivate Selection],MATCH(TournamentData[[#This Row],[Team Number]],CoreValuesResults[Team Number],0))),0, INDEX(CoreValuesResults[Motivate Selection],MATCH(TournamentData[[#This Row],[Team Number]],CoreValuesResults[Team Number],0)))","v":0},null,null,null,{"$f":"IF(ISNA(INDEX(CoreValuesResults[Core Values Score],MATCH(TournamentData[[#This Row],[Team Number]],CoreValuesResults[Team Number],0))),0,INDEX(CoreValuesResults[Core Values Score],MATCH(TournamentData[[#This Row],[Team Number]],CoreValuesResults[Team Number],0)))","v":0},{"$f":"IF(ISNA(INDEX(InnovationProjectResults[Innovation Project Score],MATCH(TournamentData[[#This Row],[Team Number]],InnovationProjectResults[Team Number],0))),0,INDEX(InnovationProjectResults[Innovation Project Score],MATCH(TournamentData[[#This Row],[Team Number]],InnovationProjectResults[Team Number],0)))","v":0},{"$f":"IF(ISNA(INDEX(RobotDesignResults[Robot Design Score],MATCH(TournamentData[[#This Row],[Team Number]],RobotDesignResults[Team Number],0))),0,INDEX(RobotDesignResults[Robot Design Score],MATCH(TournamentData[[#This Row],[Team Number]],RobotDesignResults[Team Number],0)))","v":0},{"$f":"IF(ISERR(GEOMEAN(TournamentData[[#This Row],[Max Robot Game Score]],TournamentData[[#This Row],[Core Values Score]],TournamentData[[#This Row],[Innovattion Project Score]],TournamentData[[#This Row],[Robot Design Score]])),0,GEOMEAN(TournamentData[[#This Row],[Max Robot Game Score]],TournamentData[[#This Row],[Core Values Score]],TournamentData[[#This Row],[Innovattion Project Score]],TournamentData[[#This Row],[Robot Design Score]]))","v":0},0]
[null,{"$f":"IF(ISNA(INDEX(OfficialTeamList[Team Name],MATCH(TournamentData[[#This Row],[Team Number]], OfficialTeamList[Team Number],0))),\"\",INDEX(OfficialTeamList[Team Name],MATCH(TournamentData[[#This Row],[Team Number]], OfficialTeamList[Team Number],0)))","v":""},{"$f":"IF(TournamentData[[#This Row],[Team Number]]=\"\",\"\",IF(ISNA(INDEX('Robot Game Scores'!D:D,MATCH(TournamentData[[#This Row],[Team Number]], 'Robot Game Scores'!$B:$B,0))),0,INDEX('Robot Game Scores'!D:D,MATCH(TournamentData[[#This Row],[Team Number]], 'Robot Game Scores'!$B:$B,0))))","v":""},{"$f":"IF(TournamentData[[#This Row],[Team Number]]=\"\",\"\",IF(ISNA(INDEX('Robot Game Scores'!E:E,MATCH(TournamentData[[#This Row],[Team Number]], 'Robot Game Scores'!$B:$B,0))),0,INDEX('Robot Game Scores'!E:E,MATCH(TournamentData[[#This Row],[Team Number]], 'Robot Game Scores'!$B:$B,0))))","v":""},{"$f":"IF(TournamentData[[#This Row],[Team Number]]=\"\",\"\",IF(ISNA(INDEX('Robot Game Scores'!F:F,MATCH(TournamentData[[#This Row],[Team Number]], 'Robot Game Scores'!$B:$B,0))),0,INDEX('Robot Game Scores'!F:F,MATCH(TournamentData[[#This Row],[Team Number]], 'Robot Game Scores'!$B:$B,0))))","v":""},{"$f":"IF(TournamentData[[#This Row],[Team Number]]=\"\",\"\",IF(ISNA(INDEX('Robot Game Scores'!G:G,MATCH(TournamentData[[#This Row],[Team Number]], 'Robot Game Scores'!$B:$B,0))),0,INDEX('Robot Game Scores'!G:G,MATCH(TournamentData[[#This Row],[Team Number]], 'Robot Game Scores'!$B:$B,0))))","v":""},{"$f":"IF(TournamentData[[#This Row],[Team Number]]=\"\",\"\",IF(ISNA(INDEX('Robot Game Scores'!H:H,MATCH(TournamentData[[#This Row],[Team Number]], 'Robot Game Scores'!$B:$B,0))),0,INDEX('Robot Game Scores'!H:H,MATCH(TournamentData[[#This Row],[Team Number]], 'Robot Game Scores'!$B:$B,0))))","v":""},{"$f":"IF(TournamentData[[#This Row],[Team Number]]=\"\",\"\",IF(ISNA(LARGE(TournamentData[[#This Row],[Robot Game Score 1]:[Robot Game Score 5]],1)+0.0001*LARGE(TournamentData[[#This Row],[Robot Game Score 1]:[Robot Game Score 5]],2)+0.0000001*LARGE(TournamentData[[#This Row],[Robot Game Score 1]:[Robot Game Score 5]],3)+0.00000000001*LARGE(TournamentData[[#This Row],[Robot Game Score 1]:[Robot Game Score 5]],4)+0.00000000000001*LARGE(TournamentData[[#This Row],[Robot Game Score 1]:[Robot Game Score 5]],5)),0,LARGE(TournamentData[[#This Row],[Robot Game Score 1]:[Robot Game Score 5]],1)+0.0001*LARGE(TournamentData[[#This Row],[Robot Game Score 1]:[Robot Game Score 5]],2)+0.0000001*LARGE(TournamentData[[#This Row],[Robot Game Score 1]:[Robot Game Score 5]],3)+0.00000000001*LARGE(TournamentData[[#This Row],[Robot Game Score 1]:[Robot Game Score 5]],4)+0.00000000000001*LARGE(TournamentData[[#This Row],[Robot Game Score 1]:[Robot Game Score 5]],5)))","v":""},{"$f":"IF(TournamentData[[#This Row],[Team Number]]=\"\",\"\",_xlfn.RANK.EQ(TournamentData[[#This Row],[Max Robot Game Score]],TournamentData[Max Robot Game Score]))","v":""},{"$f":"IF(TournamentData[[#This Row],[Team Number]]=\"\",\"\",IF(ISNA(INDEX(CoreValuesResults[Core Values Rank],MATCH(TournamentData[[#This Row],[Team Number]],CoreValuesResults[Team Number],0))),NumberOfTeams+1,INDEX(CoreValuesResults[Core Values Rank],MATCH(TournamentData[[#This Row],[Team Number]],CoreValuesResults[Team Number],0))))","v":""},{"$f":"IF(TournamentData[[#This Row],[Team Number]]=\"\",\"\",IF(ISNA(INDEX(InnovationProjectResults[Innovation Project Rank],MATCH(TournamentData[[#This Row],[Team Number]],InnovationProjectResults[Team Number],0))),NumberOfTeams+1,INDEX(InnovationProjectResults[Innovation Project Rank],MATCH(TournamentData[[#This Row],[Team Number]],InnovationProjectResults[Team Number],0))))","v":""},{"$f":"IF(TournamentData[[#This Row],[Team Number]]=\"\",\"\",IF(ISNA(INDEX(RobotDesignResults[Robot Design Rank],MATCH(TournamentData[[#This Row],[Team Number]],RobotDesignResults[Team Number],0))),NumberOfTeams+1,INDEX(RobotDesignResults[Robot Design Rank],MATCH(TournamentData[[#This Row],[Team Number]],RobotDesignResults[Team Number],0))))","v":""},{"$f":" IF(TournamentData[[#This Row],[Team Number]]=\"\",\"\",IF(TournamentData[[#This Row],[Core Values Rank]]=\"\",NumberOfTeams+1,TournamentData[[#This Row],[Core Values Rank]]) + IF(TournamentData[[#This Row],[Innovation Project Rank]]=\"\",NumberOfTeams+1,TournamentData[[#This Row],[Innovation Project Rank]]) + IF(TournamentData[[#This Row],[Robot Design Rank]]=\"\",NumberOfTeams+1,TournamentData[[#This Row],[Robot Design Rank]]) + TournamentData[[#This Row],[Robot Game Rank]])","v":""},{"$f":"IF(TournamentData[[#This Row],[Team Number]]=\"\",\"\",IF(M73,RANK(M73,M$3:M$110,1)-COUNTIF(M$3:M$110,0),NumberOfTeams+1))","v":""},{"$f":"IF(ISNA(INDEX(CoreValuesResults[Breakthrough Selection],MATCH(TournamentData[[#This Row],[Team Number]],CoreValuesResults[Team Number],0))),0, INDEX(CoreValuesResults[Breakthrough Selection],MATCH(TournamentData[[#This Row],[Team Number]],CoreValuesResults[Team Number],0)))","v":0},{"$f":"IF(ISNA(INDEX(CoreValuesResults[Rising All-Star Selection],MATCH(TournamentData[[#This Row],[Team Number]],CoreValuesResults[Team Number],0))),0, INDEX(CoreValuesResults[Rising All-Star Selection],MATCH(TournamentData[[#This Row],[Team Number]],CoreValuesResults[Team Number],0)))","v":0},{"$f":"IF(ISNA(INDEX(CoreValuesResults[Motivate Selection],MATCH(TournamentData[[#This Row],[Team Number]],CoreValuesResults[Team Number],0))),0, INDEX(CoreValuesResults[Motivate Selection],MATCH(TournamentData[[#This Row],[Team Number]],CoreValuesResults[Team Number],0)))","v":0},null,null,null,{"$f":"IF(ISNA(INDEX(CoreValuesResults[Core Values Score],MATCH(TournamentData[[#This Row],[Team Number]],CoreValuesResults[Team Number],0))),0,INDEX(CoreValuesResults[Core Values Score],MATCH(TournamentData[[#This Row],[Team Number]],CoreValuesResults[Team Number],0)))","v":0},{"$f":"IF(ISNA(INDEX(InnovationProjectResults[Innovation Project Score],MATCH(TournamentData[[#This Row],[Team Number]],InnovationProjectResults[Team Number],0))),0,INDEX(InnovationProjectResults[Innovation Project Score],MATCH(TournamentData[[#This Row],[Team Number]],InnovationProjectResults[Team Number],0)))","v":0},{"$f":"IF(ISNA(INDEX(RobotDesignResults[Robot Design Score],MATCH(TournamentData[[#This Row],[Team Number]],RobotDesignResults[Team Number],0))),0,INDEX(RobotDesignResults[Robot Design Score],MATCH(TournamentData[[#This Row],[Team Number]],RobotDesignResults[Team Number],0)))","v":0},{"$f":"IF(ISERR(GEOMEAN(TournamentData[[#This Row],[Max Robot Game Score]],TournamentData[[#This Row],[Core Values Score]],TournamentData[[#This Row],[Innovattion Project Score]],TournamentData[[#This Row],[Robot Design Score]])),0,GEOMEAN(TournamentData[[#This Row],[Max Robot Game Score]],TournamentData[[#This Row],[Core Values Score]],TournamentData[[#This Row],[Innovattion Project Score]],TournamentData[[#This Row],[Robot Design Score]]))","v":0},0]
[null,{"$f":"IF(ISNA(INDEX(OfficialTeamList[Team Name],MATCH(TournamentData[[#This Row],[Team Number]], OfficialTeamList[Team Number],0))),\"\",INDEX(OfficialTeamList[Team Name],MATCH(TournamentData[[#This Row],[Team Number]], OfficialTeamList[Team Number],0)))","v":""},{"$f":"IF(TournamentData[[#This Row],[Team Number]]=\"\",\"\",IF(ISNA(INDEX('Robot Game Scores'!D:D,MATCH(TournamentData[[#This Row],[Team Number]], 'Robot Game Scores'!$B:$B,0))),0,INDEX('Robot Game Scores'!D:D,MATCH(TournamentData[[#This Row],[Team Number]], 'Robot Game Scores'!$B:$B,0))))","v":""},{"$f":"IF(TournamentData[[#This Row],[Team Number]]=\"\",\"\",IF(ISNA(INDEX('Robot Game Scores'!E:E,MATCH(TournamentData[[#This Row],[Team Number]], 'Robot Game Scores'!$B:$B,0))),0,INDEX('Robot Game Scores'!E:E,MATCH(TournamentData[[#This Row],[Team Number]], 'Robot Game Scores'!$B:$B,0))))","v":""},{"$f":"IF(TournamentData[[#This Row],[Team Number]]=\"\",\"\",IF(ISNA(INDEX('Robot Game Scores'!F:F,MATCH(TournamentData[[#This Row],[Team Number]], 'Robot Game Scores'!$B:$B,0))),0,INDEX('Robot Game Scores'!F:F,MATCH(TournamentData[[#This Row],[Team Number]], 'Robot Game Scores'!$B:$B,0))))","v":""},{"$f":"IF(TournamentData[[#This Row],[Team Number]]=\"\",\"\",IF(ISNA(INDEX('Robot Game Scores'!G:G,MATCH(TournamentData[[#This Row],[Team Number]], 'Robot Game Scores'!$B:$B,0))),0,INDEX('Robot Game Scores'!G:G,MATCH(TournamentData[[#This Row],[Team Number]], 'Robot Game Scores'!$B:$B,0))))","v":""},{"$f":"IF(TournamentData[[#This Row],[Team Number]]=\"\",\"\",IF(ISNA(INDEX('Robot Game Scores'!H:H,MATCH(TournamentData[[#This Row],[Team Number]], 'Robot Game Scores'!$B:$B,0))),0,INDEX('Robot Game Scores'!H:H,MATCH(TournamentData[[#This Row],[Team Number]], 'Robot Game Scores'!$B:$B,0))))","v":""},{"$f":"IF(TournamentData[[#This Row],[Team Number]]=\"\",\"\",IF(ISNA(LARGE(TournamentData[[#This Row],[Robot Game Score 1]:[Robot Game Score 5]],1)+0.0001*LARGE(TournamentData[[#This Row],[Robot Game Score 1]:[Robot Game Score 5]],2)+0.0000001*LARGE(TournamentData[[#This Row],[Robot Game Score 1]:[Robot Game Score 5]],3)+0.00000000001*LARGE(TournamentData[[#This Row],[Robot Game Score 1]:[Robot Game Score 5]],4)+0.00000000000001*LARGE(TournamentData[[#This Row],[Robot Game Score 1]:[Robot Game Score 5]],5)),0,LARGE(TournamentData[[#This Row],[Robot Game Score 1]:[Robot Game Score 5]],1)+0.0001*LARGE(TournamentData[[#This Row],[Robot Game Score 1]:[Robot Game Score 5]],2)+0.0000001*LARGE(TournamentData[[#This Row],[Robot Game Score 1]:[Robot Game Score 5]],3)+0.00000000001*LARGE(TournamentData[[#This Row],[Robot Game Score 1]:[Robot Game Score 5]],4)+0.00000000000001*LARGE(TournamentData[[#This Row],[Robot Game Score 1]:[Robot Game Score 5]],5)))","v":""},{"$f":"IF(TournamentData[[#This Row],[Team Number]]=\"\",\"\",_xlfn.RANK.EQ(TournamentData[[#This Row],[Max Robot Game Score]],TournamentData[Max Robot Game Score]))","v":""},{"$f":"IF(TournamentData[[#This Row],[Team Number]]=\"\",\"\",IF(ISNA(INDEX(CoreValuesResults[Core Values Rank],MATCH(TournamentData[[#This Row],[Team Number]],CoreValuesResults[Team Number],0))),NumberOfTeams+1,INDEX(CoreValuesResults[Core Values Rank],MATCH(TournamentData[[#This Row],[Team Number]],CoreValuesResults[Team Number],0))))","v":""},{"$f":"IF(TournamentData[[#This Row],[Team Number]]=\"\",\"\",IF(ISNA(INDEX(InnovationProjectResults[Innovation Project Rank],MATCH(TournamentData[[#This Row],[Team Number]],InnovationProjectResults[Team Number],0))),NumberOfTeams+1,INDEX(InnovationProjectResults[Innovation Project Rank],MATCH(TournamentData[[#This Row],[Team Number]],InnovationProjectResults[Team Number],0))))","v":""},{"$f":"IF(TournamentData[[#This Row],[Team Number]]=\"\",\"\",IF(ISNA(INDEX(RobotDesignResults[Robot Design Rank],MATCH(TournamentData[[#This Row],[Team Number]],RobotDesignResults[Team Number],0))),NumberOfTeams+1,INDEX(RobotDesignResults[Robot Design Rank],MATCH(TournamentData[[#This Row],[Team Number]],RobotDesignResults[Team Number],0))))","v":""},{"$f":" IF(TournamentData[[#This Row],[Team Number]]=\"\",\"\",IF(TournamentData[[#This Row],[Core Values Rank]]=\"\",NumberOfTeams+1,TournamentData[[#This Row],[Core Values Rank]]) + IF(TournamentData[[#This Row],[Innovation Project Rank]]=\"\",NumberOfTeams+1,TournamentData[[#This Row],[Innovation Project Rank]]) + IF(TournamentData[[#This Row],[Robot Design Rank]]=\"\",NumberOfTeams+1,TournamentData[[#This Row],[Robot Design Rank]]) + TournamentData[[#This Row],[Robot Game Rank]])","v":""},{"$f":"IF(TournamentData[[#This Row],[Team Number]]=\"\",\"\",IF(M74,RANK(M74,M$3:M$110,1)-COUNTIF(M$3:M$110,0),NumberOfTeams+1))","v":""},{"$f":"IF(ISNA(INDEX(CoreValuesResults[Breakthrough Selection],MATCH(TournamentData[[#This Row],[Team Number]],CoreValuesResults[Team Number],0))),0, INDEX(CoreValuesResults[Breakthrough Selection],MATCH(TournamentData[[#This Row],[Team Number]],CoreValuesResults[Team Number],0)))","v":0},{"$f":"IF(ISNA(INDEX(CoreValuesResults[Rising All-Star Selection],MATCH(TournamentData[[#This Row],[Team Number]],CoreValuesResults[Team Number],0))),0, INDEX(CoreValuesResults[Rising All-Star Selection],MATCH(TournamentData[[#This Row],[Team Number]],CoreValuesResults[Team Number],0)))","v":0},{"$f":"IF(ISNA(INDEX(CoreValuesResults[Motivate Selection],MATCH(TournamentData[[#This Row],[Team Number]],CoreValuesResults[Team Number],0))),0, INDEX(CoreValuesResults[Motivate Selection],MATCH(TournamentData[[#This Row],[Team Number]],CoreValuesResults[Team Number],0)))","v":0},null,null,null,{"$f":"IF(ISNA(INDEX(CoreValuesResults[Core Values Score],MATCH(TournamentData[[#This Row],[Team Number]],CoreValuesResults[Team Number],0))),0,INDEX(CoreValuesResults[Core Values Score],MATCH(TournamentData[[#This Row],[Team Number]],CoreValuesResults[Team Number],0)))","v":0},{"$f":"IF(ISNA(INDEX(InnovationProjectResults[Innovation Project Score],MATCH(TournamentData[[#This Row],[Team Number]],InnovationProjectResults[Team Number],0))),0,INDEX(InnovationProjectResults[Innovation Project Score],MATCH(TournamentData[[#This Row],[Team Number]],InnovationProjectResults[Team Number],0)))","v":0},{"$f":"IF(ISNA(INDEX(RobotDesignResults[Robot Design Score],MATCH(TournamentData[[#This Row],[Team Number]],RobotDesignResults[Team Number],0))),0,INDEX(RobotDesignResults[Robot Design Score],MATCH(TournamentData[[#This Row],[Team Number]],RobotDesignResults[Team Number],0)))","v":0},{"$f":"IF(ISERR(GEOMEAN(TournamentData[[#This Row],[Max Robot Game Score]],TournamentData[[#This Row],[Core Values Score]],TournamentData[[#This Row],[Innovattion Project Score]],TournamentData[[#This Row],[Robot Design Score]])),0,GEOMEAN(TournamentData[[#This Row],[Max Robot Game Score]],TournamentData[[#This Row],[Core Values Score]],TournamentData[[#This Row],[Innovattion Project Score]],TournamentData[[#This Row],[Robot Design Score]]))","v":0},0]
[null,{"$f":"IF(ISNA(INDEX(OfficialTeamList[Team Name],MATCH(TournamentData[[#This Row],[Team Number]], OfficialTeamList[Team Number],0))),\"\",INDEX(OfficialTeamList[Team Name],MATCH(TournamentData[[#This Row],[Team Number]], OfficialTeamList[Team Number],0)))","v":""},{"$f":"IF(TournamentData[[#This Row],[Team Number]]=\"\",\"\",IF(ISNA(INDEX('Robot Game Scores'!D:D,MATCH(TournamentData[[#This Row],[Team Number]], 'Robot Game Scores'!$B:$B,0))),0,INDEX('Robot Game Scores'!D:D,MATCH(TournamentData[[#This Row],[Team Number]], 'Robot Game Scores'!$B:$B,0))))","v":""},{"$f":"IF(TournamentData[[#This Row],[Team Number]]=\"\",\"\",IF(ISNA(INDEX('Robot Game Scores'!E:E,MATCH(TournamentData[[#This Row],[Team Number]], 'Robot Game Scores'!$B:$B,0))),0,INDEX('Robot Game Scores'!E:E,MATCH(TournamentData[[#This Row],[Team Number]], 'Robot Game Scores'!$B:$B,0))))","v":""},{"$f":"IF(TournamentData[[#This Row],[Team Number]]=\"\",\"\",IF(ISNA(INDEX('Robot Game Scores'!F:F,MATCH(TournamentData[[#This Row],[Team Number]], 'Robot Game Scores'!$B:$B,0))),0,INDEX('Robot Game Scores'!F:F,MATCH(TournamentData[[#This Row],[Team Number]], 'Robot Game Scores'!$B:$B,0))))","v":""},{"$f":"IF(TournamentData[[#This Row],[Team Number]]=\"\",\"\",IF(ISNA(INDEX('Robot Game Scores'!G:G,MATCH(TournamentData[[#This Row],[Team Number]], 'Robot Game Scores'!$B:$B,0))),0,INDEX('Robot Game Scores'!G:G,MATCH(TournamentData[[#This Row],[Team Number]], 'Robot Game Scores'!$B:$B,0))))","v":""},{"$f":"IF(TournamentData[[#This Row],[Team Number]]=\"\",\"\",IF(ISNA(INDEX('Robot Game Scores'!H:H,MATCH(TournamentData[[#This Row],[Team Number]], 'Robot Game Scores'!$B:$B,0))),0,INDEX('Robot Game Scores'!H:H,MATCH(TournamentData[[#This Row],[Team Number]], 'Robot Game Scores'!$B:$B,0))))","v":""},{"$f":"IF(TournamentData[[#This Row],[Team Number]]=\"\",\"\",IF(ISNA(LARGE(TournamentData[[#This Row],[Robot Game Score 1]:[Robot Game Score 5]],1)+0.0001*LARGE(TournamentData[[#This Row],[Robot Game Score 1]:[Robot Game Score 5]],2)+0.0000001*LARGE(TournamentData[[#This Row],[Robot Game Score 1]:[Robot Game Score 5]],3)+0.00000000001*LARGE(TournamentData[[#This Row],[Robot Game Score 1]:[Robot Game Score 5]],4)+0.00000000000001*LARGE(TournamentData[[#This Row],[Robot Game Score 1]:[Robot Game Score 5]],5)),0,LARGE(TournamentData[[#This Row],[Robot Game Score 1]:[Robot Game Score 5]],1)+0.0001*LARGE(TournamentData[[#This Row],[Robot Game Score 1]:[Robot Game Score 5]],2)+0.0000001*LARGE(TournamentData[[#This Row],[Robot Game Score 1]:[Robot Game Score 5]],3)+0.00000000001*LARGE(TournamentData[[#This Row],[Robot Game Score 1]:[Robot Game Score 5]],4)+0.00000000000001*LARGE(TournamentData[[#This Row],[Robot Game Score 1]:[Robot Game Score 5]],5)))","v":""},{"$f":"IF(TournamentData[[#This Row],[Team Number]]=\"\",\"\",_xlfn.RANK.EQ(TournamentData[[#This Row],[Max Robot Game Score]],TournamentData[Max Robot Game Score]))","v":""},{"$f":"IF(TournamentData[[#This Row],[Team Number]]=\"\",\"\",IF(ISNA(INDEX(CoreValuesResults[Core Values Rank],MATCH(TournamentData[[#This Row],[Team Number]],CoreValuesResults[Team Number],0))),NumberOfTeams+1,INDEX(CoreValuesResults[Core Values Rank],MATCH(TournamentData[[#This Row],[Team Number]],CoreValuesResults[Team Number],0))))","v":""},{"$f":"IF(TournamentData[[#This Row],[Team Number]]=\"\",\"\",IF(ISNA(INDEX(InnovationProjectResults[Innovation Project Rank],MATCH(TournamentData[[#This Row],[Team Number]],InnovationProjectResults[Team Number],0))),NumberOfTeams+1,INDEX(InnovationProjectResults[Innovation Project Rank],MATCH(TournamentData[[#This Row],[Team Number]],InnovationProjectResults[Team Number],0))))","v":""},{"$f":"IF(TournamentData[[#This Row],[Team Number]]=\"\",\"\",IF(ISNA(INDEX(RobotDesignResults[Robot Design Rank],MATCH(TournamentData[[#This Row],[Team Number]],RobotDesignResults[Team Number],0))),NumberOfTeams+1,INDEX(RobotDesignResults[Robot Design Rank],MATCH(TournamentData[[#This Row],[Team Number]],RobotDesignResults[Team Number],0))))","v":""},{"$f":" IF(TournamentData[[#This Row],[Team Number]]=\"\",\"\",IF(TournamentData[[#This Row],[Core Values Rank]]=\"\",NumberOfTeams+1,TournamentData[[#This Row],[Core Values Rank]]) + IF(TournamentData[[#This Row],[Innovation Project Rank]]=\"\",NumberOfTeams+1,TournamentData[[#This Row],[Innovation Project Rank]]) + IF(TournamentData[[#This Row],[Robot Design Rank]]=\"\",NumberOfTeams+1,TournamentData[[#This Row],[Robot Design Rank]]) + TournamentData[[#This Row],[Robot Game Rank]])","v":""},{"$f":"IF(TournamentData[[#This Row],[Team Number]]=\"\",\"\",IF(M75,RANK(M75,M$3:M$110,1)-COUNTIF(M$3:M$110,0),NumberOfTeams+1))","v":""},{"$f":"IF(ISNA(INDEX(CoreValuesResults[Breakthrough Selection],MATCH(TournamentData[[#This Row],[Team Number]],CoreValuesResults[Team Number],0))),0, INDEX(CoreValuesResults[Breakthrough Selection],MATCH(TournamentData[[#This Row],[Team Number]],CoreValuesResults[Team Number],0)))","v":0},{"$f":"IF(ISNA(INDEX(CoreValuesResults[Rising All-Star Selection],MATCH(TournamentData[[#This Row],[Team Number]],CoreValuesResults[Team Number],0))),0, INDEX(CoreValuesResults[Rising All-Star Selection],MATCH(TournamentData[[#This Row],[Team Number]],CoreValuesResults[Team Number],0)))","v":0},{"$f":"IF(ISNA(INDEX(CoreValuesResults[Motivate Selection],MATCH(TournamentData[[#This Row],[Team Number]],CoreValuesResults[Team Number],0))),0, INDEX(CoreValuesResults[Motivate Selection],MATCH(TournamentData[[#This Row],[Team Number]],CoreValuesResults[Team Number],0)))","v":0},null,null,null,{"$f":"IF(ISNA(INDEX(CoreValuesResults[Core Values Score],MATCH(TournamentData[[#This Row],[Team Number]],CoreValuesResults[Team Number],0))),0,INDEX(CoreValuesResults[Core Values Score],MATCH(TournamentData[[#This Row],[Team Number]],CoreValuesResults[Team Number],0)))","v":0},{"$f":"IF(ISNA(INDEX(InnovationProjectResults[Innovation Project Score],MATCH(TournamentData[[#This Row],[Team Number]],InnovationProjectResults[Team Number],0))),0,INDEX(InnovationProjectResults[Innovation Project Score],MATCH(TournamentData[[#This Row],[Team Number]],InnovationProjectResults[Team Number],0)))","v":0},{"$f":"IF(ISNA(INDEX(RobotDesignResults[Robot Design Score],MATCH(TournamentData[[#This Row],[Team Number]],RobotDesignResults[Team Number],0))),0,INDEX(RobotDesignResults[Robot Design Score],MATCH(TournamentData[[#This Row],[Team Number]],RobotDesignResults[Team Number],0)))","v":0},{"$f":"IF(ISERR(GEOMEAN(TournamentData[[#This Row],[Max Robot Game Score]],TournamentData[[#This Row],[Core Values Score]],TournamentData[[#This Row],[Innovattion Project Score]],TournamentData[[#This Row],[Robot Design Score]])),0,GEOMEAN(TournamentData[[#This Row],[Max Robot Game Score]],TournamentData[[#This Row],[Core Values Score]],TournamentData[[#This Row],[Innovattion Project Score]],TournamentData[[#This Row],[Robot Design Score]]))","v":0},0]
[null,{"$f":"IF(ISNA(INDEX(OfficialTeamList[Team Name],MATCH(TournamentData[[#This Row],[Team Number]], OfficialTeamList[Team Number],0))),\"\",INDEX(OfficialTeamList[Team Name],MATCH(TournamentData[[#This Row],[Team Number]], OfficialTeamList[Team Number],0)))","v":""},{"$f":"IF(TournamentData[[#This Row],[Team Number]]=\"\",\"\",IF(ISNA(INDEX('Robot Game Scores'!D:D,MATCH(TournamentData[[#This Row],[Team Number]], 'Robot Game Scores'!$B:$B,0))),0,INDEX('Robot Game Scores'!D:D,MATCH(TournamentData[[#This Row],[Team Number]], 'Robot Game Scores'!$B:$B,0))))","v":""},{"$f":"IF(TournamentData[[#This Row],[Team Number]]=\"\",\"\",IF(ISNA(INDEX('Robot Game Scores'!E:E,MATCH(TournamentData[[#This Row],[Team Number]], 'Robot Game Scores'!$B:$B,0))),0,INDEX('Robot Game Scores'!E:E,MATCH(TournamentData[[#This Row],[Team Number]], 'Robot Game Scores'!$B:$B,0))))","v":""},{"$f":"IF(TournamentData[[#This Row],[Team Number]]=\"\",\"\",IF(ISNA(INDEX('Robot Game Scores'!F:F,MATCH(TournamentData[[#This Row],[Team Number]], 'Robot Game Scores'!$B:$B,0))),0,INDEX('Robot Game Scores'!F:F,MATCH(TournamentData[[#This Row],[Team Number]], 'Robot Game Scores'!$B:$B,0))))","v":""},{"$f":"IF(TournamentData[[#This Row],[Team Number]]=\"\",\"\",IF(ISNA(INDEX('Robot Game Scores'!G:G,MATCH(TournamentData[[#This Row],[Team Number]], 'Robot Game Scores'!$B:$B,0))),0,INDEX('Robot Game Scores'!G:G,MATCH(TournamentData[[#This Row],[Team Number]], 'Robot Game Scores'!$B:$B,0))))","v":""},{"$f":"IF(TournamentData[[#This Row],[Team Number]]=\"\",\"\",IF(ISNA(INDEX('Robot Game Scores'!H:H,MATCH(TournamentData[[#This Row],[Team Number]], 'Robot Game Scores'!$B:$B,0))),0,INDEX('Robot Game Scores'!H:H,MATCH(TournamentData[[#This Row],[Team Number]], 'Robot Game Scores'!$B:$B,0))))","v":""},{"$f":"IF(TournamentData[[#This Row],[Team Number]]=\"\",\"\",IF(ISNA(LARGE(TournamentData[[#This Row],[Robot Game Score 1]:[Robot Game Score 5]],1)+0.0001*LARGE(TournamentData[[#This Row],[Robot Game Score 1]:[Robot Game Score 5]],2)+0.0000001*LARGE(TournamentData[[#This Row],[Robot Game Score 1]:[Robot Game Score 5]],3)+0.00000000001*LARGE(TournamentData[[#This Row],[Robot Game Score 1]:[Robot Game Score 5]],4)+0.00000000000001*LARGE(TournamentData[[#This Row],[Robot Game Score 1]:[Robot Game Score 5]],5)),0,LARGE(TournamentData[[#This Row],[Robot Game Score 1]:[Robot Game Score 5]],1)+0.0001*LARGE(TournamentData[[#This Row],[Robot Game Score 1]:[Robot Game Score 5]],2)+0.0000001*LARGE(TournamentData[[#This Row],[Robot Game Score 1]:[Robot Game Score 5]],3)+0.00000000001*LARGE(TournamentData[[#This Row],[Robot Game Score 1]:[Robot Game Score 5]],4)+0.00000000000001*LARGE(TournamentData[[#This Row],[Robot Game Score 1]:[Robot Game Score 5]],5)))","v":""},{"$f":"IF(TournamentData[[#This Row],[Team Number]]=\"\",\"\",_xlfn.RANK.EQ(TournamentData[[#This Row],[Max Robot Game Score]],TournamentData[Max Robot Game Score]))","v":""},{"$f":"IF(TournamentData[[#This Row],[Team Number]]=\"\",\"\",IF(ISNA(INDEX(CoreValuesResults[Core Values Rank],MATCH(TournamentData[[#This Row],[Team Number]],CoreValuesResults[Team Number],0))),NumberOfTeams+1,INDEX(CoreValuesResults[Core Values Rank],MATCH(TournamentData[[#This Row],[Team Number]],CoreValuesResults[Team Number],0))))","v":""},{"$f":"IF(TournamentData[[#This Row],[Team Number]]=\"\",\"\",IF(ISNA(INDEX(InnovationProjectResults[Innovation Project Rank],MATCH(TournamentData[[#This Row],[Team Number]],InnovationProjectResults[Team Number],0))),NumberOfTeams+1,INDEX(InnovationProjectResults[Innovation Project Rank],MATCH(TournamentData[[#This Row],[Team Number]],InnovationProjectResults[Team Number],0))))","v":""},{"$f":"IF(TournamentData[[#This Row],[Team Number]]=\"\",\"\",IF(ISNA(INDEX(RobotDesignResults[Robot Design Rank],MATCH(TournamentData[[#This Row],[Team Number]],RobotDesignResults[Team Number],0))),NumberOfTeams+1,INDEX(RobotDesignResults[Robot Design Rank],MATCH(TournamentData[[#This Row],[Team Number]],RobotDesignResults[Team Number],0))))","v":""},{"$f":" IF(TournamentData[[#This Row],[Team Number]]=\"\",\"\",IF(TournamentData[[#This Row],[Core Values Rank]]=\"\",NumberOfTeams+1,TournamentData[[#This Row],[Core Values Rank]]) + IF(TournamentData[[#This Row],[Innovation Project Rank]]=\"\",NumberOfTeams+1,TournamentData[[#This Row],[Innovation Project Rank]]) + IF(TournamentData[[#This Row],[Robot Design Rank]]=\"\",NumberOfTeams+1,TournamentData[[#This Row],[Robot Design Rank]]) + TournamentData[[#This Row],[Robot Game Rank]])","v":""},{"$f":"IF(TournamentData[[#This Row],[Team Number]]=\"\",\"\",IF(M76,RANK(M76,M$3:M$110,1)-COUNTIF(M$3:M$110,0),NumberOfTeams+1))","v":""},{"$f":"IF(ISNA(INDEX(CoreValuesResults[Breakthrough Selection],MATCH(TournamentData[[#This Row],[Team Number]],CoreValuesResults[Team Number],0))),0, INDEX(CoreValuesResults[Breakthrough Selection],MATCH(TournamentData[[#This Row],[Team Number]],CoreValuesResults[Team Number],0)))","v":0},{"$f":"IF(ISNA(INDEX(CoreValuesResults[Rising All-Star Selection],MATCH(TournamentData[[#This Row],[Team Number]],CoreValuesResults[Team Number],0))),0, INDEX(CoreValuesResults[Rising All-Star Selection],MATCH(TournamentData[[#This Row],[Team Number]],CoreValuesResults[Team Number],0)))","v":0},{"$f":"IF(ISNA(INDEX(CoreValuesResults[Motivate Selection],MATCH(TournamentData[[#This Row],[Team Number]],CoreValuesResults[Team Number],0))),0, INDEX(CoreValuesResults[Motivate Selection],MATCH(TournamentData[[#This Row],[Team Number]],CoreValuesResults[Team Number],0)))","v":0},null,null,null,{"$f":"IF(ISNA(INDEX(CoreValuesResults[Core Values Score],MATCH(TournamentData[[#This Row],[Team Number]],CoreValuesResults[Team Number],0))),0,INDEX(CoreValuesResults[Core Values Score],MATCH(TournamentData[[#This Row],[Team Number]],CoreValuesResults[Team Number],0)))","v":0},{"$f":"IF(ISNA(INDEX(InnovationProjectResults[Innovation Project Score],MATCH(TournamentData[[#This Row],[Team Number]],InnovationProjectResults[Team Number],0))),0,INDEX(InnovationProjectResults[Innovation Project Score],MATCH(TournamentData[[#This Row],[Team Number]],InnovationProjectResults[Team Number],0)))","v":0},{"$f":"IF(ISNA(INDEX(RobotDesignResults[Robot Design Score],MATCH(TournamentData[[#This Row],[Team Number]],RobotDesignResults[Team Number],0))),0,INDEX(RobotDesignResults[Robot Design Score],MATCH(TournamentData[[#This Row],[Team Number]],RobotDesignResults[Team Number],0)))","v":0},{"$f":"IF(ISERR(GEOMEAN(TournamentData[[#This Row],[Max Robot Game Score]],TournamentData[[#This Row],[Core Values Score]],TournamentData[[#This Row],[Innovattion Project Score]],TournamentData[[#This Row],[Robot Design Score]])),0,GEOMEAN(TournamentData[[#This Row],[Max Robot Game Score]],TournamentData[[#This Row],[Core Values Score]],TournamentData[[#This Row],[Innovattion Project Score]],TournamentData[[#This Row],[Robot Design Score]]))","v":0},0]
[null,{"$f":"IF(ISNA(INDEX(OfficialTeamList[Team Name],MATCH(TournamentData[[#This Row],[Team Number]], OfficialTeamList[Team Number],0))),\"\",INDEX(OfficialTeamList[Team Name],MATCH(TournamentData[[#This Row],[Team Number]], OfficialTeamList[Team Number],0)))","v":""},{"$f":"IF(TournamentData[[#This Row],[Team Number]]=\"\",\"\",IF(ISNA(INDEX('Robot Game Scores'!D:D,MATCH(TournamentData[[#This Row],[Team Number]], 'Robot Game Scores'!$B:$B,0))),0,INDEX('Robot Game Scores'!D:D,MATCH(TournamentData[[#This Row],[Team Number]], 'Robot Game Scores'!$B:$B,0))))","v":""},{"$f":"IF(TournamentData[[#This Row],[Team Number]]=\"\",\"\",IF(ISNA(INDEX('Robot Game Scores'!E:E,MATCH(TournamentData[[#This Row],[Team Number]], 'Robot Game Scores'!$B:$B,0))),0,INDEX('Robot Game Scores'!E:E,MATCH(TournamentData[[#This Row],[Team Number]], 'Robot Game Scores'!$B:$B,0))))","v":""},{"$f":"IF(TournamentData[[#This Row],[Team Number]]=\"\",\"\",IF(ISNA(INDEX('Robot Game Scores'!F:F,MATCH(TournamentData[[#This Row],[Team Number]], 'Robot Game Scores'!$B:$B,0))),0,INDEX('Robot Game Scores'!F:F,MATCH(TournamentData[[#This Row],[Team Number]], 'Robot Game Scores'!$B:$B,0))))","v":""},{"$f":"IF(TournamentData[[#This Row],[Team Number]]=\"\",\"\",IF(ISNA(INDEX('Robot Game Scores'!G:G,MATCH(TournamentData[[#This Row],[Team Number]], 'Robot Game Scores'!$B:$B,0))),0,INDEX('Robot Game Scores'!G:G,MATCH(TournamentData[[#This Row],[Team Number]], 'Robot Game Scores'!$B:$B,0))))","v":""},{"$f":"IF(TournamentData[[#This Row],[Team Number]]=\"\",\"\",IF(ISNA(INDEX('Robot Game Scores'!H:H,MATCH(TournamentData[[#This Row],[Team Number]], 'Robot Game Scores'!$B:$B,0))),0,INDEX('Robot Game Scores'!H:H,MATCH(TournamentData[[#This Row],[Team Number]], 'Robot Game Scores'!$B:$B,0))))","v":""},{"$f":"IF(TournamentData[[#This Row],[Team Number]]=\"\",\"\",IF(ISNA(LARGE(TournamentData[[#This Row],[Robot Game Score 1]:[Robot Game Score 5]],1)+0.0001*LARGE(TournamentData[[#This Row],[Robot Game Score 1]:[Robot Game Score 5]],2)+0.0000001*LARGE(TournamentData[[#This Row],[Robot Game Score 1]:[Robot Game Score 5]],3)+0.00000000001*LARGE(TournamentData[[#This Row],[Robot Game Score 1]:[Robot Game Score 5]],4)+0.00000000000001*LARGE(TournamentData[[#This Row],[Robot Game Score 1]:[Robot Game Score 5]],5)),0,LARGE(TournamentData[[#This Row],[Robot Game Score 1]:[Robot Game Score 5]],1)+0.0001*LARGE(TournamentData[[#This Row],[Robot Game Score 1]:[Robot Game Score 5]],2)+0.0000001*LARGE(TournamentData[[#This Row],[Robot Game Score 1]:[Robot Game Score 5]],3)+0.00000000001*LARGE(TournamentData[[#This Row],[Robot Game Score 1]:[Robot Game Score 5]],4)+0.00000000000001*LARGE(TournamentData[[#This Row],[Robot Game Score 1]:[Robot Game Score 5]],5)))","v":""},{"$f":"IF(TournamentData[[#This Row],[Team Number]]=\"\",\"\",_xlfn.RANK.EQ(TournamentData[[#This Row],[Max Robot Game Score]],TournamentData[Max Robot Game Score]))","v":""},{"$f":"IF(TournamentData[[#This Row],[Team Number]]=\"\",\"\",IF(ISNA(INDEX(CoreValuesResults[Core Values Rank],MATCH(TournamentData[[#This Row],[Team Number]],CoreValuesResults[Team Number],0))),NumberOfTeams+1,INDEX(CoreValuesResults[Core Values Rank],MATCH(TournamentData[[#This Row],[Team Number]],CoreValuesResults[Team Number],0))))","v":""},{"$f":"IF(TournamentData[[#This Row],[Team Number]]=\"\",\"\",IF(ISNA(INDEX(InnovationProjectResults[Innovation Project Rank],MATCH(TournamentData[[#This Row],[Team Number]],InnovationProjectResults[Team Number],0))),NumberOfTeams+1,INDEX(InnovationProjectResults[Innovation Project Rank],MATCH(TournamentData[[#This Row],[Team Number]],InnovationProjectResults[Team Number],0))))","v":""},{"$f":"IF(TournamentData[[#This Row],[Team Number]]=\"\",\"\",IF(ISNA(INDEX(RobotDesignResults[Robot Design Rank],MATCH(TournamentData[[#This Row],[Team Number]],RobotDesignResults[Team Number],0))),NumberOfTeams+1,INDEX(RobotDesignResults[Robot Design Rank],MATCH(TournamentData[[#This Row],[Team Number]],RobotDesignResults[Team Number],0))))","v":""},{"$f":" IF(TournamentData[[#This Row],[Team Number]]=\"\",\"\",IF(TournamentData[[#This Row],[Core Values Rank]]=\"\",NumberOfTeams+1,TournamentData[[#This Row],[Core Values Rank]]) + IF(TournamentData[[#This Row],[Innovation Project Rank]]=\"\",NumberOfTeams+1,TournamentData[[#This Row],[Innovation Project Rank]]) + IF(TournamentData[[#This Row],[Robot Design Rank]]=\"\",NumberOfTeams+1,TournamentData[[#This Row],[Robot Design Rank]]) + TournamentData[[#This Row],[Robot Game Rank]])","v":""},{"$f":"IF(TournamentData[[#This Row],[Team Number]]=\"\",\"\",IF(M77,RANK(M77,M$3:M$110,1)-COUNTIF(M$3:M$110,0),NumberOfTeams+1))","v":""},{"$f":"IF(ISNA(INDEX(CoreValuesResults[Breakthrough Selection],MATCH(TournamentData[[#This Row],[Team Number]],CoreValuesResults[Team Number],0))),0, INDEX(CoreValuesResults[Breakthrough Selection],MATCH(TournamentData[[#This Row],[Team Number]],CoreValuesResults[Team Number],0)))","v":0},{"$f":"IF(ISNA(INDEX(CoreValuesResults[Rising All-Star Selection],MATCH(TournamentData[[#This Row],[Team Number]],CoreValuesResults[Team Number],0))),0, INDEX(CoreValuesResults[Rising All-Star Selection],MATCH(TournamentData[[#This Row],[Team Number]],CoreValuesResults[Team Number],0)))","v":0},{"$f":"IF(ISNA(INDEX(CoreValuesResults[Motivate Selection],MATCH(TournamentData[[#This Row],[Team Number]],CoreValuesResults[Team Number],0))),0, INDEX(CoreValuesResults[Motivate Selection],MATCH(TournamentData[[#This Row],[Team Number]],CoreValuesResults[Team Number],0)))","v":0},null,null,null,{"$f":"IF(ISNA(INDEX(CoreValuesResults[Core Values Score],MATCH(TournamentData[[#This Row],[Team Number]],CoreValuesResults[Team Number],0))),0,INDEX(CoreValuesResults[Core Values Score],MATCH(TournamentData[[#This Row],[Team Number]],CoreValuesResults[Team Number],0)))","v":0},{"$f":"IF(ISNA(INDEX(InnovationProjectResults[Innovation Project Score],MATCH(TournamentData[[#This Row],[Team Number]],InnovationProjectResults[Team Number],0))),0,INDEX(InnovationProjectResults[Innovation Project Score],MATCH(TournamentData[[#This Row],[Team Number]],InnovationProjectResults[Team Number],0)))","v":0},{"$f":"IF(ISNA(INDEX(RobotDesignResults[Robot Design Score],MATCH(TournamentData[[#This Row],[Team Number]],RobotDesignResults[Team Number],0))),0,INDEX(RobotDesignResults[Robot Design Score],MATCH(TournamentData[[#This Row],[Team Number]],RobotDesignResults[Team Number],0)))","v":0},{"$f":"IF(ISERR(GEOMEAN(TournamentData[[#This Row],[Max Robot Game Score]],TournamentData[[#This Row],[Core Values Score]],TournamentData[[#This Row],[Innovattion Project Score]],TournamentData[[#This Row],[Robot Design Score]])),0,GEOMEAN(TournamentData[[#This Row],[Max Robot Game Score]],TournamentData[[#This Row],[Core Values Score]],TournamentData[[#This Row],[Innovattion Project Score]],TournamentData[[#This Row],[Robot Design Score]]))","v":0},0]
[null,{"$f":"IF(ISNA(INDEX(OfficialTeamList[Team Name],MATCH(TournamentData[[#This Row],[Team Number]], OfficialTeamList[Team Number],0))),\"\",INDEX(OfficialTeamList[Team Name],MATCH(TournamentData[[#This Row],[Team Number]], OfficialTeamList[Team Number],0)))","v":""},{"$f":"IF(TournamentData[[#This Row],[Team Number]]=\"\",\"\",IF(ISNA(INDEX('Robot Game Scores'!D:D,MATCH(TournamentData[[#This Row],[Team Number]], 'Robot Game Scores'!$B:$B,0))),0,INDEX('Robot Game Scores'!D:D,MATCH(TournamentData[[#This Row],[Team Number]], 'Robot Game Scores'!$B:$B,0))))","v":""},{"$f":"IF(TournamentData[[#This Row],[Team Number]]=\"\",\"\",IF(ISNA(INDEX('Robot Game Scores'!E:E,MATCH(TournamentData[[#This Row],[Team Number]], 'Robot Game Scores'!$B:$B,0))),0,INDEX('Robot Game Scores'!E:E,MATCH(TournamentData[[#This Row],[Team Number]], 'Robot Game Scores'!$B:$B,0))))","v":""},{"$f":"IF(TournamentData[[#This Row],[Team Number]]=\"\",\"\",IF(ISNA(INDEX('Robot Game Scores'!F:F,MATCH(TournamentData[[#This Row],[Team Number]], 'Robot Game Scores'!$B:$B,0))),0,INDEX('Robot Game Scores'!F:F,MATCH(TournamentData[[#This Row],[Team Number]], 'Robot Game Scores'!$B:$B,0))))","v":""},{"$f":"IF(TournamentData[[#This Row],[Team Number]]=\"\",\"\",IF(ISNA(INDEX('Robot Game Scores'!G:G,MATCH(TournamentData[[#This Row],[Team Number]], 'Robot Game Scores'!$B:$B,0))),0,INDEX('Robot Game Scores'!G:G,MATCH(TournamentData[[#This Row],[Team Number]], 'Robot Game Scores'!$B:$B,0))))","v":""},{"$f":"IF(TournamentData[[#This Row],[Team Number]]=\"\",\"\",IF(ISNA(INDEX('Robot Game Scores'!H:H,MATCH(TournamentData[[#This Row],[Team Number]], 'Robot Game Scores'!$B:$B,0))),0,INDEX('Robot Game Scores'!H:H,MATCH(TournamentData[[#This Row],[Team Number]], 'Robot Game Scores'!$B:$B,0))))","v":""},{"$f":"IF(TournamentData[[#This Row],[Team Number]]=\"\",\"\",IF(ISNA(LARGE(TournamentData[[#This Row],[Robot Game Score 1]:[Robot Game Score 5]],1)+0.0001*LARGE(TournamentData[[#This Row],[Robot Game Score 1]:[Robot Game Score 5]],2)+0.0000001*LARGE(TournamentData[[#This Row],[Robot Game Score 1]:[Robot Game Score 5]],3)+0.00000000001*LARGE(TournamentData[[#This Row],[Robot Game Score 1]:[Robot Game Score 5]],4)+0.00000000000001*LARGE(TournamentData[[#This Row],[Robot Game Score 1]:[Robot Game Score 5]],5)),0,LARGE(TournamentData[[#This Row],[Robot Game Score 1]:[Robot Game Score 5]],1)+0.0001*LARGE(TournamentData[[#This Row],[Robot Game Score 1]:[Robot Game Score 5]],2)+0.0000001*LARGE(TournamentData[[#This Row],[Robot Game Score 1]:[Robot Game Score 5]],3)+0.00000000001*LARGE(TournamentData[[#This Row],[Robot Game Score 1]:[Robot Game Score 5]],4)+0.00000000000001*LARGE(TournamentData[[#This Row],[Robot Game Score 1]:[Robot Game Score 5]],5)))","v":""},{"$f":"IF(TournamentData[[#This Row],[Team Number]]=\"\",\"\",_xlfn.RANK.EQ(TournamentData[[#This Row],[Max Robot Game Score]],TournamentData[Max Robot Game Score]))","v":""},{"$f":"IF(TournamentData[[#This Row],[Team Number]]=\"\",\"\",IF(ISNA(INDEX(CoreValuesResults[Core Values Rank],MATCH(TournamentData[[#This Row],[Team Number]],CoreValuesResults[Team Number],0))),NumberOfTeams+1,INDEX(CoreValuesResults[Core Values Rank],MATCH(TournamentData[[#This Row],[Team Number]],CoreValuesResults[Team Number],0))))","v":""},{"$f":"IF(TournamentData[[#This Row],[Team Number]]=\"\",\"\",IF(ISNA(INDEX(InnovationProjectResults[Innovation Project Rank],MATCH(TournamentData[[#This Row],[Team Number]],InnovationProjectResults[Team Number],0))),NumberOfTeams+1,INDEX(InnovationProjectResults[Innovation Project Rank],MATCH(TournamentData[[#This Row],[Team Number]],InnovationProjectResults[Team Number],0))))","v":""},{"$f":"IF(TournamentData[[#This Row],[Team Number]]=\"\",\"\",IF(ISNA(INDEX(RobotDesignResults[Robot Design Rank],MATCH(TournamentData[[#This Row],[Team Number]],RobotDesignResults[Team Number],0))),NumberOfTeams+1,INDEX(RobotDesignResults[Robot Design Rank],MATCH(TournamentData[[#This Row],[Team Number]],RobotDesignResults[Team Number],0))))","v":""},{"$f":" IF(TournamentData[[#This Row],[Team Number]]=\"\",\"\",IF(TournamentData[[#This Row],[Core Values Rank]]=\"\",NumberOfTeams+1,TournamentData[[#This Row],[Core Values Rank]]) + IF(TournamentData[[#This Row],[Innovation Project Rank]]=\"\",NumberOfTeams+1,TournamentData[[#This Row],[Innovation Project Rank]]) + IF(TournamentData[[#This Row],[Robot Design Rank]]=\"\",NumberOfTeams+1,TournamentData[[#This Row],[Robot Design Rank]]) + TournamentData[[#This Row],[Robot Game Rank]])","v":""},{"$f":"IF(TournamentData[[#This Row],[Team Number]]=\"\",\"\",IF(M78,RANK(M78,M$3:M$110,1)-COUNTIF(M$3:M$110,0),NumberOfTeams+1))","v":""},{"$f":"IF(ISNA(INDEX(CoreValuesResults[Breakthrough Selection],MATCH(TournamentData[[#This Row],[Team Number]],CoreValuesResults[Team Number],0))),0, INDEX(CoreValuesResults[Breakthrough Selection],MATCH(TournamentData[[#This Row],[Team Number]],CoreValuesResults[Team Number],0)))","v":0},{"$f":"IF(ISNA(INDEX(CoreValuesResults[Rising All-Star Selection],MATCH(TournamentData[[#This Row],[Team Number]],CoreValuesResults[Team Number],0))),0, INDEX(CoreValuesResults[Rising All-Star Selection],MATCH(TournamentData[[#This Row],[Team Number]],CoreValuesResults[Team Number],0)))","v":0},{"$f":"IF(ISNA(INDEX(CoreValuesResults[Motivate Selection],MATCH(TournamentData[[#This Row],[Team Number]],CoreValuesResults[Team Number],0))),0, INDEX(CoreValuesResults[Motivate Selection],MATCH(TournamentData[[#This Row],[Team Number]],CoreValuesResults[Team Number],0)))","v":0},null,null,null,{"$f":"IF(ISNA(INDEX(CoreValuesResults[Core Values Score],MATCH(TournamentData[[#This Row],[Team Number]],CoreValuesResults[Team Number],0))),0,INDEX(CoreValuesResults[Core Values Score],MATCH(TournamentData[[#This Row],[Team Number]],CoreValuesResults[Team Number],0)))","v":0},{"$f":"IF(ISNA(INDEX(InnovationProjectResults[Innovation Project Score],MATCH(TournamentData[[#This Row],[Team Number]],InnovationProjectResults[Team Number],0))),0,INDEX(InnovationProjectResults[Innovation Project Score],MATCH(TournamentData[[#This Row],[Team Number]],InnovationProjectResults[Team Number],0)))","v":0},{"$f":"IF(ISNA(INDEX(RobotDesignResults[Robot Design Score],MATCH(TournamentData[[#This Row],[Team Number]],RobotDesignResults[Team Number],0))),0,INDEX(RobotDesignResults[Robot Design Score],MATCH(TournamentData[[#This Row],[Team Number]],RobotDesignResults[Team Number],0)))","v":0},{"$f":"IF(ISERR(GEOMEAN(TournamentData[[#This Row],[Max Robot Game Score]],TournamentData[[#This Row],[Core Values Score]],TournamentData[[#This Row],[Innovattion Project Score]],TournamentData[[#This Row],[Robot Design Score]])),0,GEOMEAN(TournamentData[[#This Row],[Max Robot Game Score]],TournamentData[[#This Row],[Core Values Score]],TournamentData[[#This Row],[Innovattion Project Score]],TournamentData[[#This Row],[Robot Design Score]]))","v":0},0]
[null,{"$f":"IF(ISNA(INDEX(OfficialTeamList[Team Name],MATCH(TournamentData[[#This Row],[Team Number]], OfficialTeamList[Team Number],0))),\"\",INDEX(OfficialTeamList[Team Name],MATCH(TournamentData[[#This Row],[Team Number]], OfficialTeamList[Team Number],0)))","v":""},{"$f":"IF(TournamentData[[#This Row],[Team Number]]=\"\",\"\",IF(ISNA(INDEX('Robot Game Scores'!D:D,MATCH(TournamentData[[#This Row],[Team Number]], 'Robot Game Scores'!$B:$B,0))),0,INDEX('Robot Game Scores'!D:D,MATCH(TournamentData[[#This Row],[Team Number]], 'Robot Game Scores'!$B:$B,0))))","v":""},{"$f":"IF(TournamentData[[#This Row],[Team Number]]=\"\",\"\",IF(ISNA(INDEX('Robot Game Scores'!E:E,MATCH(TournamentData[[#This Row],[Team Number]], 'Robot Game Scores'!$B:$B,0))),0,INDEX('Robot Game Scores'!E:E,MATCH(TournamentData[[#This Row],[Team Number]], 'Robot Game Scores'!$B:$B,0))))","v":""},{"$f":"IF(TournamentData[[#This Row],[Team Number]]=\"\",\"\",IF(ISNA(INDEX('Robot Game Scores'!F:F,MATCH(TournamentData[[#This Row],[Team Number]], 'Robot Game Scores'!$B:$B,0))),0,INDEX('Robot Game Scores'!F:F,MATCH(TournamentData[[#This Row],[Team Number]], 'Robot Game Scores'!$B:$B,0))))","v":""},{"$f":"IF(TournamentData[[#This Row],[Team Number]]=\"\",\"\",IF(ISNA(INDEX('Robot Game Scores'!G:G,MATCH(TournamentData[[#This Row],[Team Number]], 'Robot Game Scores'!$B:$B,0))),0,INDEX('Robot Game Scores'!G:G,MATCH(TournamentData[[#This Row],[Team Number]], 'Robot Game Scores'!$B:$B,0))))","v":""},{"$f":"IF(TournamentData[[#This Row],[Team Number]]=\"\",\"\",IF(ISNA(INDEX('Robot Game Scores'!H:H,MATCH(TournamentData[[#This Row],[Team Number]], 'Robot Game Scores'!$B:$B,0))),0,INDEX('Robot Game Scores'!H:H,MATCH(TournamentData[[#This Row],[Team Number]], 'Robot Game Scores'!$B:$B,0))))","v":""},{"$f":"IF(TournamentData[[#This Row],[Team Number]]=\"\",\"\",IF(ISNA(LARGE(TournamentData[[#This Row],[Robot Game Score 1]:[Robot Game Score 5]],1)+0.0001*LARGE(TournamentData[[#This Row],[Robot Game Score 1]:[Robot Game Score 5]],2)+0.0000001*LARGE(TournamentData[[#This Row],[Robot Game Score 1]:[Robot Game Score 5]],3)+0.00000000001*LARGE(TournamentData[[#This Row],[Robot Game Score 1]:[Robot Game Score 5]],4)+0.00000000000001*LARGE(TournamentData[[#This Row],[Robot Game Score 1]:[Robot Game Score 5]],5)),0,LARGE(TournamentData[[#This Row],[Robot Game Score 1]:[Robot Game Score 5]],1)+0.0001*LARGE(TournamentData[[#This Row],[Robot Game Score 1]:[Robot Game Score 5]],2)+0.0000001*LARGE(TournamentData[[#This Row],[Robot Game Score 1]:[Robot Game Score 5]],3)+0.00000000001*LARGE(TournamentData[[#This Row],[Robot Game Score 1]:[Robot Game Score 5]],4)+0.00000000000001*LARGE(TournamentData[[#This Row],[Robot Game Score 1]:[Robot Game Score 5]],5)))","v":""},{"$f":"IF(TournamentData[[#This Row],[Team Number]]=\"\",\"\",_xlfn.RANK.EQ(TournamentData[[#This Row],[Max Robot Game Score]],TournamentData[Max Robot Game Score]))","v":""},{"$f":"IF(TournamentData[[#This Row],[Team Number]]=\"\",\"\",IF(ISNA(INDEX(CoreValuesResults[Core Values Rank],MATCH(TournamentData[[#This Row],[Team Number]],CoreValuesResults[Team Number],0))),NumberOfTeams+1,INDEX(CoreValuesResults[Core Values Rank],MATCH(TournamentData[[#This Row],[Team Number]],CoreValuesResults[Team Number],0))))","v":""},{"$f":"IF(TournamentData[[#This Row],[Team Number]]=\"\",\"\",IF(ISNA(INDEX(InnovationProjectResults[Innovation Project Rank],MATCH(TournamentData[[#This Row],[Team Number]],InnovationProjectResults[Team Number],0))),NumberOfTeams+1,INDEX(InnovationProjectResults[Innovation Project Rank],MATCH(TournamentData[[#This Row],[Team Number]],InnovationProjectResults[Team Number],0))))","v":""},{"$f":"IF(TournamentData[[#This Row],[Team Number]]=\"\",\"\",IF(ISNA(INDEX(RobotDesignResults[Robot Design Rank],MATCH(TournamentData[[#This Row],[Team Number]],RobotDesignResults[Team Number],0))),NumberOfTeams+1,INDEX(RobotDesignResults[Robot Design Rank],MATCH(TournamentData[[#This Row],[Team Number]],RobotDesignResults[Team Number],0))))","v":""},{"$f":" IF(TournamentData[[#This Row],[Team Number]]=\"\",\"\",IF(TournamentData[[#This Row],[Core Values Rank]]=\"\",NumberOfTeams+1,TournamentData[[#This Row],[Core Values Rank]]) + IF(TournamentData[[#This Row],[Innovation Project Rank]]=\"\",NumberOfTeams+1,TournamentData[[#This Row],[Innovation Project Rank]]) + IF(TournamentData[[#This Row],[Robot Design Rank]]=\"\",NumberOfTeams+1,TournamentData[[#This Row],[Robot Design Rank]]) + TournamentData[[#This Row],[Robot Game Rank]])","v":""},{"$f":"IF(TournamentData[[#This Row],[Team Number]]=\"\",\"\",IF(M79,RANK(M79,M$3:M$110,1)-COUNTIF(M$3:M$110,0),NumberOfTeams+1))","v":""},{"$f":"IF(ISNA(INDEX(CoreValuesResults[Breakthrough Selection],MATCH(TournamentData[[#This Row],[Team Number]],CoreValuesResults[Team Number],0))),0, INDEX(CoreValuesResults[Breakthrough Selection],MATCH(TournamentData[[#This Row],[Team Number]],CoreValuesResults[Team Number],0)))","v":0},{"$f":"IF(ISNA(INDEX(CoreValuesResults[Rising All-Star Selection],MATCH(TournamentData[[#This Row],[Team Number]],CoreValuesResults[Team Number],0))),0, INDEX(CoreValuesResults[Rising All-Star Selection],MATCH(TournamentData[[#This Row],[Team Number]],CoreValuesResults[Team Number],0)))","v":0},{"$f":"IF(ISNA(INDEX(CoreValuesResults[Motivate Selection],MATCH(TournamentData[[#This Row],[Team Number]],CoreValuesResults[Team Number],0))),0, INDEX(CoreValuesResults[Motivate Selection],MATCH(TournamentData[[#This Row],[Team Number]],CoreValuesResults[Team Number],0)))","v":0},null,null,null,{"$f":"IF(ISNA(INDEX(CoreValuesResults[Core Values Score],MATCH(TournamentData[[#This Row],[Team Number]],CoreValuesResults[Team Number],0))),0,INDEX(CoreValuesResults[Core Values Score],MATCH(TournamentData[[#This Row],[Team Number]],CoreValuesResults[Team Number],0)))","v":0},{"$f":"IF(ISNA(INDEX(InnovationProjectResults[Innovation Project Score],MATCH(TournamentData[[#This Row],[Team Number]],InnovationProjectResults[Team Number],0))),0,INDEX(InnovationProjectResults[Innovation Project Score],MATCH(TournamentData[[#This Row],[Team Number]],InnovationProjectResults[Team Number],0)))","v":0},{"$f":"IF(ISNA(INDEX(RobotDesignResults[Robot Design Score],MATCH(TournamentData[[#This Row],[Team Number]],RobotDesignResults[Team Number],0))),0,INDEX(RobotDesignResults[Robot Design Score],MATCH(TournamentData[[#This Row],[Team Number]],RobotDesignResults[Team Number],0)))","v":0},{"$f":"IF(ISERR(GEOMEAN(TournamentData[[#This Row],[Max Robot Game Score]],TournamentData[[#This Row],[Core Values Score]],TournamentData[[#This Row],[Innovattion Project Score]],TournamentData[[#This Row],[Robot Design Score]])),0,GEOMEAN(TournamentData[[#This Row],[Max Robot Game Score]],TournamentData[[#This Row],[Core Values Score]],TournamentData[[#This Row],[Innovattion Project Score]],TournamentData[[#This Row],[Robot Design Score]]))","v":0},0]
[null,{"$f":"IF(ISNA(INDEX(OfficialTeamList[Team Name],MATCH(TournamentData[[#This Row],[Team Number]], OfficialTeamList[Team Number],0))),\"\",INDEX(OfficialTeamList[Team Name],MATCH(TournamentData[[#This Row],[Team Number]], OfficialTeamList[Team Number],0)))","v":""},{"$f":"IF(TournamentData[[#This Row],[Team Number]]=\"\",\"\",IF(ISNA(INDEX('Robot Game Scores'!D:D,MATCH(TournamentData[[#This Row],[Team Number]], 'Robot Game Scores'!$B:$B,0))),0,INDEX('Robot Game Scores'!D:D,MATCH(TournamentData[[#This Row],[Team Number]], 'Robot Game Scores'!$B:$B,0))))","v":""},{"$f":"IF(TournamentData[[#This Row],[Team Number]]=\"\",\"\",IF(ISNA(INDEX('Robot Game Scores'!E:E,MATCH(TournamentData[[#This Row],[Team Number]], 'Robot Game Scores'!$B:$B,0))),0,INDEX('Robot Game Scores'!E:E,MATCH(TournamentData[[#This Row],[Team Number]], 'Robot Game Scores'!$B:$B,0))))","v":""},{"$f":"IF(TournamentData[[#This Row],[Team Number]]=\"\",\"\",IF(ISNA(INDEX('Robot Game Scores'!F:F,MATCH(TournamentData[[#This Row],[Team Number]], 'Robot Game Scores'!$B:$B,0))),0,INDEX('Robot Game Scores'!F:F,MATCH(TournamentData[[#This Row],[Team Number]], 'Robot Game Scores'!$B:$B,0))))","v":""},{"$f":"IF(TournamentData[[#This Row],[Team Number]]=\"\",\"\",IF(ISNA(INDEX('Robot Game Scores'!G:G,MATCH(TournamentData[[#This Row],[Team Number]], 'Robot Game Scores'!$B:$B,0))),0,INDEX('Robot Game Scores'!G:G,MATCH(TournamentData[[#This Row],[Team Number]], 'Robot Game Scores'!$B:$B,0))))","v":""},{"$f":"IF(TournamentData[[#This Row],[Team Number]]=\"\",\"\",IF(ISNA(INDEX('Robot Game Scores'!H:H,MATCH(TournamentData[[#This Row],[Team Number]], 'Robot Game Scores'!$B:$B,0))),0,INDEX('Robot Game Scores'!H:H,MATCH(TournamentData[[#This Row],[Team Number]], 'Robot Game Scores'!$B:$B,0))))","v":""},{"$f":"IF(TournamentData[[#This Row],[Team Number]]=\"\",\"\",IF(ISNA(LARGE(TournamentData[[#This Row],[Robot Game Score 1]:[Robot Game Score 5]],1)+0.0001*LARGE(TournamentData[[#This Row],[Robot Game Score 1]:[Robot Game Score 5]],2)+0.0000001*LARGE(TournamentData[[#This Row],[Robot Game Score 1]:[Robot Game Score 5]],3)+0.00000000001*LARGE(TournamentData[[#This Row],[Robot Game Score 1]:[Robot Game Score 5]],4)+0.00000000000001*LARGE(TournamentData[[#This Row],[Robot Game Score 1]:[Robot Game Score 5]],5)),0,LARGE(TournamentData[[#This Row],[Robot Game Score 1]:[Robot Game Score 5]],1)+0.0001*LARGE(TournamentData[[#This Row],[Robot Game Score 1]:[Robot Game Score 5]],2)+0.0000001*LARGE(TournamentData[[#This Row],[Robot Game Score 1]:[Robot Game Score 5]],3)+0.00000000001*LARGE(TournamentData[[#This Row],[Robot Game Score 1]:[Robot Game Score 5]],4)+0.00000000000001*LARGE(TournamentData[[#This Row],[Robot Game Score 1]:[Robot Game Score 5]],5)))","v":""},{"$f":"IF(TournamentData[[#This Row],[Team Number]]=\"\",\"\",_xlfn.RANK.EQ(TournamentData[[#This Row],[Max Robot Game Score]],TournamentData[Max Robot Game Score]))","v":""},{"$f":"IF(TournamentData[[#This Row],[Team Number]]=\"\",\"\",IF(ISNA(INDEX(CoreValuesResults[Core Values Rank],MATCH(TournamentData[[#This Row],[Team Number]],CoreValuesResults[Team Number],0))),NumberOfTeams+1,INDEX(CoreValuesResults[Core Values Rank],MATCH(TournamentData[[#This Row],[Team Number]],CoreValuesResults[Team Number],0))))","v":""},{"$f":"IF(TournamentData[[#This Row],[Team Number]]=\"\",\"\",IF(ISNA(INDEX(InnovationProjectResults[Innovation Project Rank],MATCH(TournamentData[[#This Row],[Team Number]],InnovationProjectResults[Team Number],0))),NumberOfTeams+1,INDEX(InnovationProjectResults[Innovation Project Rank],MATCH(TournamentData[[#This Row],[Team Number]],InnovationProjectResults[Team Number],0))))","v":""},{"$f":"IF(TournamentData[[#This Row],[Team Number]]=\"\",\"\",IF(ISNA(INDEX(RobotDesignResults[Robot Design Rank],MATCH(TournamentData[[#This Row],[Team Number]],RobotDesignResults[Team Number],0))),NumberOfTeams+1,INDEX(RobotDesignResults[Robot Design Rank],MATCH(TournamentData[[#This Row],[Team Number]],RobotDesignResults[Team Number],0))))","v":""},{"$f":" IF(TournamentData[[#This Row],[Team Number]]=\"\",\"\",IF(TournamentData[[#This Row],[Core Values Rank]]=\"\",NumberOfTeams+1,TournamentData[[#This Row],[Core Values Rank]]) + IF(TournamentData[[#This Row],[Innovation Project Rank]]=\"\",NumberOfTeams+1,TournamentData[[#This Row],[Innovation Project Rank]]) + IF(TournamentData[[#This Row],[Robot Design Rank]]=\"\",NumberOfTeams+1,TournamentData[[#This Row],[Robot Design Rank]]) + TournamentData[[#This Row],[Robot Game Rank]])","v":""},{"$f":"IF(TournamentData[[#This Row],[Team Number]]=\"\",\"\",IF(M80,RANK(M80,M$3:M$110,1)-COUNTIF(M$3:M$110,0),NumberOfTeams+1))","v":""},{"$f":"IF(ISNA(INDEX(CoreValuesResults[Breakthrough Selection],MATCH(TournamentData[[#This Row],[Team Number]],CoreValuesResults[Team Number],0))),0, INDEX(CoreValuesResults[Breakthrough Selection],MATCH(TournamentData[[#This Row],[Team Number]],CoreValuesResults[Team Number],0)))","v":0},{"$f":"IF(ISNA(INDEX(CoreValuesResults[Rising All-Star Selection],MATCH(TournamentData[[#This Row],[Team Number]],CoreValuesResults[Team Number],0))),0, INDEX(CoreValuesResults[Rising All-Star Selection],MATCH(TournamentData[[#This Row],[Team Number]],CoreValuesResults[Team Number],0)))","v":0},{"$f":"IF(ISNA(INDEX(CoreValuesResults[Motivate Selection],MATCH(TournamentData[[#This Row],[Team Number]],CoreValuesResults[Team Number],0))),0, INDEX(CoreValuesResults[Motivate Selection],MATCH(TournamentData[[#This Row],[Team Number]],CoreValuesResults[Team Number],0)))","v":0},null,null,null,{"$f":"IF(ISNA(INDEX(CoreValuesResults[Core Values Score],MATCH(TournamentData[[#This Row],[Team Number]],CoreValuesResults[Team Number],0))),0,INDEX(CoreValuesResults[Core Values Score],MATCH(TournamentData[[#This Row],[Team Number]],CoreValuesResults[Team Number],0)))","v":0},{"$f":"IF(ISNA(INDEX(InnovationProjectResults[Innovation Project Score],MATCH(TournamentData[[#This Row],[Team Number]],InnovationProjectResults[Team Number],0))),0,INDEX(InnovationProjectResults[Innovation Project Score],MATCH(TournamentData[[#This Row],[Team Number]],InnovationProjectResults[Team Number],0)))","v":0},{"$f":"IF(ISNA(INDEX(RobotDesignResults[Robot Design Score],MATCH(TournamentData[[#This Row],[Team Number]],RobotDesignResults[Team Number],0))),0,INDEX(RobotDesignResults[Robot Design Score],MATCH(TournamentData[[#This Row],[Team Number]],RobotDesignResults[Team Number],0)))","v":0},{"$f":"IF(ISERR(GEOMEAN(TournamentData[[#This Row],[Max Robot Game Score]],TournamentData[[#This Row],[Core Values Score]],TournamentData[[#This Row],[Innovattion Project Score]],TournamentData[[#This Row],[Robot Design Score]])),0,GEOMEAN(TournamentData[[#This Row],[Max Robot Game Score]],TournamentData[[#This Row],[Core Values Score]],TournamentData[[#This Row],[Innovattion Project Score]],TournamentData[[#This Row],[Robot Design Score]]))","v":0},0]
[null,{"$f":"IF(ISNA(INDEX(OfficialTeamList[Team Name],MATCH(TournamentData[[#This Row],[Team Number]], OfficialTeamList[Team Number],0))),\"\",INDEX(OfficialTeamList[Team Name],MATCH(TournamentData[[#This Row],[Team Number]], OfficialTeamList[Team Number],0)))","v":""},{"$f":"IF(TournamentData[[#This Row],[Team Number]]=\"\",\"\",IF(ISNA(INDEX('Robot Game Scores'!D:D,MATCH(TournamentData[[#This Row],[Team Number]], 'Robot Game Scores'!$B:$B,0))),0,INDEX('Robot Game Scores'!D:D,MATCH(TournamentData[[#This Row],[Team Number]], 'Robot Game Scores'!$B:$B,0))))","v":""},{"$f":"IF(TournamentData[[#This Row],[Team Number]]=\"\",\"\",IF(ISNA(INDEX('Robot Game Scores'!E:E,MATCH(TournamentData[[#This Row],[Team Number]], 'Robot Game Scores'!$B:$B,0))),0,INDEX('Robot Game Scores'!E:E,MATCH(TournamentData[[#This Row],[Team Number]], 'Robot Game Scores'!$B:$B,0))))","v":""},{"$f":"IF(TournamentData[[#This Row],[Team Number]]=\"\",\"\",IF(ISNA(INDEX('Robot Game Scores'!F:F,MATCH(TournamentData[[#This Row],[Team Number]], 'Robot Game Scores'!$B:$B,0))),0,INDEX('Robot Game Scores'!F:F,MATCH(TournamentData[[#This Row],[Team Number]], 'Robot Game Scores'!$B:$B,0))))","v":""},{"$f":"IF(TournamentData[[#This Row],[Team Number]]=\"\",\"\",IF(ISNA(INDEX('Robot Game Scores'!G:G,MATCH(TournamentData[[#This Row],[Team Number]], 'Robot Game Scores'!$B:$B,0))),0,INDEX('Robot Game Scores'!G:G,MATCH(TournamentData[[#This Row],[Team Number]], 'Robot Game Scores'!$B:$B,0))))","v":""},{"$f":"IF(TournamentData[[#This Row],[Team Number]]=\"\",\"\",IF(ISNA(INDEX('Robot Game Scores'!H:H,MATCH(TournamentData[[#This Row],[Team Number]], 'Robot Game Scores'!$B:$B,0))),0,INDEX('Robot Game Scores'!H:H,MATCH(TournamentData[[#This Row],[Team Number]], 'Robot Game Scores'!$B:$B,0))))","v":""},{"$f":"IF(TournamentData[[#This Row],[Team Number]]=\"\",\"\",IF(ISNA(LARGE(TournamentData[[#This Row],[Robot Game Score 1]:[Robot Game Score 5]],1)+0.0001*LARGE(TournamentData[[#This Row],[Robot Game Score 1]:[Robot Game Score 5]],2)+0.0000001*LARGE(TournamentData[[#This Row],[Robot Game Score 1]:[Robot Game Score 5]],3)+0.00000000001*LARGE(TournamentData[[#This Row],[Robot Game Score 1]:[Robot Game Score 5]],4)+0.00000000000001*LARGE(TournamentData[[#This Row],[Robot Game Score 1]:[Robot Game Score 5]],5)),0,LARGE(TournamentData[[#This Row],[Robot Game Score 1]:[Robot Game Score 5]],1)+0.0001*LARGE(TournamentData[[#This Row],[Robot Game Score 1]:[Robot Game Score 5]],2)+0.0000001*LARGE(TournamentData[[#This Row],[Robot Game Score 1]:[Robot Game Score 5]],3)+0.00000000001*LARGE(TournamentData[[#This Row],[Robot Game Score 1]:[Robot Game Score 5]],4)+0.00000000000001*LARGE(TournamentData[[#This Row],[Robot Game Score 1]:[Robot Game Score 5]],5)))","v":""},{"$f":"IF(TournamentData[[#This Row],[Team Number]]=\"\",\"\",_xlfn.RANK.EQ(TournamentData[[#This Row],[Max Robot Game Score]],TournamentData[Max Robot Game Score]))","v":""},{"$f":"IF(TournamentData[[#This Row],[Team Number]]=\"\",\"\",IF(ISNA(INDEX(CoreValuesResults[Core Values Rank],MATCH(TournamentData[[#This Row],[Team Number]],CoreValuesResults[Team Number],0))),NumberOfTeams+1,INDEX(CoreValuesResults[Core Values Rank],MATCH(TournamentData[[#This Row],[Team Number]],CoreValuesResults[Team Number],0))))","v":""},{"$f":"IF(TournamentData[[#This Row],[Team Number]]=\"\",\"\",IF(ISNA(INDEX(InnovationProjectResults[Innovation Project Rank],MATCH(TournamentData[[#This Row],[Team Number]],InnovationProjectResults[Team Number],0))),NumberOfTeams+1,INDEX(InnovationProjectResults[Innovation Project Rank],MATCH(TournamentData[[#This Row],[Team Number]],InnovationProjectResults[Team Number],0))))","v":""},{"$f":"IF(TournamentData[[#This Row],[Team Number]]=\"\",\"\",IF(ISNA(INDEX(RobotDesignResults[Robot Design Rank],MATCH(TournamentData[[#This Row],[Team Number]],RobotDesignResults[Team Number],0))),NumberOfTeams+1,INDEX(RobotDesignResults[Robot Design Rank],MATCH(TournamentData[[#This Row],[Team Number]],RobotDesignResults[Team Number],0))))","v":""},{"$f":" IF(TournamentData[[#This Row],[Team Number]]=\"\",\"\",IF(TournamentData[[#This Row],[Core Values Rank]]=\"\",NumberOfTeams+1,TournamentData[[#This Row],[Core Values Rank]]) + IF(TournamentData[[#This Row],[Innovation Project Rank]]=\"\",NumberOfTeams+1,TournamentData[[#This Row],[Innovation Project Rank]]) + IF(TournamentData[[#This Row],[Robot Design Rank]]=\"\",NumberOfTeams+1,TournamentData[[#This Row],[Robot Design Rank]]) + TournamentData[[#This Row],[Robot Game Rank]])","v":""},{"$f":"IF(TournamentData[[#This Row],[Team Number]]=\"\",\"\",IF(M81,RANK(M81,M$3:M$110,1)-COUNTIF(M$3:M$110,0),NumberOfTeams+1))","v":""},{"$f":"IF(ISNA(INDEX(CoreValuesResults[Breakthrough Selection],MATCH(TournamentData[[#This Row],[Team Number]],CoreValuesResults[Team Number],0))),0, INDEX(CoreValuesResults[Breakthrough Selection],MATCH(TournamentData[[#This Row],[Team Number]],CoreValuesResults[Team Number],0)))","v":0},{"$f":"IF(ISNA(INDEX(CoreValuesResults[Rising All-Star Selection],MATCH(TournamentData[[#This Row],[Team Number]],CoreValuesResults[Team Number],0))),0, INDEX(CoreValuesResults[Rising All-Star Selection],MATCH(TournamentData[[#This Row],[Team Number]],CoreValuesResults[Team Number],0)))","v":0},{"$f":"IF(ISNA(INDEX(CoreValuesResults[Motivate Selection],MATCH(TournamentData[[#This Row],[Team Number]],CoreValuesResults[Team Number],0))),0, INDEX(CoreValuesResults[Motivate Selection],MATCH(TournamentData[[#This Row],[Team Number]],CoreValuesResults[Team Number],0)))","v":0},null,null,null,{"$f":"IF(ISNA(INDEX(CoreValuesResults[Core Values Score],MATCH(TournamentData[[#This Row],[Team Number]],CoreValuesResults[Team Number],0))),0,INDEX(CoreValuesResults[Core Values Score],MATCH(TournamentData[[#This Row],[Team Number]],CoreValuesResults[Team Number],0)))","v":0},{"$f":"IF(ISNA(INDEX(InnovationProjectResults[Innovation Project Score],MATCH(TournamentData[[#This Row],[Team Number]],InnovationProjectResults[Team Number],0))),0,INDEX(InnovationProjectResults[Innovation Project Score],MATCH(TournamentData[[#This Row],[Team Number]],InnovationProjectResults[Team Number],0)))","v":0},{"$f":"IF(ISNA(INDEX(RobotDesignResults[Robot Design Score],MATCH(TournamentData[[#This Row],[Team Number]],RobotDesignResults[Team Number],0))),0,INDEX(RobotDesignResults[Robot Design Score],MATCH(TournamentData[[#This Row],[Team Number]],RobotDesignResults[Team Number],0)))","v":0},{"$f":"IF(ISERR(GEOMEAN(TournamentData[[#This Row],[Max Robot Game Score]],TournamentData[[#This Row],[Core Values Score]],TournamentData[[#This Row],[Innovattion Project Score]],TournamentData[[#This Row],[Robot Design Score]])),0,GEOMEAN(TournamentData[[#This Row],[Max Robot Game Score]],TournamentData[[#This Row],[Core Values Score]],TournamentData[[#This Row],[Innovattion Project Score]],TournamentData[[#This Row],[Robot Design Score]]))","v":0},0]
[null,{"$f":"IF(ISNA(INDEX(OfficialTeamList[Team Name],MATCH(TournamentData[[#This Row],[Team Number]], OfficialTeamList[Team Number],0))),\"\",INDEX(OfficialTeamList[Team Name],MATCH(TournamentData[[#This Row],[Team Number]], OfficialTeamList[Team Number],0)))","v":""},{"$f":"IF(TournamentData[[#This Row],[Team Number]]=\"\",\"\",IF(ISNA(INDEX('Robot Game Scores'!D:D,MATCH(TournamentData[[#This Row],[Team Number]], 'Robot Game Scores'!$B:$B,0))),0,INDEX('Robot Game Scores'!D:D,MATCH(TournamentData[[#This Row],[Team Number]], 'Robot Game Scores'!$B:$B,0))))","v":""},{"$f":"IF(TournamentData[[#This Row],[Team Number]]=\"\",\"\",IF(ISNA(INDEX('Robot Game Scores'!E:E,MATCH(TournamentData[[#This Row],[Team Number]], 'Robot Game Scores'!$B:$B,0))),0,INDEX('Robot Game Scores'!E:E,MATCH(TournamentData[[#This Row],[Team Number]], 'Robot Game Scores'!$B:$B,0))))","v":""},{"$f":"IF(TournamentData[[#This Row],[Team Number]]=\"\",\"\",IF(ISNA(INDEX('Robot Game Scores'!F:F,MATCH(TournamentData[[#This Row],[Team Number]], 'Robot Game Scores'!$B:$B,0))),0,INDEX('Robot Game Scores'!F:F,MATCH(TournamentData[[#This Row],[Team Number]], 'Robot Game Scores'!$B:$B,0))))","v":""},{"$f":"IF(TournamentData[[#This Row],[Team Number]]=\"\",\"\",IF(ISNA(INDEX('Robot Game Scores'!G:G,MATCH(TournamentData[[#This Row],[Team Number]], 'Robot Game Scores'!$B:$B,0))),0,INDEX('Robot Game Scores'!G:G,MATCH(TournamentData[[#This Row],[Team Number]], 'Robot Game Scores'!$B:$B,0))))","v":""},{"$f":"IF(TournamentData[[#This Row],[Team Number]]=\"\",\"\",IF(ISNA(INDEX('Robot Game Scores'!H:H,MATCH(TournamentData[[#This Row],[Team Number]], 'Robot Game Scores'!$B:$B,0))),0,INDEX('Robot Game Scores'!H:H,MATCH(TournamentData[[#This Row],[Team Number]], 'Robot Game Scores'!$B:$B,0))))","v":""},{"$f":"IF(TournamentData[[#This Row],[Team Number]]=\"\",\"\",IF(ISNA(LARGE(TournamentData[[#This Row],[Robot Game Score 1]:[Robot Game Score 5]],1)+0.0001*LARGE(TournamentData[[#This Row],[Robot Game Score 1]:[Robot Game Score 5]],2)+0.0000001*LARGE(TournamentData[[#This Row],[Robot Game Score 1]:[Robot Game Score 5]],3)+0.00000000001*LARGE(TournamentData[[#This Row],[Robot Game Score 1]:[Robot Game Score 5]],4)+0.00000000000001*LARGE(TournamentData[[#This Row],[Robot Game Score 1]:[Robot Game Score 5]],5)),0,LARGE(TournamentData[[#This Row],[Robot Game Score 1]:[Robot Game Score 5]],1)+0.0001*LARGE(TournamentData[[#This Row],[Robot Game Score 1]:[Robot Game Score 5]],2)+0.0000001*LARGE(TournamentData[[#This Row],[Robot Game Score 1]:[Robot Game Score 5]],3)+0.00000000001*LARGE(TournamentData[[#This Row],[Robot Game Score 1]:[Robot Game Score 5]],4)+0.00000000000001*LARGE(TournamentData[[#This Row],[Robot Game Score 1]:[Robot Game Score 5]],5)))","v":""},{"$f":"IF(TournamentData[[#This Row],[Team Number]]=\"\",\"\",_xlfn.RANK.EQ(TournamentData[[#This Row],[Max Robot Game Score]],TournamentData[Max Robot Game Score]))","v":""},{"$f":"IF(TournamentData[[#This Row],[Team Number]]=\"\",\"\",IF(ISNA(INDEX(CoreValuesResults[Core Values Rank],MATCH(TournamentData[[#This Row],[Team Number]],CoreValuesResults[Team Number],0))),NumberOfTeams+1,INDEX(CoreValuesResults[Core Values Rank],MATCH(TournamentData[[#This Row],[Team Number]],CoreValuesResults[Team Number],0))))","v":""},{"$f":"IF(TournamentData[[#This Row],[Team Number]]=\"\",\"\",IF(ISNA(INDEX(InnovationProjectResults[Innovation Project Rank],MATCH(TournamentData[[#This Row],[Team Number]],InnovationProjectResults[Team Number],0))),NumberOfTeams+1,INDEX(InnovationProjectResults[Innovation Project Rank],MATCH(TournamentData[[#This Row],[Team Number]],InnovationProjectResults[Team Number],0))))","v":""},{"$f":"IF(TournamentData[[#This Row],[Team Number]]=\"\",\"\",IF(ISNA(INDEX(RobotDesignResults[Robot Design Rank],MATCH(TournamentData[[#This Row],[Team Number]],RobotDesignResults[Team Number],0))),NumberOfTeams+1,INDEX(RobotDesignResults[Robot Design Rank],MATCH(TournamentData[[#This Row],[Team Number]],RobotDesignResults[Team Number],0))))","v":""},{"$f":" IF(TournamentData[[#This Row],[Team Number]]=\"\",\"\",IF(TournamentData[[#This Row],[Core Values Rank]]=\"\",NumberOfTeams+1,TournamentData[[#This Row],[Core Values Rank]]) + IF(TournamentData[[#This Row],[Innovation Project Rank]]=\"\",NumberOfTeams+1,TournamentData[[#This Row],[Innovation Project Rank]]) + IF(TournamentData[[#This Row],[Robot Design Rank]]=\"\",NumberOfTeams+1,TournamentData[[#This Row],[Robot Design Rank]]) + TournamentData[[#This Row],[Robot Game Rank]])","v":""},{"$f":"IF(TournamentData[[#This Row],[Team Number]]=\"\",\"\",IF(M82,RANK(M82,M$3:M$110,1)-COUNTIF(M$3:M$110,0),NumberOfTeams+1))","v":""},{"$f":"IF(ISNA(INDEX(CoreValuesResults[Breakthrough Selection],MATCH(TournamentData[[#This Row],[Team Number]],CoreValuesResults[Team Number],0))),0, INDEX(CoreValuesResults[Breakthrough Selection],MATCH(TournamentData[[#This Row],[Team Number]],CoreValuesResults[Team Number],0)))","v":0},{"$f":"IF(ISNA(INDEX(CoreValuesResults[Rising All-Star Selection],MATCH(TournamentData[[#This Row],[Team Number]],CoreValuesResults[Team Number],0))),0, INDEX(CoreValuesResults[Rising All-Star Selection],MATCH(TournamentData[[#This Row],[Team Number]],CoreValuesResults[Team Number],0)))","v":0},{"$f":"IF(ISNA(INDEX(CoreValuesResults[Motivate Selection],MATCH(TournamentData[[#This Row],[Team Number]],CoreValuesResults[Team Number],0))),0, INDEX(CoreValuesResults[Motivate Selection],MATCH(TournamentData[[#This Row],[Team Number]],CoreValuesResults[Team Number],0)))","v":0},null,null,null,{"$f":"IF(ISNA(INDEX(CoreValuesResults[Core Values Score],MATCH(TournamentData[[#This Row],[Team Number]],CoreValuesResults[Team Number],0))),0,INDEX(CoreValuesResults[Core Values Score],MATCH(TournamentData[[#This Row],[Team Number]],CoreValuesResults[Team Number],0)))","v":0},{"$f":"IF(ISNA(INDEX(InnovationProjectResults[Innovation Project Score],MATCH(TournamentData[[#This Row],[Team Number]],InnovationProjectResults[Team Number],0))),0,INDEX(InnovationProjectResults[Innovation Project Score],MATCH(TournamentData[[#This Row],[Team Number]],InnovationProjectResults[Team Number],0)))","v":0},{"$f":"IF(ISNA(INDEX(RobotDesignResults[Robot Design Score],MATCH(TournamentData[[#This Row],[Team Number]],RobotDesignResults[Team Number],0))),0,INDEX(RobotDesignResults[Robot Design Score],MATCH(TournamentData[[#This Row],[Team Number]],RobotDesignResults[Team Number],0)))","v":0},{"$f":"IF(ISERR(GEOMEAN(TournamentData[[#This Row],[Max Robot Game Score]],TournamentData[[#This Row],[Core Values Score]],TournamentData[[#This Row],[Innovattion Project Score]],TournamentData[[#This Row],[Robot Design Score]])),0,GEOMEAN(TournamentData[[#This Row],[Max Robot Game Score]],TournamentData[[#This Row],[Core Values Score]],TournamentData[[#This Row],[Innovattion Project Score]],TournamentData[[#This Row],[Robot Design Score]]))","v":0},0]
[null,{"$f":"IF(ISNA(INDEX(OfficialTeamList[Team Name],MATCH(TournamentData[[#This Row],[Team Number]], OfficialTeamList[Team Number],0))),\"\",INDEX(OfficialTeamList[Team Name],MATCH(TournamentData[[#This Row],[Team Number]], OfficialTeamList[Team Number],0)))","v":""},{"$f":"IF(TournamentData[[#This Row],[Team Number]]=\"\",\"\",IF(ISNA(INDEX('Robot Game Scores'!D:D,MATCH(TournamentData[[#This Row],[Team Number]], 'Robot Game Scores'!$B:$B,0))),0,INDEX('Robot Game Scores'!D:D,MATCH(TournamentData[[#This Row],[Team Number]], 'Robot Game Scores'!$B:$B,0))))","v":""},{"$f":"IF(TournamentData[[#This Row],[Team Number]]=\"\",\"\",IF(ISNA(INDEX('Robot Game Scores'!E:E,MATCH(TournamentData[[#This Row],[Team Number]], 'Robot Game Scores'!$B:$B,0))),0,INDEX('Robot Game Scores'!E:E,MATCH(TournamentData[[#This Row],[Team Number]], 'Robot Game Scores'!$B:$B,0))))","v":""},{"$f":"IF(TournamentData[[#This Row],[Team Number]]=\"\",\"\",IF(ISNA(INDEX('Robot Game Scores'!F:F,MATCH(TournamentData[[#This Row],[Team Number]], 'Robot Game Scores'!$B:$B,0))),0,INDEX('Robot Game Scores'!F:F,MATCH(TournamentData[[#This Row],[Team Number]], 'Robot Game Scores'!$B:$B,0))))","v":""},{"$f":"IF(TournamentData[[#This Row],[Team Number]]=\"\",\"\",IF(ISNA(INDEX('Robot Game Scores'!G:G,MATCH(TournamentData[[#This Row],[Team Number]], 'Robot Game Scores'!$B:$B,0))),0,INDEX('Robot Game Scores'!G:G,MATCH(TournamentData[[#This Row],[Team Number]], 'Robot Game Scores'!$B:$B,0))))","v":""},{"$f":"IF(TournamentData[[#This Row],[Team Number]]=\"\",\"\",IF(ISNA(INDEX('Robot Game Scores'!H:H,MATCH(TournamentData[[#This Row],[Team Number]], 'Robot Game Scores'!$B:$B,0))),0,INDEX('Robot Game Scores'!H:H,MATCH(TournamentData[[#This Row],[Team Number]], 'Robot Game Scores'!$B:$B,0))))","v":""},{"$f":"IF(TournamentData[[#This Row],[Team Number]]=\"\",\"\",IF(ISNA(LARGE(TournamentData[[#This Row],[Robot Game Score 1]:[Robot Game Score 5]],1)+0.0001*LARGE(TournamentData[[#This Row],[Robot Game Score 1]:[Robot Game Score 5]],2)+0.0000001*LARGE(TournamentData[[#This Row],[Robot Game Score 1]:[Robot Game Score 5]],3)+0.00000000001*LARGE(TournamentData[[#This Row],[Robot Game Score 1]:[Robot Game Score 5]],4)+0.00000000000001*LARGE(TournamentData[[#This Row],[Robot Game Score 1]:[Robot Game Score 5]],5)),0,LARGE(TournamentData[[#This Row],[Robot Game Score 1]:[Robot Game Score 5]],1)+0.0001*LARGE(TournamentData[[#This Row],[Robot Game Score 1]:[Robot Game Score 5]],2)+0.0000001*LARGE(TournamentData[[#This Row],[Robot Game Score 1]:[Robot Game Score 5]],3)+0.00000000001*LARGE(TournamentData[[#This Row],[Robot Game Score 1]:[Robot Game Score 5]],4)+0.00000000000001*LARGE(TournamentData[[#This Row],[Robot Game Score 1]:[Robot Game Score 5]],5)))","v":""},{"$f":"IF(TournamentData[[#This Row],[Team Number]]=\"\",\"\",_xlfn.RANK.EQ(TournamentData[[#This Row],[Max Robot Game Score]],TournamentData[Max Robot Game Score]))","v":""},{"$f":"IF(TournamentData[[#This Row],[Team Number]]=\"\",\"\",IF(ISNA(INDEX(CoreValuesResults[Core Values Rank],MATCH(TournamentData[[#This Row],[Team Number]],CoreValuesResults[Team Number],0))),NumberOfTeams+1,INDEX(CoreValuesResults[Core Values Rank],MATCH(TournamentData[[#This Row],[Team Number]],CoreValuesResults[Team Number],0))))","v":""},{"$f":"IF(TournamentData[[#This Row],[Team Number]]=\"\",\"\",IF(ISNA(INDEX(InnovationProjectResults[Innovation Project Rank],MATCH(TournamentData[[#This Row],[Team Number]],InnovationProjectResults[Team Number],0))),NumberOfTeams+1,INDEX(InnovationProjectResults[Innovation Project Rank],MATCH(TournamentData[[#This Row],[Team Number]],InnovationProjectResults[Team Number],0))))","v":""},{"$f":"IF(TournamentData[[#This Row],[Team Number]]=\"\",\"\",IF(ISNA(INDEX(RobotDesignResults[Robot Design Rank],MATCH(TournamentData[[#This Row],[Team Number]],RobotDesignResults[Team Number],0))),NumberOfTeams+1,INDEX(RobotDesignResults[Robot Design Rank],MATCH(TournamentData[[#This Row],[Team Number]],RobotDesignResults[Team Number],0))))","v":""},{"$f":" IF(TournamentData[[#This Row],[Team Number]]=\"\",\"\",IF(TournamentData[[#This Row],[Core Values Rank]]=\"\",NumberOfTeams+1,TournamentData[[#This Row],[Core Values Rank]]) + IF(TournamentData[[#This Row],[Innovation Project Rank]]=\"\",NumberOfTeams+1,TournamentData[[#This Row],[Innovation Project Rank]]) + IF(TournamentData[[#This Row],[Robot Design Rank]]=\"\",NumberOfTeams+1,TournamentData[[#This Row],[Robot Design Rank]]) + TournamentData[[#This Row],[Robot Game Rank]])","v":""},{"$f":"IF(TournamentData[[#This Row],[Team Number]]=\"\",\"\",IF(M83,RANK(M83,M$3:M$110,1)-COUNTIF(M$3:M$110,0),NumberOfTeams+1))","v":""},{"$f":"IF(ISNA(INDEX(CoreValuesResults[Breakthrough Selection],MATCH(TournamentData[[#This Row],[Team Number]],CoreValuesResults[Team Number],0))),0, INDEX(CoreValuesResults[Breakthrough Selection],MATCH(TournamentData[[#This Row],[Team Number]],CoreValuesResults[Team Number],0)))","v":0},{"$f":"IF(ISNA(INDEX(CoreValuesResults[Rising All-Star Selection],MATCH(TournamentData[[#This Row],[Team Number]],CoreValuesResults[Team Number],0))),0, INDEX(CoreValuesResults[Rising All-Star Selection],MATCH(TournamentData[[#This Row],[Team Number]],CoreValuesResults[Team Number],0)))","v":0},{"$f":"IF(ISNA(INDEX(CoreValuesResults[Motivate Selection],MATCH(TournamentData[[#This Row],[Team Number]],CoreValuesResults[Team Number],0))),0, INDEX(CoreValuesResults[Motivate Selection],MATCH(TournamentData[[#This Row],[Team Number]],CoreValuesResults[Team Number],0)))","v":0},null,null,null,{"$f":"IF(ISNA(INDEX(CoreValuesResults[Core Values Score],MATCH(TournamentData[[#This Row],[Team Number]],CoreValuesResults[Team Number],0))),0,INDEX(CoreValuesResults[Core Values Score],MATCH(TournamentData[[#This Row],[Team Number]],CoreValuesResults[Team Number],0)))","v":0},{"$f":"IF(ISNA(INDEX(InnovationProjectResults[Innovation Project Score],MATCH(TournamentData[[#This Row],[Team Number]],InnovationProjectResults[Team Number],0))),0,INDEX(InnovationProjectResults[Innovation Project Score],MATCH(TournamentData[[#This Row],[Team Number]],InnovationProjectResults[Team Number],0)))","v":0},{"$f":"IF(ISNA(INDEX(RobotDesignResults[Robot Design Score],MATCH(TournamentData[[#This Row],[Team Number]],RobotDesignResults[Team Number],0))),0,INDEX(RobotDesignResults[Robot Design Score],MATCH(TournamentData[[#This Row],[Team Number]],RobotDesignResults[Team Number],0)))","v":0},{"$f":"IF(ISERR(GEOMEAN(TournamentData[[#This Row],[Max Robot Game Score]],TournamentData[[#This Row],[Core Values Score]],TournamentData[[#This Row],[Innovattion Project Score]],TournamentData[[#This Row],[Robot Design Score]])),0,GEOMEAN(TournamentData[[#This Row],[Max Robot Game Score]],TournamentData[[#This Row],[Core Values Score]],TournamentData[[#This Row],[Innovattion Project Score]],TournamentData[[#This Row],[Robot Design Score]]))","v":0},0]
[null,{"$f":"IF(ISNA(INDEX(OfficialTeamList[Team Name],MATCH(TournamentData[[#This Row],[Team Number]], OfficialTeamList[Team Number],0))),\"\",INDEX(OfficialTeamList[Team Name],MATCH(TournamentData[[#This Row],[Team Number]], OfficialTeamList[Team Number],0)))","v":""},{"$f":"IF(TournamentData[[#This Row],[Team Number]]=\"\",\"\",IF(ISNA(INDEX('Robot Game Scores'!D:D,MATCH(TournamentData[[#This Row],[Team Number]], 'Robot Game Scores'!$B:$B,0))),0,INDEX('Robot Game Scores'!D:D,MATCH(TournamentData[[#This Row],[Team Number]], 'Robot Game Scores'!$B:$B,0))))","v":""},{"$f":"IF(TournamentData[[#This Row],[Team Number]]=\"\",\"\",IF(ISNA(INDEX('Robot Game Scores'!E:E,MATCH(TournamentData[[#This Row],[Team Number]], 'Robot Game Scores'!$B:$B,0))),0,INDEX('Robot Game Scores'!E:E,MATCH(TournamentData[[#This Row],[Team Number]], 'Robot Game Scores'!$B:$B,0))))","v":""},{"$f":"IF(TournamentData[[#This Row],[Team Number]]=\"\",\"\",IF(ISNA(INDEX('Robot Game Scores'!F:F,MATCH(TournamentData[[#This Row],[Team Number]], 'Robot Game Scores'!$B:$B,0))),0,INDEX('Robot Game Scores'!F:F,MATCH(TournamentData[[#This Row],[Team Number]], 'Robot Game Scores'!$B:$B,0))))","v":""},{"$f":"IF(TournamentData[[#This Row],[Team Number]]=\"\",\"\",IF(ISNA(INDEX('Robot Game Scores'!G:G,MATCH(TournamentData[[#This Row],[Team Number]], 'Robot Game Scores'!$B:$B,0))),0,INDEX('Robot Game Scores'!G:G,MATCH(TournamentData[[#This Row],[Team Number]], 'Robot Game Scores'!$B:$B,0))))","v":""},{"$f":"IF(TournamentData[[#This Row],[Team Number]]=\"\",\"\",IF(ISNA(INDEX('Robot Game Scores'!H:H,MATCH(TournamentData[[#This Row],[Team Number]], 'Robot Game Scores'!$B:$B,0))),0,INDEX('Robot Game Scores'!H:H,MATCH(TournamentData[[#This Row],[Team Number]], 'Robot Game Scores'!$B:$B,0))))","v":""},{"$f":"IF(TournamentData[[#This Row],[Team Number]]=\"\",\"\",IF(ISNA(LARGE(TournamentData[[#This Row],[Robot Game Score 1]:[Robot Game Score 5]],1)+0.0001*LARGE(TournamentData[[#This Row],[Robot Game Score 1]:[Robot Game Score 5]],2)+0.0000001*LARGE(TournamentData[[#This Row],[Robot Game Score 1]:[Robot Game Score 5]],3)+0.00000000001*LARGE(TournamentData[[#This Row],[Robot Game Score 1]:[Robot Game Score 5]],4)+0.00000000000001*LARGE(TournamentData[[#This Row],[Robot Game Score 1]:[Robot Game Score 5]],5)),0,LARGE(TournamentData[[#This Row],[Robot Game Score 1]:[Robot Game Score 5]],1)+0.0001*LARGE(TournamentData[[#This Row],[Robot Game Score 1]:[Robot Game Score 5]],2)+0.0000001*LARGE(TournamentData[[#This Row],[Robot Game Score 1]:[Robot Game Score 5]],3)+0.00000000001*LARGE(TournamentData[[#This Row],[Robot Game Score 1]:[Robot Game Score 5]],4)+0.00000000000001*LARGE(TournamentData[[#This Row],[Robot Game Score 1]:[Robot Game Score 5]],5)))","v":""},{"$f":"IF(TournamentData[[#This Row],[Team Number]]=\"\",\"\",_xlfn.RANK.EQ(TournamentData[[#This Row],[Max Robot Game Score]],TournamentData[Max Robot Game Score]))","v":""},{"$f":"IF(TournamentData[[#This Row],[Team Number]]=\"\",\"\",IF(ISNA(INDEX(CoreValuesResults[Core Values Rank],MATCH(TournamentData[[#This Row],[Team Number]],CoreValuesResults[Team Number],0))),NumberOfTeams+1,INDEX(CoreValuesResults[Core Values Rank],MATCH(TournamentData[[#This Row],[Team Number]],CoreValuesResults[Team Number],0))))","v":""},{"$f":"IF(TournamentData[[#This Row],[Team Number]]=\"\",\"\",IF(ISNA(INDEX(InnovationProjectResults[Innovation Project Rank],MATCH(TournamentData[[#This Row],[Team Number]],InnovationProjectResults[Team Number],0))),NumberOfTeams+1,INDEX(InnovationProjectResults[Innovation Project Rank],MATCH(TournamentData[[#This Row],[Team Number]],InnovationProjectResults[Team Number],0))))","v":""},{"$f":"IF(TournamentData[[#This Row],[Team Number]]=\"\",\"\",IF(ISNA(INDEX(RobotDesignResults[Robot Design Rank],MATCH(TournamentData[[#This Row],[Team Number]],RobotDesignResults[Team Number],0))),NumberOfTeams+1,INDEX(RobotDesignResults[Robot Design Rank],MATCH(TournamentData[[#This Row],[Team Number]],RobotDesignResults[Team Number],0))))","v":""},{"$f":" IF(TournamentData[[#This Row],[Team Number]]=\"\",\"\",IF(TournamentData[[#This Row],[Core Values Rank]]=\"\",NumberOfTeams+1,TournamentData[[#This Row],[Core Values Rank]]) + IF(TournamentData[[#This Row],[Innovation Project Rank]]=\"\",NumberOfTeams+1,TournamentData[[#This Row],[Innovation Project Rank]]) + IF(TournamentData[[#This Row],[Robot Design Rank]]=\"\",NumberOfTeams+1,TournamentData[[#This Row],[Robot Design Rank]]) + TournamentData[[#This Row],[Robot Game Rank]])","v":""},{"$f":"IF(TournamentData[[#This Row],[Team Number]]=\"\",\"\",IF(M84,RANK(M84,M$3:M$110,1)-COUNTIF(M$3:M$110,0),NumberOfTeams+1))","v":""},{"$f":"IF(ISNA(INDEX(CoreValuesResults[Breakthrough Selection],MATCH(TournamentData[[#This Row],[Team Number]],CoreValuesResults[Team Number],0))),0, INDEX(CoreValuesResults[Breakthrough Selection],MATCH(TournamentData[[#This Row],[Team Number]],CoreValuesResults[Team Number],0)))","v":0},{"$f":"IF(ISNA(INDEX(CoreValuesResults[Rising All-Star Selection],MATCH(TournamentData[[#This Row],[Team Number]],CoreValuesResults[Team Number],0))),0, INDEX(CoreValuesResults[Rising All-Star Selection],MATCH(TournamentData[[#This Row],[Team Number]],CoreValuesResults[Team Number],0)))","v":0},{"$f":"IF(ISNA(INDEX(CoreValuesResults[Motivate Selection],MATCH(TournamentData[[#This Row],[Team Number]],CoreValuesResults[Team Number],0))),0, INDEX(CoreValuesResults[Motivate Selection],MATCH(TournamentData[[#This Row],[Team Number]],CoreValuesResults[Team Number],0)))","v":0},null,null,null,{"$f":"IF(ISNA(INDEX(CoreValuesResults[Core Values Score],MATCH(TournamentData[[#This Row],[Team Number]],CoreValuesResults[Team Number],0))),0,INDEX(CoreValuesResults[Core Values Score],MATCH(TournamentData[[#This Row],[Team Number]],CoreValuesResults[Team Number],0)))","v":0},{"$f":"IF(ISNA(INDEX(InnovationProjectResults[Innovation Project Score],MATCH(TournamentData[[#This Row],[Team Number]],InnovationProjectResults[Team Number],0))),0,INDEX(InnovationProjectResults[Innovation Project Score],MATCH(TournamentData[[#This Row],[Team Number]],InnovationProjectResults[Team Number],0)))","v":0},{"$f":"IF(ISNA(INDEX(RobotDesignResults[Robot Design Score],MATCH(TournamentData[[#This Row],[Team Number]],RobotDesignResults[Team Number],0))),0,INDEX(RobotDesignResults[Robot Design Score],MATCH(TournamentData[[#This Row],[Team Number]],RobotDesignResults[Team Number],0)))","v":0},{"$f":"IF(ISERR(GEOMEAN(TournamentData[[#This Row],[Max Robot Game Score]],TournamentData[[#This Row],[Core Values Score]],TournamentData[[#This Row],[Innovattion Project Score]],TournamentData[[#This Row],[Robot Design Score]])),0,GEOMEAN(TournamentData[[#This Row],[Max Robot Game Score]],TournamentData[[#This Row],[Core Values Score]],TournamentData[[#This Row],[Innovattion Project Score]],TournamentData[[#This Row],[Robot Design Score]]))","v":0},0]
[null,{"$f":"IF(ISNA(INDEX(OfficialTeamList[Team Name],MATCH(TournamentData[[#This Row],[Team Number]], OfficialTeamList[Team Number],0))),\"\",INDEX(OfficialTeamList[Team Name],MATCH(TournamentData[[#This Row],[Team Number]], OfficialTeamList[Team Number],0)))","v":""},{"$f":"IF(TournamentData[[#This Row],[Team Number]]=\"\",\"\",IF(ISNA(INDEX('Robot Game Scores'!D:D,MATCH(TournamentData[[#This Row],[Team Number]], 'Robot Game Scores'!$B:$B,0))),0,INDEX('Robot Game Scores'!D:D,MATCH(TournamentData[[#This Row],[Team Number]], 'Robot Game Scores'!$B:$B,0))))","v":""},{"$f":"IF(TournamentData[[#This Row],[Team Number]]=\"\",\"\",IF(ISNA(INDEX('Robot Game Scores'!E:E,MATCH(TournamentData[[#This Row],[Team Number]], 'Robot Game Scores'!$B:$B,0))),0,INDEX('Robot Game Scores'!E:E,MATCH(TournamentData[[#This Row],[Team Number]], 'Robot Game Scores'!$B:$B,0))))","v":""},{"$f":"IF(TournamentData[[#This Row],[Team Number]]=\"\",\"\",IF(ISNA(INDEX('Robot Game Scores'!F:F,MATCH(TournamentData[[#This Row],[Team Number]], 'Robot Game Scores'!$B:$B,0))),0,INDEX('Robot Game Scores'!F:F,MATCH(TournamentData[[#This Row],[Team Number]], 'Robot Game Scores'!$B:$B,0))))","v":""},{"$f":"IF(TournamentData[[#This Row],[Team Number]]=\"\",\"\",IF(ISNA(INDEX('Robot Game Scores'!G:G,MATCH(TournamentData[[#This Row],[Team Number]], 'Robot Game Scores'!$B:$B,0))),0,INDEX('Robot Game Scores'!G:G,MATCH(TournamentData[[#This Row],[Team Number]], 'Robot Game Scores'!$B:$B,0))))","v":""},{"$f":"IF(TournamentData[[#This Row],[Team Number]]=\"\",\"\",IF(ISNA(INDEX('Robot Game Scores'!H:H,MATCH(TournamentData[[#This Row],[Team Number]], 'Robot Game Scores'!$B:$B,0))),0,INDEX('Robot Game Scores'!H:H,MATCH(TournamentData[[#This Row],[Team Number]], 'Robot Game Scores'!$B:$B,0))))","v":""},{"$f":"IF(TournamentData[[#This Row],[Team Number]]=\"\",\"\",IF(ISNA(LARGE(TournamentData[[#This Row],[Robot Game Score 1]:[Robot Game Score 5]],1)+0.0001*LARGE(TournamentData[[#This Row],[Robot Game Score 1]:[Robot Game Score 5]],2)+0.0000001*LARGE(TournamentData[[#This Row],[Robot Game Score 1]:[Robot Game Score 5]],3)+0.00000000001*LARGE(TournamentData[[#This Row],[Robot Game Score 1]:[Robot Game Score 5]],4)+0.00000000000001*LARGE(TournamentData[[#This Row],[Robot Game Score 1]:[Robot Game Score 5]],5)),0,LARGE(TournamentData[[#This Row],[Robot Game Score 1]:[Robot Game Score 5]],1)+0.0001*LARGE(TournamentData[[#This Row],[Robot Game Score 1]:[Robot Game Score 5]],2)+0.0000001*LARGE(TournamentData[[#This Row],[Robot Game Score 1]:[Robot Game Score 5]],3)+0.00000000001*LARGE(TournamentData[[#This Row],[Robot Game Score 1]:[Robot Game Score 5]],4)+0.00000000000001*LARGE(TournamentData[[#This Row],[Robot Game Score 1]:[Robot Game Score 5]],5)))","v":""},{"$f":"IF(TournamentData[[#This Row],[Team Number]]=\"\",\"\",_xlfn.RANK.EQ(TournamentData[[#This Row],[Max Robot Game Score]],TournamentData[Max Robot Game Score]))","v":""},{"$f":"IF(TournamentData[[#This Row],[Team Number]]=\"\",\"\",IF(ISNA(INDEX(CoreValuesResults[Core Values Rank],MATCH(TournamentData[[#This Row],[Team Number]],CoreValuesResults[Team Number],0))),NumberOfTeams+1,INDEX(CoreValuesResults[Core Values Rank],MATCH(TournamentData[[#This Row],[Team Number]],CoreValuesResults[Team Number],0))))","v":""},{"$f":"IF(TournamentData[[#This Row],[Team Number]]=\"\",\"\",IF(ISNA(INDEX(InnovationProjectResults[Innovation Project Rank],MATCH(TournamentData[[#This Row],[Team Number]],InnovationProjectResults[Team Number],0))),NumberOfTeams+1,INDEX(InnovationProjectResults[Innovation Project Rank],MATCH(TournamentData[[#This Row],[Team Number]],InnovationProjectResults[Team Number],0))))","v":""},{"$f":"IF(TournamentData[[#This Row],[Team Number]]=\"\",\"\",IF(ISNA(INDEX(RobotDesignResults[Robot Design Rank],MATCH(TournamentData[[#This Row],[Team Number]],RobotDesignResults[Team Number],0))),NumberOfTeams+1,INDEX(RobotDesignResults[Robot Design Rank],MATCH(TournamentData[[#This Row],[Team Number]],RobotDesignResults[Team Number],0))))","v":""},{"$f":" IF(TournamentData[[#This Row],[Team Number]]=\"\",\"\",IF(TournamentData[[#This Row],[Core Values Rank]]=\"\",NumberOfTeams+1,TournamentData[[#This Row],[Core Values Rank]]) + IF(TournamentData[[#This Row],[Innovation Project Rank]]=\"\",NumberOfTeams+1,TournamentData[[#This Row],[Innovation Project Rank]]) + IF(TournamentData[[#This Row],[Robot Design Rank]]=\"\",NumberOfTeams+1,TournamentData[[#This Row],[Robot Design Rank]]) + TournamentData[[#This Row],[Robot Game Rank]])","v":""},{"$f":"IF(TournamentData[[#This Row],[Team Number]]=\"\",\"\",IF(M85,RANK(M85,M$3:M$110,1)-COUNTIF(M$3:M$110,0),NumberOfTeams+1))","v":""},{"$f":"IF(ISNA(INDEX(CoreValuesResults[Breakthrough Selection],MATCH(TournamentData[[#This Row],[Team Number]],CoreValuesResults[Team Number],0))),0, INDEX(CoreValuesResults[Breakthrough Selection],MATCH(TournamentData[[#This Row],[Team Number]],CoreValuesResults[Team Number],0)))","v":0},{"$f":"IF(ISNA(INDEX(CoreValuesResults[Rising All-Star Selection],MATCH(TournamentData[[#This Row],[Team Number]],CoreValuesResults[Team Number],0))),0, INDEX(CoreValuesResults[Rising All-Star Selection],MATCH(TournamentData[[#This Row],[Team Number]],CoreValuesResults[Team Number],0)))","v":0},{"$f":"IF(ISNA(INDEX(CoreValuesResults[Motivate Selection],MATCH(TournamentData[[#This Row],[Team Number]],CoreValuesResults[Team Number],0))),0, INDEX(CoreValuesResults[Motivate Selection],MATCH(TournamentData[[#This Row],[Team Number]],CoreValuesResults[Team Number],0)))","v":0},null,null,null,{"$f":"IF(ISNA(INDEX(CoreValuesResults[Core Values Score],MATCH(TournamentData[[#This Row],[Team Number]],CoreValuesResults[Team Number],0))),0,INDEX(CoreValuesResults[Core Values Score],MATCH(TournamentData[[#This Row],[Team Number]],CoreValuesResults[Team Number],0)))","v":0},{"$f":"IF(ISNA(INDEX(InnovationProjectResults[Innovation Project Score],MATCH(TournamentData[[#This Row],[Team Number]],InnovationProjectResults[Team Number],0))),0,INDEX(InnovationProjectResults[Innovation Project Score],MATCH(TournamentData[[#This Row],[Team Number]],InnovationProjectResults[Team Number],0)))","v":0},{"$f":"IF(ISNA(INDEX(RobotDesignResults[Robot Design Score],MATCH(TournamentData[[#This Row],[Team Number]],RobotDesignResults[Team Number],0))),0,INDEX(RobotDesignResults[Robot Design Score],MATCH(TournamentData[[#This Row],[Team Number]],RobotDesignResults[Team Number],0)))","v":0},{"$f":"IF(ISERR(GEOMEAN(TournamentData[[#This Row],[Max Robot Game Score]],TournamentData[[#This Row],[Core Values Score]],TournamentData[[#This Row],[Innovattion Project Score]],TournamentData[[#This Row],[Robot Design Score]])),0,GEOMEAN(TournamentData[[#This Row],[Max Robot Game Score]],TournamentData[[#This Row],[Core Values Score]],TournamentData[[#This Row],[Innovattion Project Score]],TournamentData[[#This Row],[Robot Design Score]]))","v":0},0]
[null,{"$f":"IF(ISNA(INDEX(OfficialTeamList[Team Name],MATCH(TournamentData[[#This Row],[Team Number]], OfficialTeamList[Team Number],0))),\"\",INDEX(OfficialTeamList[Team Name],MATCH(TournamentData[[#This Row],[Team Number]], OfficialTeamList[Team Number],0)))","v":""},{"$f":"IF(TournamentData[[#This Row],[Team Number]]=\"\",\"\",IF(ISNA(INDEX('Robot Game Scores'!D:D,MATCH(TournamentData[[#This Row],[Team Number]], 'Robot Game Scores'!$B:$B,0))),0,INDEX('Robot Game Scores'!D:D,MATCH(TournamentData[[#This Row],[Team Number]], 'Robot Game Scores'!$B:$B,0))))","v":""},{"$f":"IF(TournamentData[[#This Row],[Team Number]]=\"\",\"\",IF(ISNA(INDEX('Robot Game Scores'!E:E,MATCH(TournamentData[[#This Row],[Team Number]], 'Robot Game Scores'!$B:$B,0))),0,INDEX('Robot Game Scores'!E:E,MATCH(TournamentData[[#This Row],[Team Number]], 'Robot Game Scores'!$B:$B,0))))","v":""},{"$f":"IF(TournamentData[[#This Row],[Team Number]]=\"\",\"\",IF(ISNA(INDEX('Robot Game Scores'!F:F,MATCH(TournamentData[[#This Row],[Team Number]], 'Robot Game Scores'!$B:$B,0))),0,INDEX('Robot Game Scores'!F:F,MATCH(TournamentData[[#This Row],[Team Number]], 'Robot Game Scores'!$B:$B,0))))","v":""},{"$f":"IF(TournamentData[[#This Row],[Team Number]]=\"\",\"\",IF(ISNA(INDEX('Robot Game Scores'!G:G,MATCH(TournamentData[[#This Row],[Team Number]], 'Robot Game Scores'!$B:$B,0))),0,INDEX('Robot Game Scores'!G:G,MATCH(TournamentData[[#This Row],[Team Number]], 'Robot Game Scores'!$B:$B,0))))","v":""},{"$f":"IF(TournamentData[[#This Row],[Team Number]]=\"\",\"\",IF(ISNA(INDEX('Robot Game Scores'!H:H,MATCH(TournamentData[[#This Row],[Team Number]], 'Robot Game Scores'!$B:$B,0))),0,INDEX('Robot Game Scores'!H:H,MATCH(TournamentData[[#This Row],[Team Number]], 'Robot Game Scores'!$B:$B,0))))","v":""},{"$f":"IF(TournamentData[[#This Row],[Team Number]]=\"\",\"\",IF(ISNA(LARGE(TournamentData[[#This Row],[Robot Game Score 1]:[Robot Game Score 5]],1)+0.0001*LARGE(TournamentData[[#This Row],[Robot Game Score 1]:[Robot Game Score 5]],2)+0.0000001*LARGE(TournamentData[[#This Row],[Robot Game Score 1]:[Robot Game Score 5]],3)+0.00000000001*LARGE(TournamentData[[#This Row],[Robot Game Score 1]:[Robot Game Score 5]],4)+0.00000000000001*LARGE(TournamentData[[#This Row],[Robot Game Score 1]:[Robot Game Score 5]],5)),0,LARGE(TournamentData[[#This Row],[Robot Game Score 1]:[Robot Game Score 5]],1)+0.0001*LARGE(TournamentData[[#This Row],[Robot Game Score 1]:[Robot Game Score 5]],2)+0.0000001*LARGE(TournamentData[[#This Row],[Robot Game Score 1]:[Robot Game Score 5]],3)+0.00000000001*LARGE(TournamentData[[#This Row],[Robot Game Score 1]:[Robot Game Score 5]],4)+0.00000000000001*LARGE(TournamentData[[#This Row],[Robot Game Score 1]:[Robot Game Score 5]],5)))","v":""},{"$f":"IF(TournamentData[[#This Row],[Team Number]]=\"\",\"\",_xlfn.RANK.EQ(TournamentData[[#This Row],[Max Robot Game Score]],TournamentData[Max Robot Game Score]))","v":""},{"$f":"IF(TournamentData[[#This Row],[Team Number]]=\"\",\"\",IF(ISNA(INDEX(CoreValuesResults[Core Values Rank],MATCH(TournamentData[[#This Row],[Team Number]],CoreValuesResults[Team Number],0))),NumberOfTeams+1,INDEX(CoreValuesResults[Core Values Rank],MATCH(TournamentData[[#This Row],[Team Number]],CoreValuesResults[Team Number],0))))","v":""},{"$f":"IF(TournamentData[[#This Row],[Team Number]]=\"\",\"\",IF(ISNA(INDEX(InnovationProjectResults[Innovation Project Rank],MATCH(TournamentData[[#This Row],[Team Number]],InnovationProjectResults[Team Number],0))),NumberOfTeams+1,INDEX(InnovationProjectResults[Innovation Project Rank],MATCH(TournamentData[[#This Row],[Team Number]],InnovationProjectResults[Team Number],0))))","v":""},{"$f":"IF(TournamentData[[#This Row],[Team Number]]=\"\",\"\",IF(ISNA(INDEX(RobotDesignResults[Robot Design Rank],MATCH(TournamentData[[#This Row],[Team Number]],RobotDesignResults[Team Number],0))),NumberOfTeams+1,INDEX(RobotDesignResults[Robot Design Rank],MATCH(TournamentData[[#This Row],[Team Number]],RobotDesignResults[Team Number],0))))","v":""},{"$f":" IF(TournamentData[[#This Row],[Team Number]]=\"\",\"\",IF(TournamentData[[#This Row],[Core Values Rank]]=\"\",NumberOfTeams+1,TournamentData[[#This Row],[Core Values Rank]]) + IF(TournamentData[[#This Row],[Innovation Project Rank]]=\"\",NumberOfTeams+1,TournamentData[[#This Row],[Innovation Project Rank]]) + IF(TournamentData[[#This Row],[Robot Design Rank]]=\"\",NumberOfTeams+1,TournamentData[[#This Row],[Robot Design Rank]]) + TournamentData[[#This Row],[Robot Game Rank]])","v":""},{"$f":"IF(TournamentData[[#This Row],[Team Number]]=\"\",\"\",IF(M86,RANK(M86,M$3:M$110,1)-COUNTIF(M$3:M$110,0),NumberOfTeams+1))","v":""},{"$f":"IF(ISNA(INDEX(CoreValuesResults[Breakthrough Selection],MATCH(TournamentData[[#This Row],[Team Number]],CoreValuesResults[Team Number],0))),0, INDEX(CoreValuesResults[Breakthrough Selection],MATCH(TournamentData[[#This Row],[Team Number]],CoreValuesResults[Team Number],0)))","v":0},{"$f":"IF(ISNA(INDEX(CoreValuesResults[Rising All-Star Selection],MATCH(TournamentData[[#This Row],[Team Number]],CoreValuesResults[Team Number],0))),0, INDEX(CoreValuesResults[Rising All-Star Selection],MATCH(TournamentData[[#This Row],[Team Number]],CoreValuesResults[Team Number],0)))","v":0},{"$f":"IF(ISNA(INDEX(CoreValuesResults[Motivate Selection],MATCH(TournamentData[[#This Row],[Team Number]],CoreValuesResults[Team Number],0))),0, INDEX(CoreValuesResults[Motivate Selection],MATCH(TournamentData[[#This Row],[Team Number]],CoreValuesResults[Team Number],0)))","v":0},null,null,null,{"$f":"IF(ISNA(INDEX(CoreValuesResults[Core Values Score],MATCH(TournamentData[[#This Row],[Team Number]],CoreValuesResults[Team Number],0))),0,INDEX(CoreValuesResults[Core Values Score],MATCH(TournamentData[[#This Row],[Team Number]],CoreValuesResults[Team Number],0)))","v":0},{"$f":"IF(ISNA(INDEX(InnovationProjectResults[Innovation Project Score],MATCH(TournamentData[[#This Row],[Team Number]],InnovationProjectResults[Team Number],0))),0,INDEX(InnovationProjectResults[Innovation Project Score],MATCH(TournamentData[[#This Row],[Team Number]],InnovationProjectResults[Team Number],0)))","v":0},{"$f":"IF(ISNA(INDEX(RobotDesignResults[Robot Design Score],MATCH(TournamentData[[#This Row],[Team Number]],RobotDesignResults[Team Number],0))),0,INDEX(RobotDesignResults[Robot Design Score],MATCH(TournamentData[[#This Row],[Team Number]],RobotDesignResults[Team Number],0)))","v":0},{"$f":"IF(ISERR(GEOMEAN(TournamentData[[#This Row],[Max Robot Game Score]],TournamentData[[#This Row],[Core Values Score]],TournamentData[[#This Row],[Innovattion Project Score]],TournamentData[[#This Row],[Robot Design Score]])),0,GEOMEAN(TournamentData[[#This Row],[Max Robot Game Score]],TournamentData[[#This Row],[Core Values Score]],TournamentData[[#This Row],[Innovattion Project Score]],TournamentData[[#This Row],[Robot Design Score]]))","v":0},0]
[null,{"$f":"IF(ISNA(INDEX(OfficialTeamList[Team Name],MATCH(TournamentData[[#This Row],[Team Number]], OfficialTeamList[Team Number],0))),\"\",INDEX(OfficialTeamList[Team Name],MATCH(TournamentData[[#This Row],[Team Number]], OfficialTeamList[Team Number],0)))","v":""},{"$f":"IF(TournamentData[[#This Row],[Team Number]]=\"\",\"\",IF(ISNA(INDEX('Robot Game Scores'!D:D,MATCH(TournamentData[[#This Row],[Team Number]], 'Robot Game Scores'!$B:$B,0))),0,INDEX('Robot Game Scores'!D:D,MATCH(TournamentData[[#This Row],[Team Number]], 'Robot Game Scores'!$B:$B,0))))","v":""},{"$f":"IF(TournamentData[[#This Row],[Team Number]]=\"\",\"\",IF(ISNA(INDEX('Robot Game Scores'!E:E,MATCH(TournamentData[[#This Row],[Team Number]], 'Robot Game Scores'!$B:$B,0))),0,INDEX('Robot Game Scores'!E:E,MATCH(TournamentData[[#This Row],[Team Number]], 'Robot Game Scores'!$B:$B,0))))","v":""},{"$f":"IF(TournamentData[[#This Row],[Team Number]]=\"\",\"\",IF(ISNA(INDEX('Robot Game Scores'!F:F,MATCH(TournamentData[[#This Row],[Team Number]], 'Robot Game Scores'!$B:$B,0))),0,INDEX('Robot Game Scores'!F:F,MATCH(TournamentData[[#This Row],[Team Number]], 'Robot Game Scores'!$B:$B,0))))","v":""},{"$f":"IF(TournamentData[[#This Row],[Team Number]]=\"\",\"\",IF(ISNA(INDEX('Robot Game Scores'!G:G,MATCH(TournamentData[[#This Row],[Team Number]], 'Robot Game Scores'!$B:$B,0))),0,INDEX('Robot Game Scores'!G:G,MATCH(TournamentData[[#This Row],[Team Number]], 'Robot Game Scores'!$B:$B,0))))","v":""},{"$f":"IF(TournamentData[[#This Row],[Team Number]]=\"\",\"\",IF(ISNA(INDEX('Robot Game Scores'!H:H,MATCH(TournamentData[[#This Row],[Team Number]], 'Robot Game Scores'!$B:$B,0))),0,INDEX('Robot Game Scores'!H:H,MATCH(TournamentData[[#This Row],[Team Number]], 'Robot Game Scores'!$B:$B,0))))","v":""},{"$f":"IF(TournamentData[[#This Row],[Team Number]]=\"\",\"\",IF(ISNA(LARGE(TournamentData[[#This Row],[Robot Game Score 1]:[Robot Game Score 5]],1)+0.0001*LARGE(TournamentData[[#This Row],[Robot Game Score 1]:[Robot Game Score 5]],2)+0.0000001*LARGE(TournamentData[[#This Row],[Robot Game Score 1]:[Robot Game Score 5]],3)+0.00000000001*LARGE(TournamentData[[#This Row],[Robot Game Score 1]:[Robot Game Score 5]],4)+0.00000000000001*LARGE(TournamentData[[#This Row],[Robot Game Score 1]:[Robot Game Score 5]],5)),0,LARGE(TournamentData[[#This Row],[Robot Game Score 1]:[Robot Game Score 5]],1)+0.0001*LARGE(TournamentData[[#This Row],[Robot Game Score 1]:[Robot Game Score 5]],2)+0.0000001*LARGE(TournamentData[[#This Row],[Robot Game Score 1]:[Robot Game Score 5]],3)+0.00000000001*LARGE(TournamentData[[#This Row],[Robot Game Score 1]:[Robot Game Score 5]],4)+0.00000000000001*LARGE(TournamentData[[#This Row],[Robot Game Score 1]:[Robot Game Score 5]],5)))","v":""},{"$f":"IF(TournamentData[[#This Row],[Team Number]]=\"\",\"\",_xlfn.RANK.EQ(TournamentData[[#This Row],[Max Robot Game Score]],TournamentData[Max Robot Game Score]))","v":""},{"$f":"IF(TournamentData[[#This Row],[Team Number]]=\"\",\"\",IF(ISNA(INDEX(CoreValuesResults[Core Values Rank],MATCH(TournamentData[[#This Row],[Team Number]],CoreValuesResults[Team Number],0))),NumberOfTeams+1,INDEX(CoreValuesResults[Core Values Rank],MATCH(TournamentData[[#This Row],[Team Number]],CoreValuesResults[Team Number],0))))","v":""},{"$f":"IF(TournamentData[[#This Row],[Team Number]]=\"\",\"\",IF(ISNA(INDEX(InnovationProjectResults[Innovation Project Rank],MATCH(TournamentData[[#This Row],[Team Number]],InnovationProjectResults[Team Number],0))),NumberOfTeams+1,INDEX(InnovationProjectResults[Innovation Project Rank],MATCH(TournamentData[[#This Row],[Team Number]],InnovationProjectResults[Team Number],0))))","v":""},{"$f":"IF(TournamentData[[#This Row],[Team Number]]=\"\",\"\",IF(ISNA(INDEX(RobotDesignResults[Robot Design Rank],MATCH(TournamentData[[#This Row],[Team Number]],RobotDesignResults[Team Number],0))),NumberOfTeams+1,INDEX(RobotDesignResults[Robot Design Rank],MATCH(TournamentData[[#This Row],[Team Number]],RobotDesignResults[Team Number],0))))","v":""},{"$f":" IF(TournamentData[[#This Row],[Team Number]]=\"\",\"\",IF(TournamentData[[#This Row],[Core Values Rank]]=\"\",NumberOfTeams+1,TournamentData[[#This Row],[Core Values Rank]]) + IF(TournamentData[[#This Row],[Innovation Project Rank]]=\"\",NumberOfTeams+1,TournamentData[[#This Row],[Innovation Project Rank]]) + IF(TournamentData[[#This Row],[Robot Design Rank]]=\"\",NumberOfTeams+1,TournamentData[[#This Row],[Robot Design Rank]]) + TournamentData[[#This Row],[Robot Game Rank]])","v":""},{"$f":"IF(TournamentData[[#This Row],[Team Number]]=\"\",\"\",IF(M87,RANK(M87,M$3:M$110,1)-COUNTIF(M$3:M$110,0),NumberOfTeams+1))","v":""},{"$f":"IF(ISNA(INDEX(CoreValuesResults[Breakthrough Selection],MATCH(TournamentData[[#This Row],[Team Number]],CoreValuesResults[Team Number],0))),0, INDEX(CoreValuesResults[Breakthrough Selection],MATCH(TournamentData[[#This Row],[Team Number]],CoreValuesResults[Team Number],0)))","v":0},{"$f":"IF(ISNA(INDEX(CoreValuesResults[Rising All-Star Selection],MATCH(TournamentData[[#This Row],[Team Number]],CoreValuesResults[Team Number],0))),0, INDEX(CoreValuesResults[Rising All-Star Selection],MATCH(TournamentData[[#This Row],[Team Number]],CoreValuesResults[Team Number],0)))","v":0},{"$f":"IF(ISNA(INDEX(CoreValuesResults[Motivate Selection],MATCH(TournamentData[[#This Row],[Team Number]],CoreValuesResults[Team Number],0))),0, INDEX(CoreValuesResults[Motivate Selection],MATCH(TournamentData[[#This Row],[Team Number]],CoreValuesResults[Team Number],0)))","v":0},null,null,null,{"$f":"IF(ISNA(INDEX(CoreValuesResults[Core Values Score],MATCH(TournamentData[[#This Row],[Team Number]],CoreValuesResults[Team Number],0))),0,INDEX(CoreValuesResults[Core Values Score],MATCH(TournamentData[[#This Row],[Team Number]],CoreValuesResults[Team Number],0)))","v":0},{"$f":"IF(ISNA(INDEX(InnovationProjectResults[Innovation Project Score],MATCH(TournamentData[[#This Row],[Team Number]],InnovationProjectResults[Team Number],0))),0,INDEX(InnovationProjectResults[Innovation Project Score],MATCH(TournamentData[[#This Row],[Team Number]],InnovationProjectResults[Team Number],0)))","v":0},{"$f":"IF(ISNA(INDEX(RobotDesignResults[Robot Design Score],MATCH(TournamentData[[#This Row],[Team Number]],RobotDesignResults[Team Number],0))),0,INDEX(RobotDesignResults[Robot Design Score],MATCH(TournamentData[[#This Row],[Team Number]],RobotDesignResults[Team Number],0)))","v":0},{"$f":"IF(ISERR(GEOMEAN(TournamentData[[#This Row],[Max Robot Game Score]],TournamentData[[#This Row],[Core Values Score]],TournamentData[[#This Row],[Innovattion Project Score]],TournamentData[[#This Row],[Robot Design Score]])),0,GEOMEAN(TournamentData[[#This Row],[Max Robot Game Score]],TournamentData[[#This Row],[Core Values Score]],TournamentData[[#This Row],[Innovattion Project Score]],TournamentData[[#This Row],[Robot Design Score]]))","v":0},0]
[null,{"$f":"IF(ISNA(INDEX(OfficialTeamList[Team Name],MATCH(TournamentData[[#This Row],[Team Number]], OfficialTeamList[Team Number],0))),\"\",INDEX(OfficialTeamList[Team Name],MATCH(TournamentData[[#This Row],[Team Number]], OfficialTeamList[Team Number],0)))","v":""},{"$f":"IF(TournamentData[[#This Row],[Team Number]]=\"\",\"\",IF(ISNA(INDEX('Robot Game Scores'!D:D,MATCH(TournamentData[[#This Row],[Team Number]], 'Robot Game Scores'!$B:$B,0))),0,INDEX('Robot Game Scores'!D:D,MATCH(TournamentData[[#This Row],[Team Number]], 'Robot Game Scores'!$B:$B,0))))","v":""},{"$f":"IF(TournamentData[[#This Row],[Team Number]]=\"\",\"\",IF(ISNA(INDEX('Robot Game Scores'!E:E,MATCH(TournamentData[[#This Row],[Team Number]], 'Robot Game Scores'!$B:$B,0))),0,INDEX('Robot Game Scores'!E:E,MATCH(TournamentData[[#This Row],[Team Number]], 'Robot Game Scores'!$B:$B,0))))","v":""},{"$f":"IF(TournamentData[[#This Row],[Team Number]]=\"\",\"\",IF(ISNA(INDEX('Robot Game Scores'!F:F,MATCH(TournamentData[[#This Row],[Team Number]], 'Robot Game Scores'!$B:$B,0))),0,INDEX('Robot Game Scores'!F:F,MATCH(TournamentData[[#This Row],[Team Number]], 'Robot Game Scores'!$B:$B,0))))","v":""},{"$f":"IF(TournamentData[[#This Row],[Team Number]]=\"\",\"\",IF(ISNA(INDEX('Robot Game Scores'!G:G,MATCH(TournamentData[[#This Row],[Team Number]], 'Robot Game Scores'!$B:$B,0))),0,INDEX('Robot Game Scores'!G:G,MATCH(TournamentData[[#This Row],[Team Number]], 'Robot Game Scores'!$B:$B,0))))","v":""},{"$f":"IF(TournamentData[[#This Row],[Team Number]]=\"\",\"\",IF(ISNA(INDEX('Robot Game Scores'!H:H,MATCH(TournamentData[[#This Row],[Team Number]], 'Robot Game Scores'!$B:$B,0))),0,INDEX('Robot Game Scores'!H:H,MATCH(TournamentData[[#This Row],[Team Number]], 'Robot Game Scores'!$B:$B,0))))","v":""},{"$f":"IF(TournamentData[[#This Row],[Team Number]]=\"\",\"\",IF(ISNA(LARGE(TournamentData[[#This Row],[Robot Game Score 1]:[Robot Game Score 5]],1)+0.0001*LARGE(TournamentData[[#This Row],[Robot Game Score 1]:[Robot Game Score 5]],2)+0.0000001*LARGE(TournamentData[[#This Row],[Robot Game Score 1]:[Robot Game Score 5]],3)+0.00000000001*LARGE(TournamentData[[#This Row],[Robot Game Score 1]:[Robot Game Score 5]],4)+0.00000000000001*LARGE(TournamentData[[#This Row],[Robot Game Score 1]:[Robot Game Score 5]],5)),0,LARGE(TournamentData[[#This Row],[Robot Game Score 1]:[Robot Game Score 5]],1)+0.0001*LARGE(TournamentData[[#This Row],[Robot Game Score 1]:[Robot Game Score 5]],2)+0.0000001*LARGE(TournamentData[[#This Row],[Robot Game Score 1]:[Robot Game Score 5]],3)+0.00000000001*LARGE(TournamentData[[#This Row],[Robot Game Score 1]:[Robot Game Score 5]],4)+0.00000000000001*LARGE(TournamentData[[#This Row],[Robot Game Score 1]:[Robot Game Score 5]],5)))","v":""},{"$f":"IF(TournamentData[[#This Row],[Team Number]]=\"\",\"\",_xlfn.RANK.EQ(TournamentData[[#This Row],[Max Robot Game Score]],TournamentData[Max Robot Game Score]))","v":""},{"$f":"IF(TournamentData[[#This Row],[Team Number]]=\"\",\"\",IF(ISNA(INDEX(CoreValuesResults[Core Values Rank],MATCH(TournamentData[[#This Row],[Team Number]],CoreValuesResults[Team Number],0))),NumberOfTeams+1,INDEX(CoreValuesResults[Core Values Rank],MATCH(TournamentData[[#This Row],[Team Number]],CoreValuesResults[Team Number],0))))","v":""},{"$f":"IF(TournamentData[[#This Row],[Team Number]]=\"\",\"\",IF(ISNA(INDEX(InnovationProjectResults[Innovation Project Rank],MATCH(TournamentData[[#This Row],[Team Number]],InnovationProjectResults[Team Number],0))),NumberOfTeams+1,INDEX(InnovationProjectResults[Innovation Project Rank],MATCH(TournamentData[[#This Row],[Team Number]],InnovationProjectResults[Team Number],0))))","v":""},{"$f":"IF(TournamentData[[#This Row],[Team Number]]=\"\",\"\",IF(ISNA(INDEX(RobotDesignResults[Robot Design Rank],MATCH(TournamentData[[#This Row],[Team Number]],RobotDesignResults[Team Number],0))),NumberOfTeams+1,INDEX(RobotDesignResults[Robot Design Rank],MATCH(TournamentData[[#This Row],[Team Number]],RobotDesignResults[Team Number],0))))","v":""},{"$f":" IF(TournamentData[[#This Row],[Team Number]]=\"\",\"\",IF(TournamentData[[#This Row],[Core Values Rank]]=\"\",NumberOfTeams+1,TournamentData[[#This Row],[Core Values Rank]]) + IF(TournamentData[[#This Row],[Innovation Project Rank]]=\"\",NumberOfTeams+1,TournamentData[[#This Row],[Innovation Project Rank]]) + IF(TournamentData[[#This Row],[Robot Design Rank]]=\"\",NumberOfTeams+1,TournamentData[[#This Row],[Robot Design Rank]]) + TournamentData[[#This Row],[Robot Game Rank]])","v":""},{"$f":"IF(TournamentData[[#This Row],[Team Number]]=\"\",\"\",IF(M88,RANK(M88,M$3:M$110,1)-COUNTIF(M$3:M$110,0),NumberOfTeams+1))","v":""},{"$f":"IF(ISNA(INDEX(CoreValuesResults[Breakthrough Selection],MATCH(TournamentData[[#This Row],[Team Number]],CoreValuesResults[Team Number],0))),0, INDEX(CoreValuesResults[Breakthrough Selection],MATCH(TournamentData[[#This Row],[Team Number]],CoreValuesResults[Team Number],0)))","v":0},{"$f":"IF(ISNA(INDEX(CoreValuesResults[Rising All-Star Selection],MATCH(TournamentData[[#This Row],[Team Number]],CoreValuesResults[Team Number],0))),0, INDEX(CoreValuesResults[Rising All-Star Selection],MATCH(TournamentData[[#This Row],[Team Number]],CoreValuesResults[Team Number],0)))","v":0},{"$f":"IF(ISNA(INDEX(CoreValuesResults[Motivate Selection],MATCH(TournamentData[[#This Row],[Team Number]],CoreValuesResults[Team Number],0))),0, INDEX(CoreValuesResults[Motivate Selection],MATCH(TournamentData[[#This Row],[Team Number]],CoreValuesResults[Team Number],0)))","v":0},null,null,null,{"$f":"IF(ISNA(INDEX(CoreValuesResults[Core Values Score],MATCH(TournamentData[[#This Row],[Team Number]],CoreValuesResults[Team Number],0))),0,INDEX(CoreValuesResults[Core Values Score],MATCH(TournamentData[[#This Row],[Team Number]],CoreValuesResults[Team Number],0)))","v":0},{"$f":"IF(ISNA(INDEX(InnovationProjectResults[Innovation Project Score],MATCH(TournamentData[[#This Row],[Team Number]],InnovationProjectResults[Team Number],0))),0,INDEX(InnovationProjectResults[Innovation Project Score],MATCH(TournamentData[[#This Row],[Team Number]],InnovationProjectResults[Team Number],0)))","v":0},{"$f":"IF(ISNA(INDEX(RobotDesignResults[Robot Design Score],MATCH(TournamentData[[#This Row],[Team Number]],RobotDesignResults[Team Number],0))),0,INDEX(RobotDesignResults[Robot Design Score],MATCH(TournamentData[[#This Row],[Team Number]],RobotDesignResults[Team Number],0)))","v":0},{"$f":"IF(ISERR(GEOMEAN(TournamentData[[#This Row],[Max Robot Game Score]],TournamentData[[#This Row],[Core Values Score]],TournamentData[[#This Row],[Innovattion Project Score]],TournamentData[[#This Row],[Robot Design Score]])),0,GEOMEAN(TournamentData[[#This Row],[Max Robot Game Score]],TournamentData[[#This Row],[Core Values Score]],TournamentData[[#This Row],[Innovattion Project Score]],TournamentData[[#This Row],[Robot Design Score]]))","v":0},0]
[null,{"$f":"IF(ISNA(INDEX(OfficialTeamList[Team Name],MATCH(TournamentData[[#This Row],[Team Number]], OfficialTeamList[Team Number],0))),\"\",INDEX(OfficialTeamList[Team Name],MATCH(TournamentData[[#This Row],[Team Number]], OfficialTeamList[Team Number],0)))","v":""},{"$f":"IF(TournamentData[[#This Row],[Team Number]]=\"\",\"\",IF(ISNA(INDEX('Robot Game Scores'!D:D,MATCH(TournamentData[[#This Row],[Team Number]], 'Robot Game Scores'!$B:$B,0))),0,INDEX('Robot Game Scores'!D:D,MATCH(TournamentData[[#This Row],[Team Number]], 'Robot Game Scores'!$B:$B,0))))","v":""},{"$f":"IF(TournamentData[[#This Row],[Team Number]]=\"\",\"\",IF(ISNA(INDEX('Robot Game Scores'!E:E,MATCH(TournamentData[[#This Row],[Team Number]], 'Robot Game Scores'!$B:$B,0))),0,INDEX('Robot Game Scores'!E:E,MATCH(TournamentData[[#This Row],[Team Number]], 'Robot Game Scores'!$B:$B,0))))","v":""},{"$f":"IF(TournamentData[[#This Row],[Team Number]]=\"\",\"\",IF(ISNA(INDEX('Robot Game Scores'!F:F,MATCH(TournamentData[[#This Row],[Team Number]], 'Robot Game Scores'!$B:$B,0))),0,INDEX('Robot Game Scores'!F:F,MATCH(TournamentData[[#This Row],[Team Number]], 'Robot Game Scores'!$B:$B,0))))","v":""},{"$f":"IF(TournamentData[[#This Row],[Team Number]]=\"\",\"\",IF(ISNA(INDEX('Robot Game Scores'!G:G,MATCH(TournamentData[[#This Row],[Team Number]], 'Robot Game Scores'!$B:$B,0))),0,INDEX('Robot Game Scores'!G:G,MATCH(TournamentData[[#This Row],[Team Number]], 'Robot Game Scores'!$B:$B,0))))","v":""},{"$f":"IF(TournamentData[[#This Row],[Team Number]]=\"\",\"\",IF(ISNA(INDEX('Robot Game Scores'!H:H,MATCH(TournamentData[[#This Row],[Team Number]], 'Robot Game Scores'!$B:$B,0))),0,INDEX('Robot Game Scores'!H:H,MATCH(TournamentData[[#This Row],[Team Number]], 'Robot Game Scores'!$B:$B,0))))","v":""},{"$f":"IF(TournamentData[[#This Row],[Team Number]]=\"\",\"\",IF(ISNA(LARGE(TournamentData[[#This Row],[Robot Game Score 1]:[Robot Game Score 5]],1)+0.0001*LARGE(TournamentData[[#This Row],[Robot Game Score 1]:[Robot Game Score 5]],2)+0.0000001*LARGE(TournamentData[[#This Row],[Robot Game Score 1]:[Robot Game Score 5]],3)+0.00000000001*LARGE(TournamentData[[#This Row],[Robot Game Score 1]:[Robot Game Score 5]],4)+0.00000000000001*LARGE(TournamentData[[#This Row],[Robot Game Score 1]:[Robot Game Score 5]],5)),0,LARGE(TournamentData[[#This Row],[Robot Game Score 1]:[Robot Game Score 5]],1)+0.0001*LARGE(TournamentData[[#This Row],[Robot Game Score 1]:[Robot Game Score 5]],2)+0.0000001*LARGE(TournamentData[[#This Row],[Robot Game Score 1]:[Robot Game Score 5]],3)+0.00000000001*LARGE(TournamentData[[#This Row],[Robot Game Score 1]:[Robot Game Score 5]],4)+0.00000000000001*LARGE(TournamentData[[#This Row],[Robot Game Score 1]:[Robot Game Score 5]],5)))","v":""},{"$f":"IF(TournamentData[[#This Row],[Team Number]]=\"\",\"\",_xlfn.RANK.EQ(TournamentData[[#This Row],[Max Robot Game Score]],TournamentData[Max Robot Game Score]))","v":""},{"$f":"IF(TournamentData[[#This Row],[Team Number]]=\"\",\"\",IF(ISNA(INDEX(CoreValuesResults[Core Values Rank],MATCH(TournamentData[[#This Row],[Team Number]],CoreValuesResults[Team Number],0))),NumberOfTeams+1,INDEX(CoreValuesResults[Core Values Rank],MATCH(TournamentData[[#This Row],[Team Number]],CoreValuesResults[Team Number],0))))","v":""},{"$f":"IF(TournamentData[[#This Row],[Team Number]]=\"\",\"\",IF(ISNA(INDEX(InnovationProjectResults[Innovation Project Rank],MATCH(TournamentData[[#This Row],[Team Number]],InnovationProjectResults[Team Number],0))),NumberOfTeams+1,INDEX(InnovationProjectResults[Innovation Project Rank],MATCH(TournamentData[[#This Row],[Team Number]],InnovationProjectResults[Team Number],0))))","v":""},{"$f":"IF(TournamentData[[#This Row],[Team Number]]=\"\",\"\",IF(ISNA(INDEX(RobotDesignResults[Robot Design Rank],MATCH(TournamentData[[#This Row],[Team Number]],RobotDesignResults[Team Number],0))),NumberOfTeams+1,INDEX(RobotDesignResults[Robot Design Rank],MATCH(TournamentData[[#This Row],[Team Number]],RobotDesignResults[Team Number],0))))","v":""},{"$f":" IF(TournamentData[[#This Row],[Team Number]]=\"\",\"\",IF(TournamentData[[#This Row],[Core Values Rank]]=\"\",NumberOfTeams+1,TournamentData[[#This Row],[Core Values Rank]]) + IF(TournamentData[[#This Row],[Innovation Project Rank]]=\"\",NumberOfTeams+1,TournamentData[[#This Row],[Innovation Project Rank]]) + IF(TournamentData[[#This Row],[Robot Design Rank]]=\"\",NumberOfTeams+1,TournamentData[[#This Row],[Robot Design Rank]]) + TournamentData[[#This Row],[Robot Game Rank]])","v":""},{"$f":"IF(TournamentData[[#This Row],[Team Number]]=\"\",\"\",IF(M89,RANK(M89,M$3:M$110,1)-COUNTIF(M$3:M$110,0),NumberOfTeams+1))","v":""},{"$f":"IF(ISNA(INDEX(CoreValuesResults[Breakthrough Selection],MATCH(TournamentData[[#This Row],[Team Number]],CoreValuesResults[Team Number],0))),0, INDEX(CoreValuesResults[Breakthrough Selection],MATCH(TournamentData[[#This Row],[Team Number]],CoreValuesResults[Team Number],0)))","v":0},{"$f":"IF(ISNA(INDEX(CoreValuesResults[Rising All-Star Selection],MATCH(TournamentData[[#This Row],[Team Number]],CoreValuesResults[Team Number],0))),0, INDEX(CoreValuesResults[Rising All-Star Selection],MATCH(TournamentData[[#This Row],[Team Number]],CoreValuesResults[Team Number],0)))","v":0},{"$f":"IF(ISNA(INDEX(CoreValuesResults[Motivate Selection],MATCH(TournamentData[[#This Row],[Team Number]],CoreValuesResults[Team Number],0))),0, INDEX(CoreValuesResults[Motivate Selection],MATCH(TournamentData[[#This Row],[Team Number]],CoreValuesResults[Team Number],0)))","v":0},null,null,null,{"$f":"IF(ISNA(INDEX(CoreValuesResults[Core Values Score],MATCH(TournamentData[[#This Row],[Team Number]],CoreValuesResults[Team Number],0))),0,INDEX(CoreValuesResults[Core Values Score],MATCH(TournamentData[[#This Row],[Team Number]],CoreValuesResults[Team Number],0)))","v":0},{"$f":"IF(ISNA(INDEX(InnovationProjectResults[Innovation Project Score],MATCH(TournamentData[[#This Row],[Team Number]],InnovationProjectResults[Team Number],0))),0,INDEX(InnovationProjectResults[Innovation Project Score],MATCH(TournamentData[[#This Row],[Team Number]],InnovationProjectResults[Team Number],0)))","v":0},{"$f":"IF(ISNA(INDEX(RobotDesignResults[Robot Design Score],MATCH(TournamentData[[#This Row],[Team Number]],RobotDesignResults[Team Number],0))),0,INDEX(RobotDesignResults[Robot Design Score],MATCH(TournamentData[[#This Row],[Team Number]],RobotDesignResults[Team Number],0)))","v":0},{"$f":"IF(ISERR(GEOMEAN(TournamentData[[#This Row],[Max Robot Game Score]],TournamentData[[#This Row],[Core Values Score]],TournamentData[[#This Row],[Innovattion Project Score]],TournamentData[[#This Row],[Robot Design Score]])),0,GEOMEAN(TournamentData[[#This Row],[Max Robot Game Score]],TournamentData[[#This Row],[Core Values Score]],TournamentData[[#This Row],[Innovattion Project Score]],TournamentData[[#This Row],[Robot Design Score]]))","v":0},0]
[null,{"$f":"IF(ISNA(INDEX(OfficialTeamList[Team Name],MATCH(TournamentData[[#This Row],[Team Number]], OfficialTeamList[Team Number],0))),\"\",INDEX(OfficialTeamList[Team Name],MATCH(TournamentData[[#This Row],[Team Number]], OfficialTeamList[Team Number],0)))","v":""},{"$f":"IF(TournamentData[[#This Row],[Team Number]]=\"\",\"\",IF(ISNA(INDEX('Robot Game Scores'!D:D,MATCH(TournamentData[[#This Row],[Team Number]], 'Robot Game Scores'!$B:$B,0))),0,INDEX('Robot Game Scores'!D:D,MATCH(TournamentData[[#This Row],[Team Number]], 'Robot Game Scores'!$B:$B,0))))","v":""},{"$f":"IF(TournamentData[[#This Row],[Team Number]]=\"\",\"\",IF(ISNA(INDEX('Robot Game Scores'!E:E,MATCH(TournamentData[[#This Row],[Team Number]], 'Robot Game Scores'!$B:$B,0))),0,INDEX('Robot Game Scores'!E:E,MATCH(TournamentData[[#This Row],[Team Number]], 'Robot Game Scores'!$B:$B,0))))","v":""},{"$f":"IF(TournamentData[[#This Row],[Team Number]]=\"\",\"\",IF(ISNA(INDEX('Robot Game Scores'!F:F,MATCH(TournamentData[[#This Row],[Team Number]], 'Robot Game Scores'!$B:$B,0))),0,INDEX('Robot Game Scores'!F:F,MATCH(TournamentData[[#This Row],[Team Number]], 'Robot Game Scores'!$B:$B,0))))","v":""},{"$f":"IF(TournamentData[[#This Row],[Team Number]]=\"\",\"\",IF(ISNA(INDEX('Robot Game Scores'!G:G,MATCH(TournamentData[[#This Row],[Team Number]], 'Robot Game Scores'!$B:$B,0))),0,INDEX('Robot Game Scores'!G:G,MATCH(TournamentData[[#This Row],[Team Number]], 'Robot Game Scores'!$B:$B,0))))","v":""},{"$f":"IF(TournamentData[[#This Row],[Team Number]]=\"\",\"\",IF(ISNA(INDEX('Robot Game Scores'!H:H,MATCH(TournamentData[[#This Row],[Team Number]], 'Robot Game Scores'!$B:$B,0))),0,INDEX('Robot Game Scores'!H:H,MATCH(TournamentData[[#This Row],[Team Number]], 'Robot Game Scores'!$B:$B,0))))","v":""},{"$f":"IF(TournamentData[[#This Row],[Team Number]]=\"\",\"\",IF(ISNA(LARGE(TournamentData[[#This Row],[Robot Game Score 1]:[Robot Game Score 5]],1)+0.0001*LARGE(TournamentData[[#This Row],[Robot Game Score 1]:[Robot Game Score 5]],2)+0.0000001*LARGE(TournamentData[[#This Row],[Robot Game Score 1]:[Robot Game Score 5]],3)+0.00000000001*LARGE(TournamentData[[#This Row],[Robot Game Score 1]:[Robot Game Score 5]],4)+0.00000000000001*LARGE(TournamentData[[#This Row],[Robot Game Score 1]:[Robot Game Score 5]],5)),0,LARGE(TournamentData[[#This Row],[Robot Game Score 1]:[Robot Game Score 5]],1)+0.0001*LARGE(TournamentData[[#This Row],[Robot Game Score 1]:[Robot Game Score 5]],2)+0.0000001*LARGE(TournamentData[[#This Row],[Robot Game Score 1]:[Robot Game Score 5]],3)+0.00000000001*LARGE(TournamentData[[#This Row],[Robot Game Score 1]:[Robot Game Score 5]],4)+0.00000000000001*LARGE(TournamentData[[#This Row],[Robot Game Score 1]:[Robot Game Score 5]],5)))","v":""},{"$f":"IF(TournamentData[[#This Row],[Team Number]]=\"\",\"\",_xlfn.RANK.EQ(TournamentData[[#This Row],[Max Robot Game Score]],TournamentData[Max Robot Game Score]))","v":""},{"$f":"IF(TournamentData[[#This Row],[Team Number]]=\"\",\"\",IF(ISNA(INDEX(CoreValuesResults[Core Values Rank],MATCH(TournamentData[[#This Row],[Team Number]],CoreValuesResults[Team Number],0))),NumberOfTeams+1,INDEX(CoreValuesResults[Core Values Rank],MATCH(TournamentData[[#This Row],[Team Number]],CoreValuesResults[Team Number],0))))","v":""},{"$f":"IF(TournamentData[[#This Row],[Team Number]]=\"\",\"\",IF(ISNA(INDEX(InnovationProjectResults[Innovation Project Rank],MATCH(TournamentData[[#This Row],[Team Number]],InnovationProjectResults[Team Number],0))),NumberOfTeams+1,INDEX(InnovationProjectResults[Innovation Project Rank],MATCH(TournamentData[[#This Row],[Team Number]],InnovationProjectResults[Team Number],0))))","v":""},{"$f":"IF(TournamentData[[#This Row],[Team Number]]=\"\",\"\",IF(ISNA(INDEX(RobotDesignResults[Robot Design Rank],MATCH(TournamentData[[#This Row],[Team Number]],RobotDesignResults[Team Number],0))),NumberOfTeams+1,INDEX(RobotDesignResults[Robot Design Rank],MATCH(TournamentData[[#This Row],[Team Number]],RobotDesignResults[Team Number],0))))","v":""},{"$f":" IF(TournamentData[[#This Row],[Team Number]]=\"\",\"\",IF(TournamentData[[#This Row],[Core Values Rank]]=\"\",NumberOfTeams+1,TournamentData[[#This Row],[Core Values Rank]]) + IF(TournamentData[[#This Row],[Innovation Project Rank]]=\"\",NumberOfTeams+1,TournamentData[[#This Row],[Innovation Project Rank]]) + IF(TournamentData[[#This Row],[Robot Design Rank]]=\"\",NumberOfTeams+1,TournamentData[[#This Row],[Robot Design Rank]]) + TournamentData[[#This Row],[Robot Game Rank]])","v":""},{"$f":"IF(TournamentData[[#This Row],[Team Number]]=\"\",\"\",IF(M90,RANK(M90,M$3:M$110,1)-COUNTIF(M$3:M$110,0),NumberOfTeams+1))","v":""},{"$f":"IF(ISNA(INDEX(CoreValuesResults[Breakthrough Selection],MATCH(TournamentData[[#This Row],[Team Number]],CoreValuesResults[Team Number],0))),0, INDEX(CoreValuesResults[Breakthrough Selection],MATCH(TournamentData[[#This Row],[Team Number]],CoreValuesResults[Team Number],0)))","v":0},{"$f":"IF(ISNA(INDEX(CoreValuesResults[Rising All-Star Selection],MATCH(TournamentData[[#This Row],[Team Number]],CoreValuesResults[Team Number],0))),0, INDEX(CoreValuesResults[Rising All-Star Selection],MATCH(TournamentData[[#This Row],[Team Number]],CoreValuesResults[Team Number],0)))","v":0},{"$f":"IF(ISNA(INDEX(CoreValuesResults[Motivate Selection],MATCH(TournamentData[[#This Row],[Team Number]],CoreValuesResults[Team Number],0))),0, INDEX(CoreValuesResults[Motivate Selection],MATCH(TournamentData[[#This Row],[Team Number]],CoreValuesResults[Team Number],0)))","v":0},null,null,null,{"$f":"IF(ISNA(INDEX(CoreValuesResults[Core Values Score],MATCH(TournamentData[[#This Row],[Team Number]],CoreValuesResults[Team Number],0))),0,INDEX(CoreValuesResults[Core Values Score],MATCH(TournamentData[[#This Row],[Team Number]],CoreValuesResults[Team Number],0)))","v":0},{"$f":"IF(ISNA(INDEX(InnovationProjectResults[Innovation Project Score],MATCH(TournamentData[[#This Row],[Team Number]],InnovationProjectResults[Team Number],0))),0,INDEX(InnovationProjectResults[Innovation Project Score],MATCH(TournamentData[[#This Row],[Team Number]],InnovationProjectResults[Team Number],0)))","v":0},{"$f":"IF(ISNA(INDEX(RobotDesignResults[Robot Design Score],MATCH(TournamentData[[#This Row],[Team Number]],RobotDesignResults[Team Number],0))),0,INDEX(RobotDesignResults[Robot Design Score],MATCH(TournamentData[[#This Row],[Team Number]],RobotDesignResults[Team Number],0)))","v":0},{"$f":"IF(ISERR(GEOMEAN(TournamentData[[#This Row],[Max Robot Game Score]],TournamentData[[#This Row],[Core Values Score]],TournamentData[[#This Row],[Innovattion Project Score]],TournamentData[[#This Row],[Robot Design Score]])),0,GEOMEAN(TournamentData[[#This Row],[Max Robot Game Score]],TournamentData[[#This Row],[Core Values Score]],TournamentData[[#This Row],[Innovattion Project Score]],TournamentData[[#This Row],[Robot Design Score]]))","v":0},0]
[null,{"$f":"IF(ISNA(INDEX(OfficialTeamList[Team Name],MATCH(TournamentData[[#This Row],[Team Number]], OfficialTeamList[Team Number],0))),\"\",INDEX(OfficialTeamList[Team Name],MATCH(TournamentData[[#This Row],[Team Number]], OfficialTeamList[Team Number],0)))","v":""},{"$f":"IF(TournamentData[[#This Row],[Team Number]]=\"\",\"\",IF(ISNA(INDEX('Robot Game Scores'!D:D,MATCH(TournamentData[[#This Row],[Team Number]], 'Robot Game Scores'!$B:$B,0))),0,INDEX('Robot Game Scores'!D:D,MATCH(TournamentData[[#This Row],[Team Number]], 'Robot Game Scores'!$B:$B,0))))","v":""},{"$f":"IF(TournamentData[[#This Row],[Team Number]]=\"\",\"\",IF(ISNA(INDEX('Robot Game Scores'!E:E,MATCH(TournamentData[[#This Row],[Team Number]], 'Robot Game Scores'!$B:$B,0))),0,INDEX('Robot Game Scores'!E:E,MATCH(TournamentData[[#This Row],[Team Number]], 'Robot Game Scores'!$B:$B,0))))","v":""},{"$f":"IF(TournamentData[[#This Row],[Team Number]]=\"\",\"\",IF(ISNA(INDEX('Robot Game Scores'!F:F,MATCH(TournamentData[[#This Row],[Team Number]], 'Robot Game Scores'!$B:$B,0))),0,INDEX('Robot Game Scores'!F:F,MATCH(TournamentData[[#This Row],[Team Number]], 'Robot Game Scores'!$B:$B,0))))","v":""},{"$f":"IF(TournamentData[[#This Row],[Team Number]]=\"\",\"\",IF(ISNA(INDEX('Robot Game Scores'!G:G,MATCH(TournamentData[[#This Row],[Team Number]], 'Robot Game Scores'!$B:$B,0))),0,INDEX('Robot Game Scores'!G:G,MATCH(TournamentData[[#This Row],[Team Number]], 'Robot Game Scores'!$B:$B,0))))","v":""},{"$f":"IF(TournamentData[[#This Row],[Team Number]]=\"\",\"\",IF(ISNA(INDEX('Robot Game Scores'!H:H,MATCH(TournamentData[[#This Row],[Team Number]], 'Robot Game Scores'!$B:$B,0))),0,INDEX('Robot Game Scores'!H:H,MATCH(TournamentData[[#This Row],[Team Number]], 'Robot Game Scores'!$B:$B,0))))","v":""},{"$f":"IF(TournamentData[[#This Row],[Team Number]]=\"\",\"\",IF(ISNA(LARGE(TournamentData[[#This Row],[Robot Game Score 1]:[Robot Game Score 5]],1)+0.0001*LARGE(TournamentData[[#This Row],[Robot Game Score 1]:[Robot Game Score 5]],2)+0.0000001*LARGE(TournamentData[[#This Row],[Robot Game Score 1]:[Robot Game Score 5]],3)+0.00000000001*LARGE(TournamentData[[#This Row],[Robot Game Score 1]:[Robot Game Score 5]],4)+0.00000000000001*LARGE(TournamentData[[#This Row],[Robot Game Score 1]:[Robot Game Score 5]],5)),0,LARGE(TournamentData[[#This Row],[Robot Game Score 1]:[Robot Game Score 5]],1)+0.0001*LARGE(TournamentData[[#This Row],[Robot Game Score 1]:[Robot Game Score 5]],2)+0.0000001*LARGE(TournamentData[[#This Row],[Robot Game Score 1]:[Robot Game Score 5]],3)+0.00000000001*LARGE(TournamentData[[#This Row],[Robot Game Score 1]:[Robot Game Score 5]],4)+0.00000000000001*LARGE(TournamentData[[#This Row],[Robot Game Score 1]:[Robot Game Score 5]],5)))","v":""},{"$f":"IF(TournamentData[[#This Row],[Team Number]]=\"\",\"\",_xlfn.RANK.EQ(TournamentData[[#This Row],[Max Robot Game Score]],TournamentData[Max Robot Game Score]))","v":""},{"$f":"IF(TournamentData[[#This Row],[Team Number]]=\"\",\"\",IF(ISNA(INDEX(CoreValuesResults[Core Values Rank],MATCH(TournamentData[[#This Row],[Team Number]],CoreValuesResults[Team Number],0))),NumberOfTeams+1,INDEX(CoreValuesResults[Core Values Rank],MATCH(TournamentData[[#This Row],[Team Number]],CoreValuesResults[Team Number],0))))","v":""},{"$f":"IF(TournamentData[[#This Row],[Team Number]]=\"\",\"\",IF(ISNA(INDEX(InnovationProjectResults[Innovation Project Rank],MATCH(TournamentData[[#This Row],[Team Number]],InnovationProjectResults[Team Number],0))),NumberOfTeams+1,INDEX(InnovationProjectResults[Innovation Project Rank],MATCH(TournamentData[[#This Row],[Team Number]],InnovationProjectResults[Team Number],0))))","v":""},{"$f":"IF(TournamentData[[#This Row],[Team Number]]=\"\",\"\",IF(ISNA(INDEX(RobotDesignResults[Robot Design Rank],MATCH(TournamentData[[#This Row],[Team Number]],RobotDesignResults[Team Number],0))),NumberOfTeams+1,INDEX(RobotDesignResults[Robot Design Rank],MATCH(TournamentData[[#This Row],[Team Number]],RobotDesignResults[Team Number],0))))","v":""},{"$f":" IF(TournamentData[[#This Row],[Team Number]]=\"\",\"\",IF(TournamentData[[#This Row],[Core Values Rank]]=\"\",NumberOfTeams+1,TournamentData[[#This Row],[Core Values Rank]]) + IF(TournamentData[[#This Row],[Innovation Project Rank]]=\"\",NumberOfTeams+1,TournamentData[[#This Row],[Innovation Project Rank]]) + IF(TournamentData[[#This Row],[Robot Design Rank]]=\"\",NumberOfTeams+1,TournamentData[[#This Row],[Robot Design Rank]]) + TournamentData[[#This Row],[Robot Game Rank]])","v":""},{"$f":"IF(TournamentData[[#This Row],[Team Number]]=\"\",\"\",IF(M91,RANK(M91,M$3:M$110,1)-COUNTIF(M$3:M$110,0),NumberOfTeams+1))","v":""},{"$f":"IF(ISNA(INDEX(CoreValuesResults[Breakthrough Selection],MATCH(TournamentData[[#This Row],[Team Number]],CoreValuesResults[Team Number],0))),0, INDEX(CoreValuesResults[Breakthrough Selection],MATCH(TournamentData[[#This Row],[Team Number]],CoreValuesResults[Team Number],0)))","v":0},{"$f":"IF(ISNA(INDEX(CoreValuesResults[Rising All-Star Selection],MATCH(TournamentData[[#This Row],[Team Number]],CoreValuesResults[Team Number],0))),0, INDEX(CoreValuesResults[Rising All-Star Selection],MATCH(TournamentData[[#This Row],[Team Number]],CoreValuesResults[Team Number],0)))","v":0},{"$f":"IF(ISNA(INDEX(CoreValuesResults[Motivate Selection],MATCH(TournamentData[[#This Row],[Team Number]],CoreValuesResults[Team Number],0))),0, INDEX(CoreValuesResults[Motivate Selection],MATCH(TournamentData[[#This Row],[Team Number]],CoreValuesResults[Team Number],0)))","v":0},null,null,null,{"$f":"IF(ISNA(INDEX(CoreValuesResults[Core Values Score],MATCH(TournamentData[[#This Row],[Team Number]],CoreValuesResults[Team Number],0))),0,INDEX(CoreValuesResults[Core Values Score],MATCH(TournamentData[[#This Row],[Team Number]],CoreValuesResults[Team Number],0)))","v":0},{"$f":"IF(ISNA(INDEX(InnovationProjectResults[Innovation Project Score],MATCH(TournamentData[[#This Row],[Team Number]],InnovationProjectResults[Team Number],0))),0,INDEX(InnovationProjectResults[Innovation Project Score],MATCH(TournamentData[[#This Row],[Team Number]],InnovationProjectResults[Team Number],0)))","v":0},{"$f":"IF(ISNA(INDEX(RobotDesignResults[Robot Design Score],MATCH(TournamentData[[#This Row],[Team Number]],RobotDesignResults[Team Number],0))),0,INDEX(RobotDesignResults[Robot Design Score],MATCH(TournamentData[[#This Row],[Team Number]],RobotDesignResults[Team Number],0)))","v":0},{"$f":"IF(ISERR(GEOMEAN(TournamentData[[#This Row],[Max Robot Game Score]],TournamentData[[#This Row],[Core Values Score]],TournamentData[[#This Row],[Innovattion Project Score]],TournamentData[[#This Row],[Robot Design Score]])),0,GEOMEAN(TournamentData[[#This Row],[Max Robot Game Score]],TournamentData[[#This Row],[Core Values Score]],TournamentData[[#This Row],[Innovattion Project Score]],TournamentData[[#This Row],[Robot Design Score]]))","v":0},0]
[null,{"$f":"IF(ISNA(INDEX(OfficialTeamList[Team Name],MATCH(TournamentData[[#This Row],[Team Number]], OfficialTeamList[Team Number],0))),\"\",INDEX(OfficialTeamList[Team Name],MATCH(TournamentData[[#This Row],[Team Number]], OfficialTeamList[Team Number],0)))","v":""},{"$f":"IF(TournamentData[[#This Row],[Team Number]]=\"\",\"\",IF(ISNA(INDEX('Robot Game Scores'!D:D,MATCH(TournamentData[[#This Row],[Team Number]], 'Robot Game Scores'!$B:$B,0))),0,INDEX('Robot Game Scores'!D:D,MATCH(TournamentData[[#This Row],[Team Number]], 'Robot Game Scores'!$B:$B,0))))","v":""},{"$f":"IF(TournamentData[[#This Row],[Team Number]]=\"\",\"\",IF(ISNA(INDEX('Robot Game Scores'!E:E,MATCH(TournamentData[[#This Row],[Team Number]], 'Robot Game Scores'!$B:$B,0))),0,INDEX('Robot Game Scores'!E:E,MATCH(TournamentData[[#This Row],[Team Number]], 'Robot Game Scores'!$B:$B,0))))","v":""},{"$f":"IF(TournamentData[[#This Row],[Team Number]]=\"\",\"\",IF(ISNA(INDEX('Robot Game Scores'!F:F,MATCH(TournamentData[[#This Row],[Team Number]], 'Robot Game Scores'!$B:$B,0))),0,INDEX('Robot Game Scores'!F:F,MATCH(TournamentData[[#This Row],[Team Number]], 'Robot Game Scores'!$B:$B,0))))","v":""},{"$f":"IF(TournamentData[[#This Row],[Team Number]]=\"\",\"\",IF(ISNA(INDEX('Robot Game Scores'!G:G,MATCH(TournamentData[[#This Row],[Team Number]], 'Robot Game Scores'!$B:$B,0))),0,INDEX('Robot Game Scores'!G:G,MATCH(TournamentData[[#This Row],[Team Number]], 'Robot Game Scores'!$B:$B,0))))","v":""},{"$f":"IF(TournamentData[[#This Row],[Team Number]]=\"\",\"\",IF(ISNA(INDEX('Robot Game Scores'!H:H,MATCH(TournamentData[[#This Row],[Team Number]], 'Robot Game Scores'!$B:$B,0))),0,INDEX('Robot Game Scores'!H:H,MATCH(TournamentData[[#This Row],[Team Number]], 'Robot Game Scores'!$B:$B,0))))","v":""},{"$f":"IF(TournamentData[[#This Row],[Team Number]]=\"\",\"\",IF(ISNA(LARGE(TournamentData[[#This Row],[Robot Game Score 1]:[Robot Game Score 5]],1)+0.0001*LARGE(TournamentData[[#This Row],[Robot Game Score 1]:[Robot Game Score 5]],2)+0.0000001*LARGE(TournamentData[[#This Row],[Robot Game Score 1]:[Robot Game Score 5]],3)+0.00000000001*LARGE(TournamentData[[#This Row],[Robot Game Score 1]:[Robot Game Score 5]],4)+0.00000000000001*LARGE(TournamentData[[#This Row],[Robot Game Score 1]:[Robot Game Score 5]],5)),0,LARGE(TournamentData[[#This Row],[Robot Game Score 1]:[Robot Game Score 5]],1)+0.0001*LARGE(TournamentData[[#This Row],[Robot Game Score 1]:[Robot Game Score 5]],2)+0.0000001*LARGE(TournamentData[[#This Row],[Robot Game Score 1]:[Robot Game Score 5]],3)+0.00000000001*LARGE(TournamentData[[#This Row],[Robot Game Score 1]:[Robot Game Score 5]],4)+0.00000000000001*LARGE(TournamentData[[#This Row],[Robot Game Score 1]:[Robot Game Score 5]],5)))","v":""},{"$f":"IF(TournamentData[[#This Row],[Team Number]]=\"\",\"\",_xlfn.RANK.EQ(TournamentData[[#This Row],[Max Robot Game Score]],TournamentData[Max Robot Game Score]))","v":""},{"$f":"IF(TournamentData[[#This Row],[Team Number]]=\"\",\"\",IF(ISNA(INDEX(CoreValuesResults[Core Values Rank],MATCH(TournamentData[[#This Row],[Team Number]],CoreValuesResults[Team Number],0))),NumberOfTeams+1,INDEX(CoreValuesResults[Core Values Rank],MATCH(TournamentData[[#This Row],[Team Number]],CoreValuesResults[Team Number],0))))","v":""},{"$f":"IF(TournamentData[[#This Row],[Team Number]]=\"\",\"\",IF(ISNA(INDEX(InnovationProjectResults[Innovation Project Rank],MATCH(TournamentData[[#This Row],[Team Number]],InnovationProjectResults[Team Number],0))),NumberOfTeams+1,INDEX(InnovationProjectResults[Innovation Project Rank],MATCH(TournamentData[[#This Row],[Team Number]],InnovationProjectResults[Team Number],0))))","v":""},{"$f":"IF(TournamentData[[#This Row],[Team Number]]=\"\",\"\",IF(ISNA(INDEX(RobotDesignResults[Robot Design Rank],MATCH(TournamentData[[#This Row],[Team Number]],RobotDesignResults[Team Number],0))),NumberOfTeams+1,INDEX(RobotDesignResults[Robot Design Rank],MATCH(TournamentData[[#This Row],[Team Number]],RobotDesignResults[Team Number],0))))","v":""},{"$f":" IF(TournamentData[[#This Row],[Team Number]]=\"\",\"\",IF(TournamentData[[#This Row],[Core Values Rank]]=\"\",NumberOfTeams+1,TournamentData[[#This Row],[Core Values Rank]]) + IF(TournamentData[[#This Row],[Innovation Project Rank]]=\"\",NumberOfTeams+1,TournamentData[[#This Row],[Innovation Project Rank]]) + IF(TournamentData[[#This Row],[Robot Design Rank]]=\"\",NumberOfTeams+1,TournamentData[[#This Row],[Robot Design Rank]]) + TournamentData[[#This Row],[Robot Game Rank]])","v":""},{"$f":"IF(TournamentData[[#This Row],[Team Number]]=\"\",\"\",IF(M92,RANK(M92,M$3:M$110,1)-COUNTIF(M$3:M$110,0),NumberOfTeams+1))","v":""},{"$f":"IF(ISNA(INDEX(CoreValuesResults[Breakthrough Selection],MATCH(TournamentData[[#This Row],[Team Number]],CoreValuesResults[Team Number],0))),0, INDEX(CoreValuesResults[Breakthrough Selection],MATCH(TournamentData[[#This Row],[Team Number]],CoreValuesResults[Team Number],0)))","v":0},{"$f":"IF(ISNA(INDEX(CoreValuesResults[Rising All-Star Selection],MATCH(TournamentData[[#This Row],[Team Number]],CoreValuesResults[Team Number],0))),0, INDEX(CoreValuesResults[Rising All-Star Selection],MATCH(TournamentData[[#This Row],[Team Number]],CoreValuesResults[Team Number],0)))","v":0},{"$f":"IF(ISNA(INDEX(CoreValuesResults[Motivate Selection],MATCH(TournamentData[[#This Row],[Team Number]],CoreValuesResults[Team Number],0))),0, INDEX(CoreValuesResults[Motivate Selection],MATCH(TournamentData[[#This Row],[Team Number]],CoreValuesResults[Team Number],0)))","v":0},null,null,null,{"$f":"IF(ISNA(INDEX(CoreValuesResults[Core Values Score],MATCH(TournamentData[[#This Row],[Team Number]],CoreValuesResults[Team Number],0))),0,INDEX(CoreValuesResults[Core Values Score],MATCH(TournamentData[[#This Row],[Team Number]],CoreValuesResults[Team Number],0)))","v":0},{"$f":"IF(ISNA(INDEX(InnovationProjectResults[Innovation Project Score],MATCH(TournamentData[[#This Row],[Team Number]],InnovationProjectResults[Team Number],0))),0,INDEX(InnovationProjectResults[Innovation Project Score],MATCH(TournamentData[[#This Row],[Team Number]],InnovationProjectResults[Team Number],0)))","v":0},{"$f":"IF(ISNA(INDEX(RobotDesignResults[Robot Design Score],MATCH(TournamentData[[#This Row],[Team Number]],RobotDesignResults[Team Number],0))),0,INDEX(RobotDesignResults[Robot Design Score],MATCH(TournamentData[[#This Row],[Team Number]],RobotDesignResults[Team Number],0)))","v":0},{"$f":"IF(ISERR(GEOMEAN(TournamentData[[#This Row],[Max Robot Game Score]],TournamentData[[#This Row],[Core Values Score]],TournamentData[[#This Row],[Innovattion Project Score]],TournamentData[[#This Row],[Robot Design Score]])),0,GEOMEAN(TournamentData[[#This Row],[Max Robot Game Score]],TournamentData[[#This Row],[Core Values Score]],TournamentData[[#This Row],[Innovattion Project Score]],TournamentData[[#This Row],[Robot Design Score]]))","v":0},0]
[null,{"$f":"IF(ISNA(INDEX(OfficialTeamList[Team Name],MATCH(TournamentData[[#This Row],[Team Number]], OfficialTeamList[Team Number],0))),\"\",INDEX(OfficialTeamList[Team Name],MATCH(TournamentData[[#This Row],[Team Number]], OfficialTeamList[Team Number],0)))","v":""},{"$f":"IF(TournamentData[[#This Row],[Team Number]]=\"\",\"\",IF(ISNA(INDEX('Robot Game Scores'!D:D,MATCH(TournamentData[[#This Row],[Team Number]], 'Robot Game Scores'!$B:$B,0))),0,INDEX('Robot Game Scores'!D:D,MATCH(TournamentData[[#This Row],[Team Number]], 'Robot Game Scores'!$B:$B,0))))","v":""},{"$f":"IF(TournamentData[[#This Row],[Team Number]]=\"\",\"\",IF(ISNA(INDEX('Robot Game Scores'!E:E,MATCH(TournamentData[[#This Row],[Team Number]], 'Robot Game Scores'!$B:$B,0))),0,INDEX('Robot Game Scores'!E:E,MATCH(TournamentData[[#This Row],[Team Number]], 'Robot Game Scores'!$B:$B,0))))","v":""},{"$f":"IF(TournamentData[[#This Row],[Team Number]]=\"\",\"\",IF(ISNA(INDEX('Robot Game Scores'!F:F,MATCH(TournamentData[[#This Row],[Team Number]], 'Robot Game Scores'!$B:$B,0))),0,INDEX('Robot Game Scores'!F:F,MATCH(TournamentData[[#This Row],[Team Number]], 'Robot Game Scores'!$B:$B,0))))","v":""},{"$f":"IF(TournamentData[[#This Row],[Team Number]]=\"\",\"\",IF(ISNA(INDEX('Robot Game Scores'!G:G,MATCH(TournamentData[[#This Row],[Team Number]], 'Robot Game Scores'!$B:$B,0))),0,INDEX('Robot Game Scores'!G:G,MATCH(TournamentData[[#This Row],[Team Number]], 'Robot Game Scores'!$B:$B,0))))","v":""},{"$f":"IF(TournamentData[[#This Row],[Team Number]]=\"\",\"\",IF(ISNA(INDEX('Robot Game Scores'!H:H,MATCH(TournamentData[[#This Row],[Team Number]], 'Robot Game Scores'!$B:$B,0))),0,INDEX('Robot Game Scores'!H:H,MATCH(TournamentData[[#This Row],[Team Number]], 'Robot Game Scores'!$B:$B,0))))","v":""},{"$f":"IF(TournamentData[[#This Row],[Team Number]]=\"\",\"\",IF(ISNA(LARGE(TournamentData[[#This Row],[Robot Game Score 1]:[Robot Game Score 5]],1)+0.0001*LARGE(TournamentData[[#This Row],[Robot Game Score 1]:[Robot Game Score 5]],2)+0.0000001*LARGE(TournamentData[[#This Row],[Robot Game Score 1]:[Robot Game Score 5]],3)+0.00000000001*LARGE(TournamentData[[#This Row],[Robot Game Score 1]:[Robot Game Score 5]],4)+0.00000000000001*LARGE(TournamentData[[#This Row],[Robot Game Score 1]:[Robot Game Score 5]],5)),0,LARGE(TournamentData[[#This Row],[Robot Game Score 1]:[Robot Game Score 5]],1)+0.0001*LARGE(TournamentData[[#This Row],[Robot Game Score 1]:[Robot Game Score 5]],2)+0.0000001*LARGE(TournamentData[[#This Row],[Robot Game Score 1]:[Robot Game Score 5]],3)+0.00000000001*LARGE(TournamentData[[#This Row],[Robot Game Score 1]:[Robot Game Score 5]],4)+0.00000000000001*LARGE(TournamentData[[#This Row],[Robot Game Score 1]:[Robot Game Score 5]],5)))","v":""},{"$f":"IF(TournamentData[[#This Row],[Team Number]]=\"\",\"\",_xlfn.RANK.EQ(TournamentData[[#This Row],[Max Robot Game Score]],TournamentData[Max Robot Game Score]))","v":""},{"$f":"IF(TournamentData[[#This Row],[Team Number]]=\"\",\"\",IF(ISNA(INDEX(CoreValuesResults[Core Values Rank],MATCH(TournamentData[[#This Row],[Team Number]],CoreValuesResults[Team Number],0))),NumberOfTeams+1,INDEX(CoreValuesResults[Core Values Rank],MATCH(TournamentData[[#This Row],[Team Number]],CoreValuesResults[Team Number],0))))","v":""},{"$f":"IF(TournamentData[[#This Row],[Team Number]]=\"\",\"\",IF(ISNA(INDEX(InnovationProjectResults[Innovation Project Rank],MATCH(TournamentData[[#This Row],[Team Number]],InnovationProjectResults[Team Number],0))),NumberOfTeams+1,INDEX(InnovationProjectResults[Innovation Project Rank],MATCH(TournamentData[[#This Row],[Team Number]],InnovationProjectResults[Team Number],0))))","v":""},{"$f":"IF(TournamentData[[#This Row],[Team Number]]=\"\",\"\",IF(ISNA(INDEX(RobotDesignResults[Robot Design Rank],MATCH(TournamentData[[#This Row],[Team Number]],RobotDesignResults[Team Number],0))),NumberOfTeams+1,INDEX(RobotDesignResults[Robot Design Rank],MATCH(TournamentData[[#This Row],[Team Number]],RobotDesignResults[Team Number],0))))","v":""},{"$f":" IF(TournamentData[[#This Row],[Team Number]]=\"\",\"\",IF(TournamentData[[#This Row],[Core Values Rank]]=\"\",NumberOfTeams+1,TournamentData[[#This Row],[Core Values Rank]]) + IF(TournamentData[[#This Row],[Innovation Project Rank]]=\"\",NumberOfTeams+1,TournamentData[[#This Row],[Innovation Project Rank]]) + IF(TournamentData[[#This Row],[Robot Design Rank]]=\"\",NumberOfTeams+1,TournamentData[[#This Row],[Robot Design Rank]]) + TournamentData[[#This Row],[Robot Game Rank]])","v":""},{"$f":"IF(TournamentData[[#This Row],[Team Number]]=\"\",\"\",IF(M93,RANK(M93,M$3:M$110,1)-COUNTIF(M$3:M$110,0),NumberOfTeams+1))","v":""},{"$f":"IF(ISNA(INDEX(CoreValuesResults[Breakthrough Selection],MATCH(TournamentData[[#This Row],[Team Number]],CoreValuesResults[Team Number],0))),0, INDEX(CoreValuesResults[Breakthrough Selection],MATCH(TournamentData[[#This Row],[Team Number]],CoreValuesResults[Team Number],0)))","v":0},{"$f":"IF(ISNA(INDEX(CoreValuesResults[Rising All-Star Selection],MATCH(TournamentData[[#This Row],[Team Number]],CoreValuesResults[Team Number],0))),0, INDEX(CoreValuesResults[Rising All-Star Selection],MATCH(TournamentData[[#This Row],[Team Number]],CoreValuesResults[Team Number],0)))","v":0},{"$f":"IF(ISNA(INDEX(CoreValuesResults[Motivate Selection],MATCH(TournamentData[[#This Row],[Team Number]],CoreValuesResults[Team Number],0))),0, INDEX(CoreValuesResults[Motivate Selection],MATCH(TournamentData[[#This Row],[Team Number]],CoreValuesResults[Team Number],0)))","v":0},null,null,null,{"$f":"IF(ISNA(INDEX(CoreValuesResults[Core Values Score],MATCH(TournamentData[[#This Row],[Team Number]],CoreValuesResults[Team Number],0))),0,INDEX(CoreValuesResults[Core Values Score],MATCH(TournamentData[[#This Row],[Team Number]],CoreValuesResults[Team Number],0)))","v":0},{"$f":"IF(ISNA(INDEX(InnovationProjectResults[Innovation Project Score],MATCH(TournamentData[[#This Row],[Team Number]],InnovationProjectResults[Team Number],0))),0,INDEX(InnovationProjectResults[Innovation Project Score],MATCH(TournamentData[[#This Row],[Team Number]],InnovationProjectResults[Team Number],0)))","v":0},{"$f":"IF(ISNA(INDEX(RobotDesignResults[Robot Design Score],MATCH(TournamentData[[#This Row],[Team Number]],RobotDesignResults[Team Number],0))),0,INDEX(RobotDesignResults[Robot Design Score],MATCH(TournamentData[[#This Row],[Team Number]],RobotDesignResults[Team Number],0)))","v":0},{"$f":"IF(ISERR(GEOMEAN(TournamentData[[#This Row],[Max Robot Game Score]],TournamentData[[#This Row],[Core Values Score]],TournamentData[[#This Row],[Innovattion Project Score]],TournamentData[[#This Row],[Robot Design Score]])),0,GEOMEAN(TournamentData[[#This Row],[Max Robot Game Score]],TournamentData[[#This Row],[Core Values Score]],TournamentData[[#This Row],[Innovattion Project Score]],TournamentData[[#This Row],[Robot Design Score]]))","v":0},0]
[null,{"$f":"IF(ISNA(INDEX(OfficialTeamList[Team Name],MATCH(TournamentData[[#This Row],[Team Number]], OfficialTeamList[Team Number],0))),\"\",INDEX(OfficialTeamList[Team Name],MATCH(TournamentData[[#This Row],[Team Number]], OfficialTeamList[Team Number],0)))","v":""},{"$f":"IF(TournamentData[[#This Row],[Team Number]]=\"\",\"\",IF(ISNA(INDEX('Robot Game Scores'!D:D,MATCH(TournamentData[[#This Row],[Team Number]], 'Robot Game Scores'!$B:$B,0))),0,INDEX('Robot Game Scores'!D:D,MATCH(TournamentData[[#This Row],[Team Number]], 'Robot Game Scores'!$B:$B,0))))","v":""},{"$f":"IF(TournamentData[[#This Row],[Team Number]]=\"\",\"\",IF(ISNA(INDEX('Robot Game Scores'!E:E,MATCH(TournamentData[[#This Row],[Team Number]], 'Robot Game Scores'!$B:$B,0))),0,INDEX('Robot Game Scores'!E:E,MATCH(TournamentData[[#This Row],[Team Number]], 'Robot Game Scores'!$B:$B,0))))","v":""},{"$f":"IF(TournamentData[[#This Row],[Team Number]]=\"\",\"\",IF(ISNA(INDEX('Robot Game Scores'!F:F,MATCH(TournamentData[[#This Row],[Team Number]], 'Robot Game Scores'!$B:$B,0))),0,INDEX('Robot Game Scores'!F:F,MATCH(TournamentData[[#This Row],[Team Number]], 'Robot Game Scores'!$B:$B,0))))","v":""},{"$f":"IF(TournamentData[[#This Row],[Team Number]]=\"\",\"\",IF(ISNA(INDEX('Robot Game Scores'!G:G,MATCH(TournamentData[[#This Row],[Team Number]], 'Robot Game Scores'!$B:$B,0))),0,INDEX('Robot Game Scores'!G:G,MATCH(TournamentData[[#This Row],[Team Number]], 'Robot Game Scores'!$B:$B,0))))","v":""},{"$f":"IF(TournamentData[[#This Row],[Team Number]]=\"\",\"\",IF(ISNA(INDEX('Robot Game Scores'!H:H,MATCH(TournamentData[[#This Row],[Team Number]], 'Robot Game Scores'!$B:$B,0))),0,INDEX('Robot Game Scores'!H:H,MATCH(TournamentData[[#This Row],[Team Number]], 'Robot Game Scores'!$B:$B,0))))","v":""},{"$f":"IF(TournamentData[[#This Row],[Team Number]]=\"\",\"\",IF(ISNA(LARGE(TournamentData[[#This Row],[Robot Game Score 1]:[Robot Game Score 5]],1)+0.0001*LARGE(TournamentData[[#This Row],[Robot Game Score 1]:[Robot Game Score 5]],2)+0.0000001*LARGE(TournamentData[[#This Row],[Robot Game Score 1]:[Robot Game Score 5]],3)+0.00000000001*LARGE(TournamentData[[#This Row],[Robot Game Score 1]:[Robot Game Score 5]],4)+0.00000000000001*LARGE(TournamentData[[#This Row],[Robot Game Score 1]:[Robot Game Score 5]],5)),0,LARGE(TournamentData[[#This Row],[Robot Game Score 1]:[Robot Game Score 5]],1)+0.0001*LARGE(TournamentData[[#This Row],[Robot Game Score 1]:[Robot Game Score 5]],2)+0.0000001*LARGE(TournamentData[[#This Row],[Robot Game Score 1]:[Robot Game Score 5]],3)+0.00000000001*LARGE(TournamentData[[#This Row],[Robot Game Score 1]:[Robot Game Score 5]],4)+0.00000000000001*LARGE(TournamentData[[#This Row],[Robot Game Score 1]:[Robot Game Score 5]],5)))","v":""},{"$f":"IF(TournamentData[[#This Row],[Team Number]]=\"\",\"\",_xlfn.RANK.EQ(TournamentData[[#This Row],[Max Robot Game Score]],TournamentData[Max Robot Game Score]))","v":""},{"$f":"IF(TournamentData[[#This Row],[Team Number]]=\"\",\"\",IF(ISNA(INDEX(CoreValuesResults[Core Values Rank],MATCH(TournamentData[[#This Row],[Team Number]],CoreValuesResults[Team Number],0))),NumberOfTeams+1,INDEX(CoreValuesResults[Core Values Rank],MATCH(TournamentData[[#This Row],[Team Number]],CoreValuesResults[Team Number],0))))","v":""},{"$f":"IF(TournamentData[[#This Row],[Team Number]]=\"\",\"\",IF(ISNA(INDEX(InnovationProjectResults[Innovation Project Rank],MATCH(TournamentData[[#This Row],[Team Number]],InnovationProjectResults[Team Number],0))),NumberOfTeams+1,INDEX(InnovationProjectResults[Innovation Project Rank],MATCH(TournamentData[[#This Row],[Team Number]],InnovationProjectResults[Team Number],0))))","v":""},{"$f":"IF(TournamentData[[#This Row],[Team Number]]=\"\",\"\",IF(ISNA(INDEX(RobotDesignResults[Robot Design Rank],MATCH(TournamentData[[#This Row],[Team Number]],RobotDesignResults[Team Number],0))),NumberOfTeams+1,INDEX(RobotDesignResults[Robot Design Rank],MATCH(TournamentData[[#This Row],[Team Number]],RobotDesignResults[Team Number],0))))","v":""},{"$f":" IF(TournamentData[[#This Row],[Team Number]]=\"\",\"\",IF(TournamentData[[#This Row],[Core Values Rank]]=\"\",NumberOfTeams+1,TournamentData[[#This Row],[Core Values Rank]]) + IF(TournamentData[[#This Row],[Innovation Project Rank]]=\"\",NumberOfTeams+1,TournamentData[[#This Row],[Innovation Project Rank]]) + IF(TournamentData[[#This Row],[Robot Design Rank]]=\"\",NumberOfTeams+1,TournamentData[[#This Row],[Robot Design Rank]]) + TournamentData[[#This Row],[Robot Game Rank]])","v":""},{"$f":"IF(TournamentData[[#This Row],[Team Number]]=\"\",\"\",IF(M94,RANK(M94,M$3:M$110,1)-COUNTIF(M$3:M$110,0),NumberOfTeams+1))","v":""},{"$f":"IF(ISNA(INDEX(CoreValuesResults[Breakthrough Selection],MATCH(TournamentData[[#This Row],[Team Number]],CoreValuesResults[Team Number],0))),0, INDEX(CoreValuesResults[Breakthrough Selection],MATCH(TournamentData[[#This Row],[Team Number]],CoreValuesResults[Team Number],0)))","v":0},{"$f":"IF(ISNA(INDEX(CoreValuesResults[Rising All-Star Selection],MATCH(TournamentData[[#This Row],[Team Number]],CoreValuesResults[Team Number],0))),0, INDEX(CoreValuesResults[Rising All-Star Selection],MATCH(TournamentData[[#This Row],[Team Number]],CoreValuesResults[Team Number],0)))","v":0},{"$f":"IF(ISNA(INDEX(CoreValuesResults[Motivate Selection],MATCH(TournamentData[[#This Row],[Team Number]],CoreValuesResults[Team Number],0))),0, INDEX(CoreValuesResults[Motivate Selection],MATCH(TournamentData[[#This Row],[Team Number]],CoreValuesResults[Team Number],0)))","v":0},null,null,null,{"$f":"IF(ISNA(INDEX(CoreValuesResults[Core Values Score],MATCH(TournamentData[[#This Row],[Team Number]],CoreValuesResults[Team Number],0))),0,INDEX(CoreValuesResults[Core Values Score],MATCH(TournamentData[[#This Row],[Team Number]],CoreValuesResults[Team Number],0)))","v":0},{"$f":"IF(ISNA(INDEX(InnovationProjectResults[Innovation Project Score],MATCH(TournamentData[[#This Row],[Team Number]],InnovationProjectResults[Team Number],0))),0,INDEX(InnovationProjectResults[Innovation Project Score],MATCH(TournamentData[[#This Row],[Team Number]],InnovationProjectResults[Team Number],0)))","v":0},{"$f":"IF(ISNA(INDEX(RobotDesignResults[Robot Design Score],MATCH(TournamentData[[#This Row],[Team Number]],RobotDesignResults[Team Number],0))),0,INDEX(RobotDesignResults[Robot Design Score],MATCH(TournamentData[[#This Row],[Team Number]],RobotDesignResults[Team Number],0)))","v":0},{"$f":"IF(ISERR(GEOMEAN(TournamentData[[#This Row],[Max Robot Game Score]],TournamentData[[#This Row],[Core Values Score]],TournamentData[[#This Row],[Innovattion Project Score]],TournamentData[[#This Row],[Robot Design Score]])),0,GEOMEAN(TournamentData[[#This Row],[Max Robot Game Score]],TournamentData[[#This Row],[Core Values Score]],TournamentData[[#This Row],[Innovattion Project Score]],TournamentData[[#This Row],[Robot Design Score]]))","v":0},0]
[null,{"$f":"IF(ISNA(INDEX(OfficialTeamList[Team Name],MATCH(TournamentData[[#This Row],[Team Number]], OfficialTeamList[Team Number],0))),\"\",INDEX(OfficialTeamList[Team Name],MATCH(TournamentData[[#This Row],[Team Number]], OfficialTeamList[Team Number],0)))","v":""},{"$f":"IF(TournamentData[[#This Row],[Team Number]]=\"\",\"\",IF(ISNA(INDEX('Robot Game Scores'!D:D,MATCH(TournamentData[[#This Row],[Team Number]], 'Robot Game Scores'!$B:$B,0))),0,INDEX('Robot Game Scores'!D:D,MATCH(TournamentData[[#This Row],[Team Number]], 'Robot Game Scores'!$B:$B,0))))","v":""},{"$f":"IF(TournamentData[[#This Row],[Team Number]]=\"\",\"\",IF(ISNA(INDEX('Robot Game Scores'!E:E,MATCH(TournamentData[[#This Row],[Team Number]], 'Robot Game Scores'!$B:$B,0))),0,INDEX('Robot Game Scores'!E:E,MATCH(TournamentData[[#This Row],[Team Number]], 'Robot Game Scores'!$B:$B,0))))","v":""},{"$f":"IF(TournamentData[[#This Row],[Team Number]]=\"\",\"\",IF(ISNA(INDEX('Robot Game Scores'!F:F,MATCH(TournamentData[[#This Row],[Team Number]], 'Robot Game Scores'!$B:$B,0))),0,INDEX('Robot Game Scores'!F:F,MATCH(TournamentData[[#This Row],[Team Number]], 'Robot Game Scores'!$B:$B,0))))","v":""},{"$f":"IF(TournamentData[[#This Row],[Team Number]]=\"\",\"\",IF(ISNA(INDEX('Robot Game Scores'!G:G,MATCH(TournamentData[[#This Row],[Team Number]], 'Robot Game Scores'!$B:$B,0))),0,INDEX('Robot Game Scores'!G:G,MATCH(TournamentData[[#This Row],[Team Number]], 'Robot Game Scores'!$B:$B,0))))","v":""},{"$f":"IF(TournamentData[[#This Row],[Team Number]]=\"\",\"\",IF(ISNA(INDEX('Robot Game Scores'!H:H,MATCH(TournamentData[[#This Row],[Team Number]], 'Robot Game Scores'!$B:$B,0))),0,INDEX('Robot Game Scores'!H:H,MATCH(TournamentData[[#This Row],[Team Number]], 'Robot Game Scores'!$B:$B,0))))","v":""},{"$f":"IF(TournamentData[[#This Row],[Team Number]]=\"\",\"\",IF(ISNA(LARGE(TournamentData[[#This Row],[Robot Game Score 1]:[Robot Game Score 5]],1)+0.0001*LARGE(TournamentData[[#This Row],[Robot Game Score 1]:[Robot Game Score 5]],2)+0.0000001*LARGE(TournamentData[[#This Row],[Robot Game Score 1]:[Robot Game Score 5]],3)+0.00000000001*LARGE(TournamentData[[#This Row],[Robot Game Score 1]:[Robot Game Score 5]],4)+0.00000000000001*LARGE(TournamentData[[#This Row],[Robot Game Score 1]:[Robot Game Score 5]],5)),0,LARGE(TournamentData[[#This Row],[Robot Game Score 1]:[Robot Game Score 5]],1)+0.0001*LARGE(TournamentData[[#This Row],[Robot Game Score 1]:[Robot Game Score 5]],2)+0.0000001*LARGE(TournamentData[[#This Row],[Robot Game Score 1]:[Robot Game Score 5]],3)+0.00000000001*LARGE(TournamentData[[#This Row],[Robot Game Score 1]:[Robot Game Score 5]],4)+0.00000000000001*LARGE(TournamentData[[#This Row],[Robot Game Score 1]:[Robot Game Score 5]],5)))","v":""},{"$f":"IF(TournamentData[[#This Row],[Team Number]]=\"\",\"\",_xlfn.RANK.EQ(TournamentData[[#This Row],[Max Robot Game Score]],TournamentData[Max Robot Game Score]))","v":""},{"$f":"IF(TournamentData[[#This Row],[Team Number]]=\"\",\"\",IF(ISNA(INDEX(CoreValuesResults[Core Values Rank],MATCH(TournamentData[[#This Row],[Team Number]],CoreValuesResults[Team Number],0))),NumberOfTeams+1,INDEX(CoreValuesResults[Core Values Rank],MATCH(TournamentData[[#This Row],[Team Number]],CoreValuesResults[Team Number],0))))","v":""},{"$f":"IF(TournamentData[[#This Row],[Team Number]]=\"\",\"\",IF(ISNA(INDEX(InnovationProjectResults[Innovation Project Rank],MATCH(TournamentData[[#This Row],[Team Number]],InnovationProjectResults[Team Number],0))),NumberOfTeams+1,INDEX(InnovationProjectResults[Innovation Project Rank],MATCH(TournamentData[[#This Row],[Team Number]],InnovationProjectResults[Team Number],0))))","v":""},{"$f":"IF(TournamentData[[#This Row],[Team Number]]=\"\",\"\",IF(ISNA(INDEX(RobotDesignResults[Robot Design Rank],MATCH(TournamentData[[#This Row],[Team Number]],RobotDesignResults[Team Number],0))),NumberOfTeams+1,INDEX(RobotDesignResults[Robot Design Rank],MATCH(TournamentData[[#This Row],[Team Number]],RobotDesignResults[Team Number],0))))","v":""},{"$f":" IF(TournamentData[[#This Row],[Team Number]]=\"\",\"\",IF(TournamentData[[#This Row],[Core Values Rank]]=\"\",NumberOfTeams+1,TournamentData[[#This Row],[Core Values Rank]]) + IF(TournamentData[[#This Row],[Innovation Project Rank]]=\"\",NumberOfTeams+1,TournamentData[[#This Row],[Innovation Project Rank]]) + IF(TournamentData[[#This Row],[Robot Design Rank]]=\"\",NumberOfTeams+1,TournamentData[[#This Row],[Robot Design Rank]]) + TournamentData[[#This Row],[Robot Game Rank]])","v":""},{"$f":"IF(TournamentData[[#This Row],[Team Number]]=\"\",\"\",IF(M95,RANK(M95,M$3:M$110,1)-COUNTIF(M$3:M$110,0),NumberOfTeams+1))","v":""},{"$f":"IF(ISNA(INDEX(CoreValuesResults[Breakthrough Selection],MATCH(TournamentData[[#This Row],[Team Number]],CoreValuesResults[Team Number],0))),0, INDEX(CoreValuesResults[Breakthrough Selection],MATCH(TournamentData[[#This Row],[Team Number]],CoreValuesResults[Team Number],0)))","v":0},{"$f":"IF(ISNA(INDEX(CoreValuesResults[Rising All-Star Selection],MATCH(TournamentData[[#This Row],[Team Number]],CoreValuesResults[Team Number],0))),0, INDEX(CoreValuesResults[Rising All-Star Selection],MATCH(TournamentData[[#This Row],[Team Number]],CoreValuesResults[Team Number],0)))","v":0},{"$f":"IF(ISNA(INDEX(CoreValuesResults[Motivate Selection],MATCH(TournamentData[[#This Row],[Team Number]],CoreValuesResults[Team Number],0))),0, INDEX(CoreValuesResults[Motivate Selection],MATCH(TournamentData[[#This Row],[Team Number]],CoreValuesResults[Team Number],0)))","v":0},null,null,null,{"$f":"IF(ISNA(INDEX(CoreValuesResults[Core Values Score],MATCH(TournamentData[[#This Row],[Team Number]],CoreValuesResults[Team Number],0))),0,INDEX(CoreValuesResults[Core Values Score],MATCH(TournamentData[[#This Row],[Team Number]],CoreValuesResults[Team Number],0)))","v":0},{"$f":"IF(ISNA(INDEX(InnovationProjectResults[Innovation Project Score],MATCH(TournamentData[[#This Row],[Team Number]],InnovationProjectResults[Team Number],0))),0,INDEX(InnovationProjectResults[Innovation Project Score],MATCH(TournamentData[[#This Row],[Team Number]],InnovationProjectResults[Team Number],0)))","v":0},{"$f":"IF(ISNA(INDEX(RobotDesignResults[Robot Design Score],MATCH(TournamentData[[#This Row],[Team Number]],RobotDesignResults[Team Number],0))),0,INDEX(RobotDesignResults[Robot Design Score],MATCH(TournamentData[[#This Row],[Team Number]],RobotDesignResults[Team Number],0)))","v":0},{"$f":"IF(ISERR(GEOMEAN(TournamentData[[#This Row],[Max Robot Game Score]],TournamentData[[#This Row],[Core Values Score]],TournamentData[[#This Row],[Innovattion Project Score]],TournamentData[[#This Row],[Robot Design Score]])),0,GEOMEAN(TournamentData[[#This Row],[Max Robot Game Score]],TournamentData[[#This Row],[Core Values Score]],TournamentData[[#This Row],[Innovattion Project Score]],TournamentData[[#This Row],[Robot Design Score]]))","v":0},0]
[null,{"$f":"IF(ISNA(INDEX(OfficialTeamList[Team Name],MATCH(TournamentData[[#This Row],[Team Number]], OfficialTeamList[Team Number],0))),\"\",INDEX(OfficialTeamList[Team Name],MATCH(TournamentData[[#This Row],[Team Number]], OfficialTeamList[Team Number],0)))","v":""},{"$f":"IF(TournamentData[[#This Row],[Team Number]]=\"\",\"\",IF(ISNA(INDEX('Robot Game Scores'!D:D,MATCH(TournamentData[[#This Row],[Team Number]], 'Robot Game Scores'!$B:$B,0))),0,INDEX('Robot Game Scores'!D:D,MATCH(TournamentData[[#This Row],[Team Number]], 'Robot Game Scores'!$B:$B,0))))","v":""},{"$f":"IF(TournamentData[[#This Row],[Team Number]]=\"\",\"\",IF(ISNA(INDEX('Robot Game Scores'!E:E,MATCH(TournamentData[[#This Row],[Team Number]], 'Robot Game Scores'!$B:$B,0))),0,INDEX('Robot Game Scores'!E:E,MATCH(TournamentData[[#This Row],[Team Number]], 'Robot Game Scores'!$B:$B,0))))","v":""},{"$f":"IF(TournamentData[[#This Row],[Team Number]]=\"\",\"\",IF(ISNA(INDEX('Robot Game Scores'!F:F,MATCH(TournamentData[[#This Row],[Team Number]], 'Robot Game Scores'!$B:$B,0))),0,INDEX('Robot Game Scores'!F:F,MATCH(TournamentData[[#This Row],[Team Number]], 'Robot Game Scores'!$B:$B,0))))","v":""},{"$f":"IF(TournamentData[[#This Row],[Team Number]]=\"\",\"\",IF(ISNA(INDEX('Robot Game Scores'!G:G,MATCH(TournamentData[[#This Row],[Team Number]], 'Robot Game Scores'!$B:$B,0))),0,INDEX('Robot Game Scores'!G:G,MATCH(TournamentData[[#This Row],[Team Number]], 'Robot Game Scores'!$B:$B,0))))","v":""},{"$f":"IF(TournamentData[[#This Row],[Team Number]]=\"\",\"\",IF(ISNA(INDEX('Robot Game Scores'!H:H,MATCH(TournamentData[[#This Row],[Team Number]], 'Robot Game Scores'!$B:$B,0))),0,INDEX('Robot Game Scores'!H:H,MATCH(TournamentData[[#This Row],[Team Number]], 'Robot Game Scores'!$B:$B,0))))","v":""},{"$f":"IF(TournamentData[[#This Row],[Team Number]]=\"\",\"\",IF(ISNA(LARGE(TournamentData[[#This Row],[Robot Game Score 1]:[Robot Game Score 5]],1)+0.0001*LARGE(TournamentData[[#This Row],[Robot Game Score 1]:[Robot Game Score 5]],2)+0.0000001*LARGE(TournamentData[[#This Row],[Robot Game Score 1]:[Robot Game Score 5]],3)+0.00000000001*LARGE(TournamentData[[#This Row],[Robot Game Score 1]:[Robot Game Score 5]],4)+0.00000000000001*LARGE(TournamentData[[#This Row],[Robot Game Score 1]:[Robot Game Score 5]],5)),0,LARGE(TournamentData[[#This Row],[Robot Game Score 1]:[Robot Game Score 5]],1)+0.0001*LARGE(TournamentData[[#This Row],[Robot Game Score 1]:[Robot Game Score 5]],2)+0.0000001*LARGE(TournamentData[[#This Row],[Robot Game Score 1]:[Robot Game Score 5]],3)+0.00000000001*LARGE(TournamentData[[#This Row],[Robot Game Score 1]:[Robot Game Score 5]],4)+0.00000000000001*LARGE(TournamentData[[#This Row],[Robot Game Score 1]:[Robot Game Score 5]],5)))","v":""},{"$f":"IF(TournamentData[[#This Row],[Team Number]]=\"\",\"\",_xlfn.RANK.EQ(TournamentData[[#This Row],[Max Robot Game Score]],TournamentData[Max Robot Game Score]))","v":""},{"$f":"IF(TournamentData[[#This Row],[Team Number]]=\"\",\"\",IF(ISNA(INDEX(CoreValuesResults[Core Values Rank],MATCH(TournamentData[[#This Row],[Team Number]],CoreValuesResults[Team Number],0))),NumberOfTeams+1,INDEX(CoreValuesResults[Core Values Rank],MATCH(TournamentData[[#This Row],[Team Number]],CoreValuesResults[Team Number],0))))","v":""},{"$f":"IF(TournamentData[[#This Row],[Team Number]]=\"\",\"\",IF(ISNA(INDEX(InnovationProjectResults[Innovation Project Rank],MATCH(TournamentData[[#This Row],[Team Number]],InnovationProjectResults[Team Number],0))),NumberOfTeams+1,INDEX(InnovationProjectResults[Innovation Project Rank],MATCH(TournamentData[[#This Row],[Team Number]],InnovationProjectResults[Team Number],0))))","v":""},{"$f":"IF(TournamentData[[#This Row],[Team Number]]=\"\",\"\",IF(ISNA(INDEX(RobotDesignResults[Robot Design Rank],MATCH(TournamentData[[#This Row],[Team Number]],RobotDesignResults[Team Number],0))),NumberOfTeams+1,INDEX(RobotDesignResults[Robot Design Rank],MATCH(TournamentData[[#This Row],[Team Number]],RobotDesignResults[Team Number],0))))","v":""},{"$f":" IF(TournamentData[[#This Row],[Team Number]]=\"\",\"\",IF(TournamentData[[#This Row],[Core Values Rank]]=\"\",NumberOfTeams+1,TournamentData[[#This Row],[Core Values Rank]]) + IF(TournamentData[[#This Row],[Innovation Project Rank]]=\"\",NumberOfTeams+1,TournamentData[[#This Row],[Innovation Project Rank]]) + IF(TournamentData[[#This Row],[Robot Design Rank]]=\"\",NumberOfTeams+1,TournamentData[[#This Row],[Robot Design Rank]]) + TournamentData[[#This Row],[Robot Game Rank]])","v":""},{"$f":"IF(TournamentData[[#This Row],[Team Number]]=\"\",\"\",IF(M96,RANK(M96,M$3:M$110,1)-COUNTIF(M$3:M$110,0),NumberOfTeams+1))","v":""},{"$f":"IF(ISNA(INDEX(CoreValuesResults[Breakthrough Selection],MATCH(TournamentData[[#This Row],[Team Number]],CoreValuesResults[Team Number],0))),0, INDEX(CoreValuesResults[Breakthrough Selection],MATCH(TournamentData[[#This Row],[Team Number]],CoreValuesResults[Team Number],0)))","v":0},{"$f":"IF(ISNA(INDEX(CoreValuesResults[Rising All-Star Selection],MATCH(TournamentData[[#This Row],[Team Number]],CoreValuesResults[Team Number],0))),0, INDEX(CoreValuesResults[Rising All-Star Selection],MATCH(TournamentData[[#This Row],[Team Number]],CoreValuesResults[Team Number],0)))","v":0},{"$f":"IF(ISNA(INDEX(CoreValuesResults[Motivate Selection],MATCH(TournamentData[[#This Row],[Team Number]],CoreValuesResults[Team Number],0))),0, INDEX(CoreValuesResults[Motivate Selection],MATCH(TournamentData[[#This Row],[Team Number]],CoreValuesResults[Team Number],0)))","v":0},null,null,null,{"$f":"IF(ISNA(INDEX(CoreValuesResults[Core Values Score],MATCH(TournamentData[[#This Row],[Team Number]],CoreValuesResults[Team Number],0))),0,INDEX(CoreValuesResults[Core Values Score],MATCH(TournamentData[[#This Row],[Team Number]],CoreValuesResults[Team Number],0)))","v":0},{"$f":"IF(ISNA(INDEX(InnovationProjectResults[Innovation Project Score],MATCH(TournamentData[[#This Row],[Team Number]],InnovationProjectResults[Team Number],0))),0,INDEX(InnovationProjectResults[Innovation Project Score],MATCH(TournamentData[[#This Row],[Team Number]],InnovationProjectResults[Team Number],0)))","v":0},{"$f":"IF(ISNA(INDEX(RobotDesignResults[Robot Design Score],MATCH(TournamentData[[#This Row],[Team Number]],RobotDesignResults[Team Number],0))),0,INDEX(RobotDesignResults[Robot Design Score],MATCH(TournamentData[[#This Row],[Team Number]],RobotDesignResults[Team Number],0)))","v":0},{"$f":"IF(ISERR(GEOMEAN(TournamentData[[#This Row],[Max Robot Game Score]],TournamentData[[#This Row],[Core Values Score]],TournamentData[[#This Row],[Innovattion Project Score]],TournamentData[[#This Row],[Robot Design Score]])),0,GEOMEAN(TournamentData[[#This Row],[Max Robot Game Score]],TournamentData[[#This Row],[Core Values Score]],TournamentData[[#This Row],[Innovattion Project Score]],TournamentData[[#This Row],[Robot Design Score]]))","v":0},0]
[null,{"$f":"IF(ISNA(INDEX(OfficialTeamList[Team Name],MATCH(TournamentData[[#This Row],[Team Number]], OfficialTeamList[Team Number],0))),\"\",INDEX(OfficialTeamList[Team Name],MATCH(TournamentData[[#This Row],[Team Number]], OfficialTeamList[Team Number],0)))","v":""},{"$f":"IF(TournamentData[[#This Row],[Team Number]]=\"\",\"\",IF(ISNA(INDEX('Robot Game Scores'!D:D,MATCH(TournamentData[[#This Row],[Team Number]], 'Robot Game Scores'!$B:$B,0))),0,INDEX('Robot Game Scores'!D:D,MATCH(TournamentData[[#This Row],[Team Number]], 'Robot Game Scores'!$B:$B,0))))","v":""},{"$f":"IF(TournamentData[[#This Row],[Team Number]]=\"\",\"\",IF(ISNA(INDEX('Robot Game Scores'!E:E,MATCH(TournamentData[[#This Row],[Team Number]], 'Robot Game Scores'!$B:$B,0))),0,INDEX('Robot Game Scores'!E:E,MATCH(TournamentData[[#This Row],[Team Number]], 'Robot Game Scores'!$B:$B,0))))","v":""},{"$f":"IF(TournamentData[[#This Row],[Team Number]]=\"\",\"\",IF(ISNA(INDEX('Robot Game Scores'!F:F,MATCH(TournamentData[[#This Row],[Team Number]], 'Robot Game Scores'!$B:$B,0))),0,INDEX('Robot Game Scores'!F:F,MATCH(TournamentData[[#This Row],[Team Number]], 'Robot Game Scores'!$B:$B,0))))","v":""},{"$f":"IF(TournamentData[[#This Row],[Team Number]]=\"\",\"\",IF(ISNA(INDEX('Robot Game Scores'!G:G,MATCH(TournamentData[[#This Row],[Team Number]], 'Robot Game Scores'!$B:$B,0))),0,INDEX('Robot Game Scores'!G:G,MATCH(TournamentData[[#This Row],[Team Number]], 'Robot Game Scores'!$B:$B,0))))","v":""},{"$f":"IF(TournamentData[[#This Row],[Team Number]]=\"\",\"\",IF(ISNA(INDEX('Robot Game Scores'!H:H,MATCH(TournamentData[[#This Row],[Team Number]], 'Robot Game Scores'!$B:$B,0))),0,INDEX('Robot Game Scores'!H:H,MATCH(TournamentData[[#This Row],[Team Number]], 'Robot Game Scores'!$B:$B,0))))","v":""},{"$f":"IF(TournamentData[[#This Row],[Team Number]]=\"\",\"\",IF(ISNA(LARGE(TournamentData[[#This Row],[Robot Game Score 1]:[Robot Game Score 5]],1)+0.0001*LARGE(TournamentData[[#This Row],[Robot Game Score 1]:[Robot Game Score 5]],2)+0.0000001*LARGE(TournamentData[[#This Row],[Robot Game Score 1]:[Robot Game Score 5]],3)+0.00000000001*LARGE(TournamentData[[#This Row],[Robot Game Score 1]:[Robot Game Score 5]],4)+0.00000000000001*LARGE(TournamentData[[#This Row],[Robot Game Score 1]:[Robot Game Score 5]],5)),0,LARGE(TournamentData[[#This Row],[Robot Game Score 1]:[Robot Game Score 5]],1)+0.0001*LARGE(TournamentData[[#This Row],[Robot Game Score 1]:[Robot Game Score 5]],2)+0.0000001*LARGE(TournamentData[[#This Row],[Robot Game Score 1]:[Robot Game Score 5]],3)+0.00000000001*LARGE(TournamentData[[#This Row],[Robot Game Score 1]:[Robot Game Score 5]],4)+0.00000000000001*LARGE(TournamentData[[#This Row],[Robot Game Score 1]:[Robot Game Score 5]],5)))","v":""},{"$f":"IF(TournamentData[[#This Row],[Team Number]]=\"\",\"\",_xlfn.RANK.EQ(TournamentData[[#This Row],[Max Robot Game Score]],TournamentData[Max Robot Game Score]))","v":""},{"$f":"IF(TournamentData[[#This Row],[Team Number]]=\"\",\"\",IF(ISNA(INDEX(CoreValuesResults[Core Values Rank],MATCH(TournamentData[[#This Row],[Team Number]],CoreValuesResults[Team Number],0))),NumberOfTeams+1,INDEX(CoreValuesResults[Core Values Rank],MATCH(TournamentData[[#This Row],[Team Number]],CoreValuesResults[Team Number],0))))","v":""},{"$f":"IF(TournamentData[[#This Row],[Team Number]]=\"\",\"\",IF(ISNA(INDEX(InnovationProjectResults[Innovation Project Rank],MATCH(TournamentData[[#This Row],[Team Number]],InnovationProjectResults[Team Number],0))),NumberOfTeams+1,INDEX(InnovationProjectResults[Innovation Project Rank],MATCH(TournamentData[[#This Row],[Team Number]],InnovationProjectResults[Team Number],0))))","v":""},{"$f":"IF(TournamentData[[#This Row],[Team Number]]=\"\",\"\",IF(ISNA(INDEX(RobotDesignResults[Robot Design Rank],MATCH(TournamentData[[#This Row],[Team Number]],RobotDesignResults[Team Number],0))),NumberOfTeams+1,INDEX(RobotDesignResults[Robot Design Rank],MATCH(TournamentData[[#This Row],[Team Number]],RobotDesignResults[Team Number],0))))","v":""},{"$f":" IF(TournamentData[[#This Row],[Team Number]]=\"\",\"\",IF(TournamentData[[#This Row],[Core Values Rank]]=\"\",NumberOfTeams+1,TournamentData[[#This Row],[Core Values Rank]]) + IF(TournamentData[[#This Row],[Innovation Project Rank]]=\"\",NumberOfTeams+1,TournamentData[[#This Row],[Innovation Project Rank]]) + IF(TournamentData[[#This Row],[Robot Design Rank]]=\"\",NumberOfTeams+1,TournamentData[[#This Row],[Robot Design Rank]]) + TournamentData[[#This Row],[Robot Game Rank]])","v":""},{"$f":"IF(TournamentData[[#This Row],[Team Number]]=\"\",\"\",IF(M97,RANK(M97,M$3:M$110,1)-COUNTIF(M$3:M$110,0),NumberOfTeams+1))","v":""},{"$f":"IF(ISNA(INDEX(CoreValuesResults[Breakthrough Selection],MATCH(TournamentData[[#This Row],[Team Number]],CoreValuesResults[Team Number],0))),0, INDEX(CoreValuesResults[Breakthrough Selection],MATCH(TournamentData[[#This Row],[Team Number]],CoreValuesResults[Team Number],0)))","v":0},{"$f":"IF(ISNA(INDEX(CoreValuesResults[Rising All-Star Selection],MATCH(TournamentData[[#This Row],[Team Number]],CoreValuesResults[Team Number],0))),0, INDEX(CoreValuesResults[Rising All-Star Selection],MATCH(TournamentData[[#This Row],[Team Number]],CoreValuesResults[Team Number],0)))","v":0},{"$f":"IF(ISNA(INDEX(CoreValuesResults[Motivate Selection],MATCH(TournamentData[[#This Row],[Team Number]],CoreValuesResults[Team Number],0))),0, INDEX(CoreValuesResults[Motivate Selection],MATCH(TournamentData[[#This Row],[Team Number]],CoreValuesResults[Team Number],0)))","v":0},null,null,null,{"$f":"IF(ISNA(INDEX(CoreValuesResults[Core Values Score],MATCH(TournamentData[[#This Row],[Team Number]],CoreValuesResults[Team Number],0))),0,INDEX(CoreValuesResults[Core Values Score],MATCH(TournamentData[[#This Row],[Team Number]],CoreValuesResults[Team Number],0)))","v":0},{"$f":"IF(ISNA(INDEX(InnovationProjectResults[Innovation Project Score],MATCH(TournamentData[[#This Row],[Team Number]],InnovationProjectResults[Team Number],0))),0,INDEX(InnovationProjectResults[Innovation Project Score],MATCH(TournamentData[[#This Row],[Team Number]],InnovationProjectResults[Team Number],0)))","v":0},{"$f":"IF(ISNA(INDEX(RobotDesignResults[Robot Design Score],MATCH(TournamentData[[#This Row],[Team Number]],RobotDesignResults[Team Number],0))),0,INDEX(RobotDesignResults[Robot Design Score],MATCH(TournamentData[[#This Row],[Team Number]],RobotDesignResults[Team Number],0)))","v":0},{"$f":"IF(ISERR(GEOMEAN(TournamentData[[#This Row],[Max Robot Game Score]],TournamentData[[#This Row],[Core Values Score]],TournamentData[[#This Row],[Innovattion Project Score]],TournamentData[[#This Row],[Robot Design Score]])),0,GEOMEAN(TournamentData[[#This Row],[Max Robot Game Score]],TournamentData[[#This Row],[Core Values Score]],TournamentData[[#This Row],[Innovattion Project Score]],TournamentData[[#This Row],[Robot Design Score]]))","v":0},0]
[null,{"$f":"IF(ISNA(INDEX(OfficialTeamList[Team Name],MATCH(TournamentData[[#This Row],[Team Number]], OfficialTeamList[Team Number],0))),\"\",INDEX(OfficialTeamList[Team Name],MATCH(TournamentData[[#This Row],[Team Number]], OfficialTeamList[Team Number],0)))","v":""},{"$f":"IF(TournamentData[[#This Row],[Team Number]]=\"\",\"\",IF(ISNA(INDEX('Robot Game Scores'!D:D,MATCH(TournamentData[[#This Row],[Team Number]], 'Robot Game Scores'!$B:$B,0))),0,INDEX('Robot Game Scores'!D:D,MATCH(TournamentData[[#This Row],[Team Number]], 'Robot Game Scores'!$B:$B,0))))","v":""},{"$f":"IF(TournamentData[[#This Row],[Team Number]]=\"\",\"\",IF(ISNA(INDEX('Robot Game Scores'!E:E,MATCH(TournamentData[[#This Row],[Team Number]], 'Robot Game Scores'!$B:$B,0))),0,INDEX('Robot Game Scores'!E:E,MATCH(TournamentData[[#This Row],[Team Number]], 'Robot Game Scores'!$B:$B,0))))","v":""},{"$f":"IF(TournamentData[[#This Row],[Team Number]]=\"\",\"\",IF(ISNA(INDEX('Robot Game Scores'!F:F,MATCH(TournamentData[[#This Row],[Team Number]], 'Robot Game Scores'!$B:$B,0))),0,INDEX('Robot Game Scores'!F:F,MATCH(TournamentData[[#This Row],[Team Number]], 'Robot Game Scores'!$B:$B,0))))","v":""},{"$f":"IF(TournamentData[[#This Row],[Team Number]]=\"\",\"\",IF(ISNA(INDEX('Robot Game Scores'!G:G,MATCH(TournamentData[[#This Row],[Team Number]], 'Robot Game Scores'!$B:$B,0))),0,INDEX('Robot Game Scores'!G:G,MATCH(TournamentData[[#This Row],[Team Number]], 'Robot Game Scores'!$B:$B,0))))","v":""},{"$f":"IF(TournamentData[[#This Row],[Team Number]]=\"\",\"\",IF(ISNA(INDEX('Robot Game Scores'!H:H,MATCH(TournamentData[[#This Row],[Team Number]], 'Robot Game Scores'!$B:$B,0))),0,INDEX('Robot Game Scores'!H:H,MATCH(TournamentData[[#This Row],[Team Number]], 'Robot Game Scores'!$B:$B,0))))","v":""},{"$f":"IF(TournamentData[[#This Row],[Team Number]]=\"\",\"\",IF(ISNA(LARGE(TournamentData[[#This Row],[Robot Game Score 1]:[Robot Game Score 5]],1)+0.0001*LARGE(TournamentData[[#This Row],[Robot Game Score 1]:[Robot Game Score 5]],2)+0.0000001*LARGE(TournamentData[[#This Row],[Robot Game Score 1]:[Robot Game Score 5]],3)+0.00000000001*LARGE(TournamentData[[#This Row],[Robot Game Score 1]:[Robot Game Score 5]],4)+0.00000000000001*LARGE(TournamentData[[#This Row],[Robot Game Score 1]:[Robot Game Score 5]],5)),0,LARGE(TournamentData[[#This Row],[Robot Game Score 1]:[Robot Game Score 5]],1)+0.0001*LARGE(TournamentData[[#This Row],[Robot Game Score 1]:[Robot Game Score 5]],2)+0.0000001*LARGE(TournamentData[[#This Row],[Robot Game Score 1]:[Robot Game Score 5]],3)+0.00000000001*LARGE(TournamentData[[#This Row],[Robot Game Score 1]:[Robot Game Score 5]],4)+0.00000000000001*LARGE(TournamentData[[#This Row],[Robot Game Score 1]:[Robot Game Score 5]],5)))","v":""},{"$f":"IF(TournamentData[[#This Row],[Team Number]]=\"\",\"\",_xlfn.RANK.EQ(TournamentData[[#This Row],[Max Robot Game Score]],TournamentData[Max Robot Game Score]))","v":""},{"$f":"IF(TournamentData[[#This Row],[Team Number]]=\"\",\"\",IF(ISNA(INDEX(CoreValuesResults[Core Values Rank],MATCH(TournamentData[[#This Row],[Team Number]],CoreValuesResults[Team Number],0))),NumberOfTeams+1,INDEX(CoreValuesResults[Core Values Rank],MATCH(TournamentData[[#This Row],[Team Number]],CoreValuesResults[Team Number],0))))","v":""},{"$f":"IF(TournamentData[[#This Row],[Team Number]]=\"\",\"\",IF(ISNA(INDEX(InnovationProjectResults[Innovation Project Rank],MATCH(TournamentData[[#This Row],[Team Number]],InnovationProjectResults[Team Number],0))),NumberOfTeams+1,INDEX(InnovationProjectResults[Innovation Project Rank],MATCH(TournamentData[[#This Row],[Team Number]],InnovationProjectResults[Team Number],0))))","v":""},{"$f":"IF(TournamentData[[#This Row],[Team Number]]=\"\",\"\",IF(ISNA(INDEX(RobotDesignResults[Robot Design Rank],MATCH(TournamentData[[#This Row],[Team Number]],RobotDesignResults[Team Number],0))),NumberOfTeams+1,INDEX(RobotDesignResults[Robot Design Rank],MATCH(TournamentData[[#This Row],[Team Number]],RobotDesignResults[Team Number],0))))","v":""},{"$f":" IF(TournamentData[[#This Row],[Team Number]]=\"\",\"\",IF(TournamentData[[#This Row],[Core Values Rank]]=\"\",NumberOfTeams+1,TournamentData[[#This Row],[Core Values Rank]]) + IF(TournamentData[[#This Row],[Innovation Project Rank]]=\"\",NumberOfTeams+1,TournamentData[[#This Row],[Innovation Project Rank]]) + IF(TournamentData[[#This Row],[Robot Design Rank]]=\"\",NumberOfTeams+1,TournamentData[[#This Row],[Robot Design Rank]]) + TournamentData[[#This Row],[Robot Game Rank]])","v":""},{"$f":"IF(TournamentData[[#This Row],[Team Number]]=\"\",\"\",IF(M98,RANK(M98,M$3:M$110,1)-COUNTIF(M$3:M$110,0),NumberOfTeams+1))","v":""},{"$f":"IF(ISNA(INDEX(CoreValuesResults[Breakthrough Selection],MATCH(TournamentData[[#This Row],[Team Number]],CoreValuesResults[Team Number],0))),0, INDEX(CoreValuesResults[Breakthrough Selection],MATCH(TournamentData[[#This Row],[Team Number]],CoreValuesResults[Team Number],0)))","v":0},{"$f":"IF(ISNA(INDEX(CoreValuesResults[Rising All-Star Selection],MATCH(TournamentData[[#This Row],[Team Number]],CoreValuesResults[Team Number],0))),0, INDEX(CoreValuesResults[Rising All-Star Selection],MATCH(TournamentData[[#This Row],[Team Number]],CoreValuesResults[Team Number],0)))","v":0},{"$f":"IF(ISNA(INDEX(CoreValuesResults[Motivate Selection],MATCH(TournamentData[[#This Row],[Team Number]],CoreValuesResults[Team Number],0))),0, INDEX(CoreValuesResults[Motivate Selection],MATCH(TournamentData[[#This Row],[Team Number]],CoreValuesResults[Team Number],0)))","v":0},null,null,null,{"$f":"IF(ISNA(INDEX(CoreValuesResults[Core Values Score],MATCH(TournamentData[[#This Row],[Team Number]],CoreValuesResults[Team Number],0))),0,INDEX(CoreValuesResults[Core Values Score],MATCH(TournamentData[[#This Row],[Team Number]],CoreValuesResults[Team Number],0)))","v":0},{"$f":"IF(ISNA(INDEX(InnovationProjectResults[Innovation Project Score],MATCH(TournamentData[[#This Row],[Team Number]],InnovationProjectResults[Team Number],0))),0,INDEX(InnovationProjectResults[Innovation Project Score],MATCH(TournamentData[[#This Row],[Team Number]],InnovationProjectResults[Team Number],0)))","v":0},{"$f":"IF(ISNA(INDEX(RobotDesignResults[Robot Design Score],MATCH(TournamentData[[#This Row],[Team Number]],RobotDesignResults[Team Number],0))),0,INDEX(RobotDesignResults[Robot Design Score],MATCH(TournamentData[[#This Row],[Team Number]],RobotDesignResults[Team Number],0)))","v":0},{"$f":"IF(ISERR(GEOMEAN(TournamentData[[#This Row],[Max Robot Game Score]],TournamentData[[#This Row],[Core Values Score]],TournamentData[[#This Row],[Innovattion Project Score]],TournamentData[[#This Row],[Robot Design Score]])),0,GEOMEAN(TournamentData[[#This Row],[Max Robot Game Score]],TournamentData[[#This Row],[Core Values Score]],TournamentData[[#This Row],[Innovattion Project Score]],TournamentData[[#This Row],[Robot Design Score]]))","v":0},0]
[null,{"$f":"IF(ISNA(INDEX(OfficialTeamList[Team Name],MATCH(TournamentData[[#This Row],[Team Number]], OfficialTeamList[Team Number],0))),\"\",INDEX(OfficialTeamList[Team Name],MATCH(TournamentData[[#This Row],[Team Number]], OfficialTeamList[Team Number],0)))","v":""},{"$f":"IF(TournamentData[[#This Row],[Team Number]]=\"\",\"\",IF(ISNA(INDEX('Robot Game Scores'!D:D,MATCH(TournamentData[[#This Row],[Team Number]], 'Robot Game Scores'!$B:$B,0))),0,INDEX('Robot Game Scores'!D:D,MATCH(TournamentData[[#This Row],[Team Number]], 'Robot Game Scores'!$B:$B,0))))","v":""},{"$f":"IF(TournamentData[[#This Row],[Team Number]]=\"\",\"\",IF(ISNA(INDEX('Robot Game Scores'!E:E,MATCH(TournamentData[[#This Row],[Team Number]], 'Robot Game Scores'!$B:$B,0))),0,INDEX('Robot Game Scores'!E:E,MATCH(TournamentData[[#This Row],[Team Number]], 'Robot Game Scores'!$B:$B,0))))","v":""},{"$f":"IF(TournamentData[[#This Row],[Team Number]]=\"\",\"\",IF(ISNA(INDEX('Robot Game Scores'!F:F,MATCH(TournamentData[[#This Row],[Team Number]], 'Robot Game Scores'!$B:$B,0))),0,INDEX('Robot Game Scores'!F:F,MATCH(TournamentData[[#This Row],[Team Number]], 'Robot Game Scores'!$B:$B,0))))","v":""},{"$f":"IF(TournamentData[[#This Row],[Team Number]]=\"\",\"\",IF(ISNA(INDEX('Robot Game Scores'!G:G,MATCH(TournamentData[[#This Row],[Team Number]], 'Robot Game Scores'!$B:$B,0))),0,INDEX('Robot Game Scores'!G:G,MATCH(TournamentData[[#This Row],[Team Number]], 'Robot Game Scores'!$B:$B,0))))","v":""},{"$f":"IF(TournamentData[[#This Row],[Team Number]]=\"\",\"\",IF(ISNA(INDEX('Robot Game Scores'!H:H,MATCH(TournamentData[[#This Row],[Team Number]], 'Robot Game Scores'!$B:$B,0))),0,INDEX('Robot Game Scores'!H:H,MATCH(TournamentData[[#This Row],[Team Number]], 'Robot Game Scores'!$B:$B,0))))","v":""},{"$f":"IF(TournamentData[[#This Row],[Team Number]]=\"\",\"\",IF(ISNA(LARGE(TournamentData[[#This Row],[Robot Game Score 1]:[Robot Game Score 5]],1)+0.0001*LARGE(TournamentData[[#This Row],[Robot Game Score 1]:[Robot Game Score 5]],2)+0.0000001*LARGE(TournamentData[[#This Row],[Robot Game Score 1]:[Robot Game Score 5]],3)+0.00000000001*LARGE(TournamentData[[#This Row],[Robot Game Score 1]:[Robot Game Score 5]],4)+0.00000000000001*LARGE(TournamentData[[#This Row],[Robot Game Score 1]:[Robot Game Score 5]],5)),0,LARGE(TournamentData[[#This Row],[Robot Game Score 1]:[Robot Game Score 5]],1)+0.0001*LARGE(TournamentData[[#This Row],[Robot Game Score 1]:[Robot Game Score 5]],2)+0.0000001*LARGE(TournamentData[[#This Row],[Robot Game Score 1]:[Robot Game Score 5]],3)+0.00000000001*LARGE(TournamentData[[#This Row],[Robot Game Score 1]:[Robot Game Score 5]],4)+0.00000000000001*LARGE(TournamentData[[#This Row],[Robot Game Score 1]:[Robot Game Score 5]],5)))","v":""},{"$f":"IF(TournamentData[[#This Row],[Team Number]]=\"\",\"\",_xlfn.RANK.EQ(TournamentData[[#This Row],[Max Robot Game Score]],TournamentData[Max Robot Game Score]))","v":""},{"$f":"IF(TournamentData[[#This Row],[Team Number]]=\"\",\"\",IF(ISNA(INDEX(CoreValuesResults[Core Values Rank],MATCH(TournamentData[[#This Row],[Team Number]],CoreValuesResults[Team Number],0))),NumberOfTeams+1,INDEX(CoreValuesResults[Core Values Rank],MATCH(TournamentData[[#This Row],[Team Number]],CoreValuesResults[Team Number],0))))","v":""},{"$f":"IF(TournamentData[[#This Row],[Team Number]]=\"\",\"\",IF(ISNA(INDEX(InnovationProjectResults[Innovation Project Rank],MATCH(TournamentData[[#This Row],[Team Number]],InnovationProjectResults[Team Number],0))),NumberOfTeams+1,INDEX(InnovationProjectResults[Innovation Project Rank],MATCH(TournamentData[[#This Row],[Team Number]],InnovationProjectResults[Team Number],0))))","v":""},{"$f":"IF(TournamentData[[#This Row],[Team Number]]=\"\",\"\",IF(ISNA(INDEX(RobotDesignResults[Robot Design Rank],MATCH(TournamentData[[#This Row],[Team Number]],RobotDesignResults[Team Number],0))),NumberOfTeams+1,INDEX(RobotDesignResults[Robot Design Rank],MATCH(TournamentData[[#This Row],[Team Number]],RobotDesignResults[Team Number],0))))","v":""},{"$f":" IF(TournamentData[[#This Row],[Team Number]]=\"\",\"\",IF(TournamentData[[#This Row],[Core Values Rank]]=\"\",NumberOfTeams+1,TournamentData[[#This Row],[Core Values Rank]]) + IF(TournamentData[[#This Row],[Innovation Project Rank]]=\"\",NumberOfTeams+1,TournamentData[[#This Row],[Innovation Project Rank]]) + IF(TournamentData[[#This Row],[Robot Design Rank]]=\"\",NumberOfTeams+1,TournamentData[[#This Row],[Robot Design Rank]]) + TournamentData[[#This Row],[Robot Game Rank]])","v":""},{"$f":"IF(TournamentData[[#This Row],[Team Number]]=\"\",\"\",IF(M99,RANK(M99,M$3:M$110,1)-COUNTIF(M$3:M$110,0),NumberOfTeams+1))","v":""},{"$f":"IF(ISNA(INDEX(CoreValuesResults[Breakthrough Selection],MATCH(TournamentData[[#This Row],[Team Number]],CoreValuesResults[Team Number],0))),0, INDEX(CoreValuesResults[Breakthrough Selection],MATCH(TournamentData[[#This Row],[Team Number]],CoreValuesResults[Team Number],0)))","v":0},{"$f":"IF(ISNA(INDEX(CoreValuesResults[Rising All-Star Selection],MATCH(TournamentData[[#This Row],[Team Number]],CoreValuesResults[Team Number],0))),0, INDEX(CoreValuesResults[Rising All-Star Selection],MATCH(TournamentData[[#This Row],[Team Number]],CoreValuesResults[Team Number],0)))","v":0},{"$f":"IF(ISNA(INDEX(CoreValuesResults[Motivate Selection],MATCH(TournamentData[[#This Row],[Team Number]],CoreValuesResults[Team Number],0))),0, INDEX(CoreValuesResults[Motivate Selection],MATCH(TournamentData[[#This Row],[Team Number]],CoreValuesResults[Team Number],0)))","v":0},null,null,null,{"$f":"IF(ISNA(INDEX(CoreValuesResults[Core Values Score],MATCH(TournamentData[[#This Row],[Team Number]],CoreValuesResults[Team Number],0))),0,INDEX(CoreValuesResults[Core Values Score],MATCH(TournamentData[[#This Row],[Team Number]],CoreValuesResults[Team Number],0)))","v":0},{"$f":"IF(ISNA(INDEX(InnovationProjectResults[Innovation Project Score],MATCH(TournamentData[[#This Row],[Team Number]],InnovationProjectResults[Team Number],0))),0,INDEX(InnovationProjectResults[Innovation Project Score],MATCH(TournamentData[[#This Row],[Team Number]],InnovationProjectResults[Team Number],0)))","v":0},{"$f":"IF(ISNA(INDEX(RobotDesignResults[Robot Design Score],MATCH(TournamentData[[#This Row],[Team Number]],RobotDesignResults[Team Number],0))),0,INDEX(RobotDesignResults[Robot Design Score],MATCH(TournamentData[[#This Row],[Team Number]],RobotDesignResults[Team Number],0)))","v":0},{"$f":"IF(ISERR(GEOMEAN(TournamentData[[#This Row],[Max Robot Game Score]],TournamentData[[#This Row],[Core Values Score]],TournamentData[[#This Row],[Innovattion Project Score]],TournamentData[[#This Row],[Robot Design Score]])),0,GEOMEAN(TournamentData[[#This Row],[Max Robot Game Score]],TournamentData[[#This Row],[Core Values Score]],TournamentData[[#This Row],[Innovattion Project Score]],TournamentData[[#This Row],[Robot Design Score]]))","v":0},{"$f":"IF(X99,_xlfn.RANK.EQ(X99,X$3:X$110,0),NumberOfTeams)","v":0}]
[null,{"$f":"IF(ISNA(INDEX(OfficialTeamList[Team Name],MATCH(TournamentData[[#This Row],[Team Number]], OfficialTeamList[Team Number],0))),\"\",INDEX(OfficialTeamList[Team Name],MATCH(TournamentData[[#This Row],[Team Number]], OfficialTeamList[Team Number],0)))","v":""},{"$f":"IF(TournamentData[[#This Row],[Team Number]]=\"\",\"\",IF(ISNA(INDEX('Robot Game Scores'!D:D,MATCH(TournamentData[[#This Row],[Team Number]], 'Robot Game Scores'!$B:$B,0))),0,INDEX('Robot Game Scores'!D:D,MATCH(TournamentData[[#This Row],[Team Number]], 'Robot Game Scores'!$B:$B,0))))","v":""},{"$f":"IF(TournamentData[[#This Row],[Team Number]]=\"\",\"\",IF(ISNA(INDEX('Robot Game Scores'!E:E,MATCH(TournamentData[[#This Row],[Team Number]], 'Robot Game Scores'!$B:$B,0))),0,INDEX('Robot Game Scores'!E:E,MATCH(TournamentData[[#This Row],[Team Number]], 'Robot Game Scores'!$B:$B,0))))","v":""},{"$f":"IF(TournamentData[[#This Row],[Team Number]]=\"\",\"\",IF(ISNA(INDEX('Robot Game Scores'!F:F,MATCH(TournamentData[[#This Row],[Team Number]], 'Robot Game Scores'!$B:$B,0))),0,INDEX('Robot Game Scores'!F:F,MATCH(TournamentData[[#This Row],[Team Number]], 'Robot Game Scores'!$B:$B,0))))","v":""},{"$f":"IF(TournamentData[[#This Row],[Team Number]]=\"\",\"\",IF(ISNA(INDEX('Robot Game Scores'!G:G,MATCH(TournamentData[[#This Row],[Team Number]], 'Robot Game Scores'!$B:$B,0))),0,INDEX('Robot Game Scores'!G:G,MATCH(TournamentData[[#This Row],[Team Number]], 'Robot Game Scores'!$B:$B,0))))","v":""},{"$f":"IF(TournamentData[[#This Row],[Team Number]]=\"\",\"\",IF(ISNA(INDEX('Robot Game Scores'!H:H,MATCH(TournamentData[[#This Row],[Team Number]], 'Robot Game Scores'!$B:$B,0))),0,INDEX('Robot Game Scores'!H:H,MATCH(TournamentData[[#This Row],[Team Number]], 'Robot Game Scores'!$B:$B,0))))","v":""},{"$f":"IF(TournamentData[[#This Row],[Team Number]]=\"\",\"\",IF(ISNA(LARGE(TournamentData[[#This Row],[Robot Game Score 1]:[Robot Game Score 5]],1)+0.0001*LARGE(TournamentData[[#This Row],[Robot Game Score 1]:[Robot Game Score 5]],2)+0.0000001*LARGE(TournamentData[[#This Row],[Robot Game Score 1]:[Robot Game Score 5]],3)+0.00000000001*LARGE(TournamentData[[#This Row],[Robot Game Score 1]:[Robot Game Score 5]],4)+0.00000000000001*LARGE(TournamentData[[#This Row],[Robot Game Score 1]:[Robot Game Score 5]],5)),0,LARGE(TournamentData[[#This Row],[Robot Game Score 1]:[Robot Game Score 5]],1)+0.0001*LARGE(TournamentData[[#This Row],[Robot Game Score 1]:[Robot Game Score 5]],2)+0.0000001*LARGE(TournamentData[[#This Row],[Robot Game Score 1]:[Robot Game Score 5]],3)+0.00000000001*LARGE(TournamentData[[#This Row],[Robot Game Score 1]:[Robot Game Score 5]],4)+0.00000000000001*LARGE(TournamentData[[#This Row],[Robot Game Score 1]:[Robot Game Score 5]],5)))","v":""},{"$f":"IF(TournamentData[[#This Row],[Team Number]]=\"\",\"\",_xlfn.RANK.EQ(TournamentData[[#This Row],[Max Robot Game Score]],TournamentData[Max Robot Game Score]))","v":""},{"$f":"IF(TournamentData[[#This Row],[Team Number]]=\"\",\"\",IF(ISNA(INDEX(CoreValuesResults[Core Values Rank],MATCH(TournamentData[[#This Row],[Team Number]],CoreValuesResults[Team Number],0))),NumberOfTeams+1,INDEX(CoreValuesResults[Core Values Rank],MATCH(TournamentData[[#This Row],[Team Number]],CoreValuesResults[Team Number],0))))","v":""},{"$f":"IF(TournamentData[[#This Row],[Team Number]]=\"\",\"\",IF(ISNA(INDEX(InnovationProjectResults[Innovation Project Rank],MATCH(TournamentData[[#This Row],[Team Number]],InnovationProjectResults[Team Number],0))),NumberOfTeams+1,INDEX(InnovationProjectResults[Innovation Project Rank],MATCH(TournamentData[[#This Row],[Team Number]],InnovationProjectResults[Team Number],0))))","v":""},{"$f":"IF(TournamentData[[#This Row],[Team Number]]=\"\",\"\",IF(ISNA(INDEX(RobotDesignResults[Robot Design Rank],MATCH(TournamentData[[#This Row],[Team Number]],RobotDesignResults[Team Number],0))),NumberOfTeams+1,INDEX(RobotDesignResults[Robot Design Rank],MATCH(TournamentData[[#This Row],[Team Number]],RobotDesignResults[Team Number],0))))","v":""},{"$f":" IF(TournamentData[[#This Row],[Team Number]]=\"\",\"\",IF(TournamentData[[#This Row],[Core Values Rank]]=\"\",NumberOfTeams+1,TournamentData[[#This Row],[Core Values Rank]]) + IF(TournamentData[[#This Row],[Innovation Project Rank]]=\"\",NumberOfTeams+1,TournamentData[[#This Row],[Innovation Project Rank]]) + IF(TournamentData[[#This Row],[Robot Design Rank]]=\"\",NumberOfTeams+1,TournamentData[[#This Row],[Robot Design Rank]]) + TournamentData[[#This Row],[Robot Game Rank]])","v":""},{"$f":"IF(TournamentData[[#This Row],[Team Number]]=\"\",\"\",IF(M100,RANK(M100,M$3:M$110,1)-COUNTIF(M$3:M$110,0),NumberOfTeams+1))","v":""},{"$f":"IF(ISNA(INDEX(CoreValuesResults[Breakthrough Selection],MATCH(TournamentData[[#This Row],[Team Number]],CoreValuesResults[Team Number],0))),0, INDEX(CoreValuesResults[Breakthrough Selection],MATCH(TournamentData[[#This Row],[Team Number]],CoreValuesResults[Team Number],0)))","v":0},{"$f":"IF(ISNA(INDEX(CoreValuesResults[Rising All-Star Selection],MATCH(TournamentData[[#This Row],[Team Number]],CoreValuesResults[Team Number],0))),0, INDEX(CoreValuesResults[Rising All-Star Selection],MATCH(TournamentData[[#This Row],[Team Number]],CoreValuesResults[Team Number],0)))","v":0},{"$f":"IF(ISNA(INDEX(CoreValuesResults[Motivate Selection],MATCH(TournamentData[[#This Row],[Team Number]],CoreValuesResults[Team Number],0))),0, INDEX(CoreValuesResults[Motivate Selection],MATCH(TournamentData[[#This Row],[Team Number]],CoreValuesResults[Team Number],0)))","v":0},null,null,null,{"$f":"IF(ISNA(INDEX(CoreValuesResults[Core Values Score],MATCH(TournamentData[[#This Row],[Team Number]],CoreValuesResults[Team Number],0))),0,INDEX(CoreValuesResults[Core Values Score],MATCH(TournamentData[[#This Row],[Team Number]],CoreValuesResults[Team Number],0)))","v":0},{"$f":"IF(ISNA(INDEX(InnovationProjectResults[Innovation Project Score],MATCH(TournamentData[[#This Row],[Team Number]],InnovationProjectResults[Team Number],0))),0,INDEX(InnovationProjectResults[Innovation Project Score],MATCH(TournamentData[[#This Row],[Team Number]],InnovationProjectResults[Team Number],0)))","v":0},{"$f":"IF(ISNA(INDEX(RobotDesignResults[Robot Design Score],MATCH(TournamentData[[#This Row],[Team Number]],RobotDesignResults[Team Number],0))),0,INDEX(RobotDesignResults[Robot Design Score],MATCH(TournamentData[[#This Row],[Team Number]],RobotDesignResults[Team Number],0)))","v":0},{"$f":"IF(ISERR(GEOMEAN(TournamentData[[#This Row],[Max Robot Game Score]],TournamentData[[#This Row],[Core Values Score]],TournamentData[[#This Row],[Innovattion Project Score]],TournamentData[[#This Row],[Robot Design Score]])),0,GEOMEAN(TournamentData[[#This Row],[Max Robot Game Score]],TournamentData[[#This Row],[Core Values Score]],TournamentData[[#This Row],[Innovattion Project Score]],TournamentData[[#This Row],[Robot Design Score]]))","v":0},0]
[null,{"$f":"IF(ISNA(INDEX(OfficialTeamList[Team Name],MATCH(TournamentData[[#This Row],[Team Number]], OfficialTeamList[Team Number],0))),\"\",INDEX(OfficialTeamList[Team Name],MATCH(TournamentData[[#This Row],[Team Number]], OfficialTeamList[Team Number],0)))","v":""},{"$f":"IF(TournamentData[[#This Row],[Team Number]]=\"\",\"\",IF(ISNA(INDEX('Robot Game Scores'!D:D,MATCH(TournamentData[[#This Row],[Team Number]], 'Robot Game Scores'!$B:$B,0))),0,INDEX('Robot Game Scores'!D:D,MATCH(TournamentData[[#This Row],[Team Number]], 'Robot Game Scores'!$B:$B,0))))","v":""},{"$f":"IF(TournamentData[[#This Row],[Team Number]]=\"\",\"\",IF(ISNA(INDEX('Robot Game Scores'!E:E,MATCH(TournamentData[[#This Row],[Team Number]], 'Robot Game Scores'!$B:$B,0))),0,INDEX('Robot Game Scores'!E:E,MATCH(TournamentData[[#This Row],[Team Number]], 'Robot Game Scores'!$B:$B,0))))","v":""},{"$f":"IF(TournamentData[[#This Row],[Team Number]]=\"\",\"\",IF(ISNA(INDEX('Robot Game Scores'!F:F,MATCH(TournamentData[[#This Row],[Team Number]], 'Robot Game Scores'!$B:$B,0))),0,INDEX('Robot Game Scores'!F:F,MATCH(TournamentData[[#This Row],[Team Number]], 'Robot Game Scores'!$B:$B,0))))","v":""},{"$f":"IF(TournamentData[[#This Row],[Team Number]]=\"\",\"\",IF(ISNA(INDEX('Robot Game Scores'!G:G,MATCH(TournamentData[[#This Row],[Team Number]], 'Robot Game Scores'!$B:$B,0))),0,INDEX('Robot Game Scores'!G:G,MATCH(TournamentData[[#This Row],[Team Number]], 'Robot Game Scores'!$B:$B,0))))","v":""},{"$f":"IF(TournamentData[[#This Row],[Team Number]]=\"\",\"\",IF(ISNA(INDEX('Robot Game Scores'!H:H,MATCH(TournamentData[[#This Row],[Team Number]], 'Robot Game Scores'!$B:$B,0))),0,INDEX('Robot Game Scores'!H:H,MATCH(TournamentData[[#This Row],[Team Number]], 'Robot Game Scores'!$B:$B,0))))","v":""},{"$f":"IF(TournamentData[[#This Row],[Team Number]]=\"\",\"\",IF(ISNA(LARGE(TournamentData[[#This Row],[Robot Game Score 1]:[Robot Game Score 5]],1)+0.0001*LARGE(TournamentData[[#This Row],[Robot Game Score 1]:[Robot Game Score 5]],2)+0.0000001*LARGE(TournamentData[[#This Row],[Robot Game Score 1]:[Robot Game Score 5]],3)+0.00000000001*LARGE(TournamentData[[#This Row],[Robot Game Score 1]:[Robot Game Score 5]],4)+0.00000000000001*LARGE(TournamentData[[#This Row],[Robot Game Score 1]:[Robot Game Score 5]],5)),0,LARGE(TournamentData[[#This Row],[Robot Game Score 1]:[Robot Game Score 5]],1)+0.0001*LARGE(TournamentData[[#This Row],[Robot Game Score 1]:[Robot Game Score 5]],2)+0.0000001*LARGE(TournamentData[[#This Row],[Robot Game Score 1]:[Robot Game Score 5]],3)+0.00000000001*LARGE(TournamentData[[#This Row],[Robot Game Score 1]:[Robot Game Score 5]],4)+0.00000000000001*LARGE(TournamentData[[#This Row],[Robot Game Score 1]:[Robot Game Score 5]],5)))","v":""},{"$f":"IF(TournamentData[[#This Row],[Team Number]]=\"\",\"\",_xlfn.RANK.EQ(TournamentData[[#This Row],[Max Robot Game Score]],TournamentData[Max Robot Game Score]))","v":""},{"$f":"IF(TournamentData[[#This Row],[Team Number]]=\"\",\"\",IF(ISNA(INDEX(CoreValuesResults[Core Values Rank],MATCH(TournamentData[[#This Row],[Team Number]],CoreValuesResults[Team Number],0))),NumberOfTeams+1,INDEX(CoreValuesResults[Core Values Rank],MATCH(TournamentData[[#This Row],[Team Number]],CoreValuesResults[Team Number],0))))","v":""},{"$f":"IF(TournamentData[[#This Row],[Team Number]]=\"\",\"\",IF(ISNA(INDEX(InnovationProjectResults[Innovation Project Rank],MATCH(TournamentData[[#This Row],[Team Number]],InnovationProjectResults[Team Number],0))),NumberOfTeams+1,INDEX(InnovationProjectResults[Innovation Project Rank],MATCH(TournamentData[[#This Row],[Team Number]],InnovationProjectResults[Team Number],0))))","v":""},{"$f":"IF(TournamentData[[#This Row],[Team Number]]=\"\",\"\",IF(ISNA(INDEX(RobotDesignResults[Robot Design Rank],MATCH(TournamentData[[#This Row],[Team Number]],RobotDesignResults[Team Number],0))),NumberOfTeams+1,INDEX(RobotDesignResults[Robot Design Rank],MATCH(TournamentData[[#This Row],[Team Number]],RobotDesignResults[Team Number],0))))","v":""},{"$f":" IF(TournamentData[[#This Row],[Team Number]]=\"\",\"\",IF(TournamentData[[#This Row],[Core Values Rank]]=\"\",NumberOfTeams+1,TournamentData[[#This Row],[Core Values Rank]]) + IF(TournamentData[[#This Row],[Innovation Project Rank]]=\"\",NumberOfTeams+1,TournamentData[[#This Row],[Innovation Project Rank]]) + IF(TournamentData[[#This Row],[Robot Design Rank]]=\"\",NumberOfTeams+1,TournamentData[[#This Row],[Robot Design Rank]]) + TournamentData[[#This Row],[Robot Game Rank]])","v":""},{"$f":"IF(TournamentData[[#This Row],[Team Number]]=\"\",\"\",IF(M101,RANK(M101,M$3:M$110,1)-COUNTIF(M$3:M$110,0),NumberOfTeams+1))","v":""},{"$f":"IF(ISNA(INDEX(CoreValuesResults[Breakthrough Selection],MATCH(TournamentData[[#This Row],[Team Number]],CoreValuesResults[Team Number],0))),0, INDEX(CoreValuesResults[Breakthrough Selection],MATCH(TournamentData[[#This Row],[Team Number]],CoreValuesResults[Team Number],0)))","v":0},{"$f":"IF(ISNA(INDEX(CoreValuesResults[Rising All-Star Selection],MATCH(TournamentData[[#This Row],[Team Number]],CoreValuesResults[Team Number],0))),0, INDEX(CoreValuesResults[Rising All-Star Selection],MATCH(TournamentData[[#This Row],[Team Number]],CoreValuesResults[Team Number],0)))","v":0},{"$f":"IF(ISNA(INDEX(CoreValuesResults[Motivate Selection],MATCH(TournamentData[[#This Row],[Team Number]],CoreValuesResults[Team Number],0))),0, INDEX(CoreValuesResults[Motivate Selection],MATCH(TournamentData[[#This Row],[Team Number]],CoreValuesResults[Team Number],0)))","v":0},null,null,null,{"$f":"IF(ISNA(INDEX(CoreValuesResults[Core Values Score],MATCH(TournamentData[[#This Row],[Team Number]],CoreValuesResults[Team Number],0))),0,INDEX(CoreValuesResults[Core Values Score],MATCH(TournamentData[[#This Row],[Team Number]],CoreValuesResults[Team Number],0)))","v":0},{"$f":"IF(ISNA(INDEX(InnovationProjectResults[Innovation Project Score],MATCH(TournamentData[[#This Row],[Team Number]],InnovationProjectResults[Team Number],0))),0,INDEX(InnovationProjectResults[Innovation Project Score],MATCH(TournamentData[[#This Row],[Team Number]],InnovationProjectResults[Team Number],0)))","v":0},{"$f":"IF(ISNA(INDEX(RobotDesignResults[Robot Design Score],MATCH(TournamentData[[#This Row],[Team Number]],RobotDesignResults[Team Number],0))),0,INDEX(RobotDesignResults[Robot Design Score],MATCH(TournamentData[[#This Row],[Team Number]],RobotDesignResults[Team Number],0)))","v":0},{"$f":"IF(ISERR(GEOMEAN(TournamentData[[#This Row],[Max Robot Game Score]],TournamentData[[#This Row],[Core Values Score]],TournamentData[[#This Row],[Innovattion Project Score]],TournamentData[[#This Row],[Robot Design Score]])),0,GEOMEAN(TournamentData[[#This Row],[Max Robot Game Score]],TournamentData[[#This Row],[Core Values Score]],TournamentData[[#This Row],[Innovattion Project Score]],TournamentData[[#This Row],[Robot Design Score]]))","v":0},0]
[null,{"$f":"IF(ISNA(INDEX(OfficialTeamList[Team Name],MATCH(TournamentData[[#This Row],[Team Number]], OfficialTeamList[Team Number],0))),\"\",INDEX(OfficialTeamList[Team Name],MATCH(TournamentData[[#This Row],[Team Number]], OfficialTeamList[Team Number],0)))","v":""},{"$f":"IF(TournamentData[[#This Row],[Team Number]]=\"\",\"\",IF(ISNA(INDEX('Robot Game Scores'!D:D,MATCH(TournamentData[[#This Row],[Team Number]], 'Robot Game Scores'!$B:$B,0))),0,INDEX('Robot Game Scores'!D:D,MATCH(TournamentData[[#This Row],[Team Number]], 'Robot Game Scores'!$B:$B,0))))","v":""},{"$f":"IF(TournamentData[[#This Row],[Team Number]]=\"\",\"\",IF(ISNA(INDEX('Robot Game Scores'!E:E,MATCH(TournamentData[[#This Row],[Team Number]], 'Robot Game Scores'!$B:$B,0))),0,INDEX('Robot Game Scores'!E:E,MATCH(TournamentData[[#This Row],[Team Number]], 'Robot Game Scores'!$B:$B,0))))","v":""},{"$f":"IF(TournamentData[[#This Row],[Team Number]]=\"\",\"\",IF(ISNA(INDEX('Robot Game Scores'!F:F,MATCH(TournamentData[[#This Row],[Team Number]], 'Robot Game Scores'!$B:$B,0))),0,INDEX('Robot Game Scores'!F:F,MATCH(TournamentData[[#This Row],[Team Number]], 'Robot Game Scores'!$B:$B,0))))","v":""},{"$f":"IF(TournamentData[[#This Row],[Team Number]]=\"\",\"\",IF(ISNA(INDEX('Robot Game Scores'!G:G,MATCH(TournamentData[[#This Row],[Team Number]], 'Robot Game Scores'!$B:$B,0))),0,INDEX('Robot Game Scores'!G:G,MATCH(TournamentData[[#This Row],[Team Number]], 'Robot Game Scores'!$B:$B,0))))","v":""},{"$f":"IF(TournamentData[[#This Row],[Team Number]]=\"\",\"\",IF(ISNA(INDEX('Robot Game Scores'!H:H,MATCH(TournamentData[[#This Row],[Team Number]], 'Robot Game Scores'!$B:$B,0))),0,INDEX('Robot Game Scores'!H:H,MATCH(TournamentData[[#This Row],[Team Number]], 'Robot Game Scores'!$B:$B,0))))","v":""},{"$f":"IF(TournamentData[[#This Row],[Team Number]]=\"\",\"\",IF(ISNA(LARGE(TournamentData[[#This Row],[Robot Game Score 1]:[Robot Game Score 5]],1)+0.0001*LARGE(TournamentData[[#This Row],[Robot Game Score 1]:[Robot Game Score 5]],2)+0.0000001*LARGE(TournamentData[[#This Row],[Robot Game Score 1]:[Robot Game Score 5]],3)+0.00000000001*LARGE(TournamentData[[#This Row],[Robot Game Score 1]:[Robot Game Score 5]],4)+0.00000000000001*LARGE(TournamentData[[#This Row],[Robot Game Score 1]:[Robot Game Score 5]],5)),0,LARGE(TournamentData[[#This Row],[Robot Game Score 1]:[Robot Game Score 5]],1)+0.0001*LARGE(TournamentData[[#This Row],[Robot Game Score 1]:[Robot Game Score 5]],2)+0.0000001*LARGE(TournamentData[[#This Row],[Robot Game Score 1]:[Robot Game Score 5]],3)+0.00000000001*LARGE(TournamentData[[#This Row],[Robot Game Score 1]:[Robot Game Score 5]],4)+0.00000000000001*LARGE(TournamentData[[#This Row],[Robot Game Score 1]:[Robot Game Score 5]],5)))","v":""},{"$f":"IF(TournamentData[[#This Row],[Team Number]]=\"\",\"\",_xlfn.RANK.EQ(TournamentData[[#This Row],[Max Robot Game Score]],TournamentData[Max Robot Game Score]))","v":""},{"$f":"IF(TournamentData[[#This Row],[Team Number]]=\"\",\"\",IF(ISNA(INDEX(CoreValuesResults[Core Values Rank],MATCH(TournamentData[[#This Row],[Team Number]],CoreValuesResults[Team Number],0))),NumberOfTeams+1,INDEX(CoreValuesResults[Core Values Rank],MATCH(TournamentData[[#This Row],[Team Number]],CoreValuesResults[Team Number],0))))","v":""},{"$f":"IF(TournamentData[[#This Row],[Team Number]]=\"\",\"\",IF(ISNA(INDEX(InnovationProjectResults[Innovation Project Rank],MATCH(TournamentData[[#This Row],[Team Number]],InnovationProjectResults[Team Number],0))),NumberOfTeams+1,INDEX(InnovationProjectResults[Innovation Project Rank],MATCH(TournamentData[[#This Row],[Team Number]],InnovationProjectResults[Team Number],0))))","v":""},{"$f":"IF(TournamentData[[#This Row],[Team Number]]=\"\",\"\",IF(ISNA(INDEX(RobotDesignResults[Robot Design Rank],MATCH(TournamentData[[#This Row],[Team Number]],RobotDesignResults[Team Number],0))),NumberOfTeams+1,INDEX(RobotDesignResults[Robot Design Rank],MATCH(TournamentData[[#This Row],[Team Number]],RobotDesignResults[Team Number],0))))","v":""},{"$f":" IF(TournamentData[[#This Row],[Team Number]]=\"\",\"\",IF(TournamentData[[#This Row],[Core Values Rank]]=\"\",NumberOfTeams+1,TournamentData[[#This Row],[Core Values Rank]]) + IF(TournamentData[[#This Row],[Innovation Project Rank]]=\"\",NumberOfTeams+1,TournamentData[[#This Row],[Innovation Project Rank]]) + IF(TournamentData[[#This Row],[Robot Design Rank]]=\"\",NumberOfTeams+1,TournamentData[[#This Row],[Robot Design Rank]]) + TournamentData[[#This Row],[Robot Game Rank]])","v":""},{"$f":"IF(TournamentData[[#This Row],[Team Number]]=\"\",\"\",IF(M102,RANK(M102,M$3:M$110,1)-COUNTIF(M$3:M$110,0),NumberOfTeams+1))","v":""},{"$f":"IF(ISNA(INDEX(CoreValuesResults[Breakthrough Selection],MATCH(TournamentData[[#This Row],[Team Number]],CoreValuesResults[Team Number],0))),0, INDEX(CoreValuesResults[Breakthrough Selection],MATCH(TournamentData[[#This Row],[Team Number]],CoreValuesResults[Team Number],0)))","v":0},{"$f":"IF(ISNA(INDEX(CoreValuesResults[Rising All-Star Selection],MATCH(TournamentData[[#This Row],[Team Number]],CoreValuesResults[Team Number],0))),0, INDEX(CoreValuesResults[Rising All-Star Selection],MATCH(TournamentData[[#This Row],[Team Number]],CoreValuesResults[Team Number],0)))","v":0},{"$f":"IF(ISNA(INDEX(CoreValuesResults[Motivate Selection],MATCH(TournamentData[[#This Row],[Team Number]],CoreValuesResults[Team Number],0))),0, INDEX(CoreValuesResults[Motivate Selection],MATCH(TournamentData[[#This Row],[Team Number]],CoreValuesResults[Team Number],0)))","v":0},null,null,null,{"$f":"IF(ISNA(INDEX(CoreValuesResults[Core Values Score],MATCH(TournamentData[[#This Row],[Team Number]],CoreValuesResults[Team Number],0))),0,INDEX(CoreValuesResults[Core Values Score],MATCH(TournamentData[[#This Row],[Team Number]],CoreValuesResults[Team Number],0)))","v":0},{"$f":"IF(ISNA(INDEX(InnovationProjectResults[Innovation Project Score],MATCH(TournamentData[[#This Row],[Team Number]],InnovationProjectResults[Team Number],0))),0,INDEX(InnovationProjectResults[Innovation Project Score],MATCH(TournamentData[[#This Row],[Team Number]],InnovationProjectResults[Team Number],0)))","v":0},{"$f":"IF(ISNA(INDEX(RobotDesignResults[Robot Design Score],MATCH(TournamentData[[#This Row],[Team Number]],RobotDesignResults[Team Number],0))),0,INDEX(RobotDesignResults[Robot Design Score],MATCH(TournamentData[[#This Row],[Team Number]],RobotDesignResults[Team Number],0)))","v":0},{"$f":"IF(ISERR(GEOMEAN(TournamentData[[#This Row],[Max Robot Game Score]],TournamentData[[#This Row],[Core Values Score]],TournamentData[[#This Row],[Innovattion Project Score]],TournamentData[[#This Row],[Robot Design Score]])),0,GEOMEAN(TournamentData[[#This Row],[Max Robot Game Score]],TournamentData[[#This Row],[Core Values Score]],TournamentData[[#This Row],[Innovattion Project Score]],TournamentData[[#This Row],[Robot Design Score]]))","v":0},0]
[null,{"$f":"IF(ISNA(INDEX(OfficialTeamList[Team Name],MATCH(TournamentData[[#This Row],[Team Number]], OfficialTeamList[Team Number],0))),\"\",INDEX(OfficialTeamList[Team Name],MATCH(TournamentData[[#This Row],[Team Number]], OfficialTeamList[Team Number],0)))","v":""},{"$f":"IF(TournamentData[[#This Row],[Team Number]]=\"\",\"\",IF(ISNA(INDEX('Robot Game Scores'!D:D,MATCH(TournamentData[[#This Row],[Team Number]], 'Robot Game Scores'!$B:$B,0))),0,INDEX('Robot Game Scores'!D:D,MATCH(TournamentData[[#This Row],[Team Number]], 'Robot Game Scores'!$B:$B,0))))","v":""},{"$f":"IF(TournamentData[[#This Row],[Team Number]]=\"\",\"\",IF(ISNA(INDEX('Robot Game Scores'!E:E,MATCH(TournamentData[[#This Row],[Team Number]], 'Robot Game Scores'!$B:$B,0))),0,INDEX('Robot Game Scores'!E:E,MATCH(TournamentData[[#This Row],[Team Number]], 'Robot Game Scores'!$B:$B,0))))","v":""},{"$f":"IF(TournamentData[[#This Row],[Team Number]]=\"\",\"\",IF(ISNA(INDEX('Robot Game Scores'!F:F,MATCH(TournamentData[[#This Row],[Team Number]], 'Robot Game Scores'!$B:$B,0))),0,INDEX('Robot Game Scores'!F:F,MATCH(TournamentData[[#This Row],[Team Number]], 'Robot Game Scores'!$B:$B,0))))","v":""},{"$f":"IF(TournamentData[[#This Row],[Team Number]]=\"\",\"\",IF(ISNA(INDEX('Robot Game Scores'!G:G,MATCH(TournamentData[[#This Row],[Team Number]], 'Robot Game Scores'!$B:$B,0))),0,INDEX('Robot Game Scores'!G:G,MATCH(TournamentData[[#This Row],[Team Number]], 'Robot Game Scores'!$B:$B,0))))","v":""},{"$f":"IF(TournamentData[[#This Row],[Team Number]]=\"\",\"\",IF(ISNA(INDEX('Robot Game Scores'!H:H,MATCH(TournamentData[[#This Row],[Team Number]], 'Robot Game Scores'!$B:$B,0))),0,INDEX('Robot Game Scores'!H:H,MATCH(TournamentData[[#This Row],[Team Number]], 'Robot Game Scores'!$B:$B,0))))","v":""},{"$f":"IF(TournamentData[[#This Row],[Team Number]]=\"\",\"\",IF(ISNA(LARGE(TournamentData[[#This Row],[Robot Game Score 1]:[Robot Game Score 5]],1)+0.0001*LARGE(TournamentData[[#This Row],[Robot Game Score 1]:[Robot Game Score 5]],2)+0.0000001*LARGE(TournamentData[[#This Row],[Robot Game Score 1]:[Robot Game Score 5]],3)+0.00000000001*LARGE(TournamentData[[#This Row],[Robot Game Score 1]:[Robot Game Score 5]],4)+0.00000000000001*LARGE(TournamentData[[#This Row],[Robot Game Score 1]:[Robot Game Score 5]],5)),0,LARGE(TournamentData[[#This Row],[Robot Game Score 1]:[Robot Game Score 5]],1)+0.0001*LARGE(TournamentData[[#This Row],[Robot Game Score 1]:[Robot Game Score 5]],2)+0.0000001*LARGE(TournamentData[[#This Row],[Robot Game Score 1]:[Robot Game Score 5]],3)+0.00000000001*LARGE(TournamentData[[#This Row],[Robot Game Score 1]:[Robot Game Score 5]],4)+0.00000000000001*LARGE(TournamentData[[#This Row],[Robot Game Score 1]:[Robot Game Score 5]],5)))","v":""},{"$f":"IF(TournamentData[[#This Row],[Team Number]]=\"\",\"\",_xlfn.RANK.EQ(TournamentData[[#This Row],[Max Robot Game Score]],TournamentData[Max Robot Game Score]))","v":""},{"$f":"IF(TournamentData[[#This Row],[Team Number]]=\"\",\"\",IF(ISNA(INDEX(CoreValuesResults[Core Values Rank],MATCH(TournamentData[[#This Row],[Team Number]],CoreValuesResults[Team Number],0))),NumberOfTeams+1,INDEX(CoreValuesResults[Core Values Rank],MATCH(TournamentData[[#This Row],[Team Number]],CoreValuesResults[Team Number],0))))","v":""},{"$f":"IF(TournamentData[[#This Row],[Team Number]]=\"\",\"\",IF(ISNA(INDEX(InnovationProjectResults[Innovation Project Rank],MATCH(TournamentData[[#This Row],[Team Number]],InnovationProjectResults[Team Number],0))),NumberOfTeams+1,INDEX(InnovationProjectResults[Innovation Project Rank],MATCH(TournamentData[[#This Row],[Team Number]],InnovationProjectResults[Team Number],0))))","v":""},{"$f":"IF(TournamentData[[#This Row],[Team Number]]=\"\",\"\",IF(ISNA(INDEX(RobotDesignResults[Robot Design Rank],MATCH(TournamentData[[#This Row],[Team Number]],RobotDesignResults[Team Number],0))),NumberOfTeams+1,INDEX(RobotDesignResults[Robot Design Rank],MATCH(TournamentData[[#This Row],[Team Number]],RobotDesignResults[Team Number],0))))","v":""},{"$f":" IF(TournamentData[[#This Row],[Team Number]]=\"\",\"\",IF(TournamentData[[#This Row],[Core Values Rank]]=\"\",NumberOfTeams+1,TournamentData[[#This Row],[Core Values Rank]]) + IF(TournamentData[[#This Row],[Innovation Project Rank]]=\"\",NumberOfTeams+1,TournamentData[[#This Row],[Innovation Project Rank]]) + IF(TournamentData[[#This Row],[Robot Design Rank]]=\"\",NumberOfTeams+1,TournamentData[[#This Row],[Robot Design Rank]]) + TournamentData[[#This Row],[Robot Game Rank]])","v":""},{"$f":"IF(TournamentData[[#This Row],[Team Number]]=\"\",\"\",IF(M103,RANK(M103,M$3:M$110,1)-COUNTIF(M$3:M$110,0),NumberOfTeams+1))","v":""},{"$f":"IF(ISNA(INDEX(CoreValuesResults[Breakthrough Selection],MATCH(TournamentData[[#This Row],[Team Number]],CoreValuesResults[Team Number],0))),0, INDEX(CoreValuesResults[Breakthrough Selection],MATCH(TournamentData[[#This Row],[Team Number]],CoreValuesResults[Team Number],0)))","v":0},{"$f":"IF(ISNA(INDEX(CoreValuesResults[Rising All-Star Selection],MATCH(TournamentData[[#This Row],[Team Number]],CoreValuesResults[Team Number],0))),0, INDEX(CoreValuesResults[Rising All-Star Selection],MATCH(TournamentData[[#This Row],[Team Number]],CoreValuesResults[Team Number],0)))","v":0},{"$f":"IF(ISNA(INDEX(CoreValuesResults[Motivate Selection],MATCH(TournamentData[[#This Row],[Team Number]],CoreValuesResults[Team Number],0))),0, INDEX(CoreValuesResults[Motivate Selection],MATCH(TournamentData[[#This Row],[Team Number]],CoreValuesResults[Team Number],0)))","v":0},null,null,null,{"$f":"IF(ISNA(INDEX(CoreValuesResults[Core Values Score],MATCH(TournamentData[[#This Row],[Team Number]],CoreValuesResults[Team Number],0))),0,INDEX(CoreValuesResults[Core Values Score],MATCH(TournamentData[[#This Row],[Team Number]],CoreValuesResults[Team Number],0)))","v":0},{"$f":"IF(ISNA(INDEX(InnovationProjectResults[Innovation Project Score],MATCH(TournamentData[[#This Row],[Team Number]],InnovationProjectResults[Team Number],0))),0,INDEX(InnovationProjectResults[Innovation Project Score],MATCH(TournamentData[[#This Row],[Team Number]],InnovationProjectResults[Team Number],0)))","v":0},{"$f":"IF(ISNA(INDEX(RobotDesignResults[Robot Design Score],MATCH(TournamentData[[#This Row],[Team Number]],RobotDesignResults[Team Number],0))),0,INDEX(RobotDesignResults[Robot Design Score],MATCH(TournamentData[[#This Row],[Team Number]],RobotDesignResults[Team Number],0)))","v":0},{"$f":"IF(ISERR(GEOMEAN(TournamentData[[#This Row],[Max Robot Game Score]],TournamentData[[#This Row],[Core Values Score]],TournamentData[[#This Row],[Innovattion Project Score]],TournamentData[[#This Row],[Robot Design Score]])),0,GEOMEAN(TournamentData[[#This Row],[Max Robot Game Score]],TournamentData[[#This Row],[Core Values Score]],TournamentData[[#This Row],[Innovattion Project Score]],TournamentData[[#This Row],[Robot Design Score]]))","v":0},0]
[null,{"$f":"IF(ISNA(INDEX(OfficialTeamList[Team Name],MATCH(TournamentData[[#This Row],[Team Number]], OfficialTeamList[Team Number],0))),\"\",INDEX(OfficialTeamList[Team Name],MATCH(TournamentData[[#This Row],[Team Number]], OfficialTeamList[Team Number],0)))","v":""},{"$f":"IF(TournamentData[[#This Row],[Team Number]]=\"\",\"\",IF(ISNA(INDEX('Robot Game Scores'!D:D,MATCH(TournamentData[[#This Row],[Team Number]], 'Robot Game Scores'!$B:$B,0))),0,INDEX('Robot Game Scores'!D:D,MATCH(TournamentData[[#This Row],[Team Number]], 'Robot Game Scores'!$B:$B,0))))","v":""},{"$f":"IF(TournamentData[[#This Row],[Team Number]]=\"\",\"\",IF(ISNA(INDEX('Robot Game Scores'!E:E,MATCH(TournamentData[[#This Row],[Team Number]], 'Robot Game Scores'!$B:$B,0))),0,INDEX('Robot Game Scores'!E:E,MATCH(TournamentData[[#This Row],[Team Number]], 'Robot Game Scores'!$B:$B,0))))","v":""},{"$f":"IF(TournamentData[[#This Row],[Team Number]]=\"\",\"\",IF(ISNA(INDEX('Robot Game Scores'!F:F,MATCH(TournamentData[[#This Row],[Team Number]], 'Robot Game Scores'!$B:$B,0))),0,INDEX('Robot Game Scores'!F:F,MATCH(TournamentData[[#This Row],[Team Number]], 'Robot Game Scores'!$B:$B,0))))","v":""},{"$f":"IF(TournamentData[[#This Row],[Team Number]]=\"\",\"\",IF(ISNA(INDEX('Robot Game Scores'!G:G,MATCH(TournamentData[[#This Row],[Team Number]], 'Robot Game Scores'!$B:$B,0))),0,INDEX('Robot Game Scores'!G:G,MATCH(TournamentData[[#This Row],[Team Number]], 'Robot Game Scores'!$B:$B,0))))","v":""},{"$f":"IF(TournamentData[[#This Row],[Team Number]]=\"\",\"\",IF(ISNA(INDEX('Robot Game Scores'!H:H,MATCH(TournamentData[[#This Row],[Team Number]], 'Robot Game Scores'!$B:$B,0))),0,INDEX('Robot Game Scores'!H:H,MATCH(TournamentData[[#This Row],[Team Number]], 'Robot Game Scores'!$B:$B,0))))","v":""},{"$f":"IF(TournamentData[[#This Row],[Team Number]]=\"\",\"\",IF(ISNA(LARGE(TournamentData[[#This Row],[Robot Game Score 1]:[Robot Game Score 5]],1)+0.0001*LARGE(TournamentData[[#This Row],[Robot Game Score 1]:[Robot Game Score 5]],2)+0.0000001*LARGE(TournamentData[[#This Row],[Robot Game Score 1]:[Robot Game Score 5]],3)+0.00000000001*LARGE(TournamentData[[#This Row],[Robot Game Score 1]:[Robot Game Score 5]],4)+0.00000000000001*LARGE(TournamentData[[#This Row],[Robot Game Score 1]:[Robot Game Score 5]],5)),0,LARGE(TournamentData[[#This Row],[Robot Game Score 1]:[Robot Game Score 5]],1)+0.0001*LARGE(TournamentData[[#This Row],[Robot Game Score 1]:[Robot Game Score 5]],2)+0.0000001*LARGE(TournamentData[[#This Row],[Robot Game Score 1]:[Robot Game Score 5]],3)+0.00000000001*LARGE(TournamentData[[#This Row],[Robot Game Score 1]:[Robot Game Score 5]],4)+0.00000000000001*LARGE(TournamentData[[#This Row],[Robot Game Score 1]:[Robot Game Score 5]],5)))","v":""},{"$f":"IF(TournamentData[[#This Row],[Team Number]]=\"\",\"\",_xlfn.RANK.EQ(TournamentData[[#This Row],[Max Robot Game Score]],TournamentData[Max Robot Game Score]))","v":""},{"$f":"IF(TournamentData[[#This Row],[Team Number]]=\"\",\"\",IF(ISNA(INDEX(CoreValuesResults[Core Values Rank],MATCH(TournamentData[[#This Row],[Team Number]],CoreValuesResults[Team Number],0))),NumberOfTeams+1,INDEX(CoreValuesResults[Core Values Rank],MATCH(TournamentData[[#This Row],[Team Number]],CoreValuesResults[Team Number],0))))","v":""},{"$f":"IF(TournamentData[[#This Row],[Team Number]]=\"\",\"\",IF(ISNA(INDEX(InnovationProjectResults[Innovation Project Rank],MATCH(TournamentData[[#This Row],[Team Number]],InnovationProjectResults[Team Number],0))),NumberOfTeams+1,INDEX(InnovationProjectResults[Innovation Project Rank],MATCH(TournamentData[[#This Row],[Team Number]],InnovationProjectResults[Team Number],0))))","v":""},{"$f":"IF(TournamentData[[#This Row],[Team Number]]=\"\",\"\",IF(ISNA(INDEX(RobotDesignResults[Robot Design Rank],MATCH(TournamentData[[#This Row],[Team Number]],RobotDesignResults[Team Number],0))),NumberOfTeams+1,INDEX(RobotDesignResults[Robot Design Rank],MATCH(TournamentData[[#This Row],[Team Number]],RobotDesignResults[Team Number],0))))","v":""},{"$f":" IF(TournamentData[[#This Row],[Team Number]]=\"\",\"\",IF(TournamentData[[#This Row],[Core Values Rank]]=\"\",NumberOfTeams+1,TournamentData[[#This Row],[Core Values Rank]]) + IF(TournamentData[[#This Row],[Innovation Project Rank]]=\"\",NumberOfTeams+1,TournamentData[[#This Row],[Innovation Project Rank]]) + IF(TournamentData[[#This Row],[Robot Design Rank]]=\"\",NumberOfTeams+1,TournamentData[[#This Row],[Robot Design Rank]]) + TournamentData[[#This Row],[Robot Game Rank]])","v":""},{"$f":"IF(TournamentData[[#This Row],[Team Number]]=\"\",\"\",IF(M104,RANK(M104,M$3:M$110,1)-COUNTIF(M$3:M$110,0),NumberOfTeams+1))","v":""},{"$f":"IF(ISNA(INDEX(CoreValuesResults[Breakthrough Selection],MATCH(TournamentData[[#This Row],[Team Number]],CoreValuesResults[Team Number],0))),0, INDEX(CoreValuesResults[Breakthrough Selection],MATCH(TournamentData[[#This Row],[Team Number]],CoreValuesResults[Team Number],0)))","v":0},{"$f":"IF(ISNA(INDEX(CoreValuesResults[Rising All-Star Selection],MATCH(TournamentData[[#This Row],[Team Number]],CoreValuesResults[Team Number],0))),0, INDEX(CoreValuesResults[Rising All-Star Selection],MATCH(TournamentData[[#This Row],[Team Number]],CoreValuesResults[Team Number],0)))","v":0},{"$f":"IF(ISNA(INDEX(CoreValuesResults[Motivate Selection],MATCH(TournamentData[[#This Row],[Team Number]],CoreValuesResults[Team Number],0))),0, INDEX(CoreValuesResults[Motivate Selection],MATCH(TournamentData[[#This Row],[Team Number]],CoreValuesResults[Team Number],0)))","v":0},null,null,null,{"$f":"IF(ISNA(INDEX(CoreValuesResults[Core Values Score],MATCH(TournamentData[[#This Row],[Team Number]],CoreValuesResults[Team Number],0))),0,INDEX(CoreValuesResults[Core Values Score],MATCH(TournamentData[[#This Row],[Team Number]],CoreValuesResults[Team Number],0)))","v":0},{"$f":"IF(ISNA(INDEX(InnovationProjectResults[Innovation Project Score],MATCH(TournamentData[[#This Row],[Team Number]],InnovationProjectResults[Team Number],0))),0,INDEX(InnovationProjectResults[Innovation Project Score],MATCH(TournamentData[[#This Row],[Team Number]],InnovationProjectResults[Team Number],0)))","v":0},{"$f":"IF(ISNA(INDEX(RobotDesignResults[Robot Design Score],MATCH(TournamentData[[#This Row],[Team Number]],RobotDesignResults[Team Number],0))),0,INDEX(RobotDesignResults[Robot Design Score],MATCH(TournamentData[[#This Row],[Team Number]],RobotDesignResults[Team Number],0)))","v":0},{"$f":"IF(ISERR(GEOMEAN(TournamentData[[#This Row],[Max Robot Game Score]],TournamentData[[#This Row],[Core Values Score]],TournamentData[[#This Row],[Innovattion Project Score]],TournamentData[[#This Row],[Robot Design Score]])),0,GEOMEAN(TournamentData[[#This Row],[Max Robot Game Score]],TournamentData[[#This Row],[Core Values Score]],TournamentData[[#This Row],[Innovattion Project Score]],TournamentData[[#This Row],[Robot Design Score]]))","v":0},0]
[null,{"$f":"IF(ISNA(INDEX(OfficialTeamList[Team Name],MATCH(TournamentData[[#This Row],[Team Number]], OfficialTeamList[Team Number],0))),\"\",INDEX(OfficialTeamList[Team Name],MATCH(TournamentData[[#This Row],[Team Number]], OfficialTeamList[Team Number],0)))","v":""},{"$f":"IF(TournamentData[[#This Row],[Team Number]]=\"\",\"\",IF(ISNA(INDEX('Robot Game Scores'!D:D,MATCH(TournamentData[[#This Row],[Team Number]], 'Robot Game Scores'!$B:$B,0))),0,INDEX('Robot Game Scores'!D:D,MATCH(TournamentData[[#This Row],[Team Number]], 'Robot Game Scores'!$B:$B,0))))","v":""},{"$f":"IF(TournamentData[[#This Row],[Team Number]]=\"\",\"\",IF(ISNA(INDEX('Robot Game Scores'!E:E,MATCH(TournamentData[[#This Row],[Team Number]], 'Robot Game Scores'!$B:$B,0))),0,INDEX('Robot Game Scores'!E:E,MATCH(TournamentData[[#This Row],[Team Number]], 'Robot Game Scores'!$B:$B,0))))","v":""},{"$f":"IF(TournamentData[[#This Row],[Team Number]]=\"\",\"\",IF(ISNA(INDEX('Robot Game Scores'!F:F,MATCH(TournamentData[[#This Row],[Team Number]], 'Robot Game Scores'!$B:$B,0))),0,INDEX('Robot Game Scores'!F:F,MATCH(TournamentData[[#This Row],[Team Number]], 'Robot Game Scores'!$B:$B,0))))","v":""},{"$f":"IF(TournamentData[[#This Row],[Team Number]]=\"\",\"\",IF(ISNA(INDEX('Robot Game Scores'!G:G,MATCH(TournamentData[[#This Row],[Team Number]], 'Robot Game Scores'!$B:$B,0))),0,INDEX('Robot Game Scores'!G:G,MATCH(TournamentData[[#This Row],[Team Number]], 'Robot Game Scores'!$B:$B,0))))","v":""},{"$f":"IF(TournamentData[[#This Row],[Team Number]]=\"\",\"\",IF(ISNA(INDEX('Robot Game Scores'!H:H,MATCH(TournamentData[[#This Row],[Team Number]], 'Robot Game Scores'!$B:$B,0))),0,INDEX('Robot Game Scores'!H:H,MATCH(TournamentData[[#This Row],[Team Number]], 'Robot Game Scores'!$B:$B,0))))","v":""},{"$f":"IF(TournamentData[[#This Row],[Team Number]]=\"\",\"\",IF(ISNA(LARGE(TournamentData[[#This Row],[Robot Game Score 1]:[Robot Game Score 5]],1)+0.0001*LARGE(TournamentData[[#This Row],[Robot Game Score 1]:[Robot Game Score 5]],2)+0.0000001*LARGE(TournamentData[[#This Row],[Robot Game Score 1]:[Robot Game Score 5]],3)+0.00000000001*LARGE(TournamentData[[#This Row],[Robot Game Score 1]:[Robot Game Score 5]],4)+0.00000000000001*LARGE(TournamentData[[#This Row],[Robot Game Score 1]:[Robot Game Score 5]],5)),0,LARGE(TournamentData[[#This Row],[Robot Game Score 1]:[Robot Game Score 5]],1)+0.0001*LARGE(TournamentData[[#This Row],[Robot Game Score 1]:[Robot Game Score 5]],2)+0.0000001*LARGE(TournamentData[[#This Row],[Robot Game Score 1]:[Robot Game Score 5]],3)+0.00000000001*LARGE(TournamentData[[#This Row],[Robot Game Score 1]:[Robot Game Score 5]],4)+0.00000000000001*LARGE(TournamentData[[#This Row],[Robot Game Score 1]:[Robot Game Score 5]],5)))","v":""},{"$f":"IF(TournamentData[[#This Row],[Team Number]]=\"\",\"\",_xlfn.RANK.EQ(TournamentData[[#This Row],[Max Robot Game Score]],TournamentData[Max Robot Game Score]))","v":""},{"$f":"IF(TournamentData[[#This Row],[Team Number]]=\"\",\"\",IF(ISNA(INDEX(CoreValuesResults[Core Values Rank],MATCH(TournamentData[[#This Row],[Team Number]],CoreValuesResults[Team Number],0))),NumberOfTeams+1,INDEX(CoreValuesResults[Core Values Rank],MATCH(TournamentData[[#This Row],[Team Number]],CoreValuesResults[Team Number],0))))","v":""},{"$f":"IF(TournamentData[[#This Row],[Team Number]]=\"\",\"\",IF(ISNA(INDEX(InnovationProjectResults[Innovation Project Rank],MATCH(TournamentData[[#This Row],[Team Number]],InnovationProjectResults[Team Number],0))),NumberOfTeams+1,INDEX(InnovationProjectResults[Innovation Project Rank],MATCH(TournamentData[[#This Row],[Team Number]],InnovationProjectResults[Team Number],0))))","v":""},{"$f":"IF(TournamentData[[#This Row],[Team Number]]=\"\",\"\",IF(ISNA(INDEX(RobotDesignResults[Robot Design Rank],MATCH(TournamentData[[#This Row],[Team Number]],RobotDesignResults[Team Number],0))),NumberOfTeams+1,INDEX(RobotDesignResults[Robot Design Rank],MATCH(TournamentData[[#This Row],[Team Number]],RobotDesignResults[Team Number],0))))","v":""},{"$f":" IF(TournamentData[[#This Row],[Team Number]]=\"\",\"\",IF(TournamentData[[#This Row],[Core Values Rank]]=\"\",NumberOfTeams+1,TournamentData[[#This Row],[Core Values Rank]]) + IF(TournamentData[[#This Row],[Innovation Project Rank]]=\"\",NumberOfTeams+1,TournamentData[[#This Row],[Innovation Project Rank]]) + IF(TournamentData[[#This Row],[Robot Design Rank]]=\"\",NumberOfTeams+1,TournamentData[[#This Row],[Robot Design Rank]]) + TournamentData[[#This Row],[Robot Game Rank]])","v":""},{"$f":"IF(TournamentData[[#This Row],[Team Number]]=\"\",\"\",IF(M105,RANK(M105,M$3:M$110,1)-COUNTIF(M$3:M$110,0),NumberOfTeams+1))","v":""},{"$f":"IF(ISNA(INDEX(CoreValuesResults[Breakthrough Selection],MATCH(TournamentData[[#This Row],[Team Number]],CoreValuesResults[Team Number],0))),0, INDEX(CoreValuesResults[Breakthrough Selection],MATCH(TournamentData[[#This Row],[Team Number]],CoreValuesResults[Team Number],0)))","v":0},{"$f":"IF(ISNA(INDEX(CoreValuesResults[Rising All-Star Selection],MATCH(TournamentData[[#This Row],[Team Number]],CoreValuesResults[Team Number],0))),0, INDEX(CoreValuesResults[Rising All-Star Selection],MATCH(TournamentData[[#This Row],[Team Number]],CoreValuesResults[Team Number],0)))","v":0},{"$f":"IF(ISNA(INDEX(CoreValuesResults[Motivate Selection],MATCH(TournamentData[[#This Row],[Team Number]],CoreValuesResults[Team Number],0))),0, INDEX(CoreValuesResults[Motivate Selection],MATCH(TournamentData[[#This Row],[Team Number]],CoreValuesResults[Team Number],0)))","v":0},null,null,null,{"$f":"IF(ISNA(INDEX(CoreValuesResults[Core Values Score],MATCH(TournamentData[[#This Row],[Team Number]],CoreValuesResults[Team Number],0))),0,INDEX(CoreValuesResults[Core Values Score],MATCH(TournamentData[[#This Row],[Team Number]],CoreValuesResults[Team Number],0)))","v":0},{"$f":"IF(ISNA(INDEX(InnovationProjectResults[Innovation Project Score],MATCH(TournamentData[[#This Row],[Team Number]],InnovationProjectResults[Team Number],0))),0,INDEX(InnovationProjectResults[Innovation Project Score],MATCH(TournamentData[[#This Row],[Team Number]],InnovationProjectResults[Team Number],0)))","v":0},{"$f":"IF(ISNA(INDEX(RobotDesignResults[Robot Design Score],MATCH(TournamentData[[#This Row],[Team Number]],RobotDesignResults[Team Number],0))),0,INDEX(RobotDesignResults[Robot Design Score],MATCH(TournamentData[[#This Row],[Team Number]],RobotDesignResults[Team Number],0)))","v":0},{"$f":"IF(ISERR(GEOMEAN(TournamentData[[#This Row],[Max Robot Game Score]],TournamentData[[#This Row],[Core Values Score]],TournamentData[[#This Row],[Innovattion Project Score]],TournamentData[[#This Row],[Robot Design Score]])),0,GEOMEAN(TournamentData[[#This Row],[Max Robot Game Score]],TournamentData[[#This Row],[Core Values Score]],TournamentData[[#This Row],[Innovattion Project Score]],TournamentData[[#This Row],[Robot Design Score]]))","v":0},0]
[null,{"$f":"IF(ISNA(INDEX(OfficialTeamList[Team Name],MATCH(TournamentData[[#This Row],[Team Number]], OfficialTeamList[Team Number],0))),\"\",INDEX(OfficialTeamList[Team Name],MATCH(TournamentData[[#This Row],[Team Number]], OfficialTeamList[Team Number],0)))","v":""},{"$f":"IF(TournamentData[[#This Row],[Team Number]]=\"\",\"\",IF(ISNA(INDEX('Robot Game Scores'!D:D,MATCH(TournamentData[[#This Row],[Team Number]], 'Robot Game Scores'!$B:$B,0))),0,INDEX('Robot Game Scores'!D:D,MATCH(TournamentData[[#This Row],[Team Number]], 'Robot Game Scores'!$B:$B,0))))","v":""},{"$f":"IF(TournamentData[[#This Row],[Team Number]]=\"\",\"\",IF(ISNA(INDEX('Robot Game Scores'!E:E,MATCH(TournamentData[[#This Row],[Team Number]], 'Robot Game Scores'!$B:$B,0))),0,INDEX('Robot Game Scores'!E:E,MATCH(TournamentData[[#This Row],[Team Number]], 'Robot Game Scores'!$B:$B,0))))","v":""},{"$f":"IF(TournamentData[[#This Row],[Team Number]]=\"\",\"\",IF(ISNA(INDEX('Robot Game Scores'!F:F,MATCH(TournamentData[[#This Row],[Team Number]], 'Robot Game Scores'!$B:$B,0))),0,INDEX('Robot Game Scores'!F:F,MATCH(TournamentData[[#This Row],[Team Number]], 'Robot Game Scores'!$B:$B,0))))","v":""},{"$f":"IF(TournamentData[[#This Row],[Team Number]]=\"\",\"\",IF(ISNA(INDEX('Robot Game Scores'!G:G,MATCH(TournamentData[[#This Row],[Team Number]], 'Robot Game Scores'!$B:$B,0))),0,INDEX('Robot Game Scores'!G:G,MATCH(TournamentData[[#This Row],[Team Number]], 'Robot Game Scores'!$B:$B,0))))","v":""},{"$f":"IF(TournamentData[[#This Row],[Team Number]]=\"\",\"\",IF(ISNA(INDEX('Robot Game Scores'!H:H,MATCH(TournamentData[[#This Row],[Team Number]], 'Robot Game Scores'!$B:$B,0))),0,INDEX('Robot Game Scores'!H:H,MATCH(TournamentData[[#This Row],[Team Number]], 'Robot Game Scores'!$B:$B,0))))","v":""},{"$f":"IF(TournamentData[[#This Row],[Team Number]]=\"\",\"\",IF(ISNA(LARGE(TournamentData[[#This Row],[Robot Game Score 1]:[Robot Game Score 5]],1)+0.0001*LARGE(TournamentData[[#This Row],[Robot Game Score 1]:[Robot Game Score 5]],2)+0.0000001*LARGE(TournamentData[[#This Row],[Robot Game Score 1]:[Robot Game Score 5]],3)+0.00000000001*LARGE(TournamentData[[#This Row],[Robot Game Score 1]:[Robot Game Score 5]],4)+0.00000000000001*LARGE(TournamentData[[#This Row],[Robot Game Score 1]:[Robot Game Score 5]],5)),0,LARGE(TournamentData[[#This Row],[Robot Game Score 1]:[Robot Game Score 5]],1)+0.0001*LARGE(TournamentData[[#This Row],[Robot Game Score 1]:[Robot Game Score 5]],2)+0.0000001*LARGE(TournamentData[[#This Row],[Robot Game Score 1]:[Robot Game Score 5]],3)+0.00000000001*LARGE(TournamentData[[#This Row],[Robot Game Score 1]:[Robot Game Score 5]],4)+0.00000000000001*LARGE(TournamentData[[#This Row],[Robot Game Score 1]:[Robot Game Score 5]],5)))","v":""},{"$f":"IF(TournamentData[[#This Row],[Team Number]]=\"\",\"\",_xlfn.RANK.EQ(TournamentData[[#This Row],[Max Robot Game Score]],TournamentData[Max Robot Game Score]))","v":""},{"$f":"IF(TournamentData[[#This Row],[Team Number]]=\"\",\"\",IF(ISNA(INDEX(CoreValuesResults[Core Values Rank],MATCH(TournamentData[[#This Row],[Team Number]],CoreValuesResults[Team Number],0))),NumberOfTeams+1,INDEX(CoreValuesResults[Core Values Rank],MATCH(TournamentData[[#This Row],[Team Number]],CoreValuesResults[Team Number],0))))","v":""},{"$f":"IF(TournamentData[[#This Row],[Team Number]]=\"\",\"\",IF(ISNA(INDEX(InnovationProjectResults[Innovation Project Rank],MATCH(TournamentData[[#This Row],[Team Number]],InnovationProjectResults[Team Number],0))),NumberOfTeams+1,INDEX(InnovationProjectResults[Innovation Project Rank],MATCH(TournamentData[[#This Row],[Team Number]],InnovationProjectResults[Team Number],0))))","v":""},{"$f":"IF(TournamentData[[#This Row],[Team Number]]=\"\",\"\",IF(ISNA(INDEX(RobotDesignResults[Robot Design Rank],MATCH(TournamentData[[#This Row],[Team Number]],RobotDesignResults[Team Number],0))),NumberOfTeams+1,INDEX(RobotDesignResults[Robot Design Rank],MATCH(TournamentData[[#This Row],[Team Number]],RobotDesignResults[Team Number],0))))","v":""},{"$f":" IF(TournamentData[[#This Row],[Team Number]]=\"\",\"\",IF(TournamentData[[#This Row],[Core Values Rank]]=\"\",NumberOfTeams+1,TournamentData[[#This Row],[Core Values Rank]]) + IF(TournamentData[[#This Row],[Innovation Project Rank]]=\"\",NumberOfTeams+1,TournamentData[[#This Row],[Innovation Project Rank]]) + IF(TournamentData[[#This Row],[Robot Design Rank]]=\"\",NumberOfTeams+1,TournamentData[[#This Row],[Robot Design Rank]]) + TournamentData[[#This Row],[Robot Game Rank]])","v":""},{"$f":"IF(TournamentData[[#This Row],[Team Number]]=\"\",\"\",IF(M106,RANK(M106,M$3:M$110,1)-COUNTIF(M$3:M$110,0),NumberOfTeams+1))","v":""},{"$f":"IF(ISNA(INDEX(CoreValuesResults[Breakthrough Selection],MATCH(TournamentData[[#This Row],[Team Number]],CoreValuesResults[Team Number],0))),0, INDEX(CoreValuesResults[Breakthrough Selection],MATCH(TournamentData[[#This Row],[Team Number]],CoreValuesResults[Team Number],0)))","v":0},{"$f":"IF(ISNA(INDEX(CoreValuesResults[Rising All-Star Selection],MATCH(TournamentData[[#This Row],[Team Number]],CoreValuesResults[Team Number],0))),0, INDEX(CoreValuesResults[Rising All-Star Selection],MATCH(TournamentData[[#This Row],[Team Number]],CoreValuesResults[Team Number],0)))","v":0},{"$f":"IF(ISNA(INDEX(CoreValuesResults[Motivate Selection],MATCH(TournamentData[[#This Row],[Team Number]],CoreValuesResults[Team Number],0))),0, INDEX(CoreValuesResults[Motivate Selection],MATCH(TournamentData[[#This Row],[Team Number]],CoreValuesResults[Team Number],0)))","v":0},null,null,null,{"$f":"IF(ISNA(INDEX(CoreValuesResults[Core Values Score],MATCH(TournamentData[[#This Row],[Team Number]],CoreValuesResults[Team Number],0))),0,INDEX(CoreValuesResults[Core Values Score],MATCH(TournamentData[[#This Row],[Team Number]],CoreValuesResults[Team Number],0)))","v":0},{"$f":"IF(ISNA(INDEX(InnovationProjectResults[Innovation Project Score],MATCH(TournamentData[[#This Row],[Team Number]],InnovationProjectResults[Team Number],0))),0,INDEX(InnovationProjectResults[Innovation Project Score],MATCH(TournamentData[[#This Row],[Team Number]],InnovationProjectResults[Team Number],0)))","v":0},{"$f":"IF(ISNA(INDEX(RobotDesignResults[Robot Design Score],MATCH(TournamentData[[#This Row],[Team Number]],RobotDesignResults[Team Number],0))),0,INDEX(RobotDesignResults[Robot Design Score],MATCH(TournamentData[[#This Row],[Team Number]],RobotDesignResults[Team Number],0)))","v":0},{"$f":"IF(ISERR(GEOMEAN(TournamentData[[#This Row],[Max Robot Game Score]],TournamentData[[#This Row],[Core Values Score]],TournamentData[[#This Row],[Innovattion Project Score]],TournamentData[[#This Row],[Robot Design Score]])),0,GEOMEAN(TournamentData[[#This Row],[Max Robot Game Score]],TournamentData[[#This Row],[Core Values Score]],TournamentData[[#This Row],[Innovattion Project Score]],TournamentData[[#This Row],[Robot Design Score]]))","v":0},0]
[null,{"$f":"IF(ISNA(INDEX(OfficialTeamList[Team Name],MATCH(TournamentData[[#This Row],[Team Number]], OfficialTeamList[Team Number],0))),\"\",INDEX(OfficialTeamList[Team Name],MATCH(TournamentData[[#This Row],[Team Number]], OfficialTeamList[Team Number],0)))","v":""},{"$f":"IF(TournamentData[[#This Row],[Team Number]]=\"\",\"\",IF(ISNA(INDEX('Robot Game Scores'!D:D,MATCH(TournamentData[[#This Row],[Team Number]], 'Robot Game Scores'!$B:$B,0))),0,INDEX('Robot Game Scores'!D:D,MATCH(TournamentData[[#This Row],[Team Number]], 'Robot Game Scores'!$B:$B,0))))","v":""},{"$f":"IF(TournamentData[[#This Row],[Team Number]]=\"\",\"\",IF(ISNA(INDEX('Robot Game Scores'!E:E,MATCH(TournamentData[[#This Row],[Team Number]], 'Robot Game Scores'!$B:$B,0))),0,INDEX('Robot Game Scores'!E:E,MATCH(TournamentData[[#This Row],[Team Number]], 'Robot Game Scores'!$B:$B,0))))","v":""},{"$f":"IF(TournamentData[[#This Row],[Team Number]]=\"\",\"\",IF(ISNA(INDEX('Robot Game Scores'!F:F,MATCH(TournamentData[[#This Row],[Team Number]], 'Robot Game Scores'!$B:$B,0))),0,INDEX('Robot Game Scores'!F:F,MATCH(TournamentData[[#This Row],[Team Number]], 'Robot Game Scores'!$B:$B,0))))","v":""},{"$f":"IF(TournamentData[[#This Row],[Team Number]]=\"\",\"\",IF(ISNA(INDEX('Robot Game Scores'!G:G,MATCH(TournamentData[[#This Row],[Team Number]], 'Robot Game Scores'!$B:$B,0))),0,INDEX('Robot Game Scores'!G:G,MATCH(TournamentData[[#This Row],[Team Number]], 'Robot Game Scores'!$B:$B,0))))","v":""},{"$f":"IF(TournamentData[[#This Row],[Team Number]]=\"\",\"\",IF(ISNA(INDEX('Robot Game Scores'!H:H,MATCH(TournamentData[[#This Row],[Team Number]], 'Robot Game Scores'!$B:$B,0))),0,INDEX('Robot Game Scores'!H:H,MATCH(TournamentData[[#This Row],[Team Number]], 'Robot Game Scores'!$B:$B,0))))","v":""},{"$f":"IF(TournamentData[[#This Row],[Team Number]]=\"\",\"\",IF(ISNA(LARGE(TournamentData[[#This Row],[Robot Game Score 1]:[Robot Game Score 5]],1)+0.0001*LARGE(TournamentData[[#This Row],[Robot Game Score 1]:[Robot Game Score 5]],2)+0.0000001*LARGE(TournamentData[[#This Row],[Robot Game Score 1]:[Robot Game Score 5]],3)+0.00000000001*LARGE(TournamentData[[#This Row],[Robot Game Score 1]:[Robot Game Score 5]],4)+0.00000000000001*LARGE(TournamentData[[#This Row],[Robot Game Score 1]:[Robot Game Score 5]],5)),0,LARGE(TournamentData[[#This Row],[Robot Game Score 1]:[Robot Game Score 5]],1)+0.0001*LARGE(TournamentData[[#This Row],[Robot Game Score 1]:[Robot Game Score 5]],2)+0.0000001*LARGE(TournamentData[[#This Row],[Robot Game Score 1]:[Robot Game Score 5]],3)+0.00000000001*LARGE(TournamentData[[#This Row],[Robot Game Score 1]:[Robot Game Score 5]],4)+0.00000000000001*LARGE(TournamentData[[#This Row],[Robot Game Score 1]:[Robot Game Score 5]],5)))","v":""},{"$f":"IF(TournamentData[[#This Row],[Team Number]]=\"\",\"\",_xlfn.RANK.EQ(TournamentData[[#This Row],[Max Robot Game Score]],TournamentData[Max Robot Game Score]))","v":""},{"$f":"IF(TournamentData[[#This Row],[Team Number]]=\"\",\"\",IF(ISNA(INDEX(CoreValuesResults[Core Values Rank],MATCH(TournamentData[[#This Row],[Team Number]],CoreValuesResults[Team Number],0))),NumberOfTeams+1,INDEX(CoreValuesResults[Core Values Rank],MATCH(TournamentData[[#This Row],[Team Number]],CoreValuesResults[Team Number],0))))","v":""},{"$f":"IF(TournamentData[[#This Row],[Team Number]]=\"\",\"\",IF(ISNA(INDEX(InnovationProjectResults[Innovation Project Rank],MATCH(TournamentData[[#This Row],[Team Number]],InnovationProjectResults[Team Number],0))),NumberOfTeams+1,INDEX(InnovationProjectResults[Innovation Project Rank],MATCH(TournamentData[[#This Row],[Team Number]],InnovationProjectResults[Team Number],0))))","v":""},{"$f":"IF(TournamentData[[#This Row],[Team Number]]=\"\",\"\",IF(ISNA(INDEX(RobotDesignResults[Robot Design Rank],MATCH(TournamentData[[#This Row],[Team Number]],RobotDesignResults[Team Number],0))),NumberOfTeams+1,INDEX(RobotDesignResults[Robot Design Rank],MATCH(TournamentData[[#This Row],[Team Number]],RobotDesignResults[Team Number],0))))","v":""},{"$f":" IF(TournamentData[[#This Row],[Team Number]]=\"\",\"\",IF(TournamentData[[#This Row],[Core Values Rank]]=\"\",NumberOfTeams+1,TournamentData[[#This Row],[Core Values Rank]]) + IF(TournamentData[[#This Row],[Innovation Project Rank]]=\"\",NumberOfTeams+1,TournamentData[[#This Row],[Innovation Project Rank]]) + IF(TournamentData[[#This Row],[Robot Design Rank]]=\"\",NumberOfTeams+1,TournamentData[[#This Row],[Robot Design Rank]]) + TournamentData[[#This Row],[Robot Game Rank]])","v":""},{"$f":"IF(TournamentData[[#This Row],[Team Number]]=\"\",\"\",IF(M107,RANK(M107,M$3:M$110,1)-COUNTIF(M$3:M$110,0),NumberOfTeams+1))","v":""},{"$f":"IF(ISNA(INDEX(CoreValuesResults[Breakthrough Selection],MATCH(TournamentData[[#This Row],[Team Number]],CoreValuesResults[Team Number],0))),0, INDEX(CoreValuesResults[Breakthrough Selection],MATCH(TournamentData[[#This Row],[Team Number]],CoreValuesResults[Team Number],0)))","v":0},{"$f":"IF(ISNA(INDEX(CoreValuesResults[Rising All-Star Selection],MATCH(TournamentData[[#This Row],[Team Number]],CoreValuesResults[Team Number],0))),0, INDEX(CoreValuesResults[Rising All-Star Selection],MATCH(TournamentData[[#This Row],[Team Number]],CoreValuesResults[Team Number],0)))","v":0},{"$f":"IF(ISNA(INDEX(CoreValuesResults[Motivate Selection],MATCH(TournamentData[[#This Row],[Team Number]],CoreValuesResults[Team Number],0))),0, INDEX(CoreValuesResults[Motivate Selection],MATCH(TournamentData[[#This Row],[Team Number]],CoreValuesResults[Team Number],0)))","v":0},null,null,null,{"$f":"IF(ISNA(INDEX(CoreValuesResults[Core Values Score],MATCH(TournamentData[[#This Row],[Team Number]],CoreValuesResults[Team Number],0))),0,INDEX(CoreValuesResults[Core Values Score],MATCH(TournamentData[[#This Row],[Team Number]],CoreValuesResults[Team Number],0)))","v":0},{"$f":"IF(ISNA(INDEX(InnovationProjectResults[Innovation Project Score],MATCH(TournamentData[[#This Row],[Team Number]],InnovationProjectResults[Team Number],0))),0,INDEX(InnovationProjectResults[Innovation Project Score],MATCH(TournamentData[[#This Row],[Team Number]],InnovationProjectResults[Team Number],0)))","v":0},{"$f":"IF(ISNA(INDEX(RobotDesignResults[Robot Design Score],MATCH(TournamentData[[#This Row],[Team Number]],RobotDesignResults[Team Number],0))),0,INDEX(RobotDesignResults[Robot Design Score],MATCH(TournamentData[[#This Row],[Team Number]],RobotDesignResults[Team Number],0)))","v":0},{"$f":"IF(ISERR(GEOMEAN(TournamentData[[#This Row],[Max Robot Game Score]],TournamentData[[#This Row],[Core Values Score]],TournamentData[[#This Row],[Innovattion Project Score]],TournamentData[[#This Row],[Robot Design Score]])),0,GEOMEAN(TournamentData[[#This Row],[Max Robot Game Score]],TournamentData[[#This Row],[Core Values Score]],TournamentData[[#This Row],[Innovattion Project Score]],TournamentData[[#This Row],[Robot Design Score]]))","v":0},0]
[null,{"$f":"IF(ISNA(INDEX(OfficialTeamList[Team Name],MATCH(TournamentData[[#This Row],[Team Number]], OfficialTeamList[Team Number],0))),\"\",INDEX(OfficialTeamList[Team Name],MATCH(TournamentData[[#This Row],[Team Number]], OfficialTeamList[Team Number],0)))","v":""},{"$f":"IF(TournamentData[[#This Row],[Team Number]]=\"\",\"\",IF(ISNA(INDEX('Robot Game Scores'!D:D,MATCH(TournamentData[[#This Row],[Team Number]], 'Robot Game Scores'!$B:$B,0))),0,INDEX('Robot Game Scores'!D:D,MATCH(TournamentData[[#This Row],[Team Number]], 'Robot Game Scores'!$B:$B,0))))","v":""},{"$f":"IF(TournamentData[[#This Row],[Team Number]]=\"\",\"\",IF(ISNA(INDEX('Robot Game Scores'!E:E,MATCH(TournamentData[[#This Row],[Team Number]], 'Robot Game Scores'!$B:$B,0))),0,INDEX('Robot Game Scores'!E:E,MATCH(TournamentData[[#This Row],[Team Number]], 'Robot Game Scores'!$B:$B,0))))","v":""},{"$f":"IF(TournamentData[[#This Row],[Team Number]]=\"\",\"\",IF(ISNA(INDEX('Robot Game Scores'!F:F,MATCH(TournamentData[[#This Row],[Team Number]], 'Robot Game Scores'!$B:$B,0))),0,INDEX('Robot Game Scores'!F:F,MATCH(TournamentData[[#This Row],[Team Number]], 'Robot Game Scores'!$B:$B,0))))","v":""},{"$f":"IF(TournamentData[[#This Row],[Team Number]]=\"\",\"\",IF(ISNA(INDEX('Robot Game Scores'!G:G,MATCH(TournamentData[[#This Row],[Team Number]], 'Robot Game Scores'!$B:$B,0))),0,INDEX('Robot Game Scores'!G:G,MATCH(TournamentData[[#This Row],[Team Number]], 'Robot Game Scores'!$B:$B,0))))","v":""},{"$f":"IF(TournamentData[[#This Row],[Team Number]]=\"\",\"\",IF(ISNA(INDEX('Robot Game Scores'!H:H,MATCH(TournamentData[[#This Row],[Team Number]], 'Robot Game Scores'!$B:$B,0))),0,INDEX('Robot Game Scores'!H:H,MATCH(TournamentData[[#This Row],[Team Number]], 'Robot Game Scores'!$B:$B,0))))","v":""},{"$f":"IF(TournamentData[[#This Row],[Team Number]]=\"\",\"\",IF(ISNA(LARGE(TournamentData[[#This Row],[Robot Game Score 1]:[Robot Game Score 5]],1)+0.0001*LARGE(TournamentData[[#This Row],[Robot Game Score 1]:[Robot Game Score 5]],2)+0.0000001*LARGE(TournamentData[[#This Row],[Robot Game Score 1]:[Robot Game Score 5]],3)+0.00000000001*LARGE(TournamentData[[#This Row],[Robot Game Score 1]:[Robot Game Score 5]],4)+0.00000000000001*LARGE(TournamentData[[#This Row],[Robot Game Score 1]:[Robot Game Score 5]],5)),0,LARGE(TournamentData[[#This Row],[Robot Game Score 1]:[Robot Game Score 5]],1)+0.0001*LARGE(TournamentData[[#This Row],[Robot Game Score 1]:[Robot Game Score 5]],2)+0.0000001*LARGE(TournamentData[[#This Row],[Robot Game Score 1]:[Robot Game Score 5]],3)+0.00000000001*LARGE(TournamentData[[#This Row],[Robot Game Score 1]:[Robot Game Score 5]],4)+0.00000000000001*LARGE(TournamentData[[#This Row],[Robot Game Score 1]:[Robot Game Score 5]],5)))","v":""},{"$f":"IF(TournamentData[[#This Row],[Team Number]]=\"\",\"\",_xlfn.RANK.EQ(TournamentData[[#This Row],[Max Robot Game Score]],TournamentData[Max Robot Game Score]))","v":""},{"$f":"IF(TournamentData[[#This Row],[Team Number]]=\"\",\"\",IF(ISNA(INDEX(CoreValuesResults[Core Values Rank],MATCH(TournamentData[[#This Row],[Team Number]],CoreValuesResults[Team Number],0))),NumberOfTeams+1,INDEX(CoreValuesResults[Core Values Rank],MATCH(TournamentData[[#This Row],[Team Number]],CoreValuesResults[Team Number],0))))","v":""},{"$f":"IF(TournamentData[[#This Row],[Team Number]]=\"\",\"\",IF(ISNA(INDEX(InnovationProjectResults[Innovation Project Rank],MATCH(TournamentData[[#This Row],[Team Number]],InnovationProjectResults[Team Number],0))),NumberOfTeams+1,INDEX(InnovationProjectResults[Innovation Project Rank],MATCH(TournamentData[[#This Row],[Team Number]],InnovationProjectResults[Team Number],0))))","v":""},{"$f":"IF(TournamentData[[#This Row],[Team Number]]=\"\",\"\",IF(ISNA(INDEX(RobotDesignResults[Robot Design Rank],MATCH(TournamentData[[#This Row],[Team Number]],RobotDesignResults[Team Number],0))),NumberOfTeams+1,INDEX(RobotDesignResults[Robot Design Rank],MATCH(TournamentData[[#This Row],[Team Number]],RobotDesignResults[Team Number],0))))","v":""},{"$f":" IF(TournamentData[[#This Row],[Team Number]]=\"\",\"\",IF(TournamentData[[#This Row],[Core Values Rank]]=\"\",NumberOfTeams+1,TournamentData[[#This Row],[Core Values Rank]]) + IF(TournamentData[[#This Row],[Innovation Project Rank]]=\"\",NumberOfTeams+1,TournamentData[[#This Row],[Innovation Project Rank]]) + IF(TournamentData[[#This Row],[Robot Design Rank]]=\"\",NumberOfTeams+1,TournamentData[[#This Row],[Robot Design Rank]]) + TournamentData[[#This Row],[Robot Game Rank]])","v":""},{"$f":"IF(TournamentData[[#This Row],[Team Number]]=\"\",\"\",IF(M108,RANK(M108,M$3:M$110,1)-COUNTIF(M$3:M$110,0),NumberOfTeams+1))","v":""},{"$f":"IF(ISNA(INDEX(CoreValuesResults[Breakthrough Selection],MATCH(TournamentData[[#This Row],[Team Number]],CoreValuesResults[Team Number],0))),0, INDEX(CoreValuesResults[Breakthrough Selection],MATCH(TournamentData[[#This Row],[Team Number]],CoreValuesResults[Team Number],0)))","v":0},{"$f":"IF(ISNA(INDEX(CoreValuesResults[Rising All-Star Selection],MATCH(TournamentData[[#This Row],[Team Number]],CoreValuesResults[Team Number],0))),0, INDEX(CoreValuesResults[Rising All-Star Selection],MATCH(TournamentData[[#This Row],[Team Number]],CoreValuesResults[Team Number],0)))","v":0},{"$f":"IF(ISNA(INDEX(CoreValuesResults[Motivate Selection],MATCH(TournamentData[[#This Row],[Team Number]],CoreValuesResults[Team Number],0))),0, INDEX(CoreValuesResults[Motivate Selection],MATCH(TournamentData[[#This Row],[Team Number]],CoreValuesResults[Team Number],0)))","v":0},null,null,null,{"$f":"IF(ISNA(INDEX(CoreValuesResults[Core Values Score],MATCH(TournamentData[[#This Row],[Team Number]],CoreValuesResults[Team Number],0))),0,INDEX(CoreValuesResults[Core Values Score],MATCH(TournamentData[[#This Row],[Team Number]],CoreValuesResults[Team Number],0)))","v":0},{"$f":"IF(ISNA(INDEX(InnovationProjectResults[Innovation Project Score],MATCH(TournamentData[[#This Row],[Team Number]],InnovationProjectResults[Team Number],0))),0,INDEX(InnovationProjectResults[Innovation Project Score],MATCH(TournamentData[[#This Row],[Team Number]],InnovationProjectResults[Team Number],0)))","v":0},{"$f":"IF(ISNA(INDEX(RobotDesignResults[Robot Design Score],MATCH(TournamentData[[#This Row],[Team Number]],RobotDesignResults[Team Number],0))),0,INDEX(RobotDesignResults[Robot Design Score],MATCH(TournamentData[[#This Row],[Team Number]],RobotDesignResults[Team Number],0)))","v":0},{"$f":"IF(ISERR(GEOMEAN(TournamentData[[#This Row],[Max Robot Game Score]],TournamentData[[#This Row],[Core Values Score]],TournamentData[[#This Row],[Innovattion Project Score]],TournamentData[[#This Row],[Robot Design Score]])),0,GEOMEAN(TournamentData[[#This Row],[Max Robot Game Score]],TournamentData[[#This Row],[Core Values Score]],TournamentData[[#This Row],[Innovattion Project Score]],TournamentData[[#This Row],[Robot Design Score]]))","v":0},0]
[null,{"$f":"IF(ISNA(INDEX(OfficialTeamList[Team Name],MATCH(TournamentData[[#This Row],[Team Number]], OfficialTeamList[Team Number],0))),\"\",INDEX(OfficialTeamList[Team Name],MATCH(TournamentData[[#This Row],[Team Number]], OfficialTeamList[Team Number],0)))","v":""},{"$f":"IF(TournamentData[[#This Row],[Team Number]]=\"\",\"\",IF(ISNA(INDEX('Robot Game Scores'!D:D,MATCH(TournamentData[[#This Row],[Team Number]], 'Robot Game Scores'!$B:$B,0))),0,INDEX('Robot Game Scores'!D:D,MATCH(TournamentData[[#This Row],[Team Number]], 'Robot Game Scores'!$B:$B,0))))","v":""},{"$f":"IF(TournamentData[[#This Row],[Team Number]]=\"\",\"\",IF(ISNA(INDEX('Robot Game Scores'!E:E,MATCH(TournamentData[[#This Row],[Team Number]], 'Robot Game Scores'!$B:$B,0))),0,INDEX('Robot Game Scores'!E:E,MATCH(TournamentData[[#This Row],[Team Number]], 'Robot Game Scores'!$B:$B,0))))","v":""},{"$f":"IF(TournamentData[[#This Row],[Team Number]]=\"\",\"\",IF(ISNA(INDEX('Robot Game Scores'!F:F,MATCH(TournamentData[[#This Row],[Team Number]], 'Robot Game Scores'!$B:$B,0))),0,INDEX('Robot Game Scores'!F:F,MATCH(TournamentData[[#This Row],[Team Number]], 'Robot Game Scores'!$B:$B,0))))","v":""},{"$f":"IF(TournamentData[[#This Row],[Team Number]]=\"\",\"\",IF(ISNA(INDEX('Robot Game Scores'!G:G,MATCH(TournamentData[[#This Row],[Team Number]], 'Robot Game Scores'!$B:$B,0))),0,INDEX('Robot Game Scores'!G:G,MATCH(TournamentData[[#This Row],[Team Number]], 'Robot Game Scores'!$B:$B,0))))","v":""},{"$f":"IF(TournamentData[[#This Row],[Team Number]]=\"\",\"\",IF(ISNA(INDEX('Robot Game Scores'!H:H,MATCH(TournamentData[[#This Row],[Team Number]], 'Robot Game Scores'!$B:$B,0))),0,INDEX('Robot Game Scores'!H:H,MATCH(TournamentData[[#This Row],[Team Number]], 'Robot Game Scores'!$B:$B,0))))","v":""},{"$f":"IF(TournamentData[[#This Row],[Team Number]]=\"\",\"\",IF(ISNA(LARGE(TournamentData[[#This Row],[Robot Game Score 1]:[Robot Game Score 5]],1)+0.0001*LARGE(TournamentData[[#This Row],[Robot Game Score 1]:[Robot Game Score 5]],2)+0.0000001*LARGE(TournamentData[[#This Row],[Robot Game Score 1]:[Robot Game Score 5]],3)+0.00000000001*LARGE(TournamentData[[#This Row],[Robot Game Score 1]:[Robot Game Score 5]],4)+0.00000000000001*LARGE(TournamentData[[#This Row],[Robot Game Score 1]:[Robot Game Score 5]],5)),0,LARGE(TournamentData[[#This Row],[Robot Game Score 1]:[Robot Game Score 5]],1)+0.0001*LARGE(TournamentData[[#This Row],[Robot Game Score 1]:[Robot Game Score 5]],2)+0.0000001*LARGE(TournamentData[[#This Row],[Robot Game Score 1]:[Robot Game Score 5]],3)+0.00000000001*LARGE(TournamentData[[#This Row],[Robot Game Score 1]:[Robot Game Score 5]],4)+0.00000000000001*LARGE(TournamentData[[#This Row],[Robot Game Score 1]:[Robot Game Score 5]],5)))","v":""},{"$f":"IF(TournamentData[[#This Row],[Team Number]]=\"\",\"\",_xlfn.RANK.EQ(TournamentData[[#This Row],[Max Robot Game Score]],TournamentData[Max Robot Game Score]))","v":""},{"$f":"IF(TournamentData[[#This Row],[Team Number]]=\"\",\"\",IF(ISNA(INDEX(CoreValuesResults[Core Values Rank],MATCH(TournamentData[[#This Row],[Team Number]],CoreValuesResults[Team Number],0))),NumberOfTeams+1,INDEX(CoreValuesResults[Core Values Rank],MATCH(TournamentData[[#This Row],[Team Number]],CoreValuesResults[Team Number],0))))","v":""},{"$f":"IF(TournamentData[[#This Row],[Team Number]]=\"\",\"\",IF(ISNA(INDEX(InnovationProjectResults[Innovation Project Rank],MATCH(TournamentData[[#This Row],[Team Number]],InnovationProjectResults[Team Number],0))),NumberOfTeams+1,INDEX(InnovationProjectResults[Innovation Project Rank],MATCH(TournamentData[[#This Row],[Team Number]],InnovationProjectResults[Team Number],0))))","v":""},{"$f":"IF(TournamentData[[#This Row],[Team Number]]=\"\",\"\",IF(ISNA(INDEX(RobotDesignResults[Robot Design Rank],MATCH(TournamentData[[#This Row],[Team Number]],RobotDesignResults[Team Number],0))),NumberOfTeams+1,INDEX(RobotDesignResults[Robot Design Rank],MATCH(TournamentData[[#This Row],[Team Number]],RobotDesignResults[Team Number],0))))","v":""},{"$f":" IF(TournamentData[[#This Row],[Team Number]]=\"\",\"\",IF(TournamentData[[#This Row],[Core Values Rank]]=\"\",NumberOfTeams+1,TournamentData[[#This Row],[Core Values Rank]]) + IF(TournamentData[[#This Row],[Innovation Project Rank]]=\"\",NumberOfTeams+1,TournamentData[[#This Row],[Innovation Project Rank]]) + IF(TournamentData[[#This Row],[Robot Design Rank]]=\"\",NumberOfTeams+1,TournamentData[[#This Row],[Robot Design Rank]]) + TournamentData[[#This Row],[Robot Game Rank]])","v":""},{"$f":"IF(TournamentData[[#This Row],[Team Number]]=\"\",\"\",IF(M109,RANK(M109,M$3:M$110,1)-COUNTIF(M$3:M$110,0),NumberOfTeams+1))","v":""},{"$f":"IF(ISNA(INDEX(CoreValuesResults[Breakthrough Selection],MATCH(TournamentData[[#This Row],[Team Number]],CoreValuesResults[Team Number],0))),0, INDEX(CoreValuesResults[Breakthrough Selection],MATCH(TournamentData[[#This Row],[Team Number]],CoreValuesResults[Team Number],0)))","v":0},{"$f":"IF(ISNA(INDEX(CoreValuesResults[Rising All-Star Selection],MATCH(TournamentData[[#This Row],[Team Number]],CoreValuesResults[Team Number],0))),0, INDEX(CoreValuesResults[Rising All-Star Selection],MATCH(TournamentData[[#This Row],[Team Number]],CoreValuesResults[Team Number],0)))","v":0},{"$f":"IF(ISNA(INDEX(CoreValuesResults[Motivate Selection],MATCH(TournamentData[[#This Row],[Team Number]],CoreValuesResults[Team Number],0))),0, INDEX(CoreValuesResults[Motivate Selection],MATCH(TournamentData[[#This Row],[Team Number]],CoreValuesResults[Team Number],0)))","v":0},null,null,null,{"$f":"IF(ISNA(INDEX(CoreValuesResults[Core Values Score],MATCH(TournamentData[[#This Row],[Team Number]],CoreValuesResults[Team Number],0))),0,INDEX(CoreValuesResults[Core Values Score],MATCH(TournamentData[[#This Row],[Team Number]],CoreValuesResults[Team Number],0)))","v":0},{"$f":"IF(ISNA(INDEX(InnovationProjectResults[Innovation Project Score],MATCH(TournamentData[[#This Row],[Team Number]],InnovationProjectResults[Team Number],0))),0,INDEX(InnovationProjectResults[Innovation Project Score],MATCH(TournamentData[[#This Row],[Team Number]],InnovationProjectResults[Team Number],0)))","v":0},{"$f":"IF(ISNA(INDEX(RobotDesignResults[Robot Design Score],MATCH(TournamentData[[#This Row],[Team Number]],RobotDesignResults[Team Number],0))),0,INDEX(RobotDesignResults[Robot Design Score],MATCH(TournamentData[[#This Row],[Team Number]],RobotDesignResults[Team Number],0)))","v":0},{"$f":"IF(ISERR(GEOMEAN(TournamentData[[#This Row],[Max Robot Game Score]],TournamentData[[#This Row],[Core Values Score]],TournamentData[[#This Row],[Innovattion Project Score]],TournamentData[[#This Row],[Robot Design Score]])),0,GEOMEAN(TournamentData[[#This Row],[Max Robot Game Score]],TournamentData[[#This Row],[Core Values Score]],TournamentData[[#This Row],[Innovattion Project Score]],TournamentData[[#This Row],[Robot Design Score]]))","v":0},0]
[null,{"$f":"IF(ISNA(INDEX(OfficialTeamList[Team Name],MATCH(TournamentData[[#This Row],[Team Number]], OfficialTeamList[Team Number],0))),\"\",INDEX(OfficialTeamList[Team Name],MATCH(TournamentData[[#This Row],[Team Number]], OfficialTeamList[Team Number],0)))","v":""},{"$f":"IF(TournamentData[[#This Row],[Team Number]]=\"\",\"\",IF(ISNA(INDEX('Robot Game Scores'!D:D,MATCH(TournamentData[[#This Row],[Team Number]], 'Robot Game Scores'!$B:$B,0))),0,INDEX('Robot Game Scores'!D:D,MATCH(TournamentData[[#This Row],[Team Number]], 'Robot Game Scores'!$B:$B,0))))","v":""},{"$f":"IF(TournamentData[[#This Row],[Team Number]]=\"\",\"\",IF(ISNA(INDEX('Robot Game Scores'!E:E,MATCH(TournamentData[[#This Row],[Team Number]], 'Robot Game Scores'!$B:$B,0))),0,INDEX('Robot Game Scores'!E:E,MATCH(TournamentData[[#This Row],[Team Number]], 'Robot Game Scores'!$B:$B,0))))","v":""},{"$f":"IF(TournamentData[[#This Row],[Team Number]]=\"\",\"\",IF(ISNA(INDEX('Robot Game Scores'!F:F,MATCH(TournamentData[[#This Row],[Team Number]], 'Robot Game Scores'!$B:$B,0))),0,INDEX('Robot Game Scores'!F:F,MATCH(TournamentData[[#This Row],[Team Number]], 'Robot Game Scores'!$B:$B,0))))","v":""},{"$f":"IF(TournamentData[[#This Row],[Team Number]]=\"\",\"\",IF(ISNA(INDEX('Robot Game Scores'!G:G,MATCH(TournamentData[[#This Row],[Team Number]], 'Robot Game Scores'!$B:$B,0))),0,INDEX('Robot Game Scores'!G:G,MATCH(TournamentData[[#This Row],[Team Number]], 'Robot Game Scores'!$B:$B,0))))","v":""},{"$f":"IF(TournamentData[[#This Row],[Team Number]]=\"\",\"\",IF(ISNA(INDEX('Robot Game Scores'!H:H,MATCH(TournamentData[[#This Row],[Team Number]], 'Robot Game Scores'!$B:$B,0))),0,INDEX('Robot Game Scores'!H:H,MATCH(TournamentData[[#This Row],[Team Number]], 'Robot Game Scores'!$B:$B,0))))","v":""},{"$f":"IF(TournamentData[[#This Row],[Team Number]]=\"\",\"\",IF(ISNA(LARGE(TournamentData[[#This Row],[Robot Game Score 1]:[Robot Game Score 5]],1)+0.0001*LARGE(TournamentData[[#This Row],[Robot Game Score 1]:[Robot Game Score 5]],2)+0.0000001*LARGE(TournamentData[[#This Row],[Robot Game Score 1]:[Robot Game Score 5]],3)+0.00000000001*LARGE(TournamentData[[#This Row],[Robot Game Score 1]:[Robot Game Score 5]],4)+0.00000000000001*LARGE(TournamentData[[#This Row],[Robot Game Score 1]:[Robot Game Score 5]],5)),0,LARGE(TournamentData[[#This Row],[Robot Game Score 1]:[Robot Game Score 5]],1)+0.0001*LARGE(TournamentData[[#This Row],[Robot Game Score 1]:[Robot Game Score 5]],2)+0.0000001*LARGE(TournamentData[[#This Row],[Robot Game Score 1]:[Robot Game Score 5]],3)+0.00000000001*LARGE(TournamentData[[#This Row],[Robot Game Score 1]:[Robot Game Score 5]],4)+0.00000000000001*LARGE(TournamentData[[#This Row],[Robot Game Score 1]:[Robot Game Score 5]],5)))","v":""},{"$f":"IF(TournamentData[[#This Row],[Team Number]]=\"\",\"\",_xlfn.RANK.EQ(TournamentData[[#This Row],[Max Robot Game Score]],TournamentData[Max Robot Game Score]))","v":""},{"$f":"IF(TournamentData[[#This Row],[Team Number]]=\"\",\"\",IF(ISNA(INDEX(CoreValuesResults[Core Values Rank],MATCH(TournamentData[[#This Row],[Team Number]],CoreValuesResults[Team Number],0))),NumberOfTeams+1,INDEX(CoreValuesResults[Core Values Rank],MATCH(TournamentData[[#This Row],[Team Number]],CoreValuesResults[Team Number],0))))","v":""},{"$f":"IF(TournamentData[[#This Row],[Team Number]]=\"\",\"\",IF(ISNA(INDEX(InnovationProjectResults[Innovation Project Rank],MATCH(TournamentData[[#This Row],[Team Number]],InnovationProjectResults[Team Number],0))),NumberOfTeams+1,INDEX(InnovationProjectResults[Innovation Project Rank],MATCH(TournamentData[[#This Row],[Team Number]],InnovationProjectResults[Team Number],0))))","v":""},{"$f":"IF(TournamentData[[#This Row],[Team Number]]=\"\",\"\",IF(ISNA(INDEX(RobotDesignResults[Robot Design Rank],MATCH(TournamentData[[#This Row],[Team Number]],RobotDesignResults[Team Number],0))),NumberOfTeams+1,INDEX(RobotDesignResults[Robot Design Rank],MATCH(TournamentData[[#This Row],[Team Number]],RobotDesignResults[Team Number],0))))","v":""},{"$f":" IF(TournamentData[[#This Row],[Team Number]]=\"\",\"\",IF(TournamentData[[#This Row],[Core Values Rank]]=\"\",NumberOfTeams+1,TournamentData[[#This Row],[Core Values Rank]]) + IF(TournamentData[[#This Row],[Innovation Project Rank]]=\"\",NumberOfTeams+1,TournamentData[[#This Row],[Innovation Project Rank]]) + IF(TournamentData[[#This Row],[Robot Design Rank]]=\"\",NumberOfTeams+1,TournamentData[[#This Row],[Robot Design Rank]]) + TournamentData[[#This Row],[Robot Game Rank]])","v":""},{"$f":"IF(TournamentData[[#This Row],[Team Number]]=\"\",\"\",IF(M110,RANK(M110,M$3:M$110,1)-COUNTIF(M$3:M$110,0),NumberOfTeams+1))","v":""},{"$f":"IF(ISNA(INDEX(CoreValuesResults[Breakthrough Selection],MATCH(TournamentData[[#This Row],[Team Number]],CoreValuesResults[Team Number],0))),0, INDEX(CoreValuesResults[Breakthrough Selection],MATCH(TournamentData[[#This Row],[Team Number]],CoreValuesResults[Team Number],0)))","v":0},{"$f":"IF(ISNA(INDEX(CoreValuesResults[Rising All-Star Selection],MATCH(TournamentData[[#This Row],[Team Number]],CoreValuesResults[Team Number],0))),0, INDEX(CoreValuesResults[Rising All-Star Selection],MATCH(TournamentData[[#This Row],[Team Number]],CoreValuesResults[Team Number],0)))","v":0},{"$f":"IF(ISNA(INDEX(CoreValuesResults[Motivate Selection],MATCH(TournamentData[[#This Row],[Team Number]],CoreValuesResults[Team Number],0))),0, INDEX(CoreValuesResults[Motivate Selection],MATCH(TournamentData[[#This Row],[Team Number]],CoreValuesResults[Team Number],0)))","v":0},null,null,null,{"$f":"IF(ISNA(INDEX(CoreValuesResults[Core Values Score],MATCH(TournamentData[[#This Row],[Team Number]],CoreValuesResults[Team Number],0))),0,INDEX(CoreValuesResults[Core Values Score],MATCH(TournamentData[[#This Row],[Team Number]],CoreValuesResults[Team Number],0)))","v":0},{"$f":"IF(ISNA(INDEX(InnovationProjectResults[Innovation Project Score],MATCH(TournamentData[[#This Row],[Team Number]],InnovationProjectResults[Team Number],0))),0,INDEX(InnovationProjectResults[Innovation Project Score],MATCH(TournamentData[[#This Row],[Team Number]],InnovationProjectResults[Team Number],0)))","v":0},{"$f":"IF(ISNA(INDEX(RobotDesignResults[Robot Design Score],MATCH(TournamentData[[#This Row],[Team Number]],RobotDesignResults[Team Number],0))),0,INDEX(RobotDesignResults[Robot Design Score],MATCH(TournamentData[[#This Row],[Team Number]],RobotDesignResults[Team Number],0)))","v":0},{"$f":"IF(ISERR(GEOMEAN(TournamentData[[#This Row],[Max Robot Game Score]],TournamentData[[#This Row],[Core Values Score]],TournamentData[[#This Row],[Innovattion Project Score]],TournamentData[[#This Row],[Robot Design Score]])),0,GEOMEAN(TournamentData[[#This Row],[Max Robot Game Score]],TournamentData[[#This Row],[Core Values Score]],TournamentData[[#This Row],[Innovattion Project Score]],TournamentData[[#This Row],[Robot Design Score]]))","v":0},0]

{"sheet":"Robot Game Scores","index":3,"n_rows":1,"n_cols":8,"rows_kept":1,"cut":false,"hidden":false,"merged":[]}
["Robot Game Rank","Team Number","Highest Robot Game Score","Robot Game 1 Score","Robot Game 2 Score","Robot Game 3 Score","Robot Game 4 Score","Robot Game 5 Score"]

{"sheet":"GP Scores","index":4,"n_rows":1,"n_cols":8,"rows_kept":1,"cut":false,"hidden":true,"merged":[]}
["rank","team","total",1,2,3,4,5]

{"sheet":"Core Values Input","index":5,"n_rows":109,"n_cols":26,"rows_kept":109,"cut":false,"hidden":false,"merged":[]}
["Team Number","Team Name","Discovery","Innovation","Impact","Inclusion","Teamwork","Fun","Gracious Professionalism 1","Gracious Professionalism 2","Gracious Professionalism 3","Gracious Professionalism 4","Gracious Professionalism 5","Gracious Professionalism Empty Count","Gracious Professionalism Total","Gracious Professionalism Score","Core Values Score","Core Values Rank","Breakthrough Selection","Rising All-Star Selection","Motivate Selection"]
[null,{"$f":"IF(ISNA(INDEX(OfficialTeamList[Team Name],MATCH(CoreValuesResults[[#This Row],[Team Number]], OfficialTeamList[Team Number],0))),\"\",INDEX(OfficialTeamList[Team Name],MATCH(CoreValuesResults[[#This Row],[Team Number]], OfficialTeamList[Team Number],0)))","v":""},null,null,null,null,null,null,null,null,null,null,null,{"$f":"IF(CoreValuesResults[[#This Row],[Gracious Professionalism 1]]=\"\",\"\",COUNTIF(CoreValuesResults[[#This Row],[Gracious Professionalism 1]:[Gracious Professionalism 5]],\"\"))","v":""},{"$f":"IF(CoreValuesResults[[#This Row],[Gracious Professionalism 1]]=\"\",\"\",SUM(CoreValuesResults[[#This Row],[Gracious Professionalism 1]:[Gracious Professionalism 5]]))","v":""},{"$f":"IF(CoreValuesResults[[#This Row],[Gracious Professionalism Empty Count]]=3,SUM(CoreValuesResults[[#This Row],[Gracious Professionalism 1]:[Gracious Professionalism 5]]),IF(CoreValuesResults[[#This Row],[Gracious Professionalism Empty Count]]=4,SUM(CoreValuesResults[[#This Row],[Gracious Professionalism 1]:[Gracious Professionalism 5]]),IF(CoreValuesResults[[#This Row],[Gracious Professionalism Empty Count]]=2,CoreValuesResults[[#This Row],[Gracious Professionalism Total]],IF(CoreValuesResults[[#This Row],[Gracious Professionalism Empty Count]]=1,CoreValuesResults[[#This Row],[Gracious Professionalism Total]]*0.75,IF(CoreValuesResults[[#This Row],[Gracious Professionalism Empty Count]]=0,CoreValuesResults[[#This Row],[Gracious Professionalism Total]]*0.6,\"\")))))","v":""},{"$f":"SUM(CoreValuesResults[[#This Row],[Discovery]:[Fun]],CoreValuesResults[[#This Row],[Gracious Professionalism Score]])","v":0},{"$f":"IF(CoreValuesResults[[#This Row],[Team Number]]>0,MIN(_xlfn.RANK.EQ(CoreValuesResults[[#This Row],[Core Values Score]],CoreValuesResults[Core Values Score],0),NumberOfTeams),NumberOfTeams+1)","v":1},null,null,null,null,null,null,null,true]
[null,{"$f":"IF(ISNA(INDEX(OfficialTeamList[Team Name],MATCH(CoreValuesResults[[#This Row],[Team Number]], OfficialTeamList[Team Number],0))),\"\",INDEX(OfficialTeamList[Team Name],MATCH(CoreValuesResults[[#This Row],[Team Number]], OfficialTeamList[Team Number],0)))","v":""},null,null,null,null,null,null,null,null,null,null,null,{"$f":"IF(CoreValuesResults[[#This Row],[Gracious Professionalism 1]]=\"\",\"\",COUNTIF(CoreValuesResults[[#This Row],[Gracious Professionalism 1]:[Gracious Professionalism 5]],\"\"))","v":""},{"$f":"IF(CoreValuesResults[[#This Row],[Gracious Professionalism 1]]=\"\",\"\",SUM(CoreValuesResults[[#This Row],[Gracious Professionalism 1]:[Gracious Professionalism 5]]))","v":""},{"$f":"IF(CoreValuesResults[[#This Row],[Gracious Professionalism Empty Count]]=3,SUM(CoreValuesResults[[#This Row],[Gracious Professionalism 1]:[Gracious Professionalism 5]]),IF(CoreValuesResults[[#This Row],[Gracious Professionalism Empty Count]]=4,SUM(CoreValuesResults[[#This Row],[Gracious Professionalism 1]:[Gracious Professionalism 5]]),IF(CoreValuesResults[[#This Row],[Gracious Professionalism Empty Count]]=2,CoreValuesResults[[#This Row],[Gracious Professionalism Total]],IF(CoreValuesResults[[#This Row],[Gracious Professionalism Empty Count]]=1,CoreValuesResults[[#This Row],[Gracious Professionalism Total]]*0.75,IF(CoreValuesResults[[#This Row],[Gracious Professionalism Empty Count]]=0,CoreValuesResults[[#This Row],[Gracious Professionalism Total]]*0.6,\"\")))))","v":""},{"$f":"SUM(CoreValuesResults[[#This Row],[Discovery]:[Fun]],CoreValuesResults[[#This Row],[Gracious Professionalism Score]])","v":0},{"$f":"IF(CoreValuesResults[[#This Row],[Team Number]]>0,MIN(_xlfn.RANK.EQ(CoreValuesResults[[#This Row],[Core Values Score]],CoreValuesResults[Core Values Score],0),NumberOfTeams),NumberOfTeams+1)","v":1}]
[null,{"$f":"IF(ISNA(INDEX(OfficialTeamList[Team Name],MATCH(CoreValuesResults[[#This Row],[Team Number]], OfficialTeamList[Team Number],0))),\"\",INDEX(OfficialTeamList[Team Name],MATCH(CoreValuesResults[[#This Row],[Team Number]], OfficialTeamList[Team Number],0)))","v":""},null,null,null,null,null,null,null,null,null,null,null,{"$f":"IF(CoreValuesResults[[#This Row],[Gracious Professionalism 1]]=\"\",\"\",COUNTIF(CoreValuesResults[[#This Row],[Gracious Professionalism 1]:[Gracious Professionalism 5]],\"\"))","v":""},{"$f":"IF(CoreValuesResults[[#This Row],[Gracious Professionalism 1]]=\"\",\"\",SUM(CoreValuesResults[[#This Row],[Gracious Professionalism 1]:[Gracious Professionalism 5]]))","v":""},{"$f":"IF(CoreValuesResults[[#This Row],[Gracious Professionalism Empty Count]]=3,SUM(CoreValuesResults[[#This Row],[Gracious Professionalism 1]:[Gracious Professionalism 5]]),IF(CoreValuesResults[[#This Row],[Gracious Professionalism Empty Count]]=4,SUM(CoreValuesResults[[#This Row],[Gracious Professionalism 1]:[Gracious Professionalism 5]]),IF(CoreValuesResults[[#This Row],[Gracious Professionalism Empty Count]]=2,CoreValuesResults[[#This Row],[Gracious Professionalism Total]],IF(CoreValuesResults[[#This Row],[Gracious Professionalism Empty Count]]=1,CoreValuesResults[[#This Row],[Gracious Professionalism Total]]*0.75,IF(CoreValuesResults[[#This Row],[Gracious Professionalism Empty Count]]=0,CoreValuesResults[[#This Row],[Gracious Professionalism Total]]*0.6,\"\")))))","v":""},{"$f":"SUM(CoreValuesResults[[#This Row],[Discovery]:[Fun]],CoreValuesResults[[#This Row],[Gracious Professionalism Score]])","v":0},{"$f":"IF(CoreValuesResults[[#This Row],[Team Number]]>0,MIN(_xlfn.RANK.EQ(CoreValuesResults[[#This Row],[Core Values Score]],CoreValuesResults[Core Values Score],0),NumberOfTeams),NumberOfTeams+1)","v":1}]
[null,{"$f":"IF(ISNA(INDEX(OfficialTeamList[Team Name],MATCH(CoreValuesResults[[#This Row],[Team Number]], OfficialTeamList[Team Number],0))),\"\",INDEX(OfficialTeamList[Team Name],MATCH(CoreValuesResults[[#This Row],[Team Number]], OfficialTeamList[Team Number],0)))","v":""},null,null,null,null,null,null,null,null,null,null,null,{"$f":"IF(CoreValuesResults[[#This Row],[Gracious Professionalism 1]]=\"\",\"\",COUNTIF(CoreValuesResults[[#This Row],[Gracious Professionalism 1]:[Gracious Professionalism 5]],\"\"))","v":""},{"$f":"IF(CoreValuesResults[[#This Row],[Gracious Professionalism 1]]=\"\",\"\",SUM(CoreValuesResults[[#This Row],[Gracious Professionalism 1]:[Gracious Professionalism 5]]))","v":""},{"$f":"IF(CoreValuesResults[[#This Row],[Gracious Professionalism Empty Count]]=3,SUM(CoreValuesResults[[#This Row],[Gracious Professionalism 1]:[Gracious Professionalism 5]]),IF(CoreValuesResults[[#This Row],[Gracious Professionalism Empty Count]]=4,SUM(CoreValuesResults[[#This Row],[Gracious Professionalism 1]:[Gracious Professionalism 5]]),IF(CoreValuesResults[[#This Row],[Gracious Professionalism Empty Count]]=2,CoreValuesResults[[#This Row],[Gracious Professionalism Total]],IF(CoreValuesResults[[#This Row],[Gracious Professionalism Empty Count]]=1,CoreValuesResults[[#This Row],[Gracious Professionalism Total]]*0.75,IF(CoreValuesResults[[#This Row],[Gracious Professionalism Empty Count]]=0,CoreValuesResults[[#This Row],[Gracious Professionalism Total]]*0.6,\"\")))))","v":""},{"$f":"SUM(CoreValuesResults[[#This Row],[Discovery]:[Fun]],CoreValuesResults[[#This Row],[Gracious Professionalism Score]])","v":0},{"$f":"IF(CoreValuesResults[[#This Row],[Team Number]]>0,MIN(_xlfn.RANK.EQ(CoreValuesResults[[#This Row],[Core Values Score]],CoreValuesResults[Core Values Score],0),NumberOfTeams),NumberOfTeams+1)","v":1}]
[null,{"$f":"IF(ISNA(INDEX(OfficialTeamList[Team Name],MATCH(CoreValuesResults[[#This Row],[Team Number]], OfficialTeamList[Team Number],0))),\"\",INDEX(OfficialTeamList[Team Name],MATCH(CoreValuesResults[[#This Row],[Team Number]], OfficialTeamList[Team Number],0)))","v":""},null,null,null,null,null,null,null,null,null,null,null,{"$f":"IF(CoreValuesResults[[#This Row],[Gracious Professionalism 1]]=\"\",\"\",COUNTIF(CoreValuesResults[[#This Row],[Gracious Professionalism 1]:[Gracious Professionalism 5]],\"\"))","v":""},{"$f":"IF(CoreValuesResults[[#This Row],[Gracious Professionalism 1]]=\"\",\"\",SUM(CoreValuesResults[[#This Row],[Gracious Professionalism 1]:[Gracious Professionalism 5]]))","v":""},{"$f":"IF(CoreValuesResults[[#This Row],[Gracious Professionalism Empty Count]]=3,SUM(CoreValuesResults[[#This Row],[Gracious Professionalism 1]:[Gracious Professionalism 5]]),IF(CoreValuesResults[[#This Row],[Gracious Professionalism Empty Count]]=4,SUM(CoreValuesResults[[#This Row],[Gracious Professionalism 1]:[Gracious Professionalism 5]]),IF(CoreValuesResults[[#This Row],[Gracious Professionalism Empty Count]]=2,CoreValuesResults[[#This Row],[Gracious Professionalism Total]],IF(CoreValuesResults[[#This Row],[Gracious Professionalism Empty Count]]=1,CoreValuesResults[[#This Row],[Gracious Professionalism Total]]*0.75,IF(CoreValuesResults[[#This Row],[Gracious Professionalism Empty Count]]=0,CoreValuesResults[[#This Row],[Gracious Professionalism Total]]*0.6,\"\")))))","v":""},{"$f":"SUM(CoreValuesResults[[#This Row],[Discovery]:[Fun]],CoreValuesResults[[#This Row],[Gracious Professionalism Score]])","v":0},{"$f":"IF(CoreValuesResults[[#This Row],[Team Number]]>0,MIN(_xlfn.RANK.EQ(CoreValuesResults[[#This Row],[Core Values Score]],CoreValuesResults[Core Values Score],0),NumberOfTeams),NumberOfTeams+1)","v":1}]
[null,{"$f":"IF(ISNA(INDEX(OfficialTeamList[Team Name],MATCH(CoreValuesResults[[#This Row],[Team Number]], OfficialTeamList[Team Number],0))),\"\",INDEX(OfficialTeamList[Team Name],MATCH(CoreValuesResults[[#This Row],[Team Number]], OfficialTeamList[Team Number],0)))","v":""},null,null,null,null,null,null,null,null,null,null,null,{"$f":"IF(CoreValuesResults[[#This Row],[Gracious Professionalism 1]]=\"\",\"\",COUNTIF(CoreValuesResults[[#This Row],[Gracious Professionalism 1]:[Gracious Professionalism 5]],\"\"))","v":""},{"$f":"IF(CoreValuesResults[[#This Row],[Gracious Professionalism 1]]=\"\",\"\",SUM(CoreValuesResults[[#This Row],[Gracious Professionalism 1]:[Gracious Professionalism 5]]))","v":""},{"$f":"IF(CoreValuesResults[[#This Row],[Gracious Professionalism Empty Count]]=3,SUM(CoreValuesResults[[#This Row],[Gracious Professionalism 1]:[Gracious Professionalism 5]]),IF(CoreValuesResults[[#This Row],[Gracious Professionalism Empty Count]]=4,SUM(CoreValuesResults[[#This Row],[Gracious Professionalism 1]:[Gracious Professionalism 5]]),IF(CoreValuesResults[[#This Row],[Gracious Professionalism Empty Count]]=2,CoreValuesResults[[#This Row],[Gracious Professionalism Total]],IF(CoreValuesResults[[#This Row],[Gracious Professionalism Empty Count]]=1,CoreValuesResults[[#This Row],[Gracious Professionalism Total]]*0.75,IF(CoreValuesResults[[#This Row],[Gracious Professionalism Empty Count]]=0,CoreValuesResults[[#This Row],[Gracious Professionalism Total]]*0.6,\"\")))))","v":""},{"$f":"SUM(CoreValuesResults[[#This Row],[Discovery]:[Fun]],CoreValuesResults[[#This Row],[Gracious Professionalism Score]])","v":0},{"$f":"IF(CoreValuesResults[[#This Row],[Team Number]]>0,MIN(_xlfn.RANK.EQ(CoreValuesResults[[#This Row],[Core Values Score]],CoreValuesResults[Core Values Score],0),NumberOfTeams),NumberOfTeams+1)","v":1}]
[null,{"$f":"IF(ISNA(INDEX(OfficialTeamList[Team Name],MATCH(CoreValuesResults[[#This Row],[Team Number]], OfficialTeamList[Team Number],0))),\"\",INDEX(OfficialTeamList[Team Name],MATCH(CoreValuesResults[[#This Row],[Team Number]], OfficialTeamList[Team Number],0)))","v":""},null,null,null,null,null,null,null,null,null,null,null,{"$f":"IF(CoreValuesResults[[#This Row],[Gracious Professionalism 1]]=\"\",\"\",COUNTIF(CoreValuesResults[[#This Row],[Gracious Professionalism 1]:[Gracious Professionalism 5]],\"\"))","v":""},{"$f":"IF(CoreValuesResults[[#This Row],[Gracious Professionalism 1]]=\"\",\"\",SUM(CoreValuesResults[[#This Row],[Gracious Professionalism 1]:[Gracious Professionalism 5]]))","v":""},{"$f":"IF(CoreValuesResults[[#This Row],[Gracious Professionalism Empty Count]]=3,SUM(CoreValuesResults[[#This Row],[Gracious Professionalism 1]:[Gracious Professionalism 5]]),IF(CoreValuesResults[[#This Row],[Gracious Professionalism Empty Count]]=4,SUM(CoreValuesResults[[#This Row],[Gracious Professionalism 1]:[Gracious Professionalism 5]]),IF(CoreValuesResults[[#This Row],[Gracious Professionalism Empty Count]]=2,CoreValuesResults[[#This Row],[Gracious Professionalism Total]],IF(CoreValuesResults[[#This Row],[Gracious Professionalism Empty Count]]=1,CoreValuesResults[[#This Row],[Gracious Professionalism Total]]*0.75,IF(CoreValuesResults[[#This Row],[Gracious Professionalism Empty Count]]=0,CoreValuesResults[[#This Row],[Gracious Professionalism Total]]*0.6,\"\")))))","v":""},{"$f":"SUM(CoreValuesResults[[#This Row],[Discovery]:[Fun]],CoreValuesResults[[#This Row],[Gracious Professionalism Score]])","v":0},{"$f":"IF(CoreValuesResults[[#This Row],[Team Number]]>0,MIN(_xlfn.RANK.EQ(CoreValuesResults[[#This Row],[Core Values Score]],CoreValuesResults[Core Values Score],0),NumberOfTeams),NumberOfTeams+1)","v":1}]
[null,{"$f":"IF(ISNA(INDEX(OfficialTeamList[Team Name],MATCH(CoreValuesResults[[#This Row],[Team Number]], OfficialTeamList[Team Number],0))),\"\",INDEX(OfficialTeamList[Team Name],MATCH(CoreValuesResults[[#This Row],[Team Number]], OfficialTeamList[Team Number],0)))","v":""},null,null,null,null,null,null,null,null,null,null,null,{"$f":"IF(CoreValuesResults[[#This Row],[Gracious Professionalism 1]]=\"\",\"\",COUNTIF(CoreValuesResults[[#This Row],[Gracious Professionalism 1]:[Gracious Professionalism 5]],\"\"))","v":""},{"$f":"IF(CoreValuesResults[[#This Row],[Gracious Professionalism 1]]=\"\",\"\",SUM(CoreValuesResults[[#This Row],[Gracious Professionalism 1]:[Gracious Professionalism 5]]))","v":""},{"$f":"IF(CoreValuesResults[[#This Row],[Gracious Professionalism Empty Count]]=3,SUM(CoreValuesResults[[#This Row],[Gracious Professionalism 1]:[Gracious Professionalism 5]]),IF(CoreValuesResults[[#This Row],[Gracious Professionalism Empty Count]]=4,SUM(CoreValuesResults[[#This Row],[Gracious Professionalism 1]:[Gracious Professionalism 5]]),IF(CoreValuesResults[[#This Row],[Gracious Professionalism Empty Count]]=2,CoreValuesResults[[#This Row],[Gracious Professionalism Total]],IF(CoreValuesResults[[#This Row],[Gracious Professionalism Empty Count]]=1,CoreValuesResults[[#This Row],[Gracious Professionalism Total]]*0.75,IF(CoreValuesResults[[#This Row],[Gracious Professionalism Empty Count]]=0,CoreValuesResults[[#This Row],[Gracious Professionalism Total]]*0.6,\"\")))))","v":""},{"$f":"SUM(CoreValuesResults[[#This Row],[Discovery]:[Fun]],CoreValuesResults[[#This Row],[Gracious Professionalism Score]])","v":0},{"$f":"IF(CoreValuesResults[[#This Row],[Team Number]]>0,MIN(_xlfn.RANK.EQ(CoreValuesResults[[#This Row],[Core Values Score]],CoreValuesResults[Core Values Score],0),NumberOfTeams),NumberOfTeams+1)","v":1}]
[null,{"$f":"IF(ISNA(INDEX(OfficialTeamList[Team Name],MATCH(CoreValuesResults[[#This Row],[Team Number]], OfficialTeamList[Team Number],0))),\"\",INDEX(OfficialTeamList[Team Name],MATCH(CoreValuesResults[[#This Row],[Team Number]], OfficialTeamList[Team Number],0)))","v":""},null,null,null,null,null,null,null,null,null,null,null,{"$f":"IF(CoreValuesResults[[#This Row],[Gracious Professionalism 1]]=\"\",\"\",COUNTIF(CoreValuesResults[[#This Row],[Gracious Professionalism 1]:[Gracious Professionalism 5]],\"\"))","v":""},{"$f":"IF(CoreValuesResults[[#This Row],[Gracious Professionalism 1]]=\"\",\"\",SUM(CoreValuesResults[[#This Row],[Gracious Professionalism 1]:[Gracious Professionalism 5]]))","v":""},{"$f":"IF(CoreValuesResults[[#This Row],[Gracious Professionalism Empty Count]]=3,SUM(CoreValuesResults[[#This Row],[Gracious Professionalism 1]:[Gracious Professionalism 5]]),IF(CoreValuesResults[[#This Row],[Gracious Professionalism Empty Count]]=4,SUM(CoreValuesResults[[#This Row],[Gracious Professionalism 1]:[Gracious Professionalism 5]]),IF(CoreValuesResults[[#This Row],[Gracious Professionalism Empty Count]]=2,CoreValuesResults[[#This Row],[Gracious Professionalism Total]],IF(CoreValuesResults[[#This Row],[Gracious Professionalism Empty Count]]=1,CoreValuesResults[[#This Row],[Gracious Professionalism Total]]*0.75,IF(CoreValuesResults[[#This Row],[Gracious Professionalism Empty Count]]=0,CoreValuesResults[[#This Row],[Gracious Professionalism Total]]*0.6,\"\")))))","v":""},{"$f":"SUM(CoreValuesResults[[#This Row],[Discovery]:[Fun]],CoreValuesResults[[#This Row],[Gracious Professionalism Score]])","v":0},{"$f":"IF(CoreValuesResults[[#This Row],[Team Number]]>0,MIN(_xlfn.RANK.EQ(CoreValuesResults[[#This Row],[Core Values Score]],CoreValuesResults[Core Values Score],0),NumberOfTeams),NumberOfTeams+1)","v":1}]
[null,{"$f":"IF(ISNA(INDEX(OfficialTeamList[Team Name],MATCH(CoreValuesResults[[#This Row],[Team Number]], OfficialTeamList[Team Number],0))),\"\",INDEX(OfficialTeamList[Team Name],MATCH(CoreValuesResults[[#This Row],[Team Number]], OfficialTeamList[Team Number],0)))","v":""},null,null,null,null,null,null,null,null,null,null,null,{"$f":"IF(CoreValuesResults[[#This Row],[Gracious Professionalism 1]]=\"\",\"\",COUNTIF(CoreValuesResults[[#This Row],[Gracious Professionalism 1]:[Gracious Professionalism 5]],\"\"))","v":""},{"$f":"IF(CoreValuesResults[[#This Row],[Gracious Professionalism 1]]=\"\",\"\",SUM(CoreValuesResults[[#This Row],[Gracious Professionalism 1]:[Gracious Professionalism 5]]))","v":""},{"$f":"IF(CoreValuesResults[[#This Row],[Gracious Professionalism Empty Count]]=3,SUM(CoreValuesResults[[#This Row],[Gracious Professionalism 1]:[Gracious Professionalism 5]]),IF(CoreValuesResults[[#This Row],[Gracious Professionalism Empty Count]]=4,SUM(CoreValuesResults[[#This Row],[Gracious Professionalism 1]:[Gracious Professionalism 5]]),IF(CoreValuesResults[[#This Row],[Gracious Professionalism Empty Count]]=2,CoreValuesResults[[#This Row],[Gracious Professionalism Total]],IF(CoreValuesResults[[#This Row],[Gracious Professionalism Empty Count]]=1,CoreValuesResults[[#This Row],[Gracious Professionalism Total]]*0.75,IF(CoreValuesResults[[#This Row],[Gracious Professionalism Empty Count]]=0,CoreValuesResults[[#This Row],[Gracious Professionalism Total]]*0.6,\"\")))))","v":""},{"$f":"SUM(CoreValuesResults[[#This Row],[Discovery]:[Fun]],CoreValuesResults[[#This Row],[Gracious Professionalism Score]])","v":0},{"$f":"IF(CoreValuesResults[[#This Row],[Team Number]]>0,MIN(_xlfn.RANK.EQ(CoreValuesResults[[#This Row],[Core Values Score]],CoreValuesResults[Core Values Score],0),NumberOfTeams),NumberOfTeams+1)","v":1}]
[null,{"$f":"IF(ISNA(INDEX(OfficialTeamList[Team Name],MATCH(CoreValuesResults[[#This Row],[Team Number]], OfficialTeamList[Team Number],0))),\"\",INDEX(OfficialTeamList[Team Name],MATCH(CoreValuesResults[[#This Row],[Team Number]], OfficialTeamList[Team Number],0)))","v":""},null,null,null,null,null,null,null,null,null,null,null,{"$f":"IF(CoreValuesResults[[#This Row],[Gracious Professionalism 1]]=\"\",\"\",COUNTIF(CoreValuesResults[[#This Row],[Gracious Professionalism 1]:[Gracious Professionalism 5]],\"\"))","v":""},{"$f":"IF(CoreValuesResults[[#This Row],[Gracious Professionalism 1]]=\"\",\"\",SUM(CoreValuesResults[[#This Row],[Gracious Professionalism 1]:[Gracious Professionalism 5]]))","v":""},{"$f":"IF(CoreValuesResults[[#This Row],[Gracious Professionalism Empty Count]]=3,SUM(CoreValuesResults[[#This Row],[Gracious Professionalism 1]:[Gracious Professionalism 5]]),IF(CoreValuesResults[[#This Row],[Gracious Professionalism Empty Count]]=4,SUM(CoreValuesResults[[#This Row],[Gracious Professionalism 1]:[Gracious Professionalism 5]]),IF(CoreValuesResults[[#This Row],[Gracious Professionalism Empty Count]]=2,CoreValuesResults[[#This Row],[Gracious Professionalism Total]],IF(CoreValuesResults[[#This Row],[Gracious Professionalism Empty Count]]=1,CoreValuesResults[[#This Row],[Gracious Professionalism Total]]*0.75,IF(CoreValuesResults[[#This Row],[Gracious Professionalism Empty Count]]=0,CoreValuesResults[[#This Row],[Gracious Professionalism Total]]*0.6,\"\")))))","v":""},{"$f":"SUM(CoreValuesResults[[#This Row],[Discovery]:[Fun]],CoreValuesResults[[#This Row],[Gracious Professionalism Score]])","v":0},{"$f":"IF(CoreValuesResults[[#This Row],[Team Number]]>0,MIN(_xlfn.RANK.EQ(CoreValuesResults[[#This Row],[Core Values Score]],CoreValuesResults[Core Values Score],0),NumberOfTeams),NumberOfTeams+1)","v":1}]
[null,{"$f":"IF(ISNA(INDEX(OfficialTeamList[Team Name],MATCH(CoreValuesResults[[#This Row],[Team Number]], OfficialTeamList[Team Number],0))),\"\",INDEX(OfficialTeamList[Team Name],MATCH(CoreValuesResults[[#This Row],[Team Number]], OfficialTeamList[Team Number],0)))","v":""},null,null,null,null,null,null,null,null,null,null,null,{"$f":"IF(CoreValuesResults[[#This Row],[Gracious Professionalism 1]]=\"\",\"\",COUNTIF(CoreValuesResults[[#This Row],[Gracious Professionalism 1]:[Gracious Professionalism 5]],\"\"))","v":""},{"$f":"IF(CoreValuesResults[[#This Row],[Gracious Professionalism 1]]=\"\",\"\",SUM(CoreValuesResults[[#This Row],[Gracious Professionalism 1]:[Gracious Professionalism 5]]))","v":""},{"$f":"IF(CoreValuesResults[[#This Row],[Gracious Professionalism Empty Count]]=3,SUM(CoreValuesResults[[#This Row],[Gracious Professionalism 1]:[Gracious Professionalism 5]]),IF(CoreValuesResults[[#This Row],[Gracious Professionalism Empty Count]]=4,SUM(CoreValuesResults[[#This Row],[Gracious Professionalism 1]:[Gracious Professionalism 5]]),IF(CoreValuesResults[[#This Row],[Gracious Professionalism Empty Count]]=2,CoreValuesResults[[#This Row],[Gracious Professionalism Total]],IF(CoreValuesResults[[#This Row],[Gracious Professionalism Empty Count]]=1,CoreValuesResults[[#This Row],[Gracious Professionalism Total]]*0.75,IF(CoreValuesResults[[#This Row],[Gracious Professionalism Empty Count]]=0,CoreValuesResults[[#This Row],[Gracious Professionalism Total]]*0.6,\"\")))))","v":""},{"$f":"SUM(CoreValuesResults[[#This Row],[Discovery]:[Fun]],CoreValuesResults[[#This Row],[Gracious Professionalism Score]])","v":0},{"$f":"IF(CoreValuesResults[[#This Row],[Team Number]]>0,MIN(_xlfn.RANK.EQ(CoreValuesResults[[#This Row],[Core Values Score]],CoreValuesResults[Core Values Score],0),NumberOfTeams),NumberOfTeams+1)","v":1}]
[null,{"$f":"IF(ISNA(INDEX(OfficialTeamList[Team Name],MATCH(CoreValuesResults[[#This Row],[Team Number]], OfficialTeamList[Team Number],0))),\"\",INDEX(OfficialTeamList[Team Name],MATCH(CoreValuesResults[[#This Row],[Team Number]], OfficialTeamList[Team Number],0)))","v":""},null,null,null,null,null,null,null,null,null,null,null,{"$f":"IF(CoreValuesResults[[#This Row],[Gracious Professionalism 1]]=\"\",\"\",COUNTIF(CoreValuesResults[[#This Row],[Gracious Professionalism 1]:[Gracious Professionalism 5]],\"\"))","v":""},{"$f":"IF(CoreValuesResults[[#This Row],[Gracious Professionalism 1]]=\"\",\"\",SUM(CoreValuesResults[[#This Row],[Gracious Professionalism 1]:[Gracious Professionalism 5]]))","v":""},{"$f":"IF(CoreValuesResults[[#This Row],[Gracious Professionalism Empty Count]]=3,SUM(CoreValuesResults[[#This Row],[Gracious Professionalism 1]:[Gracious Professionalism 5]]),IF(CoreValuesResults[[#This Row],[Gracious Professionalism Empty Count]]=4,SUM(CoreValuesResults[[#This Row],[Gracious Professionalism 1]:[Gracious Professionalism 5]]),IF(CoreValuesResults[[#This Row],[Gracious Professionalism Empty Count]]=2,CoreValuesResults[[#This Row],[Gracious Professionalism Total]],IF(CoreValuesResults[[#This Row],[Gracious Professionalism Empty Count]]=1,CoreValuesResults[[#This Row],[Gracious Professionalism Total]]*0.75,IF(CoreValuesResults[[#This Row],[Gracious Professionalism Empty Count]]=0,CoreValuesResults[[#This Row],[Gracious Professionalism Total]]*0.6,\"\")))))","v":""},{"$f":"SUM(CoreValuesResults[[#This Row],[Discovery]:[Fun]],CoreValuesResults[[#This Row],[Gracious Professionalism Score]])","v":0},{"$f":"IF(CoreValuesResults[[#This Row],[Team Number]]>0,MIN(_xlfn.RANK.EQ(CoreValuesResults[[#This Row],[Core Values Score]],CoreValuesResults[Core Values Score],0),NumberOfTeams),NumberOfTeams+1)","v":1}]
[null,{"$f":"IF(ISNA(INDEX(OfficialTeamList[Team Name],MATCH(CoreValuesResults[[#This Row],[Team Number]], OfficialTeamList[Team Number],0))),\"\",INDEX(OfficialTeamList[Team Name],MATCH(CoreValuesResults[[#This Row],[Team Number]], OfficialTeamList[Team Number],0)))","v":""},null,null,null,null,null,null,null,null,null,null,null,{"$f":"IF(CoreValuesResults[[#This Row],[Gracious Professionalism 1]]=\"\",\"\",COUNTIF(CoreValuesResults[[#This Row],[Gracious Professionalism 1]:[Gracious Professionalism 5]],\"\"))","v":""},{"$f":"IF(CoreValuesResults[[#This Row],[Gracious Professionalism 1]]=\"\",\"\",SUM(CoreValuesResults[[#This Row],[Gracious Professionalism 1]:[Gracious Professionalism 5]]))","v":""},{"$f":"IF(CoreValuesResults[[#This Row],[Gracious Professionalism Empty Count]]=3,SUM(CoreValuesResults[[#This Row],[Gracious Professionalism 1]:[Gracious Professionalism 5]]),IF(CoreValuesResults[[#This Row],[Gracious Professionalism Empty Count]]=4,SUM(CoreValuesResults[[#This Row],[Gracious Professionalism 1]:[Gracious Professionalism 5]]),IF(CoreValuesResults[[#This Row],[Gracious Professionalism Empty Count]]=2,CoreValuesResults[[#This Row],[Gracious Professionalism Total]],IF(CoreValuesResults[[#This Row],[Gracious Professionalism Empty Count]]=1,CoreValuesResults[[#This Row],[Gracious Professionalism Total]]*0.75,IF(CoreValuesResults[[#This Row],[Gracious Professionalism Empty Count]]=0,CoreValuesResults[[#This Row],[Gracious Professionalism Total]]*0.6,\"\")))))","v":""},{"$f":"SUM(CoreValuesResults[[#This Row],[Discovery]:[Fun]],CoreValuesResults[[#This Row],[Gracious Professionalism Score]])","v":0},{"$f":"IF(CoreValuesResults[[#This Row],[Team Number]]>0,MIN(_xlfn.RANK.EQ(CoreValuesResults[[#This Row],[Core Values Score]],CoreValuesResults[Core Values Score],0),NumberOfTeams),NumberOfTeams+1)","v":1}]
[null,{"$f":"IF(ISNA(INDEX(OfficialTeamList[Team Name],MATCH(CoreValuesResults[[#This Row],[Team Number]], OfficialTeamList[Team Number],0))),\"\",INDEX(OfficialTeamList[Team Name],MATCH(CoreValuesResults[[#This Row],[Team Number]], OfficialTeamList[Team Number],0)))","v":""},null,null,null,null,null,null,null,null,null,null,null,{"$f":"IF(CoreValuesResults[[#This Row],[Gracious Professionalism 1]]=\"\",\"\",COUNTIF(CoreValuesResults[[#This Row],[Gracious Professionalism 1]:[Gracious Professionalism 5]],\"\"))","v":""},{"$f":"IF(CoreValuesResults[[#This Row],[Gracious Professionalism 1]]=\"\",\"\",SUM(CoreValuesResults[[#This Row],[Gracious Professionalism 1]:[Gracious Professionalism 5]]))","v":""},{"$f":"IF(CoreValuesResults[[#This Row],[Gracious Professionalism Empty Count]]=3,SUM(CoreValuesResults[[#This Row],[Gracious Professionalism 1]:[Gracious Professionalism 5]]),IF(CoreValuesResults[[#This Row],[Gracious Professionalism Empty Count]]=4,SUM(CoreValuesResults[[#This Row],[Gracious Professionalism 1]:[Gracious Professionalism 5]]),IF(CoreValuesResults[[#This Row],[Gracious Professionalism Empty Count]]=2,CoreValuesResults[[#This Row],[Gracious Professionalism Total]],IF(CoreValuesResults[[#This Row],[Gracious Professionalism Empty Count]]=1,CoreValuesResults[[#This Row],[Gracious Professionalism Total]]*0.75,IF(CoreValuesResults[[#This Row],[Gracious Professionalism Empty Count]]=0,CoreValuesResults[[#This Row],[Gracious Professionalism Total]]*0.6,\"\")))))","v":""},{"$f":"SUM(CoreValuesResults[[#This Row],[Discovery]:[Fun]],CoreValuesResults[[#This Row],[Gracious Professionalism Score]])","v":0},{"$f":"IF(CoreValuesResults[[#This Row],[Team Number]]>0,MIN(_xlfn.RANK.EQ(CoreValuesResults[[#This Row],[Core Values Score]],CoreValuesResults[Core Values Score],0),NumberOfTeams),NumberOfTeams+1)","v":1}]
[null,{"$f":"IF(ISNA(INDEX(OfficialTeamList[Team Name],MATCH(CoreValuesResults[[#This Row],[Team Number]], OfficialTeamList[Team Number],0))),\"\",INDEX(OfficialTeamList[Team Name],MATCH(CoreValuesResults[[#This Row],[Team Number]], OfficialTeamList[Team Number],0)))","v":""},null,null,null,null,null,null,null,null,null,null,null,{"$f":"IF(CoreValuesResults[[#This Row],[Gracious Professionalism 1]]=\"\",\"\",COUNTIF(CoreValuesResults[[#This Row],[Gracious Professionalism 1]:[Gracious Professionalism 5]],\"\"))","v":""},{"$f":"IF(CoreValuesResults[[#This Row],[Gracious Professionalism 1]]=\"\",\"\",SUM(CoreValuesResults[[#This Row],[Gracious Professionalism 1]:[Gracious Professionalism 5]]))","v":""},{"$f":"IF(CoreValuesResults[[#This Row],[Gracious Professionalism Empty Count]]=3,SUM(CoreValuesResults[[#This Row],[Gracious Professionalism 1]:[Gracious Professionalism 5]]),IF(CoreValuesResults[[#This Row],[Gracious Professionalism Empty Count]]=4,SUM(CoreValuesResults[[#This Row],[Gracious Professionalism 1]:[Gracious Professionalism 5]]),IF(CoreValuesResults[[#This Row],[Gracious Professionalism Empty Count]]=2,CoreValuesResults[[#This Row],[Gracious Professionalism Total]],IF(CoreValuesResults[[#This Row],[Gracious Professionalism Empty Count]]=1,CoreValuesResults[[#This Row],[Gracious Professionalism Total]]*0.75,IF(CoreValuesResults[[#This Row],[Gracious Professionalism Empty Count]]=0,CoreValuesResults[[#This Row],[Gracious Professionalism Total]]*0.6,\"\")))))","v":""},{"$f":"SUM(CoreValuesResults[[#This Row],[Discovery]:[Fun]],CoreValuesResults[[#This Row],[Gracious Professionalism Score]])","v":0},{"$f":"IF(CoreValuesResults[[#This Row],[Team Number]]>0,MIN(_xlfn.RANK.EQ(CoreValuesResults[[#This Row],[Core Values Score]],CoreValuesResults[Core Values Score],0),NumberOfTeams),NumberOfTeams+1)","v":1}]
[null,{"$f":"IF(ISNA(INDEX(OfficialTeamList[Team Name],MATCH(CoreValuesResults[[#This Row],[Team Number]], OfficialTeamList[Team Number],0))),\"\",INDEX(OfficialTeamList[Team Name],MATCH(CoreValuesResults[[#This Row],[Team Number]], OfficialTeamList[Team Number],0)))","v":""},null,null,null,null,null,null,null,null,null,null,null,{"$f":"IF(CoreValuesResults[[#This Row],[Gracious Professionalism 1]]=\"\",\"\",COUNTIF(CoreValuesResults[[#This Row],[Gracious Professionalism 1]:[Gracious Professionalism 5]],\"\"))","v":""},{"$f":"IF(CoreValuesResults[[#This Row],[Gracious Professionalism 1]]=\"\",\"\",SUM(CoreValuesResults[[#This Row],[Gracious Professionalism 1]:[Gracious Professionalism 5]]))","v":""},{"$f":"IF(CoreValuesResults[[#This Row],[Gracious Professionalism Empty Count]]=3,SUM(CoreValuesResults[[#This Row],[Gracious Professionalism 1]:[Gracious Professionalism 5]]),IF(CoreValuesResults[[#This Row],[Gracious Professionalism Empty Count]]=4,SUM(CoreValuesResults[[#This Row],[Gracious Professionalism 1]:[Gracious Professionalism 5]]),IF(CoreValuesResults[[#This Row],[Gracious Professionalism Empty Count]]=2,CoreValuesResults[[#This Row],[Gracious Professionalism Total]],IF(CoreValuesResults[[#This Row],[Gracious Professionalism Empty Count]]=1,CoreValuesResults[[#This Row],[Gracious Professionalism Total]]*0.75,IF(CoreValuesResults[[#This Row],[Gracious Professionalism Empty Count]]=0,CoreValuesResults[[#This Row],[Gracious Professionalism Total]]*0.6,\"\")))))","v":""},{"$f":"SUM(CoreValuesResults[[#This Row],[Discovery]:[Fun]],CoreValuesResults[[#This Row],[Gracious Professionalism Score]])","v":0},{"$f":"IF(CoreValuesResults[[#This Row],[Team Number]]>0,MIN(_xlfn.RANK.EQ(CoreValuesResults[[#This Row],[Core Values Score]],CoreValuesResults[Core Values Score],0),NumberOfTeams),NumberOfTeams+1)","v":1}]
[null,{"$f":"IF(ISNA(INDEX(OfficialTeamList[Team Name],MATCH(CoreValuesResults[[#This Row],[Team Number]], OfficialTeamList[Team Number],0))),\"\",INDEX(OfficialTeamList[Team Name],MATCH(CoreValuesResults[[#This Row],[Team Number]], OfficialTeamList[Team Number],0)))","v":""},null,null,null,null,null,null,null,null,null,null,null,{"$f":"IF(CoreValuesResults[[#This Row],[Gracious Professionalism 1]]=\"\",\"\",COUNTIF(CoreValuesResults[[#This Row],[Gracious Professionalism 1]:[Gracious Professionalism 5]],\"\"))","v":""},{"$f":"IF(CoreValuesResults[[#This Row],[Gracious Professionalism 1]]=\"\",\"\",SUM(CoreValuesResults[[#This Row],[Gracious Professionalism 1]:[Gracious Professionalism 5]]))","v":""},{"$f":"IF(CoreValuesResults[[#This Row],[Gracious Professionalism Empty Count]]=3,SUM(CoreValuesResults[[#This Row],[Gracious Professionalism 1]:[Gracious Professionalism 5]]),IF(CoreValuesResults[[#This Row],[Gracious Professionalism Empty Count]]=4,SUM(CoreValuesResults[[#This Row],[Gracious Professionalism 1]:[Gracious Professionalism 5]]),IF(CoreValuesResults[[#This Row],[Gracious Professionalism Empty Count]]=2,CoreValuesResults[[#This Row],[Gracious Professionalism Total]],IF(CoreValuesResults[[#This Row],[Gracious Professionalism Empty Count]]=1,CoreValuesResults[[#This Row],[Gracious Professionalism Total]]*0.75,IF(CoreValuesResults[[#This Row],[Gracious Professionalism Empty Count]]=0,CoreValuesResults[[#This Row],[Gracious Professionalism Total]]*0.6,\"\")))))","v":""},{"$f":"SUM(CoreValuesResults[[#This Row],[Discovery]:[Fun]],CoreValuesResults[[#This Row],[Gracious Professionalism Score]])","v":0},{"$f":"IF(CoreValuesResults[[#This Row],[Team Number]]>0,MIN(_xlfn.RANK.EQ(CoreValuesResults[[#This Row],[Core Values Score]],CoreValuesResults[Core Values Score],0),NumberOfTeams),NumberOfTeams+1)","v":1}]
[null,{"$f":"IF(ISNA(INDEX(OfficialTeamList[Team Name],MATCH(CoreValuesResults[[#This Row],[Team Number]], OfficialTeamList[Team Number],0))),\"\",INDEX(OfficialTeamList[Team Name],MATCH(CoreValuesResults[[#This Row],[Team Number]], OfficialTeamList[Team Number],0)))","v":""},null,null,null,null,null,null,null,null,null,null,null,{"$f":"IF(CoreValuesResults[[#This Row],[Gracious Professionalism 1]]=\"\",\"\",COUNTIF(CoreValuesResults[[#This Row],[Gracious Professionalism 1]:[Gracious Professionalism 5]],\"\"))","v":""},{"$f":"IF(CoreValuesResults[[#This Row],[Gracious Professionalism 1]]=\"\",\"\",SUM(CoreValuesResults[[#This Row],[Gracious Professionalism 1]:[Gracious Professionalism 5]]))","v":""},{"$f":"IF(CoreValuesResults[[#This Row],[Gracious Professionalism Empty Count]]=3,SUM(CoreValuesResults[[#This Row],[Gracious Professionalism 1]:[Gracious Professionalism 5]]),IF(CoreValuesResults[[#This Row],[Gracious Professionalism Empty Count]]=4,SUM(CoreValuesResults[[#This Row],[Gracious Professionalism 1]:[Gracious Professionalism 5]]),IF(CoreValuesResults[[#This Row],[Gracious Professionalism Empty Count]]=2,CoreValuesResults[[#This Row],[Gracious Professionalism Total]],IF(CoreValuesResults[[#This Row],[Gracious Professionalism Empty Count]]=1,CoreValuesResults[[#This Row],[Gracious Professionalism Total]]*0.75,IF(CoreValuesResults[[#This Row],[Gracious Professionalism Empty Count]]=0,CoreValuesResults[[#This Row],[Gracious Professionalism Total]]*0.6,\"\")))))","v":""},{"$f":"SUM(CoreValuesResults[[#This Row],[Discovery]:[Fun]],CoreValuesResults[[#This Row],[Gracious Professionalism Score]])","v":0},{"$f":"IF(CoreValuesResults[[#This Row],[Team Number]]>0,MIN(_xlfn.RANK.EQ(CoreValuesResults[[#This Row],[Core Values Score]],CoreValuesResults[Core Values Score],0),NumberOfTeams),NumberOfTeams+1)","v":1}]
[null,{"$f":"IF(ISNA(INDEX(OfficialTeamList[Team Name],MATCH(CoreValuesResults[[#This Row],[Team Number]], OfficialTeamList[Team Number],0))),\"\",INDEX(OfficialTeamList[Team Name],MATCH(CoreValuesResults[[#This Row],[Team Number]], OfficialTeamList[Team Number],0)))","v":""},null,null,null,null,null,null,null,null,null,null,null,{"$f":"IF(CoreValuesResults[[#This Row],[Gracious Professionalism 1]]=\"\",\"\",COUNTIF(CoreValuesResults[[#This Row],[Gracious Professionalism 1]:[Gracious Professionalism 5]],\"\"))","v":""},{"$f":"IF(CoreValuesResults[[#This Row],[Gracious Professionalism 1]]=\"\",\"\",SUM(CoreValuesResults[[#This Row],[Gracious Professionalism 1]:[Gracious Professionalism 5]]))","v":""},{"$f":"IF(CoreValuesResults[[#This Row],[Gracious Professionalism Empty Count]]=3,SUM(CoreValuesResults[[#This Row],[Gracious Professionalism 1]:[Gracious Professionalism 5]]),IF(CoreValuesResults[[#This Row],[Gracious Professionalism Empty Count]]=4,SUM(CoreValuesResults[[#This Row],[Gracious Professionalism 1]:[Gracious Professionalism 5]]),IF(CoreValuesResults[[#This Row],[Gracious Professionalism Empty Count]]=2,CoreValuesResults[[#This Row],[Gracious Professionalism Total]],IF(CoreValuesResults[[#This Row],[Gracious Professionalism Empty Count]]=1,CoreValuesResults[[#This Row],[Gracious Professionalism Total]]*0.75,IF(CoreValuesResults[[#This Row],[Gracious Professionalism Empty Count]]=0,CoreValuesResults[[#This Row],[Gracious Professionalism Total]]*0.6,\"\")))))","v":""},{"$f":"SUM(CoreValuesResults[[#This Row],[Discovery]:[Fun]],CoreValuesResults[[#This Row],[Gracious Professionalism Score]])","v":0},{"$f":"IF(CoreValuesResults[[#This Row],[Team Number]]>0,MIN(_xlfn.RANK.EQ(CoreValuesResults[[#This Row],[Core Values Score]],CoreValuesResults[Core Values Score],0),NumberOfTeams),NumberOfTeams+1)","v":1}]
[null,{"$f":"IF(ISNA(INDEX(OfficialTeamList[Team Name],MATCH(CoreValuesResults[[#This Row],[Team Number]], OfficialTeamList[Team Number],0))),\"\",INDEX(OfficialTeamList[Team Name],MATCH(CoreValuesResults[[#This Row],[Team Number]], OfficialTeamList[Team Number],0)))","v":""},null,null,null,null,null,null,null,null,null,null,null,{"$f":"IF(CoreValuesResults[[#This Row],[Gracious Professionalism 1]]=\"\",\"\",COUNTIF(CoreValuesResults[[#This Row],[Gracious Professionalism 1]:[Gracious Professionalism 5]],\"\"))","v":""},{"$f":"IF(CoreValuesResults[[#This Row],[Gracious Professionalism 1]]=\"\",\"\",SUM(CoreValuesResults[[#This Row],[Gracious Professionalism 1]:[Gracious Professionalism 5]]))","v":""},{"$f":"IF(CoreValuesResults[[#This Row],[Gracious Professionalism Empty Count]]=3,SUM(CoreValuesResults[[#This Row],[Gracious Professionalism 1]:[Gracious Professionalism 5]]),IF(CoreValuesResults[[#This Row],[Gracious Professionalism Empty Count]]=4,SUM(CoreValuesResults[[#This Row],[Gracious Professionalism 1]:[Gracious Professionalism 5]]),IF(CoreValuesResults[[#This Row],[Gracious Professionalism Empty Count]]=2,CoreValuesResults[[#This Row],[Gracious Professionalism Total]],IF(CoreValuesResults[[#This Row],[Gracious Professionalism Empty Count]]=1,CoreValuesResults[[#This Row],[Gracious Professionalism Total]]*0.75,IF(CoreValuesResults[[#This Row],[Gracious Professionalism Empty Count]]=0,CoreValuesResults[[#This Row],[Gracious Professionalism Total]]*0.6,\"\")))))","v":""},{"$f":"SUM(CoreValuesResults[[#This Row],[Discovery]:[Fun]],CoreValuesResults[[#This Row],[Gracious Professionalism Score]])","v":0},{"$f":"IF(CoreValuesResults[[#This Row],[Team Number]]>0,MIN(_xlfn.RANK.EQ(CoreValuesResults[[#This Row],[Core Values Score]],CoreValuesResults[Core Values Score],0),NumberOfTeams),NumberOfTeams+1)","v":1}]
[null,{"$f":"IF(ISNA(INDEX(OfficialTeamList[Team Name],MATCH(CoreValuesResults[[#This Row],[Team Number]], OfficialTeamList[Team Number],0))),\"\",INDEX(OfficialTeamList[Team Name],MATCH(CoreValuesResults[[#This Row],[Team Number]], OfficialTeamList[Team Number],0)))","v":""},null,null,null,null,null,null,null,null,null,null,null,{"$f":"IF(CoreValuesResults[[#This Row],[Gracious Professionalism 1]]=\"\",\"\",COUNTIF(CoreValuesResults[[#This Row],[Gracious Professionalism 1]:[Gracious Professionalism 5]],\"\"))","v":""},{"$f":"IF(CoreValuesResults[[#This Row],[Gracious Professionalism 1]]=\"\",\"\",SUM(CoreValuesResults[[#This Row],[Gracious Professionalism 1]:[Gracious Professionalism 5]]))","v":""},{"$f":"IF(CoreValuesResults[[#This Row],[Gracious Professionalism Empty Count]]=3,SUM(CoreValuesResults[[#This Row],[Gracious Professionalism 1]:[Gracious Professionalism 5]]),IF(CoreValuesResults[[#This Row],[Gracious Professionalism Empty Count]]=4,SUM(CoreValuesResults[[#This Row],[Gracious Professionalism 1]:[Gracious Professionalism 5]]),IF(CoreValuesResults[[#This Row],[Gracious Professionalism Empty Count]]=2,CoreValuesResults[[#This Row],[Gracious Professionalism Total]],IF(CoreValuesResults[[#This Row],[Gracious Professionalism Empty Count]]=1,CoreValuesResults[[#This Row],[Gracious Professionalism Total]]*0.75,IF(CoreValuesResults[[#This Row],[Gracious Professionalism Empty Count]]=0,CoreValuesResults[[#This Row],[Gracious Professionalism Total]]*0.6,\"\")))))","v":""},{"$f":"SUM(CoreValuesResults[[#This Row],[Discovery]:[Fun]],CoreValuesResults[[#This Row],[Gracious Professionalism Score]])","v":0},{"$f":"IF(CoreValuesResults[[#This Row],[Team Number]]>0,MIN(_xlfn.RANK.EQ(CoreValuesResults[[#This Row],[Core Values Score]],CoreValuesResults[Core Values Score],0),NumberOfTeams),NumberOfTeams+1)","v":1}]
[null,{"$f":"IF(ISNA(INDEX(OfficialTeamList[Team Name],MATCH(CoreValuesResults[[#This Row],[Team Number]], OfficialTeamList[Team Number],0))),\"\",INDEX(OfficialTeamList[Team Name],MATCH(CoreValuesResults[[#This Row],[Team Number]], OfficialTeamList[Team Number],0)))","v":""},null,null,null,null,null,null,null,null,null,null,null,{"$f":"IF(CoreValuesResults[[#This Row],[Gracious Professionalism 1]]=\"\",\"\",COUNTIF(CoreValuesResults[[#This Row],[Gracious Professionalism 1]:[Gracious Professionalism 5]],\"\"))","v":""},{"$f":"IF(CoreValuesResults[[#This Row],[Gracious Professionalism 1]]=\"\",\"\",SUM(CoreValuesResults[[#This Row],[Gracious Professionalism 1]:[Gracious Professionalism 5]]))","v":""},{"$f":"IF(CoreValuesResults[[#This Row],[Gracious Professionalism Empty Count]]=3,SUM(CoreValuesResults[[#This Row],[Gracious Professionalism 1]:[Gracious Professionalism 5]]),IF(CoreValuesResults[[#This Row],[Gracious Professionalism Empty Count]]=4,SUM(CoreValuesResults[[#This Row],[Gracious Professionalism 1]:[Gracious Professionalism 5]]),IF(CoreValuesResults[[#This Row],[Gracious Professionalism Empty Count]]=2,CoreValuesResults[[#This Row],[Gracious Professionalism Total]],IF(CoreValuesResults[[#This Row],[Gracious Professionalism Empty Count]]=1,CoreValuesResults[[#This Row],[Gracious Professionalism Total]]*0.75,IF(CoreValuesResults[[#This Row],[Gracious Professionalism Empty Count]]=0,CoreValuesResults[[#This Row],[Gracious Professionalism Total]]*0.6,\"\")))))","v":""},{"$f":"SUM(CoreValuesResults[[#This Row],[Discovery]:[Fun]],CoreValuesResults[[#This Row],[Gracious Professionalism Score]])","v":0},{"$f":"IF(CoreValuesResults[[#This Row],[Team Number]]>0,MIN(_xlfn.RANK.EQ(CoreValuesResults[[#This Row],[Core Values Score]],CoreValuesResults[Core Values Score],0),NumberOfTeams),NumberOfTeams+1)","v":1}]
[null,{"$f":"IF(ISNA(INDEX(OfficialTeamList[Team Name],MATCH(CoreValuesResults[[#This Row],[Team Number]], OfficialTeamList[Team Number],0))),\"\",INDEX(OfficialTeamList[Team Name],MATCH(CoreValuesResults[[#This Row],[Team Number]], OfficialTeamList[Team Number],0)))","v":""},null,null,null,null,null,null,null,null,null,null,null,{"$f":"IF(CoreValuesResults[[#This Row],[Gracious Professionalism 1]]=\"\",\"\",COUNTIF(CoreValuesResults[[#This Row],[Gracious Professionalism 1]:[Gracious Professionalism 5]],\"\"))","v":""},{"$f":"IF(CoreValuesResults[[#This Row],[Gracious Professionalism 1]]=\"\",\"\",SUM(CoreValuesResults[[#This Row],[Gracious Professionalism 1]:[Gracious Professionalism 5]]))","v":""},{"$f":"IF(CoreValuesResults[[#This Row],[Gracious Professionalism Empty Count]]=3,SUM(CoreValuesResults[[#This Row],[Gracious Professionalism 1]:[Gracious Professionalism 5]]),IF(CoreValuesResults[[#This Row],[Gracious Professionalism Empty Count]]=4,SUM(CoreValuesResults[[#This Row],[Gracious Professionalism 1]:[Gracious Professionalism 5]]),IF(CoreValuesResults[[#This Row],[Gracious Professionalism Empty Count]]=2,CoreValuesResults[[#This Row],[Gracious Professionalism Total]],IF(CoreValuesResults[[#This Row],[Gracious Professionalism Empty Count]]=1,CoreValuesResults[[#This Row],[Gracious Professionalism Total]]*0.75,IF(CoreValuesResults[[#This Row],[Gracious Professionalism Empty Count]]=0,CoreValuesResults[[#This Row],[Gracious Professionalism Total]]*0.6,\"\")))))","v":""},{"$f":"SUM(CoreValuesResults[[#This Row],[Discovery]:[Fun]],CoreValuesResults[[#This Row],[Gracious Professionalism Score]])","v":0},{"$f":"IF(CoreValuesResults[[#This Row],[Team Number]]>0,MIN(_xlfn.RANK.EQ(CoreValuesResults[[#This Row],[Core Values Score]],CoreValuesResults[Core Values Score],0),NumberOfTeams),NumberOfTeams+1)","v":1}]
[null,{"$f":"IF(ISNA(INDEX(OfficialTeamList[Team Name],MATCH(CoreValuesResults[[#This Row],[Team Number]], OfficialTeamList[Team Number],0))),\"\",INDEX(OfficialTeamList[Team Name],MATCH(CoreValuesResults[[#This Row],[Team Number]], OfficialTeamList[Team Number],0)))","v":""},null,null,null,null,null,null,null,null,null,null,null,{"$f":"IF(CoreValuesResults[[#This Row],[Gracious Professionalism 1]]=\"\",\"\",COUNTIF(CoreValuesResults[[#This Row],[Gracious Professionalism 1]:[Gracious Professionalism 5]],\"\"))","v":""},{"$f":"IF(CoreValuesResults[[#This Row],[Gracious Professionalism 1]]=\"\",\"\",SUM(CoreValuesResults[[#This Row],[Gracious Professionalism 1]:[Gracious Professionalism 5]]))","v":""},{"$f":"IF(CoreValuesResults[[#This Row],[Gracious Professionalism Empty Count]]=3,SUM(CoreValuesResults[[#This Row],[Gracious Professionalism 1]:[Gracious Professionalism 5]]),IF(CoreValuesResults[[#This Row],[Gracious Professionalism Empty Count]]=4,SUM(CoreValuesResults[[#This Row],[Gracious Professionalism 1]:[Gracious Professionalism 5]]),IF(CoreValuesResults[[#This Row],[Gracious Professionalism Empty Count]]=2,CoreValuesResults[[#This Row],[Gracious Professionalism Total]],IF(CoreValuesResults[[#This Row],[Gracious Professionalism Empty Count]]=1,CoreValuesResults[[#This Row],[Gracious Professionalism Total]]*0.75,IF(CoreValuesResults[[#This Row],[Gracious Professionalism Empty Count]]=0,CoreValuesResults[[#This Row],[Gracious Professionalism Total]]*0.6,\"\")))))","v":""},{"$f":"SUM(CoreValuesResults[[#This Row],[Discovery]:[Fun]],CoreValuesResults[[#This Row],[Gracious Professionalism Score]])","v":0},{"$f":"IF(CoreValuesResults[[#This Row],[Team Number]]>0,MIN(_xlfn.RANK.EQ(CoreValuesResults[[#This Row],[Core Values Score]],CoreValuesResults[Core Values Score],0),NumberOfTeams),NumberOfTeams+1)","v":1}]
[null,{"$f":"IF(ISNA(INDEX(OfficialTeamList[Team Name],MATCH(CoreValuesResults[[#This Row],[Team Number]], OfficialTeamList[Team Number],0))),\"\",INDEX(OfficialTeamList[Team Name],MATCH(CoreValuesResults[[#This Row],[Team Number]], OfficialTeamList[Team Number],0)))","v":""},null,null,null,null,null,null,null,null,null,null,null,{"$f":"IF(CoreValuesResults[[#This Row],[Gracious Professionalism 1]]=\"\",\"\",COUNTIF(CoreValuesResults[[#This Row],[Gracious Professionalism 1]:[Gracious Professionalism 5]],\"\"))","v":""},{"$f":"IF(CoreValuesResults[[#This Row],[Gracious Professionalism 1]]=\"\",\"\",SUM(CoreValuesResults[[#This Row],[Gracious Professionalism 1]:[Gracious Professionalism 5]]))","v":""},{"$f":"IF(CoreValuesResults[[#This Row],[Gracious Professionalism Empty Count]]=3,SUM(CoreValuesResults[[#This Row],[Gracious Professionalism 1]:[Gracious Professionalism 5]]),IF(CoreValuesResults[[#This Row],[Gracious Professionalism Empty Count]]=4,SUM(CoreValuesResults[[#This Row],[Gracious Professionalism 1]:[Gracious Professionalism 5]]),IF(CoreValuesResults[[#This Row],[Gracious Professionalism Empty Count]]=2,CoreValuesResults[[#This Row],[Gracious Professionalism Total]],IF(CoreValuesResults[[#This Row],[Gracious Professionalism Empty Count]]=1,CoreValuesResults[[#This Row],[Gracious Professionalism Total]]*0.75,IF(CoreValuesResults[[#This Row],[Gracious Professionalism Empty Count]]=0,CoreValuesResults[[#This Row],[Gracious Professionalism Total]]*0.6,\"\")))))","v":""},{"$f":"SUM(CoreValuesResults[[#This Row],[Discovery]:[Fun]],CoreValuesResults[[#This Row],[Gracious Professionalism Score]])","v":0},{"$f":"IF(CoreValuesResults[[#This Row],[Team Number]]>0,MIN(_xlfn.RANK.EQ(CoreValuesResults[[#This Row],[Core Values Score]],CoreValuesResults[Core Values Score],0),NumberOfTeams),NumberOfTeams+1)","v":1}]
[null,{"$f":"IF(ISNA(INDEX(OfficialTeamList[Team Name],MATCH(CoreValuesResults[[#This Row],[Team Number]], OfficialTeamList[Team Number],0))),\"\",INDEX(OfficialTeamList[Team Name],MATCH(CoreValuesResults[[#This Row],[Team Number]], OfficialTeamList[Team Number],0)))","v":""},null,null,null,null,null,null,null,null,null,null,null,{"$f":"IF(CoreValuesResults[[#This Row],[Gracious Professionalism 1]]=\"\",\"\",COUNTIF(CoreValuesResults[[#This Row],[Gracious Professionalism 1]:[Gracious Professionalism 5]],\"\"))","v":""},{"$f":"IF(CoreValuesResults[[#This Row],[Gracious Professionalism 1]]=\"\",\"\",SUM(CoreValuesResults[[#This Row],[Gracious Professionalism 1]:[Gracious Professionalism 5]]))","v":""},{"$f":"IF(CoreValuesResults[[#This Row],[Gracious Professionalism Empty Count]]=3,SUM(CoreValuesResults[[#This Row],[Gracious Professionalism 1]:[Gracious Professionalism 5]]),IF(CoreValuesResults[[#This Row],[Gracious Professionalism Empty Count]]=4,SUM(CoreValuesResults[[#This Row],[Gracious Professionalism 1]:[Gracious Professionalism 5]]),IF(CoreValuesResults[[#This Row],[Gracious Professionalism Empty Count]]=2,CoreValuesResults[[#This Row],[Gracious Professionalism Total]],IF(CoreValuesResults[[#This Row],[Gracious Professionalism Empty Count]]=1,CoreValuesResults[[#This Row],[Gracious Professionalism Total]]*0.75,IF(CoreValuesResults[[#This Row],[Gracious Professionalism Empty Count]]=0,CoreValuesResults[[#This Row],[Gracious Professionalism Total]]*0.6,\"\")))))","v":""},{"$f":"SUM(CoreValuesResults[[#This Row],[Discovery]:[Fun]],CoreValuesResults[[#This Row],[Gracious Professionalism Score]])","v":0},{"$f":"IF(CoreValuesResults[[#This Row],[Team Number]]>0,MIN(_xlfn.RANK.EQ(CoreValuesResults[[#This Row],[Core Values Score]],CoreValuesResults[Core Values Score],0),NumberOfTeams),NumberOfTeams+1)","v":1}]
[null,{"$f":"IF(ISNA(INDEX(OfficialTeamList[Team Name],MATCH(CoreValuesResults[[#This Row],[Team Number]], OfficialTeamList[Team Number],0))),\"\",INDEX(OfficialTeamList[Team Name],MATCH(CoreValuesResults[[#This Row],[Team Number]], OfficialTeamList[Team Number],0)))","v":""},null,null,null,null,null,null,null,null,null,null,null,{"$f":"IF(CoreValuesResults[[#This Row],[Gracious Professionalism 1]]=\"\",\"\",COUNTIF(CoreValuesResults[[#This Row],[Gracious Professionalism 1]:[Gracious Professionalism 5]],\"\"))","v":""},{"$f":"IF(CoreValuesResults[[#This Row],[Gracious Professionalism 1]]=\"\",\"\",SUM(CoreValuesResults[[#This Row],[Gracious Professionalism 1]:[Gracious Professionalism 5]]))","v":""},{"$f":"IF(CoreValuesResults[[#This Row],[Gracious Professionalism Empty Count]]=3,SUM(CoreValuesResults[[#This Row],[Gracious Professionalism 1]:[Gracious Professionalism 5]]),IF(CoreValuesResults[[#This Row],[Gracious Professionalism Empty Count]]=4,SUM(CoreValuesResults[[#This Row],[Gracious Professionalism 1]:[Gracious Professionalism 5]]),IF(CoreValuesResults[[#This Row],[Gracious Professionalism Empty Count]]=2,CoreValuesResults[[#This Row],[Gracious Professionalism Total]],IF(CoreValuesResults[[#This Row],[Gracious Professionalism Empty Count]]=1,CoreValuesResults[[#This Row],[Gracious Professionalism Total]]*0.75,IF(CoreValuesResults[[#This Row],[Gracious Professionalism Empty Count]]=0,CoreValuesResults[[#This Row],[Gracious Professionalism Total]]*0.6,\"\")))))","v":""},{"$f":"SUM(CoreValuesResults[[#This Row],[Discovery]:[Fun]],CoreValuesResults[[#This Row],[Gracious Professionalism Score]])","v":0},{"$f":"IF(CoreValuesResults[[#This Row],[Team Number]]>0,MIN(_xlfn.RANK.EQ(CoreValuesResults[[#This Row],[Core Values Score]],CoreValuesResults[Core Values Score],0),NumberOfTeams),NumberOfTeams+1)","v":1}]
[null,{"$f":"IF(ISNA(INDEX(OfficialTeamList[Team Name],MATCH(CoreValuesResults[[#This Row],[Team Number]], OfficialTeamList[Team Number],0))),\"\",INDEX(OfficialTeamList[Team Name],MATCH(CoreValuesResults[[#This Row],[Team Number]], OfficialTeamList[Team Number],0)))","v":""},null,null,null,null,null,null,null,null,null,null,null,{"$f":"IF(CoreValuesResults[[#This Row],[Gracious Professionalism 1]]=\"\",\"\",COUNTIF(CoreValuesResults[[#This Row],[Gracious Professionalism 1]:[Gracious Professionalism 5]],\"\"))","v":""},{"$f":"IF(CoreValuesResults[[#This Row],[Gracious Professionalism 1]]=\"\",\"\",SUM(CoreValuesResults[[#This Row],[Gracious Professionalism 1]:[Gracious Professionalism 5]]))","v":""},{"$f":"IF(CoreValuesResults[[#This Row],[Gracious Professionalism Empty Count]]=3,SUM(CoreValuesResults[[#This Row],[Gracious Professionalism 1]:[Gracious Professionalism 5]]),IF(CoreValuesResults[[#This Row],[Gracious Professionalism Empty Count]]=4,SUM(CoreValuesResults[[#This Row],[Gracious Professionalism 1]:[Gracious Professionalism 5]]),IF(CoreValuesResults[[#This Row],[Gracious Professionalism Empty Count]]=2,CoreValuesResults[[#This Row],[Gracious Professionalism Total]],IF(CoreValuesResults[[#This Row],[Gracious Professionalism Empty Count]]=1,CoreValuesResults[[#This Row],[Gracious Professionalism Total]]*0.75,IF(CoreValuesResults[[#This Row],[Gracious Professionalism Empty Count]]=0,CoreValuesResults[[#This Row],[Gracious Professionalism Total]]*0.6,\"\")))))","v":""},{"$f":"SUM(CoreValuesResults[[#This Row],[Discovery]:[Fun]],CoreValuesResults[[#This Row],[Gracious Professionalism Score]])","v":0},{"$f":"IF(CoreValuesResults[[#This Row],[Team Number]]>0,MIN(_xlfn.RANK.EQ(CoreValuesResults[[#This Row],[Core Values Score]],CoreValuesResults[Core Values Score],0),NumberOfTeams),NumberOfTeams+1)","v":1}]
[null,{"$f":"IF(ISNA(INDEX(OfficialTeamList[Team Name],MATCH(CoreValuesResults[[#This Row],[Team Number]], OfficialTeamList[Team Number],0))),\"\",INDEX(OfficialTeamList[Team Name],MATCH(CoreValuesResults[[#This Row],[Team Number]], OfficialTeamList[Team Number],0)))","v":""},null,null,null,null,null,null,null,null,null,null,null,{"$f":"IF(CoreValuesResults[[#This Row],[Gracious Professionalism 1]]=\"\",\"\",COUNTIF(CoreValuesResults[[#This Row],[Gracious Professionalism 1]:[Gracious Professionalism 5]],\"\"))","v":""},{"$f":"IF(CoreValuesResults[[#This Row],[Gracious Professionalism 1]]=\"\",\"\",SUM(CoreValuesResults[[#This Row],[Gracious Professionalism 1]:[Gracious Professionalism 5]]))","v":""},{"$f":"IF(CoreValuesResults[[#This Row],[Gracious Professionalism Empty Count]]=3,SUM(CoreValuesResults[[#This Row],[Gracious Professionalism 1]:[Gracious Professionalism 5]]),IF(CoreValuesResults[[#This Row],[Gracious Professionalism Empty Count]]=4,SUM(CoreValuesResults[[#This Row],[Gracious Professionalism 1]:[Gracious Professionalism 5]]),IF(CoreValuesResults[[#This Row],[Gracious Professionalism Empty Count]]=2,CoreValuesResults[[#This Row],[Gracious Professionalism Total]],IF(CoreValuesResults[[#This Row],[Gracious Professionalism Empty Count]]=1,CoreValuesResults[[#This Row],[Gracious Professionalism Total]]*0.75,IF(CoreValuesResults[[#This Row],[Gracious Professionalism Empty Count]]=0,CoreValuesResults[[#This Row],[Gracious Professionalism Total]]*0.6,\"\")))))","v":""},{"$f":"SUM(CoreValuesResults[[#This Row],[Discovery]:[Fun]],CoreValuesResults[[#This Row],[Gracious Professionalism Score]])","v":0},{"$f":"IF(CoreValuesResults[[#This Row],[Team Number]]>0,MIN(_xlfn.RANK.EQ(CoreValuesResults[[#This Row],[Core Values Score]],CoreValuesResults[Core Values Score],0),NumberOfTeams),NumberOfTeams+1)","v":1}]
[null,{"$f":"IF(ISNA(INDEX(OfficialTeamList[Team Name],MATCH(CoreValuesResults[[#This Row],[Team Number]], OfficialTeamList[Team Number],0))),\"\",INDEX(OfficialTeamList[Team Name],MATCH(CoreValuesResults[[#This Row],[Team Number]], OfficialTeamList[Team Number],0)))","v":""},null,null,null,null,null,null,null,null,null,null,null,{"$f":"IF(CoreValuesResults[[#This Row],[Gracious Professionalism 1]]=\"\",\"\",COUNTIF(CoreValuesResults[[#This Row],[Gracious Professionalism 1]:[Gracious Professionalism 5]],\"\"))","v":""},{"$f":"IF(CoreValuesResults[[#This Row],[Gracious Professionalism 1]]=\"\",\"\",SUM(CoreValuesResults[[#This Row],[Gracious Professionalism 1]:[Gracious Professionalism 5]]))","v":""},{"$f":"IF(CoreValuesResults[[#This Row],[Gracious Professionalism Empty Count]]=3,SUM(CoreValuesResults[[#This Row],[Gracious Professionalism 1]:[Gracious Professionalism 5]]),IF(CoreValuesResults[[#This Row],[Gracious Professionalism Empty Count]]=4,SUM(CoreValuesResults[[#This Row],[Gracious Professionalism 1]:[Gracious Professionalism 5]]),IF(CoreValuesResults[[#This Row],[Gracious Professionalism Empty Count]]=2,CoreValuesResults[[#This Row],[Gracious Professionalism Total]],IF(CoreValuesResults[[#This Row],[Gracious Professionalism Empty Count]]=1,CoreValuesResults[[#This Row],[Gracious Professionalism Total]]*0.75,IF(CoreValuesResults[[#This Row],[Gracious Professionalism Empty Count]]=0,CoreValuesResults[[#This Row],[Gracious Professionalism Total]]*0.6,\"\")))))","v":""},{"$f":"SUM(CoreValuesResults[[#This Row],[Discovery]:[Fun]],CoreValuesResults[[#This Row],[Gracious Professionalism Score]])","v":0},{"$f":"IF(CoreValuesResults[[#This Row],[Team Number]]>0,MIN(_xlfn.RANK.EQ(CoreValuesResults[[#This Row],[Core Values Score]],CoreValuesResults[Core Values Score],0),NumberOfTeams),NumberOfTeams+1)","v":1}]
[null,{"$f":"IF(ISNA(INDEX(OfficialTeamList[Team Name],MATCH(CoreValuesResults[[#This Row],[Team Number]], OfficialTeamList[Team Number],0))),\"\",INDEX(OfficialTeamList[Team Name],MATCH(CoreValuesResults[[#This Row],[Team Number]], OfficialTeamList[Team Number],0)))","v":""},null,null,null,null,null,null,null,null,null,null,null,{"$f":"IF(CoreValuesResults[[#This Row],[Gracious Professionalism 1]]=\"\",\"\",COUNTIF(CoreValuesResults[[#This Row],[Gracious Professionalism 1]:[Gracious Professionalism 5]],\"\"))","v":""},{"$f":"IF(CoreValuesResults[[#This Row],[Gracious Professionalism 1]]=\"\",\"\",SUM(CoreValuesResults[[#This Row],[Gracious Professionalism 1]:[Gracious Professionalism 5]]))","v":""},{"$f":"IF(CoreValuesResults[[#This Row],[Gracious Professionalism Empty Count]]=3,SUM(CoreValuesResults[[#This Row],[Gracious Professionalism 1]:[Gracious Professionalism 5]]),IF(CoreValuesResults[[#This Row],[Gracious Professionalism Empty Count]]=4,SUM(CoreValuesResults[[#This Row],[Gracious Professionalism 1]:[Gracious Professionalism 5]]),IF(CoreValuesResults[[#This Row],[Gracious Professionalism Empty Count]]=2,CoreValuesResults[[#This Row],[Gracious Professionalism Total]],IF(CoreValuesResults[[#This Row],[Gracious Professionalism Empty Count]]=1,CoreValuesResults[[#This Row],[Gracious Professionalism Total]]*0.75,IF(CoreValuesResults[[#This Row],[Gracious Professionalism Empty Count]]=0,CoreValuesResults[[#This Row],[Gracious Professionalism Total]]*0.6,\"\")))))","v":""},{"$f":"SUM(CoreValuesResults[[#This Row],[Discovery]:[Fun]],CoreValuesResults[[#This Row],[Gracious Professionalism Score]])","v":0},{"$f":"IF(CoreValuesResults[[#This Row],[Team Number]]>0,MIN(_xlfn.RANK.EQ(CoreValuesResults[[#This Row],[Core Values Score]],CoreValuesResults[Core Values Score],0),NumberOfTeams),NumberOfTeams+1)","v":1}]
[null,{"$f":"IF(ISNA(INDEX(OfficialTeamList[Team Name],MATCH(CoreValuesResults[[#This Row],[Team Number]], OfficialTeamList[Team Number],0))),\"\",INDEX(OfficialTeamList[Team Name],MATCH(CoreValuesResults[[#This Row],[Team Number]], OfficialTeamList[Team Number],0)))","v":""},null,null,null,null,null,null,null,null,null,null,null,{"$f":"IF(CoreValuesResults[[#This Row],[Gracious Professionalism 1]]=\"\",\"\",COUNTIF(CoreValuesResults[[#This Row],[Gracious Professionalism 1]:[Gracious Professionalism 5]],\"\"))","v":""},{"$f":"IF(CoreValuesResults[[#This Row],[Gracious Professionalism 1]]=\"\",\"\",SUM(CoreValuesResults[[#This Row],[Gracious Professionalism 1]:[Gracious Professionalism 5]]))","v":""},{"$f":"IF(CoreValuesResults[[#This Row],[Gracious Professionalism Empty Count]]=3,SUM(CoreValuesResults[[#This Row],[Gracious Professionalism 1]:[Gracious Professionalism 5]]),IF(CoreValuesResults[[#This Row],[Gracious Professionalism Empty Count]]=4,SUM(CoreValuesResults[[#This Row],[Gracious Professionalism 1]:[Gracious Professionalism 5]]),IF(CoreValuesResults[[#This Row],[Gracious Professionalism Empty Count]]=2,CoreValuesResults[[#This Row],[Gracious Professionalism Total]],IF(CoreValuesResults[[#This Row],[Gracious Professionalism Empty Count]]=1,CoreValuesResults[[#This Row],[Gracious Professionalism Total]]*0.75,IF(CoreValuesResults[[#This Row],[Gracious Professionalism Empty Count]]=0,CoreValuesResults[[#This Row],[Gracious Professionalism Total]]*0.6,\"\")))))","v":""},{"$f":"SUM(CoreValuesResults[[#This Row],[Discovery]:[Fun]],CoreValuesResults[[#This Row],[Gracious Professionalism Score]])","v":0},{"$f":"IF(CoreValuesResults[[#This Row],[Team Number]]>0,MIN(_xlfn.RANK.EQ(CoreValuesResults[[#This Row],[Core Values Score]],CoreValuesResults[Core Values Score],0),NumberOfTeams),NumberOfTeams+1)","v":1}]
[null,{"$f":"IF(ISNA(INDEX(OfficialTeamList[Team Name],MATCH(CoreValuesResults[[#This Row],[Team Number]], OfficialTeamList[Team Number],0))),\"\",INDEX(OfficialTeamList[Team Name],MATCH(CoreValuesResults[[#This Row],[Team Number]], OfficialTeamList[Team Number],0)))","v":""},null,null,null,null,null,null,null,null,null,null,null,{"$f":"IF(CoreValuesResults[[#This Row],[Gracious Professionalism 1]]=\"\",\"\",COUNTIF(CoreValuesResults[[#This Row],[Gracious Professionalism 1]:[Gracious Professionalism 5]],\"\"))","v":""},{"$f":"IF(CoreValuesResults[[#This Row],[Gracious Professionalism 1]]=\"\",\"\",SUM(CoreValuesResults[[#This Row],[Gracious Professionalism 1]:[Gracious Professionalism 5]]))","v":""},{"$f":"IF(CoreValuesResults[[#This Row],[Gracious Professionalism Empty Count]]=3,SUM(CoreValuesResults[[#This Row],[Gracious Professionalism 1]:[Gracious Professionalism 5]]),IF(CoreValuesResults[[#This Row],[Gracious Professionalism Empty Count]]=4,SUM(CoreValuesResults[[#This Row],[Gracious Professionalism 1]:[Gracious Professionalism 5]]),IF(CoreValuesResults[[#This Row],[Gracious Professionalism Empty Count]]=2,CoreValuesResults[[#This Row],[Gracious Professionalism Total]],IF(CoreValuesResults[[#This Row],[Gracious Professionalism Empty Count]]=1,CoreValuesResults[[#This Row],[Gracious Professionalism Total]]*0.75,IF(CoreValuesResults[[#This Row],[Gracious Professionalism Empty Count]]=0,CoreValuesResults[[#This Row],[Gracious Professionalism Total]]*0.6,\"\")))))","v":""},{"$f":"SUM(CoreValuesResults[[#This Row],[Discovery]:[Fun]],CoreValuesResults[[#This Row],[Gracious Professionalism Score]])","v":0},{"$f":"IF(CoreValuesResults[[#This Row],[Team Number]]>0,MIN(_xlfn.RANK.EQ(CoreValuesResults[[#This Row],[Core Values Score]],CoreValuesResults[Core Values Score],0),NumberOfTeams),NumberOfTeams+1)","v":1}]
[null,{"$f":"IF(ISNA(INDEX(OfficialTeamList[Team Name],MATCH(CoreValuesResults[[#This Row],[Team Number]], OfficialTeamList[Team Number],0))),\"\",INDEX(OfficialTeamList[Team Name],MATCH(CoreValuesResults[[#This Row],[Team Number]], OfficialTeamList[Team Number],0)))","v":""},null,null,null,null,null,null,null,null,null,null,null,{"$f":"IF(CoreValuesResults[[#This Row],[Gracious Professionalism 1]]=\"\",\"\",COUNTIF(CoreValuesResults[[#This Row],[Gracious Professionalism 1]:[Gracious Professionalism 5]],\"\"))","v":""},{"$f":"IF(CoreValuesResults[[#This Row],[Gracious Professionalism 1]]=\"\",\"\",SUM(CoreValuesResults[[#This Row],[Gracious Professionalism 1]:[Gracious Professionalism 5]]))","v":""},{"$f":"IF(CoreValuesResults[[#This Row],[Gracious Professionalism Empty Count]]=3,SUM(CoreValuesResults[[#This Row],[Gracious Professionalism 1]:[Gracious Professionalism 5]]),IF(CoreValuesResults[[#This Row],[Gracious Professionalism Empty Count]]=4,SUM(CoreValuesResults[[#This Row],[Gracious Professionalism 1]:[Gracious Professionalism 5]]),IF(CoreValuesResults[[#This Row],[Gracious Professionalism Empty Count]]=2,CoreValuesResults[[#This Row],[Gracious Professionalism Total]],IF(CoreValuesResults[[#This Row],[Gracious Professionalism Empty Count]]=1,CoreValuesResults[[#This Row],[Gracious Professionalism Total]]*0.75,IF(CoreValuesResults[[#This Row],[Gracious Professionalism Empty Count]]=0,CoreValuesResults[[#This Row],[Gracious Professionalism Total]]*0.6,\"\")))))","v":""},{"$f":"SUM(CoreValuesResults[[#This Row],[Discovery]:[Fun]],CoreValuesResults[[#This Row],[Gracious Professionalism Score]])","v":0},{"$f":"IF(CoreValuesResults[[#This Row],[Team Number]]>0,MIN(_xlfn.RANK.EQ(CoreValuesResults[[#This Row],[Core Values Score]],CoreValuesResults[Core Values Score],0),NumberOfTeams),NumberOfTeams+1)","v":1}]
[null,{"$f":"IF(ISNA(INDEX(OfficialTeamList[Team Name],MATCH(CoreValuesResults[[#This Row],[Team Number]], OfficialTeamList[Team Number],0))),\"\",INDEX(OfficialTeamList[Team Name],MATCH(CoreValuesResults[[#This Row],[Team Number]], OfficialTeamList[Team Number],0)))","v":""},null,null,null,null,null,null,null,null,null,null,null,{"$f":"IF(CoreValuesResults[[#This Row],[Gracious Professionalism 1]]=\"\",\"\",COUNTIF(CoreValuesResults[[#This Row],[Gracious Professionalism 1]:[Gracious Professionalism 5]],\"\"))","v":""},{"$f":"IF(CoreValuesResults[[#This Row],[Gracious Professionalism 1]]=\"\",\"\",SUM(CoreValuesResults[[#This Row],[Gracious Professionalism 1]:[Gracious Professionalism 5]]))","v":""},{"$f":"IF(CoreValuesResults[[#This Row],[Gracious Professionalism Empty Count]]=3,SUM(CoreValuesResults[[#This Row],[Gracious Professionalism 1]:[Gracious Professionalism 5]]),IF(CoreValuesResults[[#This Row],[Gracious Professionalism Empty Count]]=4,SUM(CoreValuesResults[[#This Row],[Gracious Professionalism 1]:[Gracious Professionalism 5]]),IF(CoreValuesResults[[#This Row],[Gracious Professionalism Empty Count]]=2,CoreValuesResults[[#This Row],[Gracious Professionalism Total]],IF(CoreValuesResults[[#This Row],[Gracious Professionalism Empty Count]]=1,CoreValuesResults[[#This Row],[Gracious Professionalism Total]]*0.75,IF(CoreValuesResults[[#This Row],[Gracious Professionalism Empty Count]]=0,CoreValuesResults[[#This Row],[Gracious Professionalism Total]]*0.6,\"\")))))","v":""},{"$f":"SUM(CoreValuesResults[[#This Row],[Discovery]:[Fun]],CoreValuesResults[[#This Row],[Gracious Professionalism Score]])","v":0},{"$f":"IF(CoreValuesResults[[#This Row],[Team Number]]>0,MIN(_xlfn.RANK.EQ(CoreValuesResults[[#This Row],[Core Values Score]],CoreValuesResults[Core Values Score],0),NumberOfTeams),NumberOfTeams+1)","v":1}]
[null,{"$f":"IF(ISNA(INDEX(OfficialTeamList[Team Name],MATCH(CoreValuesResults[[#This Row],[Team Number]], OfficialTeamList[Team Number],0))),\"\",INDEX(OfficialTeamList[Team Name],MATCH(CoreValuesResults[[#This Row],[Team Number]], OfficialTeamList[Team Number],0)))","v":""},null,null,null,null,null,null,null,null,null,null,null,{"$f":"IF(CoreValuesResults[[#This Row],[Gracious Professionalism 1]]=\"\",\"\",COUNTIF(CoreValuesResults[[#This Row],[Gracious Professionalism 1]:[Gracious Professionalism 5]],\"\"))","v":""},{"$f":"IF(CoreValuesResults[[#This Row],[Gracious Professionalism 1]]=\"\",\"\",SUM(CoreValuesResults[[#This Row],[Gracious Professionalism 1]:[Gracious Professionalism 5]]))","v":""},{"$f":"IF(CoreValuesResults[[#This Row],[Gracious Professionalism Empty Count]]=3,SUM(CoreValuesResults[[#This Row],[Gracious Professionalism 1]:[Gracious Professionalism 5]]),IF(CoreValuesResults[[#This Row],[Gracious Professionalism Empty Count]]=4,SUM(CoreValuesResults[[#This Row],[Gracious Professionalism 1]:[Gracious Professionalism 5]]),IF(CoreValuesResults[[#This Row],[Gracious Professionalism Empty Count]]=2,CoreValuesResults[[#This Row],[Gracious Professionalism Total]],IF(CoreValuesResults[[#This Row],[Gracious Professionalism Empty Count]]=1,CoreValuesResults[[#This Row],[Gracious Professionalism Total]]*0.75,IF(CoreValuesResults[[#This Row],[Gracious Professionalism Empty Count]]=0,CoreValuesResults[[#This Row],[Gracious Professionalism Total]]*0.6,\"\")))))","v":""},{"$f":"SUM(CoreValuesResults[[#This Row],[Discovery]:[Fun]],CoreValuesResults[[#This Row],[Gracious Professionalism Score]])","v":0},{"$f":"IF(CoreValuesResults[[#This Row],[Team Number]]>0,MIN(_xlfn.RANK.EQ(CoreValuesResults[[#This Row],[Core Values Score]],CoreValuesResults[Core Values Score],0),NumberOfTeams),NumberOfTeams+1)","v":1}]
[null,{"$f":"IF(ISNA(INDEX(OfficialTeamList[Team Name],MATCH(CoreValuesResults[[#This Row],[Team Number]], OfficialTeamList[Team Number],0))),\"\",INDEX(OfficialTeamList[Team Name],MATCH(CoreValuesResults[[#This Row],[Team Number]], OfficialTeamList[Team Number],0)))","v":""},null,null,null,null,null,null,null,null,null,null,null,{"$f":"IF(CoreValuesResults[[#This Row],[Gracious Professionalism 1]]=\"\",\"\",COUNTIF(CoreValuesResults[[#This Row],[Gracious Professionalism 1]:[Gracious Professionalism 5]],\"\"))","v":""},{"$f":"IF(CoreValuesResults[[#This Row],[Gracious Professionalism 1]]=\"\",\"\",SUM(CoreValuesResults[[#This Row],[Gracious Professionalism 1]:[Gracious Professionalism 5]]))","v":""},{"$f":"IF(CoreValuesResults[[#This Row],[Gracious Professionalism Empty Count]]=3,SUM(CoreValuesResults[[#This Row],[Gracious Professionalism 1]:[Gracious Professionalism 5]]),IF(CoreValuesResults[[#This Row],[Gracious Professionalism Empty Count]]=4,SUM(CoreValuesResults[[#This Row],[Gracious Professionalism 1]:[Gracious Professionalism 5]]),IF(CoreValuesResults[[#This Row],[Gracious Professionalism Empty Count]]=2,CoreValuesResults[[#This Row],[Gracious Professionalism Total]],IF(CoreValuesResults[[#This Row],[Gracious Professionalism Empty Count]]=1,CoreValuesResults[[#This Row],[Gracious Professionalism Total]]*0.75,IF(CoreValuesResults[[#This Row],[Gracious Professionalism Empty Count]]=0,CoreValuesResults[[#This Row],[Gracious Professionalism Total]]*0.6,\"\")))))","v":""},{"$f":"SUM(CoreValuesResults[[#This Row],[Discovery]:[Fun]],CoreValuesResults[[#This Row],[Gracious Professionalism Score]])","v":0},{"$f":"IF(CoreValuesResults[[#This Row],[Team Number]]>0,MIN(_xlfn.RANK.EQ(CoreValuesResults[[#This Row],[Core Values Score]],CoreValuesResults[Core Values Score],0),NumberOfTeams),NumberOfTeams+1)","v":1}]
[null,{"$f":"IF(ISNA(INDEX(OfficialTeamList[Team Name],MATCH(CoreValuesResults[[#This Row],[Team Number]], OfficialTeamList[Team Number],0))),\"\",INDEX(OfficialTeamList[Team Name],MATCH(CoreValuesResults[[#This Row],[Team Number]], OfficialTeamList[Team Number],0)))","v":""},null,null,null,null,null,null,null,null,null,null,null,{"$f":"IF(CoreValuesResults[[#This Row],[Gracious Professionalism 1]]=\"\",\"\",COUNTIF(CoreValuesResults[[#This Row],[Gracious Professionalism 1]:[Gracious Professionalism 5]],\"\"))","v":""},{"$f":"IF(CoreValuesResults[[#This Row],[Gracious Professionalism 1]]=\"\",\"\",SUM(CoreValuesResults[[#This Row],[Gracious Professionalism 1]:[Gracious Professionalism 5]]))","v":""},{"$f":"IF(CoreValuesResults[[#This Row],[Gracious Professionalism Empty Count]]=3,SUM(CoreValuesResults[[#This Row],[Gracious Professionalism 1]:[Gracious Professionalism 5]]),IF(CoreValuesResults[[#This Row],[Gracious Professionalism Empty Count]]=4,SUM(CoreValuesResults[[#This Row],[Gracious Professionalism 1]:[Gracious Professionalism 5]]),IF(CoreValuesResults[[#This Row],[Gracious Professionalism Empty Count]]=2,CoreValuesResults[[#This Row],[Gracious Professionalism Total]],IF(CoreValuesResults[[#This Row],[Gracious Professionalism Empty Count]]=1,CoreValuesResults[[#This Row],[Gracious Professionalism Total]]*0.75,IF(CoreValuesResults[[#This Row],[Gracious Professionalism Empty Count]]=0,CoreValuesResults[[#This Row],[Gracious Professionalism Total]]*0.6,\"\")))))","v":""},{"$f":"SUM(CoreValuesResults[[#This Row],[Discovery]:[Fun]],CoreValuesResults[[#This Row],[Gracious Professionalism Score]])","v":0},{"$f":"IF(CoreValuesResults[[#This Row],[Team Number]]>0,MIN(_xlfn.RANK.EQ(CoreValuesResults[[#This Row],[Core Values Score]],CoreValuesResults[Core Values Score],0),NumberOfTeams),NumberOfTeams+1)","v":1}]
[null,{"$f":"IF(ISNA(INDEX(OfficialTeamList[Team Name],MATCH(CoreValuesResults[[#This Row],[Team Number]], OfficialTeamList[Team Number],0))),\"\",INDEX(OfficialTeamList[Team Name],MATCH(CoreValuesResults[[#This Row],[Team Number]], OfficialTeamList[Team Number],0)))","v":""},null,null,null,null,null,null,null,null,null,null,null,{"$f":"IF(CoreValuesResults[[#This Row],[Gracious Professionalism 1]]=\"\",\"\",COUNTIF(CoreValuesResults[[#This Row],[Gracious Professionalism 1]:[Gracious Professionalism 5]],\"\"))","v":""},{"$f":"IF(CoreValuesResults[[#This Row],[Gracious Professionalism 1]]=\"\",\"\",SUM(CoreValuesResults[[#This Row],[Gracious Professionalism 1]:[Gracious Professionalism 5]]))","v":""},{"$f":"IF(CoreValuesResults[[#This Row],[Gracious Professionalism Empty Count]]=3,SUM(CoreValuesResults[[#This Row],[Gracious Professionalism 1]:[Gracious Professionalism 5]]),IF(CoreValuesResults[[#This Row],[Gracious Professionalism Empty Count]]=4,SUM(CoreValuesResults[[#This Row],[Gracious Professionalism 1]:[Gracious Professionalism 5]]),IF(CoreValuesResults[[#This Row],[Gracious Professionalism Empty Count]]=2,CoreValuesResults[[#This Row],[Gracious Professionalism Total]],IF(CoreValuesResults[[#This Row],[Gracious Professionalism Empty Count]]=1,CoreValuesResults[[#This Row],[Gracious Professionalism Total]]*0.75,IF(CoreValuesResults[[#This Row],[Gracious Professionalism Empty Count]]=0,CoreValuesResults[[#This Row],[Gracious Professionalism Total]]*0.6,\"\")))))","v":""},{"$f":"SUM(CoreValuesResults[[#This Row],[Discovery]:[Fun]],CoreValuesResults[[#This Row],[Gracious Professionalism Score]])","v":0},{"$f":"IF(CoreValuesResults[[#This Row],[Team Number]]>0,MIN(_xlfn.RANK.EQ(CoreValuesResults[[#This Row],[Core Values Score]],CoreValuesResults[Core Values Score],0),NumberOfTeams),NumberOfTeams+1)","v":1}]
[null,{"$f":"IF(ISNA(INDEX(OfficialTeamList[Team Name],MATCH(CoreValuesResults[[#This Row],[Team Number]], OfficialTeamList[Team Number],0))),\"\",INDEX(OfficialTeamList[Team Name],MATCH(CoreValuesResults[[#This Row],[Team Number]], OfficialTeamList[Team Number],0)))","v":""},null,null,null,null,null,null,null,null,null,null,null,{"$f":"IF(CoreValuesResults[[#This Row],[Gracious Professionalism 1]]=\"\",\"\",COUNTIF(CoreValuesResults[[#This Row],[Gracious Professionalism 1]:[Gracious Professionalism 5]],\"\"))","v":""},{"$f":"IF(CoreValuesResults[[#This Row],[Gracious Professionalism 1]]=\"\",\"\",SUM(CoreValuesResults[[#This Row],[Gracious Professionalism 1]:[Gracious Professionalism 5]]))","v":""},{"$f":"IF(CoreValuesResults[[#This Row],[Gracious Professionalism Empty Count]]=3,SUM(CoreValuesResults[[#This Row],[Gracious Professionalism 1]:[Gracious Professionalism 5]]),IF(CoreValuesResults[[#This Row],[Gracious Professionalism Empty Count]]=4,SUM(CoreValuesResults[[#This Row],[Gracious Professionalism 1]:[Gracious Professionalism 5]]),IF(CoreValuesResults[[#This Row],[Gracious Professionalism Empty Count]]=2,CoreValuesResults[[#This Row],[Gracious Professionalism Total]],IF(CoreValuesResults[[#This Row],[Gracious Professionalism Empty Count]]=1,CoreValuesResults[[#This Row],[Gracious Professionalism Total]]*0.75,IF(CoreValuesResults[[#This Row],[Gracious Professionalism Empty Count]]=0,CoreValuesResults[[#This Row],[Gracious Professionalism Total]]*0.6,\"\")))))","v":""},{"$f":"SUM(CoreValuesResults[[#This Row],[Discovery]:[Fun]],CoreValuesResults[[#This Row],[Gracious Professionalism Score]])","v":0},{"$f":"IF(CoreValuesResults[[#This Row],[Team Number]]>0,MIN(_xlfn.RANK.EQ(CoreValuesResults[[#This Row],[Core Values Score]],CoreValuesResults[Core Values Score],0),NumberOfTeams),NumberOfTeams+1)","v":1}]
[null,{"$f":"IF(ISNA(INDEX(OfficialTeamList[Team Name],MATCH(CoreValuesResults[[#This Row],[Team Number]], OfficialTeamList[Team Number],0))),\"\",INDEX(OfficialTeamList[Team Name],MATCH(CoreValuesResults[[#This Row],[Team Number]], OfficialTeamList[Team Number],0)))","v":""},null,null,null,null,null,null,null,null,null,null,null,{"$f":"IF(CoreValuesResults[[#This Row],[Gracious Professionalism 1]]=\"\",\"\",COUNTIF(CoreValuesResults[[#This Row],[Gracious Professionalism 1]:[Gracious Professionalism 5]],\"\"))","v":""},{"$f":"IF(CoreValuesResults[[#This Row],[Gracious Professionalism 1]]=\"\",\"\",SUM(CoreValuesResults[[#This Row],[Gracious Professionalism 1]:[Gracious Professionalism 5]]))","v":""},{"$f":"IF(CoreValuesResults[[#This Row],[Gracious Professionalism Empty Count]]=3,SUM(CoreValuesResults[[#This Row],[Gracious Professionalism 1]:[Gracious Professionalism 5]]),IF(CoreValuesResults[[#This Row],[Gracious Professionalism Empty Count]]=4,SUM(CoreValuesResults[[#This Row],[Gracious Professionalism 1]:[Gracious Professionalism 5]]),IF(CoreValuesResults[[#This Row],[Gracious Professionalism Empty Count]]=2,CoreValuesResults[[#This Row],[Gracious Professionalism Total]],IF(CoreValuesResults[[#This Row],[Gracious Professionalism Empty Count]]=1,CoreValuesResults[[#This Row],[Gracious Professionalism Total]]*0.75,IF(CoreValuesResults[[#This Row],[Gracious Professionalism Empty Count]]=0,CoreValuesResults[[#This Row],[Gracious Professionalism Total]]*0.6,\"\")))))","v":""},{"$f":"SUM(CoreValuesResults[[#This Row],[Discovery]:[Fun]],CoreValuesResults[[#This Row],[Gracious Professionalism Score]])","v":0},{"$f":"IF(CoreValuesResults[[#This Row],[Team Number]]>0,MIN(_xlfn.RANK.EQ(CoreValuesResults[[#This Row],[Core Values Score]],CoreValuesResults[Core Values Score],0),NumberOfTeams),NumberOfTeams+1)","v":1}]
[null,{"$f":"IF(ISNA(INDEX(OfficialTeamList[Team Name],MATCH(CoreValuesResults[[#This Row],[Team Number]], OfficialTeamList[Team Number],0))),\"\",INDEX(OfficialTeamList[Team Name],MATCH(CoreValuesResults[[#This Row],[Team Number]], OfficialTeamList[Team Number],0)))","v":""},null,null,null,null,null,null,null,null,null,null,null,{"$f":"IF(CoreValuesResults[[#This Row],[Gracious Professionalism 1]]=\"\",\"\",COUNTIF(CoreValuesResults[[#This Row],[Gracious Professionalism 1]:[Gracious Professionalism 5]],\"\"))","v":""},{"$f":"IF(CoreValuesResults[[#This Row],[Gracious Professionalism 1]]=\"\",\"\",SUM(CoreValuesResults[[#This Row],[Gracious Professionalism 1]:[Gracious Professionalism 5]]))","v":""},{"$f":"IF(CoreValuesResults[[#This Row],[Gracious Professionalism Empty Count]]=3,SUM(CoreValuesResults[[#This Row],[Gracious Professionalism 1]:[Gracious Professionalism 5]]),IF(CoreValuesResults[[#This Row],[Gracious Professionalism Empty Count]]=4,SUM(CoreValuesResults[[#This Row],[Gracious Professionalism 1]:[Gracious Professionalism 5]]),IF(CoreValuesResults[[#This Row],[Gracious Professionalism Empty Count]]=2,CoreValuesResults[[#This Row],[Gracious Professionalism Total]],IF(CoreValuesResults[[#This Row],[Gracious Professionalism Empty Count]]=1,CoreValuesResults[[#This Row],[Gracious Professionalism Total]]*0.75,IF(CoreValuesResults[[#This Row],[Gracious Professionalism Empty Count]]=0,CoreValuesResults[[#This Row],[Gracious Professionalism Total]]*0.6,\"\")))))","v":""},{"$f":"SUM(CoreValuesResults[[#This Row],[Discovery]:[Fun]],CoreValuesResults[[#This Row],[Gracious Professionalism Score]])","v":0},{"$f":"IF(CoreValuesResults[[#This Row],[Team Number]]>0,MIN(_xlfn.RANK.EQ(CoreValuesResults[[#This Row],[Core Values Score]],CoreValuesResults[Core Values Score],0),NumberOfTeams),NumberOfTeams+1)","v":1}]
[null,{"$f":"IF(ISNA(INDEX(OfficialTeamList[Team Name],MATCH(CoreValuesResults[[#This Row],[Team Number]], OfficialTeamList[Team Number],0))),\"\",INDEX(OfficialTeamList[Team Name],MATCH(CoreValuesResults[[#This Row],[Team Number]], OfficialTeamList[Team Number],0)))","v":""},null,null,null,null,null,null,null,null,null,null,null,{"$f":"IF(CoreValuesResults[[#This Row],[Gracious Professionalism 1]]=\"\",\"\",COUNTIF(CoreValuesResults[[#This Row],[Gracious Professionalism 1]:[Gracious Professionalism 5]],\"\"))","v":""},{"$f":"IF(CoreValuesResults[[#This Row],[Gracious Professionalism 1]]=\"\",\"\",SUM(CoreValuesResults[[#This Row],[Gracious Professionalism 1]:[Gracious Professionalism 5]]))","v":""},{"$f":"IF(CoreValuesResults[[#This Row],[Gracious Professionalism Empty Count]]=3,SUM(CoreValuesResults[[#This Row],[Gracious Professionalism 1]:[Gracious Professionalism 5]]),IF(CoreValuesResults[[#This Row],[Gracious Professionalism Empty Count]]=4,SUM(CoreValuesResults[[#This Row],[Gracious Professionalism 1]:[Gracious Professionalism 5]]),IF(CoreValuesResults[[#This Row],[Gracious Professionalism Empty Count]]=2,CoreValuesResults[[#This Row],[Gracious Professionalism Total]],IF(CoreValuesResults[[#This Row],[Gracious Professionalism Empty Count]]=1,CoreValuesResults[[#This Row],[Gracious Professionalism Total]]*0.75,IF(CoreValuesResults[[#This Row],[Gracious Professionalism Empty Count]]=0,CoreValuesResults[[#This Row],[Gracious Professionalism Total]]*0.6,\"\")))))","v":""},{"$f":"SUM(CoreValuesResults[[#This Row],[Discovery]:[Fun]],CoreValuesResults[[#This Row],[Gracious Professionalism Score]])","v":0},{"$f":"IF(CoreValuesResults[[#This Row],[Team Number]]>0,MIN(_xlfn.RANK.EQ(CoreValuesResults[[#This Row],[Core Values Score]],CoreValuesResults[Core Values Score],0),NumberOfTeams),NumberOfTeams+1)","v":1}]
[null,{"$f":"IF(ISNA(INDEX(OfficialTeamList[Team Name],MATCH(CoreValuesResults[[#This Row],[Team Number]], OfficialTeamList[Team Number],0))),\"\",INDEX(OfficialTeamList[Team Name],MATCH(CoreValuesResults[[#This Row],[Team Number]], OfficialTeamList[Team Number],0)))","v":""},null,null,null,null,null,null,null,null,null,null,null,{"$f":"IF(CoreValuesResults[[#This Row],[Gracious Professionalism 1]]=\"\",\"\",COUNTIF(CoreValuesResults[[#This Row],[Gracious Professionalism 1]:[Gracious Professionalism 5]],\"\"))","v":""},{"$f":"IF(CoreValuesResults[[#This Row],[Gracious Professionalism 1]]=\"\",\"\",SUM(CoreValuesResults[[#This Row],[Gracious Professionalism 1]:[Gracious Professionalism 5]]))","v":""},{"$f":"IF(CoreValuesResults[[#This Row],[Gracious Professionalism Empty Count]]=3,SUM(CoreValuesResults[[#This Row],[Gracious Professionalism 1]:[Gracious Professionalism 5]]),IF(CoreValuesResults[[#This Row],[Gracious Professionalism Empty Count]]=4,SUM(CoreValuesResults[[#This Row],[Gracious Professionalism 1]:[Gracious Professionalism 5]]),IF(CoreValuesResults[[#This Row],[Gracious Professionalism Empty Count]]=2,CoreValuesResults[[#This Row],[Gracious Professionalism Total]],IF(CoreValuesResults[[#This Row],[Gracious Professionalism Empty Count]]=1,CoreValuesResults[[#This Row],[Gracious Professionalism Total]]*0.75,IF(CoreValuesResults[[#This Row],[Gracious Professionalism Empty Count]]=0,CoreValuesResults[[#This Row],[Gracious Professionalism Total]]*0.6,\"\")))))","v":""},{"$f":"SUM(CoreValuesResults[[#This Row],[Discovery]:[Fun]],CoreValuesResults[[#This Row],[Gracious Professionalism Score]])","v":0},{"$f":"IF(CoreValuesResults[[#This Row],[Team Number]]>0,MIN(_xlfn.RANK.EQ(CoreValuesResults[[#This Row],[Core Values Score]],CoreValuesResults[Core Values Score],0),NumberOfTeams),NumberOfTeams+1)","v":1}]
[null,{"$f":"IF(ISNA(INDEX(OfficialTeamList[Team Name],MATCH(CoreValuesResults[[#This Row],[Team Number]], OfficialTeamList[Team Number],0))),\"\",INDEX(OfficialTeamList[Team Name],MATCH(CoreValuesResults[[#This Row],[Team Number]], OfficialTeamList[Team Number],0)))","v":""},null,null,null,null,null,null,null,null,null,null,null,{"$f":"IF(CoreValuesResults[[#This Row],[Gracious Professionalism 1]]=\"\",\"\",COUNTIF(CoreValuesResults[[#This Row],[Gracious Professionalism 1]:[Gracious Professionalism 5]],\"\"))","v":""},{"$f":"IF(CoreValuesResults[[#This Row],[Gracious Professionalism 1]]=\"\",\"\",SUM(CoreValuesResults[[#This Row],[Gracious Professionalism 1]:[Gracious Professionalism 5]]))","v":""},{"$f":"IF(CoreValuesResults[[#This Row],[Gracious Professionalism Empty Count]]=3,SUM(CoreValuesResults[[#This Row],[Gracious Professionalism 1]:[Gracious Professionalism 5]]),IF(CoreValuesResults[[#This Row],[Gracious Professionalism Empty Count]]=4,SUM(CoreValuesResults[[#This Row],[Gracious Professionalism 1]:[Gracious Professionalism 5]]),IF(CoreValuesResults[[#This Row],[Gracious Professionalism Empty Count]]=2,CoreValuesResults[[#This Row],[Gracious Professionalism Total]],IF(CoreValuesResults[[#This Row],[Gracious Professionalism Empty Count]]=1,CoreValuesResults[[#This Row],[Gracious Professionalism Total]]*0.75,IF(CoreValuesResults[[#This Row],[Gracious Professionalism Empty Count]]=0,CoreValuesResults[[#This Row],[Gracious Professionalism Total]]*0.6,\"\")))))","v":""},{"$f":"SUM(CoreValuesResults[[#This Row],[Discovery]:[Fun]],CoreValuesResults[[#This Row],[Gracious Professionalism Score]])","v":0},{"$f":"IF(CoreValuesResults[[#This Row],[Team Number]]>0,MIN(_xlfn.RANK.EQ(CoreValuesResults[[#This Row],[Core Values Score]],CoreValuesResults[Core Values Score],0),NumberOfTeams),NumberOfTeams+1)","v":1}]
[null,{"$f":"IF(ISNA(INDEX(OfficialTeamList[Team Name],MATCH(CoreValuesResults[[#This Row],[Team Number]], OfficialTeamList[Team Number],0))),\"\",INDEX(OfficialTeamList[Team Name],MATCH(CoreValuesResults[[#This Row],[Team Number]], OfficialTeamList[Team Number],0)))","v":""},null,null,null,null,null,null,null,null,null,null,null,{"$f":"IF(CoreValuesResults[[#This Row],[Gracious Professionalism 1]]=\"\",\"\",COUNTIF(CoreValuesResults[[#This Row],[Gracious Professionalism 1]:[Gracious Professionalism 5]],\"\"))","v":""},{"$f":"IF(CoreValuesResults[[#This Row],[Gracious Professionalism 1]]=\"\",\"\",SUM(CoreValuesResults[[#This Row],[Gracious Professionalism 1]:[Gracious Professionalism 5]]))","v":""},{"$f":"IF(CoreValuesResults[[#This Row],[Gracious Professionalism Empty Count]]=3,SUM(CoreValuesResults[[#This Row],[Gracious Professionalism 1]:[Gracious Professionalism 5]]),IF(CoreValuesResults[[#This Row],[Gracious Professionalism Empty Count]]=4,SUM(CoreValuesResults[[#This Row],[Gracious Professionalism 1]:[Gracious Professionalism 5]]),IF(CoreValuesResults[[#This Row],[Gracious Professionalism Empty Count]]=2,CoreValuesResults[[#This Row],[Gracious Professionalism Total]],IF(CoreValuesResults[[#This Row],[Gracious Professionalism Empty Count]]=1,CoreValuesResults[[#This Row],[Gracious Professionalism Total]]*0.75,IF(CoreValuesResults[[#This Row],[Gracious Professionalism Empty Count]]=0,CoreValuesResults[[#This Row],[Gracious Professionalism Total]]*0.6,\"\")))))","v":""},{"$f":"SUM(CoreValuesResults[[#This Row],[Discovery]:[Fun]],CoreValuesResults[[#This Row],[Gracious Professionalism Score]])","v":0},{"$f":"IF(CoreValuesResults[[#This Row],[Team Number]]>0,MIN(_xlfn.RANK.EQ(CoreValuesResults[[#This Row],[Core Values Score]],CoreValuesResults[Core Values Score],0),NumberOfTeams),NumberOfTeams+1)","v":1}]
[null,{"$f":"IF(ISNA(INDEX(OfficialTeamList[Team Name],MATCH(CoreValuesResults[[#This Row],[Team Number]], OfficialTeamList[Team Number],0))),\"\",INDEX(OfficialTeamList[Team Name],MATCH(CoreValuesResults[[#This Row],[Team Number]], OfficialTeamList[Team Number],0)))","v":""},null,null,null,null,null,null,null,null,null,null,null,{"$f":"IF(CoreValuesResults[[#This Row],[Gracious Professionalism 1]]=\"\",\"\",COUNTIF(CoreValuesResults[[#This Row],[Gracious Professionalism 1]:[Gracious Professionalism 5]],\"\"))","v":""},{"$f":"IF(CoreValuesResults[[#This Row],[Gracious Professionalism 1]]=\"\",\"\",SUM(CoreValuesResults[[#This Row],[Gracious Professionalism 1]:[Gracious Professionalism 5]]))","v":""},{"$f":"IF(CoreValuesResults[[#This Row],[Gracious Professionalism Empty Count]]=3,SUM(CoreValuesResults[[#This Row],[Gracious Professionalism 1]:[Gracious Professionalism 5]]),IF(CoreValuesResults[[#This Row],[Gracious Professionalism Empty Count]]=4,SUM(CoreValuesResults[[#This Row],[Gracious Professionalism 1]:[Gracious Professionalism 5]]),IF(CoreValuesResults[[#This Row],[Gracious Professionalism Empty Count]]=2,CoreValuesResults[[#This Row],[Gracious Professionalism Total]],IF(CoreValuesResults[[#This Row],[Gracious Professionalism Empty Count]]=1,CoreValuesResults[[#This Row],[Gracious Professionalism Total]]*0.75,IF(CoreValuesResults[[#This Row],[Gracious Professionalism Empty Count]]=0,CoreValuesResults[[#This Row],[Gracious Professionalism Total]]*0.6,\"\")))))","v":""},{"$f":"SUM(CoreValuesResults[[#This Row],[Discovery]:[Fun]],CoreValuesResults[[#This Row],[Gracious Professionalism Score]])","v":0},{"$f":"IF(CoreValuesResults[[#This Row],[Team Number]]>0,MIN(_xlfn.RANK.EQ(CoreValuesResults[[#This Row],[Core Values Score]],CoreValuesResults[Core Values Score],0),NumberOfTeams),NumberOfTeams+1)","v":1}]
[null,{"$f":"IF(ISNA(INDEX(OfficialTeamList[Team Name],MATCH(CoreValuesResults[[#This Row],[Team Number]], OfficialTeamList[Team Number],0))),\"\",INDEX(OfficialTeamList[Team Name],MATCH(CoreValuesResults[[#This Row],[Team Number]], OfficialTeamList[Team Number],0)))","v":""},null,null,null,null,null,null,null,null,null,null,null,{"$f":"IF(CoreValuesResults[[#This Row],[Gracious Professionalism 1]]=\"\",\"\",COUNTIF(CoreValuesResults[[#This Row],[Gracious Professionalism 1]:[Gracious Professionalism 5]],\"\"))","v":""},{"$f":"IF(CoreValuesResults[[#This Row],[Gracious Professionalism 1]]=\"\",\"\",SUM(CoreValuesResults[[#This Row],[Gracious Professionalism 1]:[Gracious Professionalism 5]]))","v":""},{"$f":"IF(CoreValuesResults[[#This Row],[Gracious Professionalism Empty Count]]=3,SUM(CoreValuesResults[[#This Row],[Gracious Professionalism 1]:[Gracious Professionalism 5]]),IF(CoreValuesResults[[#This Row],[Gracious Professionalism Empty Count]]=4,SUM(CoreValuesResults[[#This Row],[Gracious Professionalism 1]:[Gracious Professionalism 5]]),IF(CoreValuesResults[[#This Row],[Gracious Professionalism Empty Count]]=2,CoreValuesResults[[#This Row],[Gracious Professionalism Total]],IF(CoreValuesResults[[#This Row],[Gracious Professionalism Empty Count]]=1,CoreValuesResults[[#This Row],[Gracious Professionalism Total]]*0.75,IF(CoreValuesResults[[#This Row],[Gracious Professionalism Empty Count]]=0,CoreValuesResults[[#This Row],[Gracious Professionalism Total]]*0.6,\"\")))))","v":""},{"$f":"SUM(CoreValuesResults[[#This Row],[Discovery]:[Fun]],CoreValuesResults[[#This Row],[Gracious Professionalism Score]])","v":0},{"$f":"IF(CoreValuesResults[[#This Row],[Team Number]]>0,MIN(_xlfn.RANK.EQ(CoreValuesResults[[#This Row],[Core Values Score]],CoreValuesResults[Core Values Score],0),NumberOfTeams),NumberOfTeams+1)","v":1}]
[null,{"$f":"IF(ISNA(INDEX(OfficialTeamList[Team Name],MATCH(CoreValuesResults[[#This Row],[Team Number]], OfficialTeamList[Team Number],0))),\"\",INDEX(OfficialTeamList[Team Name],MATCH(CoreValuesResults[[#This Row],[Team Number]], OfficialTeamList[Team Number],0)))","v":""},null,null,null,null,null,null,null,null,null,null,null,{"$f":"IF(CoreValuesResults[[#This Row],[Gracious Professionalism 1]]=\"\",\"\",COUNTIF(CoreValuesResults[[#This Row],[Gracious Professionalism 1]:[Gracious Professionalism 5]],\"\"))","v":""},{"$f":"IF(CoreValuesResults[[#This Row],[Gracious Professionalism 1]]=\"\",\"\",SUM(CoreValuesResults[[#This Row],[Gracious Professionalism 1]:[Gracious Professionalism 5]]))","v":""},{"$f":"IF(CoreValuesResults[[#This Row],[Gracious Professionalism Empty Count]]=3,SUM(CoreValuesResults[[#This Row],[Gracious Professionalism 1]:[Gracious Professionalism 5]]),IF(CoreValuesResults[[#This Row],[Gracious Professionalism Empty Count]]=4,SUM(CoreValuesResults[[#This Row],[Gracious Professionalism 1]:[Gracious Professionalism 5]]),IF(CoreValuesResults[[#This Row],[Gracious Professionalism Empty Count]]=2,CoreValuesResults[[#This Row],[Gracious Professionalism Total]],IF(CoreValuesResults[[#This Row],[Gracious Professionalism Empty Count]]=1,CoreValuesResults[[#This Row],[Gracious Professionalism Total]]*0.75,IF(CoreValuesResults[[#This Row],[Gracious Professionalism Empty Count]]=0,CoreValuesResults[[#This Row],[Gracious Professionalism Total]]*0.6,\"\")))))","v":""},{"$f":"SUM(CoreValuesResults[[#This Row],[Discovery]:[Fun]],CoreValuesResults[[#This Row],[Gracious Professionalism Score]])","v":0},{"$f":"IF(CoreValuesResults[[#This Row],[Team Number]]>0,MIN(_xlfn.RANK.EQ(CoreValuesResults[[#This Row],[Core Values Score]],CoreValuesResults[Core Values Score],0),NumberOfTeams),NumberOfTeams+1)","v":1}]
[null,{"$f":"IF(ISNA(INDEX(OfficialTeamList[Team Name],MATCH(CoreValuesResults[[#This Row],[Team Number]], OfficialTeamList[Team Number],0))),\"\",INDEX(OfficialTeamList[Team Name],MATCH(CoreValuesResults[[#This Row],[Team Number]], OfficialTeamList[Team Number],0)))","v":""},null,null,null,null,null,null,null,null,null,null,null,{"$f":"IF(CoreValuesResults[[#This Row],[Gracious Professionalism 1]]=\"\",\"\",COUNTIF(CoreValuesResults[[#This Row],[Gracious Professionalism 1]:[Gracious Professionalism 5]],\"\"))","v":""},{"$f":"IF(CoreValuesResults[[#This Row],[Gracious Professionalism 1]]=\"\",\"\",SUM(CoreValuesResults[[#This Row],[Gracious Professionalism 1]:[Gracious Professionalism 5]]))","v":""},{"$f":"IF(CoreValuesResults[[#This Row],[Gracious Professionalism Empty Count]]=3,SUM(CoreValuesResults[[#This Row],[Gracious Professionalism 1]:[Gracious Professionalism 5]]),IF(CoreValuesResults[[#This Row],[Gracious Professionalism Empty Count]]=4,SUM(CoreValuesResults[[#This Row],[Gracious Professionalism 1]:[Gracious Professionalism 5]]),IF(CoreValuesResults[[#This Row],[Gracious Professionalism Empty Count]]=2,CoreValuesResults[[#This Row],[Gracious Professionalism Total]],IF(CoreValuesResults[[#This Row],[Gracious Professionalism Empty Count]]=1,CoreValuesResults[[#This Row],[Gracious Professionalism Total]]*0.75,IF(CoreValuesResults[[#This Row],[Gracious Professionalism Empty Count]]=0,CoreValuesResults[[#This Row],[Gracious Professionalism Total]]*0.6,\"\")))))","v":""},{"$f":"SUM(CoreValuesResults[[#This Row],[Discovery]:[Fun]],CoreValuesResults[[#This Row],[Gracious Professionalism Score]])","v":0},{"$f":"IF(CoreValuesResults[[#This Row],[Team Number]]>0,MIN(_xlfn.RANK.EQ(CoreValuesResults[[#This Row],[Core Values Score]],CoreValuesResults[Core Values Score],0),NumberOfTeams),NumberOfTeams+1)","v":1}]
[null,{"$f":"IF(ISNA(INDEX(OfficialTeamList[Team Name],MATCH(CoreValuesResults[[#This Row],[Team Number]], OfficialTeamList[Team Number],0))),\"\",INDEX(OfficialTeamList[Team Name],MATCH(CoreValuesResults[[#This Row],[Team Number]], OfficialTeamList[Team Number],0)))","v":""},null,null,null,null,null,null,null,null,null,null,null,{"$f":"IF(CoreValuesResults[[#This Row],[Gracious Professionalism 1]]=\"\",\"\",COUNTIF(CoreValuesResults[[#This Row],[Gracious Professionalism 1]:[Gracious Professionalism 5]],\"\"))","v":""},{"$f":"IF(CoreValuesResults[[#This Row],[Gracious Professionalism 1]]=\"\",\"\",SUM(CoreValuesResults[[#This Row],[Gracious Professionalism 1]:[Gracious Professionalism 5]]))","v":""},{"$f":"IF(CoreValuesResults[[#This Row],[Gracious Professionalism Empty Count]]=3,SUM(CoreValuesResults[[#This Row],[Gracious Professionalism 1]:[Gracious Professionalism 5]]),IF(CoreValuesResults[[#This Row],[Gracious Professionalism Empty Count]]=4,SUM(CoreValuesResults[[#This Row],[Gracious Professionalism 1]:[Gracious Professionalism 5]]),IF(CoreValuesResults[[#This Row],[Gracious Professionalism Empty Count]]=2,CoreValuesResults[[#This Row],[Gracious Professionalism Total]],IF(CoreValuesResults[[#This Row],[Gracious Professionalism Empty Count]]=1,CoreValuesResults[[#This Row],[Gracious Professionalism Total]]*0.75,IF(CoreValuesResults[[#This Row],[Gracious Professionalism Empty Count]]=0,CoreValuesResults[[#This Row],[Gracious Professionalism Total]]*0.6,\"\")))))","v":""},{"$f":"SUM(CoreValuesResults[[#This Row],[Discovery]:[Fun]],CoreValuesResults[[#This Row],[Gracious Professionalism Score]])","v":0},{"$f":"IF(CoreValuesResults[[#This Row],[Team Number]]>0,MIN(_xlfn.RANK.EQ(CoreValuesResults[[#This Row],[Core Values Score]],CoreValuesResults[Core Values Score],0),NumberOfTeams),NumberOfTeams+1)","v":1}]
[null,{"$f":"IF(ISNA(INDEX(OfficialTeamList[Team Name],MATCH(CoreValuesResults[[#This Row],[Team Number]], OfficialTeamList[Team Number],0))),\"\",INDEX(OfficialTeamList[Team Name],MATCH(CoreValuesResults[[#This Row],[Team Number]], OfficialTeamList[Team Number],0)))","v":""},null,null,null,null,null,null,null,null,null,null,null,{"$f":"IF(CoreValuesResults[[#This Row],[Gracious Professionalism 1]]=\"\",\"\",COUNTIF(CoreValuesResults[[#This Row],[Gracious Professionalism 1]:[Gracious Professionalism 5]],\"\"))","v":""},{"$f":"IF(CoreValuesResults[[#This Row],[Gracious Professionalism 1]]=\"\",\"\",SUM(CoreValuesResults[[#This Row],[Gracious Professionalism 1]:[Gracious Professionalism 5]]))","v":""},{"$f":"IF(CoreValuesResults[[#This Row],[Gracious Professionalism Empty Count]]=3,SUM(CoreValuesResults[[#This Row],[Gracious Professionalism 1]:[Gracious Professionalism 5]]),IF(CoreValuesResults[[#This Row],[Gracious Professionalism Empty Count]]=4,SUM(CoreValuesResults[[#This Row],[Gracious Professionalism 1]:[Gracious Professionalism 5]]),IF(CoreValuesResults[[#This Row],[Gracious Professionalism Empty Count]]=2,CoreValuesResults[[#This Row],[Gracious Professionalism Total]],IF(CoreValuesResults[[#This Row],[Gracious Professionalism Empty Count]]=1,CoreValuesResults[[#This Row],[Gracious Professionalism Total]]*0.75,IF(CoreValuesResults[[#This Row],[Gracious Professionalism Empty Count]]=0,CoreValuesResults[[#This Row],[Gracious Professionalism Total]]*0.6,\"\")))))","v":""},{"$f":"SUM(CoreValuesResults[[#This Row],[Discovery]:[Fun]],CoreValuesResults[[#This Row],[Gracious Professionalism Score]])","v":0},{"$f":"IF(CoreValuesResults[[#This Row],[Team Number]]>0,MIN(_xlfn.RANK.EQ(CoreValuesResults[[#This Row],[Core Values Score]],CoreValuesResults[Core Values Score],0),NumberOfTeams),NumberOfTeams+1)","v":1}]
[null,{"$f":"IF(ISNA(INDEX(OfficialTeamList[Team Name],MATCH(CoreValuesResults[[#This Row],[Team Number]], OfficialTeamList[Team Number],0))),\"\",INDEX(OfficialTeamList[Team Name],MATCH(CoreValuesResults[[#This Row],[Team Number]], OfficialTeamList[Team Number],0)))","v":""},null,null,null,null,null,null,null,null,null,null,null,{"$f":"IF(CoreValuesResults[[#This Row],[Gracious Professionalism 1]]=\"\",\"\",COUNTIF(CoreValuesResults[[#This Row],[Gracious Professionalism 1]:[Gracious Professionalism 5]],\"\"))","v":""},{"$f":"IF(CoreValuesResults[[#This Row],[Gracious Professionalism 1]]=\"\",\"\",SUM(CoreValuesResults[[#This Row],[Gracious Professionalism 1]:[Gracious Professionalism 5]]))","v":""},{"$f":"IF(CoreValuesResults[[#This Row],[Gracious Professionalism Empty Count]]=3,SUM(CoreValuesResults[[#This Row],[Gracious Professionalism 1]:[Gracious Professionalism 5]]),IF(CoreValuesResults[[#This Row],[Gracious Professionalism Empty Count]]=4,SUM(CoreValuesResults[[#This Row],[Gracious Professionalism 1]:[Gracious Professionalism 5]]),IF(CoreValuesResults[[#This Row],[Gracious Professionalism Empty Count]]=2,CoreValuesResults[[#This Row],[Gracious Professionalism Total]],IF(CoreValuesResults[[#This Row],[Gracious Professionalism Empty Count]]=1,CoreValuesResults[[#This Row],[Gracious Professionalism Total]]*0.75,IF(CoreValuesResults[[#This Row],[Gracious Professionalism Empty Count]]=0,CoreValuesResults[[#This Row],[Gracious Professionalism Total]]*0.6,\"\")))))","v":""},{"$f":"SUM(CoreValuesResults[[#This Row],[Discovery]:[Fun]],CoreValuesResults[[#This Row],[Gracious Professionalism Score]])","v":0},{"$f":"IF(CoreValuesResults[[#This Row],[Team Number]]>0,MIN(_xlfn.RANK.EQ(CoreValuesResults[[#This Row],[Core Values Score]],CoreValuesResults[Core Values Score],0),NumberOfTeams),NumberOfTeams+1)","v":1}]
[null,{"$f":"IF(ISNA(INDEX(OfficialTeamList[Team Name],MATCH(CoreValuesResults[[#This Row],[Team Number]], OfficialTeamList[Team Number],0))),\"\",INDEX(OfficialTeamList[Team Name],MATCH(CoreValuesResults[[#This Row],[Team Number]], OfficialTeamList[Team Number],0)))","v":""},null,null,null,null,null,null,null,null,null,null,null,{"$f":"IF(CoreValuesResults[[#This Row],[Gracious Professionalism 1]]=\"\",\"\",COUNTIF(CoreValuesResults[[#This Row],[Gracious Professionalism 1]:[Gracious Professionalism 5]],\"\"))","v":""},{"$f":"IF(CoreValuesResults[[#This Row],[Gracious Professionalism 1]]=\"\",\"\",SUM(CoreValuesResults[[#This Row],[Gracious Professionalism 1]:[Gracious Professionalism 5]]))","v":""},{"$f":"IF(CoreValuesResults[[#This Row],[Gracious Professionalism Empty Count]]=3,SUM(CoreValuesResults[[#This Row],[Gracious Professionalism 1]:[Gracious Professionalism 5]]),IF(CoreValuesResults[[#This Row],[Gracious Professionalism Empty Count]]=4,SUM(CoreValuesResults[[#This Row],[Gracious Professionalism 1]:[Gracious Professionalism 5]]),IF(CoreValuesResults[[#This Row],[Gracious Professionalism Empty Count]]=2,CoreValuesResults[[#This Row],[Gracious Professionalism Total]],IF(CoreValuesResults[[#This Row],[Gracious Professionalism Empty Count]]=1,CoreValuesResults[[#This Row],[Gracious Professionalism Total]]*0.75,IF(CoreValuesResults[[#This Row],[Gracious Professionalism Empty Count]]=0,CoreValuesResults[[#This Row],[Gracious Professionalism Total]]*0.6,\"\")))))","v":""},{"$f":"SUM(CoreValuesResults[[#This Row],[Discovery]:[Fun]],CoreValuesResults[[#This Row],[Gracious Professionalism Score]])","v":0},{"$f":"IF(CoreValuesResults[[#This Row],[Team Number]]>0,MIN(_xlfn.RANK.EQ(CoreValuesResults[[#This Row],[Core Values Score]],CoreValuesResults[Core Values Score],0),NumberOfTeams),NumberOfTeams+1)","v":1}]
[null,{"$f":"IF(ISNA(INDEX(OfficialTeamList[Team Name],MATCH(CoreValuesResults[[#This Row],[Team Number]], OfficialTeamList[Team Number],0))),\"\",INDEX(OfficialTeamList[Team Name],MATCH(CoreValuesResults[[#This Row],[Team Number]], OfficialTeamList[Team Number],0)))","v":""},null,null,null,null,null,null,null,null,null,null,null,{"$f":"IF(CoreValuesResults[[#This Row],[Gracious Professionalism 1]]=\"\",\"\",COUNTIF(CoreValuesResults[[#This Row],[Gracious Professionalism 1]:[Gracious Professionalism 5]],\"\"))","v":""},{"$f":"IF(CoreValuesResults[[#This Row],[Gracious Professionalism 1]]=\"\",\"\",SUM(CoreValuesResults[[#This Row],[Gracious Professionalism 1]:[Gracious Professionalism 5]]))","v":""},{"$f":"IF(CoreValuesResults[[#This Row],[Gracious Professionalism Empty Count]]=3,SUM(CoreValuesResults[[#This Row],[Gracious Professionalism 1]:[Gracious Professionalism 5]]),IF(CoreValuesResults[[#This Row],[Gracious Professionalism Empty Count]]=4,SUM(CoreValuesResults[[#This Row],[Gracious Professionalism 1]:[Gracious Professionalism 5]]),IF(CoreValuesResults[[#This Row],[Gracious Professionalism Empty Count]]=2,CoreValuesResults[[#This Row],[Gracious Professionalism Total]],IF(CoreValuesResults[[#This Row],[Gracious Professionalism Empty Count]]=1,CoreValuesResults[[#This Row],[Gracious Professionalism Total]]*0.75,IF(CoreValuesResults[[#This Row],[Gracious Professionalism Empty Count]]=0,CoreValuesResults[[#This Row],[Gracious Professionalism Total]]*0.6,\"\")))))","v":""},{"$f":"SUM(CoreValuesResults[[#This Row],[Discovery]:[Fun]],CoreValuesResults[[#This Row],[Gracious Professionalism Score]])","v":0},{"$f":"IF(CoreValuesResults[[#This Row],[Team Number]]>0,MIN(_xlfn.RANK.EQ(CoreValuesResults[[#This Row],[Core Values Score]],CoreValuesResults[Core Values Score],0),NumberOfTeams),NumberOfTeams+1)","v":1}]
[null,{"$f":"IF(ISNA(INDEX(OfficialTeamList[Team Name],MATCH(CoreValuesResults[[#This Row],[Team Number]], OfficialTeamList[Team Number],0))),\"\",INDEX(OfficialTeamList[Team Name],MATCH(CoreValuesResults[[#This Row],[Team Number]], OfficialTeamList[Team Number],0)))","v":""},null,null,null,null,null,null,null,null,null,null,null,{"$f":"IF(CoreValuesResults[[#This Row],[Gracious Professionalism 1]]=\"\",\"\",COUNTIF(CoreValuesResults[[#This Row],[Gracious Professionalism 1]:[Gracious Professionalism 5]],\"\"))","v":""},{"$f":"IF(CoreValuesResults[[#This Row],[Gracious Professionalism 1]]=\"\",\"\",SUM(CoreValuesResults[[#This Row],[Gracious Professionalism 1]:[Gracious Professionalism 5]]))","v":""},{"$f":"IF(CoreValuesResults[[#This Row],[Gracious Professionalism Empty Count]]=3,SUM(CoreValuesResults[[#This Row],[Gracious Professionalism 1]:[Gracious Professionalism 5]]),IF(CoreValuesResults[[#This Row],[Gracious Professionalism Empty Count]]=4,SUM(CoreValuesResults[[#This Row],[Gracious Professionalism 1]:[Gracious Professionalism 5]]),IF(CoreValuesResults[[#This Row],[Gracious Professionalism Empty Count]]=2,CoreValuesResults[[#This Row],[Gracious Professionalism Total]],IF(CoreValuesResults[[#This Row],[Gracious Professionalism Empty Count]]=1,CoreValuesResults[[#This Row],[Gracious Professionalism Total]]*0.75,IF(CoreValuesResults[[#This Row],[Gracious Professionalism Empty Count]]=0,CoreValuesResults[[#This Row],[Gracious Professionalism Total]]*0.6,\"\")))))","v":""},{"$f":"SUM(CoreValuesResults[[#This Row],[Discovery]:[Fun]],CoreValuesResults[[#This Row],[Gracious Professionalism Score]])","v":0},{"$f":"IF(CoreValuesResults[[#This Row],[Team Number]]>0,MIN(_xlfn.RANK.EQ(CoreValuesResults[[#This Row],[Core Values Score]],CoreValuesResults[Core Values Score],0),NumberOfTeams),NumberOfTeams+1)","v":1}]
[null,{"$f":"IF(ISNA(INDEX(OfficialTeamList[Team Name],MATCH(CoreValuesResults[[#This Row],[Team Number]], OfficialTeamList[Team Number],0))),\"\",INDEX(OfficialTeamList[Team Name],MATCH(CoreValuesResults[[#This Row],[Team Number]], OfficialTeamList[Team Number],0)))","v":""},null,null,null,null,null,null,null,null,null,null,null,{"$f":"IF(CoreValuesResults[[#This Row],[Gracious Professionalism 1]]=\"\",\"\",COUNTIF(CoreValuesResults[[#This Row],[Gracious Professionalism 1]:[Gracious Professionalism 5]],\"\"))","v":""},{"$f":"IF(CoreValuesResults[[#This Row],[Gracious Professionalism 1]]=\"\",\"\",SUM(CoreValuesResults[[#This Row],[Gracious Professionalism 1]:[Gracious Professionalism 5]]))","v":""},{"$f":"IF(CoreValuesResults[[#This Row],[Gracious Professionalism Empty Count]]=3,SUM(CoreValuesResults[[#This Row],[Gracious Professionalism 1]:[Gracious Professionalism 5]]),IF(CoreValuesResults[[#This Row],[Gracious Professionalism Empty Count]]=4,SUM(CoreValuesResults[[#This Row],[Gracious Professionalism 1]:[Gracious Professionalism 5]]),IF(CoreValuesResults[[#This Row],[Gracious Professionalism Empty Count]]=2,CoreValuesResults[[#This Row],[Gracious Professionalism Total]],IF(CoreValuesResults[[#This Row],[Gracious Professionalism Empty Count]]=1,CoreValuesResults[[#This Row],[Gracious Professionalism Total]]*0.75,IF(CoreValuesResults[[#This Row],[Gracious Professionalism Empty Count]]=0,CoreValuesResults[[#This Row],[Gracious Professionalism Total]]*0.6,\"\")))))","v":""},{"$f":"SUM(CoreValuesResults[[#This Row],[Discovery]:[Fun]],CoreValuesResults[[#This Row],[Gracious Professionalism Score]])","v":0},{"$f":"IF(CoreValuesResults[[#This Row],[Team Number]]>0,MIN(_xlfn.RANK.EQ(CoreValuesResults[[#This Row],[Core Values Score]],CoreValuesResults[Core Values Score],0),NumberOfTeams),NumberOfTeams+1)","v":1}]
[null,{"$f":"IF(ISNA(INDEX(OfficialTeamList[Team Name],MATCH(CoreValuesResults[[#This Row],[Team Number]], OfficialTeamList[Team Number],0))),\"\",INDEX(OfficialTeamList[Team Name],MATCH(CoreValuesResults[[#This Row],[Team Number]], OfficialTeamList[Team Number],0)))","v":""},null,null,null,null,null,null,null,null,null,null,null,{"$f":"IF(CoreValuesResults[[#This Row],[Gracious Professionalism 1]]=\"\",\"\",COUNTIF(CoreValuesResults[[#This Row],[Gracious Professionalism 1]:[Gracious Professionalism 5]],\"\"))","v":""},{"$f":"IF(CoreValuesResults[[#This Row],[Gracious Professionalism 1]]=\"\",\"\",SUM(CoreValuesResults[[#This Row],[Gracious Professionalism 1]:[Gracious Professionalism 5]]))","v":""},{"$f":"IF(CoreValuesResults[[#This Row],[Gracious Professionalism Empty Count]]=3,SUM(CoreValuesResults[[#This Row],[Gracious Professionalism 1]:[Gracious Professionalism 5]]),IF(CoreValuesResults[[#This Row],[Gracious Professionalism Empty Count]]=4,SUM(CoreValuesResults[[#This Row],[Gracious Professionalism 1]:[Gracious Professionalism 5]]),IF(CoreValuesResults[[#This Row],[Gracious Professionalism Empty Count]]=2,CoreValuesResults[[#This Row],[Gracious Professionalism Total]],IF(CoreValuesResults[[#This Row],[Gracious Professionalism Empty Count]]=1,CoreValuesResults[[#This Row],[Gracious Professionalism Total]]*0.75,IF(CoreValuesResults[[#This Row],[Gracious Professionalism Empty Count]]=0,CoreValuesResults[[#This Row],[Gracious Professionalism Total]]*0.6,\"\")))))","v":""},{"$f":"SUM(CoreValuesResults[[#This Row],[Discovery]:[Fun]],CoreValuesResults[[#This Row],[Gracious Professionalism Score]])","v":0},{"$f":"IF(CoreValuesResults[[#This Row],[Team Number]]>0,MIN(_xlfn.RANK.EQ(CoreValuesResults[[#This Row],[Core Values Score]],CoreValuesResults[Core Values Score],0),NumberOfTeams),NumberOfTeams+1)","v":1}]
[null,{"$f":"IF(ISNA(INDEX(OfficialTeamList[Team Name],MATCH(CoreValuesResults[[#This Row],[Team Number]], OfficialTeamList[Team Number],0))),\"\",INDEX(OfficialTeamList[Team Name],MATCH(CoreValuesResults[[#This Row],[Team Number]], OfficialTeamList[Team Number],0)))","v":""},null,null,null,null,null,null,null,null,null,null,null,{"$f":"IF(CoreValuesResults[[#This Row],[Gracious Professionalism 1]]=\"\",\"\",COUNTIF(CoreValuesResults[[#This Row],[Gracious Professionalism 1]:[Gracious Professionalism 5]],\"\"))","v":""},{"$f":"IF(CoreValuesResults[[#This Row],[Gracious Professionalism 1]]=\"\",\"\",SUM(CoreValuesResults[[#This Row],[Gracious Professionalism 1]:[Gracious Professionalism 5]]))","v":""},{"$f":"IF(CoreValuesResults[[#This Row],[Gracious Professionalism Empty Count]]=3,SUM(CoreValuesResults[[#This Row],[Gracious Professionalism 1]:[Gracious Professionalism 5]]),IF(CoreValuesResults[[#This Row],[Gracious Professionalism Empty Count]]=4,SUM(CoreValuesResults[[#This Row],[Gracious Professionalism 1]:[Gracious Professionalism 5]]),IF(CoreValuesResults[[#This Row],[Gracious Professionalism Empty Count]]=2,CoreValuesResults[[#This Row],[Gracious Professionalism Total]],IF(CoreValuesResults[[#This Row],[Gracious Professionalism Empty Count]]=1,CoreValuesResults[[#This Row],[Gracious Professionalism Total]]*0.75,IF(CoreValuesResults[[#This Row],[Gracious Professionalism Empty Count]]=0,CoreValuesResults[[#This Row],[Gracious Professionalism Total]]*0.6,\"\")))))","v":""},{"$f":"SUM(CoreValuesResults[[#This Row],[Discovery]:[Fun]],CoreValuesResults[[#This Row],[Gracious Professionalism Score]])","v":0},{"$f":"IF(CoreValuesResults[[#This Row],[Team Number]]>0,MIN(_xlfn.RANK.EQ(CoreValuesResults[[#This Row],[Core Values Score]],CoreValuesResults[Core Values Score],0),NumberOfTeams),NumberOfTeams+1)","v":1}]
[null,{"$f":"IF(ISNA(INDEX(OfficialTeamList[Team Name],MATCH(CoreValuesResults[[#This Row],[Team Number]], OfficialTeamList[Team Number],0))),\"\",INDEX(OfficialTeamList[Team Name],MATCH(CoreValuesResults[[#This Row],[Team Number]], OfficialTeamList[Team Number],0)))","v":""},null,null,null,null,null,null,null,null,null,null,null,{"$f":"IF(CoreValuesResults[[#This Row],[Gracious Professionalism 1]]=\"\",\"\",COUNTIF(CoreValuesResults[[#This Row],[Gracious Professionalism 1]:[Gracious Professionalism 5]],\"\"))","v":""},{"$f":"IF(CoreValuesResults[[#This Row],[Gracious Professionalism 1]]=\"\",\"\",SUM(CoreValuesResults[[#This Row],[Gracious Professionalism 1]:[Gracious Professionalism 5]]))","v":""},{"$f":"IF(CoreValuesResults[[#This Row],[Gracious Professionalism Empty Count]]=3,SUM(CoreValuesResults[[#This Row],[Gracious Professionalism 1]:[Gracious Professionalism 5]]),IF(CoreValuesResults[[#This Row],[Gracious Professionalism Empty Count]]=4,SUM(CoreValuesResults[[#This Row],[Gracious Professionalism 1]:[Gracious Professionalism 5]]),IF(CoreValuesResults[[#This Row],[Gracious Professionalism Empty Count]]=2,CoreValuesResults[[#This Row],[Gracious Professionalism Total]],IF(CoreValuesResults[[#This Row],[Gracious Professionalism Empty Count]]=1,CoreValuesResults[[#This Row],[Gracious Professionalism Total]]*0.75,IF(CoreValuesResults[[#This Row],[Gracious Professionalism Empty Count]]=0,CoreValuesResults[[#This Row],[Gracious Professionalism Total]]*0.6,\"\")))))","v":""},{"$f":"SUM(CoreValuesResults[[#This Row],[Discovery]:[Fun]],CoreValuesResults[[#This Row],[Gracious Professionalism Score]])","v":0},{"$f":"IF(CoreValuesResults[[#This Row],[Team Number]]>0,MIN(_xlfn.RANK.EQ(CoreValuesResults[[#This Row],[Core Values Score]],CoreValuesResults[Core Values Score],0),NumberOfTeams),NumberOfTeams+1)","v":1}]
[null,{"$f":"IF(ISNA(INDEX(OfficialTeamList[Team Name],MATCH(CoreValuesResults[[#This Row],[Team Number]], OfficialTeamList[Team Number],0))),\"\",INDEX(OfficialTeamList[Team Name],MATCH(CoreValuesResults[[#This Row],[Team Number]], OfficialTeamList[Team Number],0)))","v":""},null,null,null,null,null,null,null,null,null,null,null,{"$f":"IF(CoreValuesResults[[#This Row],[Gracious Professionalism 1]]=\"\",\"\",COUNTIF(CoreValuesResults[[#This Row],[Gracious Professionalism 1]:[Gracious Professionalism 5]],\"\"))","v":""},{"$f":"IF(CoreValuesResults[[#This Row],[Gracious Professionalism 1]]=\"\",\"\",SUM(CoreValuesResults[[#This Row],[Gracious Professionalism 1]:[Gracious Professionalism 5]]))","v":""},{"$f":"IF(CoreValuesResults[[#This Row],[Gracious Professionalism Empty Count]]=3,SUM(CoreValuesResults[[#This Row],[Gracious Professionalism 1]:[Gracious Professionalism 5]]),IF(CoreValuesResults[[#This Row],[Gracious Professionalism Empty Count]]=4,SUM(CoreValuesResults[[#This Row],[Gracious Professionalism 1]:[Gracious Professionalism 5]]),IF(CoreValuesResults[[#This Row],[Gracious Professionalism Empty Count]]=2,CoreValuesResults[[#This Row],[Gracious Professionalism Total]],IF(CoreValuesResults[[#This Row],[Gracious Professionalism Empty Count]]=1,CoreValuesResults[[#This Row],[Gracious Professionalism Total]]*0.75,IF(CoreValuesResults[[#This Row],[Gracious Professionalism Empty Count]]=0,CoreValuesResults[[#This Row],[Gracious Professionalism Total]]*0.6,\"\")))))","v":""},{"$f":"SUM(CoreValuesResults[[#This Row],[Discovery]:[Fun]],CoreValuesResults[[#This Row],[Gracious Professionalism Score]])","v":0},{"$f":"IF(CoreValuesResults[[#This Row],[Team Number]]>0,MIN(_xlfn.RANK.EQ(CoreValuesResults[[#This Row],[Core Values Score]],CoreValuesResults[Core Values Score],0),NumberOfTeams),NumberOfTeams+1)","v":1}]
[null,{"$f":"IF(ISNA(INDEX(OfficialTeamList[Team Name],MATCH(CoreValuesResults[[#This Row],[Team Number]], OfficialTeamList[Team Number],0))),\"\",INDEX(OfficialTeamList[Team Name],MATCH(CoreValuesResults[[#This Row],[Team Number]], OfficialTeamList[Team Number],0)))","v":""},null,null,null,null,null,null,null,null,null,null,null,{"$f":"IF(CoreValuesResults[[#This Row],[Gracious Professionalism 1]]=\"\",\"\",COUNTIF(CoreValuesResults[[#This Row],[Gracious Professionalism 1]:[Gracious Professionalism 5]],\"\"))","v":""},{"$f":"IF(CoreValuesResults[[#This Row],[Gracious Professionalism 1]]=\"\",\"\",SUM(CoreValuesResults[[#This Row],[Gracious Professionalism 1]:[Gracious Professionalism 5]]))","v":""},{"$f":"IF(CoreValuesResults[[#This Row],[Gracious Professionalism Empty Count]]=3,SUM(CoreValuesResults[[#This Row],[Gracious Professionalism 1]:[Gracious Professionalism 5]]),IF(CoreValuesResults[[#This Row],[Gracious Professionalism Empty Count]]=4,SUM(CoreValuesResults[[#This Row],[Gracious Professionalism 1]:[Gracious Professionalism 5]]),IF(CoreValuesResults[[#This Row],[Gracious Professionalism Empty Count]]=2,CoreValuesResults[[#This Row],[Gracious Professionalism Total]],IF(CoreValuesResults[[#This Row],[Gracious Professionalism Empty Count]]=1,CoreValuesResults[[#This Row],[Gracious Professionalism Total]]*0.75,IF(CoreValuesResults[[#This Row],[Gracious Professionalism Empty Count]]=0,CoreValuesResults[[#This Row],[Gracious Professionalism Total]]*0.6,\"\")))))","v":""},{"$f":"SUM(CoreValuesResults[[#This Row],[Discovery]:[Fun]],CoreValuesResults[[#This Row],[Gracious Professionalism Score]])","v":0},{"$f":"IF(CoreValuesResults[[#This Row],[Team Number]]>0,MIN(_xlfn.RANK.EQ(CoreValuesResults[[#This Row],[Core Values Score]],CoreValuesResults[Core Values Score],0),NumberOfTeams),NumberOfTeams+1)","v":1}]
[null,{"$f":"IF(ISNA(INDEX(OfficialTeamList[Team Name],MATCH(CoreValuesResults[[#This Row],[Team Number]], OfficialTeamList[Team Number],0))),\"\",INDEX(OfficialTeamList[Team Name],MATCH(CoreValuesResults[[#This Row],[Team Number]], OfficialTeamList[Team Number],0)))","v":""},null,null,null,null,null,null,null,null,null,null,null,{"$f":"IF(CoreValuesResults[[#This Row],[Gracious Professionalism 1]]=\"\",\"\",COUNTIF(CoreValuesResults[[#This Row],[Gracious Professionalism 1]:[Gracious Professionalism 5]],\"\"))","v":""},{"$f":"IF(CoreValuesResults[[#This Row],[Gracious Professionalism 1]]=\"\",\"\",SUM(CoreValuesResults[[#This Row],[Gracious Professionalism 1]:[Gracious Professionalism 5]]))","v":""},{"$f":"IF(CoreValuesResults[[#This Row],[Gracious Professionalism Empty Count]]=3,SUM(CoreValuesResults[[#This Row],[Gracious Professionalism 1]:[Gracious Professionalism 5]]),IF(CoreValuesResults[[#This Row],[Gracious Professionalism Empty Count]]=4,SUM(CoreValuesResults[[#This Row],[Gracious Professionalism 1]:[Gracious Professionalism 5]]),IF(CoreValuesResults[[#This Row],[Gracious Professionalism Empty Count]]=2,CoreValuesResults[[#This Row],[Gracious Professionalism Total]],IF(CoreValuesResults[[#This Row],[Gracious Professionalism Empty Count]]=1,CoreValuesResults[[#This Row],[Gracious Professionalism Total]]*0.75,IF(CoreValuesResults[[#This Row],[Gracious Professionalism Empty Count]]=0,CoreValuesResults[[#This Row],[Gracious Professionalism Total]]*0.6,\"\")))))","v":""},{"$f":"SUM(CoreValuesResults[[#This Row],[Discovery]:[Fun]],CoreValuesResults[[#This Row],[Gracious Professionalism Score]])","v":0},{"$f":"IF(CoreValuesResults[[#This Row],[Team Number]]>0,MIN(_xlfn.RANK.EQ(CoreValuesResults[[#This Row],[Core Values Score]],CoreValuesResults[Core Values Score],0),NumberOfTeams),NumberOfTeams+1)","v":1}]
[null,{"$f":"IF(ISNA(INDEX(OfficialTeamList[Team Name],MATCH(CoreValuesResults[[#This Row],[Team Number]], OfficialTeamList[Team Number],0))),\"\",INDEX(OfficialTeamList[Team Name],MATCH(CoreValuesResults[[#This Row],[Team Number]], OfficialTeamList[Team Number],0)))","v":""},null,null,null,null,null,null,null,null,null,null,null,{"$f":"IF(CoreValuesResults[[#This Row],[Gracious Professionalism 1]]=\"\",\"\",COUNTIF(CoreValuesResults[[#This Row],[Gracious Professionalism 1]:[Gracious Professionalism 5]],\"\"))","v":""},{"$f":"IF(CoreValuesResults[[#This Row],[Gracious Professionalism 1]]=\"\",\"\",SUM(CoreValuesResults[[#This Row],[Gracious Professionalism 1]:[Gracious Professionalism 5]]))","v":""},{"$f":"IF(CoreValuesResults[[#This Row],[Gracious Professionalism Empty Count]]=3,SUM(CoreValuesResults[[#This Row],[Gracious Professionalism 1]:[Gracious Professionalism 5]]),IF(CoreValuesResults[[#This Row],[Gracious Professionalism Empty Count]]=4,SUM(CoreValuesResults[[#This Row],[Gracious Professionalism 1]:[Gracious Professionalism 5]]),IF(CoreValuesResults[[#This Row],[Gracious Professionalism Empty Count]]=2,CoreValuesResults[[#This Row],[Gracious Professionalism Total]],IF(CoreValuesResults[[#This Row],[Gracious Professionalism Empty Count]]=1,CoreValuesResults[[#This Row],[Gracious Professionalism Total]]*0.75,IF(CoreValuesResults[[#This Row],[Gracious Professionalism Empty Count]]=0,CoreValuesResults[[#This Row],[Gracious Professionalism Total]]*0.6,\"\")))))","v":""},{"$f":"SUM(CoreValuesResults[[#This Row],[Discovery]:[Fun]],CoreValuesResults[[#This Row],[Gracious Professionalism Score]])","v":0},{"$f":"IF(CoreValuesResults[[#This Row],[Team Number]]>0,MIN(_xlfn.RANK.EQ(CoreValuesResults[[#This Row],[Core Values Score]],CoreValuesResults[Core Values Score],0),NumberOfTeams),NumberOfTeams+1)","v":1}]
[null,{"$f":"IF(ISNA(INDEX(OfficialTeamList[Team Name],MATCH(CoreValuesResults[[#This Row],[Team Number]], OfficialTeamList[Team Number],0))),\"\",INDEX(OfficialTeamList[Team Name],MATCH(CoreValuesResults[[#This Row],[Team Number]], OfficialTeamList[Team Number],0)))","v":""},null,null,null,null,null,null,null,null,null,null,null,{"$f":"IF(CoreValuesResults[[#This Row],[Gracious Professionalism 1]]=\"\",\"\",COUNTIF(CoreValuesResults[[#This Row],[Gracious Professionalism 1]:[Gracious Professionalism 5]],\"\"))","v":""},{"$f":"IF(CoreValuesResults[[#This Row],[Gracious Professionalism 1]]=\"\",\"\",SUM(CoreValuesResults[[#This Row],[Gracious Professionalism 1]:[Gracious Professionalism 5]]))","v":""},{"$f":"IF(CoreValuesResults[[#This Row],[Gracious Professionalism Empty Count]]=3,SUM(CoreValuesResults[[#This Row],[Gracious Professionalism 1]:[Gracious Professionalism 5]]),IF(CoreValuesResults[[#This Row],[Gracious Professionalism Empty Count]]=4,SUM(CoreValuesResults[[#This Row],[Gracious Professionalism 1]:[Gracious Professionalism 5]]),IF(CoreValuesResults[[#This Row],[Gracious Professionalism Empty Count]]=2,CoreValuesResults[[#This Row],[Gracious Professionalism Total]],IF(CoreValuesResults[[#This Row],[Gracious Professionalism Empty Count]]=1,CoreValuesResults[[#This Row],[Gracious Professionalism Total]]*0.75,IF(CoreValuesResults[[#This Row],[Gracious Professionalism Empty Count]]=0,CoreValuesResults[[#This Row],[Gracious Professionalism Total]]*0.6,\"\")))))","v":""},{"$f":"SUM(CoreValuesResults[[#This Row],[Discovery]:[Fun]],CoreValuesResults[[#This Row],[Gracious Professionalism Score]])","v":0},{"$f":"IF(CoreValuesResults[[#This Row],[Team Number]]>0,MIN(_xlfn.RANK.EQ(CoreValuesResults[[#This Row],[Core Values Score]],CoreValuesResults[Core Values Score],0),NumberOfTeams),NumberOfTeams+1)","v":1}]
[null,{"$f":"IF(ISNA(INDEX(OfficialTeamList[Team Name],MATCH(CoreValuesResults[[#This Row],[Team Number]], OfficialTeamList[Team Number],0))),\"\",INDEX(OfficialTeamList[Team Name],MATCH(CoreValuesResults[[#This Row],[Team Number]], OfficialTeamList[Team Number],0)))","v":""},null,null,null,null,null,null,null,null,null,null,null,{"$f":"IF(CoreValuesResults[[#This Row],[Gracious Professionalism 1]]=\"\",\"\",COUNTIF(CoreValuesResults[[#This Row],[Gracious Professionalism 1]:[Gracious Professionalism 5]],\"\"))","v":""},{"$f":"IF(CoreValuesResults[[#This Row],[Gracious Professionalism 1]]=\"\",\"\",SUM(CoreValuesResults[[#This Row],[Gracious Professionalism 1]:[Gracious Professionalism 5]]))","v":""},{"$f":"IF(CoreValuesResults[[#This Row],[Gracious Professionalism Empty Count]]=3,SUM(CoreValuesResults[[#This Row],[Gracious Professionalism 1]:[Gracious Professionalism 5]]),IF(CoreValuesResults[[#This Row],[Gracious Professionalism Empty Count]]=4,SUM(CoreValuesResults[[#This Row],[Gracious Professionalism 1]:[Gracious Professionalism 5]]),IF(CoreValuesResults[[#This Row],[Gracious Professionalism Empty Count]]=2,CoreValuesResults[[#This Row],[Gracious Professionalism Total]],IF(CoreValuesResults[[#This Row],[Gracious Professionalism Empty Count]]=1,CoreValuesResults[[#This Row],[Gracious Professionalism Total]]*0.75,IF(CoreValuesResults[[#This Row],[Gracious Professionalism Empty Count]]=0,CoreValuesResults[[#This Row],[Gracious Professionalism Total]]*0.6,\"\")))))","v":""},{"$f":"SUM(CoreValuesResults[[#This Row],[Discovery]:[Fun]],CoreValuesResults[[#This Row],[Gracious Professionalism Score]])","v":0},{"$f":"IF(CoreValuesResults[[#This Row],[Team Number]]>0,MIN(_xlfn.RANK.EQ(CoreValuesResults[[#This Row],[Core Values Score]],CoreValuesResults[Core Values Score],0),NumberOfTeams),NumberOfTeams+1)","v":1}]
[null,{"$f":"IF(ISNA(INDEX(OfficialTeamList[Team Name],MATCH(CoreValuesResults[[#This Row],[Team Number]], OfficialTeamList[Team Number],0))),\"\",INDEX(OfficialTeamList[Team Name],MATCH(CoreValuesResults[[#This Row],[Team Number]], OfficialTeamList[Team Number],0)))","v":""},null,null,null,null,null,null,null,null,null,null,null,{"$f":"IF(CoreValuesResults[[#This Row],[Gracious Professionalism 1]]=\"\",\"\",COUNTIF(CoreValuesResults[[#This Row],[Gracious Professionalism 1]:[Gracious Professionalism 5]],\"\"))","v":""},{"$f":"IF(CoreValuesResults[[#This Row],[Gracious Professionalism 1]]=\"\",\"\",SUM(CoreValuesResults[[#This Row],[Gracious Professionalism 1]:[Gracious Professionalism 5]]))","v":""},{"$f":"IF(CoreValuesResults[[#This Row],[Gracious Professionalism Empty Count]]=3,SUM(CoreValuesResults[[#This Row],[Gracious Professionalism 1]:[Gracious Professionalism 5]]),IF(CoreValuesResults[[#This Row],[Gracious Professionalism Empty Count]]=4,SUM(CoreValuesResults[[#This Row],[Gracious Professionalism 1]:[Gracious Professionalism 5]]),IF(CoreValuesResults[[#This Row],[Gracious Professionalism Empty Count]]=2,CoreValuesResults[[#This Row],[Gracious Professionalism Total]],IF(CoreValuesResults[[#This Row],[Gracious Professionalism Empty Count]]=1,CoreValuesResults[[#This Row],[Gracious Professionalism Total]]*0.75,IF(CoreValuesResults[[#This Row],[Gracious Professionalism Empty Count]]=0,CoreValuesResults[[#This Row],[Gracious Professionalism Total]]*0.6,\"\")))))","v":""},{"$f":"SUM(CoreValuesResults[[#This Row],[Discovery]:[Fun]],CoreValuesResults[[#This Row],[Gracious Professionalism Score]])","v":0},{"$f":"IF(CoreValuesResults[[#This Row],[Team Number]]>0,MIN(_xlfn.RANK.EQ(CoreValuesResults[[#This Row],[Core Values Score]],CoreValuesResults[Core Values Score],0),NumberOfTeams),NumberOfTeams+1)","v":1}]
[null,{"$f":"IF(ISNA(INDEX(OfficialTeamList[Team Name],MATCH(CoreValuesResults[[#This Row],[Team Number]], OfficialTeamList[Team Number],0))),\"\",INDEX(OfficialTeamList[Team Name],MATCH(CoreValuesResults[[#This Row],[Team Number]], OfficialTeamList[Team Number],0)))","v":""},null,null,null,null,null,null,null,null,null,null,null,{"$f":"IF(CoreValuesResults[[#This Row],[Gracious Professionalism 1]]=\"\",\"\",COUNTIF(CoreValuesResults[[#This Row],[Gracious Professionalism 1]:[Gracious Professionalism 5]],\"\"))","v":""},{"$f":"IF(CoreValuesResults[[#This Row],[Gracious Professionalism 1]]=\"\",\"\",SUM(CoreValuesResults[[#This Row],[Gracious Professionalism 1]:[Gracious Professionalism 5]]))","v":""},{"$f":"IF(CoreValuesResults[[#This Row],[Gracious Professionalism Empty Count]]=3,SUM(CoreValuesResults[[#This Row],[Gracious Professionalism 1]:[Gracious Professionalism 5]]),IF(CoreValuesResults[[#This Row],[Gracious Professionalism Empty Count]]=4,SUM(CoreValuesResults[[#This Row],[Gracious Professionalism 1]:[Gracious Professionalism 5]]),IF(CoreValuesResults[[#This Row],[Gracious Professionalism Empty Count]]=2,CoreValuesResults[[#This Row],[Gracious Professionalism Total]],IF(CoreValuesResults[[#This Row],[Gracious Professionalism Empty Count]]=1,CoreValuesResults[[#This Row],[Gracious Professionalism Total]]*0.75,IF(CoreValuesResults[[#This Row],[Gracious Professionalism Empty Count]]=0,CoreValuesResults[[#This Row],[Gracious Professionalism Total]]*0.6,\"\")))))","v":""},{"$f":"SUM(CoreValuesResults[[#This Row],[Discovery]:[Fun]],CoreValuesResults[[#This Row],[Gracious Professionalism Score]])","v":0},{"$f":"IF(CoreValuesResults[[#This Row],[Team Number]]>0,MIN(_xlfn.RANK.EQ(CoreValuesResults[[#This Row],[Core Values Score]],CoreValuesResults[Core Values Score],0),NumberOfTeams),NumberOfTeams+1)","v":1}]
[null,{"$f":"IF(ISNA(INDEX(OfficialTeamList[Team Name],MATCH(CoreValuesResults[[#This Row],[Team Number]], OfficialTeamList[Team Number],0))),\"\",INDEX(OfficialTeamList[Team Name],MATCH(CoreValuesResults[[#This Row],[Team Number]], OfficialTeamList[Team Number],0)))","v":""},null,null,null,null,null,null,null,null,null,null,null,{"$f":"IF(CoreValuesResults[[#This Row],[Gracious Professionalism 1]]=\"\",\"\",COUNTIF(CoreValuesResults[[#This Row],[Gracious Professionalism 1]:[Gracious Professionalism 5]],\"\"))","v":""},{"$f":"IF(CoreValuesResults[[#This Row],[Gracious Professionalism 1]]=\"\",\"\",SUM(CoreValuesResults[[#This Row],[Gracious Professionalism 1]:[Gracious Professionalism 5]]))","v":""},{"$f":"IF(CoreValuesResults[[#This Row],[Gracious Professionalism Empty Count]]=3,SUM(CoreValuesResults[[#This Row],[Gracious Professionalism 1]:[Gracious Professionalism 5]]),IF(CoreValuesResults[[#This Row],[Gracious Professionalism Empty Count]]=4,SUM(CoreValuesResults[[#This Row],[Gracious Professionalism 1]:[Gracious Professionalism 5]]),IF(CoreValuesResults[[#This Row],[Gracious Professionalism Empty Count]]=2,CoreValuesResults[[#This Row],[Gracious Professionalism Total]],IF(CoreValuesResults[[#This Row],[Gracious Professionalism Empty Count]]=1,CoreValuesResults[[#This Row],[Gracious Professionalism Total]]*0.75,IF(CoreValuesResults[[#This Row],[Gracious Professionalism Empty Count]]=0,CoreValuesResults[[#This Row],[Gracious Professionalism Total]]*0.6,\"\")))))","v":""},{"$f":"SUM(CoreValuesResults[[#This Row],[Discovery]:[Fun]],CoreValuesResults[[#This Row],[Gracious Professionalism Score]])","v":0},{"$f":"IF(CoreValuesResults[[#This Row],[Team Number]]>0,MIN(_xlfn.RANK.EQ(CoreValuesResults[[#This Row],[Core Values Score]],CoreValuesResults[Core Values Score],0),NumberOfTeams),NumberOfTeams+1)","v":1}]
[null,{"$f":"IF(ISNA(INDEX(OfficialTeamList[Team Name],MATCH(CoreValuesResults[[#This Row],[Team Number]], OfficialTeamList[Team Number],0))),\"\",INDEX(OfficialTeamList[Team Name],MATCH(CoreValuesResults[[#This Row],[Team Number]], OfficialTeamList[Team Number],0)))","v":""},null,null,null,null,null,null,null,null,null,null,null,{"$f":"IF(CoreValuesResults[[#This Row],[Gracious Professionalism 1]]=\"\",\"\",COUNTIF(CoreValuesResults[[#This Row],[Gracious Professionalism 1]:[Gracious Professionalism 5]],\"\"))","v":""},{"$f":"IF(CoreValuesResults[[#This Row],[Gracious Professionalism 1]]=\"\",\"\",SUM(CoreValuesResults[[#This Row],[Gracious Professionalism 1]:[Gracious Professionalism 5]]))","v":""},{"$f":"IF(CoreValuesResults[[#This Row],[Gracious Professionalism Empty Count]]=3,SUM(CoreValuesResults[[#This Row],[Gracious Professionalism 1]:[Gracious Professionalism 5]]),IF(CoreValuesResults[[#This Row],[Gracious Professionalism Empty Count]]=4,SUM(CoreValuesResults[[#This Row],[Gracious Professionalism 1]:[Gracious Professionalism 5]]),IF(CoreValuesResults[[#This Row],[Gracious Professionalism Empty Count]]=2,CoreValuesResults[[#This Row],[Gracious Professionalism Total]],IF(CoreValuesResults[[#This Row],[Gracious Professionalism Empty Count]]=1,CoreValuesResults[[#This Row],[Gracious Professionalism Total]]*0.75,IF(CoreValuesResults[[#This Row],[Gracious Professionalism Empty Count]]=0,CoreValuesResults[[#This Row],[Gracious Professionalism Total]]*0.6,\"\")))))","v":""},{"$f":"SUM(CoreValuesResults[[#This Row],[Discovery]:[Fun]],CoreValuesResults[[#This Row],[Gracious Professionalism Score]])","v":0},{"$f":"IF(CoreValuesResults[[#This Row],[Team Number]]>0,MIN(_xlfn.RANK.EQ(CoreValuesResults[[#This Row],[Core Values Score]],CoreValuesResults[Core Values Score],0),NumberOfTeams),NumberOfTeams+1)","v":1}]
[null,{"$f":"IF(ISNA(INDEX(OfficialTeamList[Team Name],MATCH(CoreValuesResults[[#This Row],[Team Number]], OfficialTeamList[Team Number],0))),\"\",INDEX(OfficialTeamList[Team Name],MATCH(CoreValuesResults[[#This Row],[Team Number]], OfficialTeamList[Team Number],0)))","v":""},null,null,null,null,null,null,null,null,null,null,null,{"$f":"IF(CoreValuesResults[[#This Row],[Gracious Professionalism 1]]=\"\",\"\",COUNTIF(CoreValuesResults[[#This Row],[Gracious Professionalism 1]:[Gracious Professionalism 5]],\"\"))","v":""},{"$f":"IF(CoreValuesResults[[#This Row],[Gracious Professionalism 1]]=\"\",\"\",SUM(CoreValuesResults[[#This Row],[Gracious Professionalism 1]:[Gracious Professionalism 5]]))","v":""},{"$f":"IF(CoreValuesResults[[#This Row],[Gracious Professionalism Empty Count]]=3,SUM(CoreValuesResults[[#This Row],[Gracious Professionalism 1]:[Gracious Professionalism 5]]),IF(CoreValuesResults[[#This Row],[Gracious Professionalism Empty Count]]=4,SUM(CoreValuesResults[[#This Row],[Gracious Professionalism 1]:[Gracious Professionalism 5]]),IF(CoreValuesResults[[#This Row],[Gracious Professionalism Empty Count]]=2,CoreValuesResults[[#This Row],[Gracious Professionalism Total]],IF(CoreValuesResults[[#This Row],[Gracious Professionalism Empty Count]]=1,CoreValuesResults[[#This Row],[Gracious Professionalism Total]]*0.75,IF(CoreValuesResults[[#This Row],[Gracious Professionalism Empty Count]]=0,CoreValuesResults[[#This Row],[Gracious Professionalism Total]]*0.6,\"\")))))","v":""},{"$f":"SUM(CoreValuesResults[[#This Row],[Discovery]:[Fun]],CoreValuesResults[[#This Row],[Gracious Professionalism Score]])","v":0},{"$f":"IF(CoreValuesResults[[#This Row],[Team Number]]>0,MIN(_xlfn.RANK.EQ(CoreValuesResults[[#This Row],[Core Values Score]],CoreValuesResults[Core Values Score],0),NumberOfTeams),NumberOfTeams+1)","v":1}]
[null,{"$f":"IF(ISNA(INDEX(OfficialTeamList[Team Name],MATCH(CoreValuesResults[[#This Row],[Team Number]], OfficialTeamList[Team Number],0))),\"\",INDEX(OfficialTeamList[Team Name],MATCH(CoreValuesResults[[#This Row],[Team Number]], OfficialTeamList[Team Number],0)))","v":""},null,null,null,null,null,null,null,null,null,null,null,{"$f":"IF(CoreValuesResults[[#This Row],[Gracious Professionalism 1]]=\"\",\"\",COUNTIF(CoreValuesResults[[#This Row],[Gracious Professionalism 1]:[Gracious Professionalism 5]],\"\"))","v":""},{"$f":"IF(CoreValuesResults[[#This Row],[Gracious Professionalism 1]]=\"\",\"\",SUM(CoreValuesResults[[#This Row],[Gracious Professionalism 1]:[Gracious Professionalism 5]]))","v":""},{"$f":"IF(CoreValuesResults[[#This Row],[Gracious Professionalism Empty Count]]=3,SUM(CoreValuesResults[[#This Row],[Gracious Professionalism 1]:[Gracious Professionalism 5]]),IF(CoreValuesResults[[#This Row],[Gracious Professionalism Empty Count]]=4,SUM(CoreValuesResults[[#This Row],[Gracious Professionalism 1]:[Gracious Professionalism 5]]),IF(CoreValuesResults[[#This Row],[Gracious Professionalism Empty Count]]=2,CoreValuesResults[[#This Row],[Gracious Professionalism Total]],IF(CoreValuesResults[[#This Row],[Gracious Professionalism Empty Count]]=1,CoreValuesResults[[#This Row],[Gracious Professionalism Total]]*0.75,IF(CoreValuesResults[[#This Row],[Gracious Professionalism Empty Count]]=0,CoreValuesResults[[#This Row],[Gracious Professionalism Total]]*0.6,\"\")))))","v":""},{"$f":"SUM(CoreValuesResults[[#This Row],[Discovery]:[Fun]],CoreValuesResults[[#This Row],[Gracious Professionalism Score]])","v":0},{"$f":"IF(CoreValuesResults[[#This Row],[Team Number]]>0,MIN(_xlfn.RANK.EQ(CoreValuesResults[[#This Row],[Core Values Score]],CoreValuesResults[Core Values Score],0),NumberOfTeams),NumberOfTeams+1)","v":1}]
[null,{"$f":"IF(ISNA(INDEX(OfficialTeamList[Team Name],MATCH(CoreValuesResults[[#This Row],[Team Number]], OfficialTeamList[Team Number],0))),\"\",INDEX(OfficialTeamList[Team Name],MATCH(CoreValuesResults[[#This Row],[Team Number]], OfficialTeamList[Team Number],0)))","v":""},null,null,null,null,null,null,null,null,null,null,null,{"$f":"IF(CoreValuesResults[[#This Row],[Gracious Professionalism 1]]=\"\",\"\",COUNTIF(CoreValuesResults[[#This Row],[Gracious Professionalism 1]:[Gracious Professionalism 5]],\"\"))","v":""},{"$f":"IF(CoreValuesResults[[#This Row],[Gracious Professionalism 1]]=\"\",\"\",SUM(CoreValuesResults[[#This Row],[Gracious Professionalism 1]:[Gracious Professionalism 5]]))","v":""},{"$f":"IF(CoreValuesResults[[#This Row],[Gracious Professionalism Empty Count]]=3,SUM(CoreValuesResults[[#This Row],[Gracious Professionalism 1]:[Gracious Professionalism 5]]),IF(CoreValuesResults[[#This Row],[Gracious Professionalism Empty Count]]=4,SUM(CoreValuesResults[[#This Row],[Gracious Professionalism 1]:[Gracious Professionalism 5]]),IF(CoreValuesResults[[#This Row],[Gracious Professionalism Empty Count]]=2,CoreValuesResults[[#This Row],[Gracious Professionalism Total]],IF(CoreValuesResults[[#This Row],[Gracious Professionalism Empty Count]]=1,CoreValuesResults[[#This Row],[Gracious Professionalism Total]]*0.75,IF(CoreValuesResults[[#This Row],[Gracious Professionalism Empty Count]]=0,CoreValuesResults[[#This Row],[Gracious Professionalism Total]]*0.6,\"\")))))","v":""},{"$f":"SUM(CoreValuesResults[[#This Row],[Discovery]:[Fun]],CoreValuesResults[[#This Row],[Gracious Professionalism Score]])","v":0},{"$f":"IF(CoreValuesResults[[#This Row],[Team Number]]>0,MIN(_xlfn.RANK.EQ(CoreValuesResults[[#This Row],[Core Values Score]],CoreValuesResults[Core Values Score],0),NumberOfTeams),NumberOfTeams+1)","v":1}]
[null,{"$f":"IF(ISNA(INDEX(OfficialTeamList[Team Name],MATCH(CoreValuesResults[[#This Row],[Team Number]], OfficialTeamList[Team Number],0))),\"\",INDEX(OfficialTeamList[Team Name],MATCH(CoreValuesResults[[#This Row],[Team Number]], OfficialTeamList[Team Number],0)))","v":""},null,null,null,null,null,null,null,null,null,null,null,{"$f":"IF(CoreValuesResults[[#This Row],[Gracious Professionalism 1]]=\"\",\"\",COUNTIF(CoreValuesResults[[#This Row],[Gracious Professionalism 1]:[Gracious Professionalism 5]],\"\"))","v":""},{"$f":"IF(CoreValuesResults[[#This Row],[Gracious Professionalism 1]]=\"\",\"\",SUM(CoreValuesResults[[#This Row],[Gracious Professionalism 1]:[Gracious Professionalism 5]]))","v":""},{"$f":"IF(CoreValuesResults[[#This Row],[Gracious Professionalism Empty Count]]=3,SUM(CoreValuesResults[[#This Row],[Gracious Professionalism 1]:[Gracious Professionalism 5]]),IF(CoreValuesResults[[#This Row],[Gracious Professionalism Empty Count]]=4,SUM(CoreValuesResults[[#This Row],[Gracious Professionalism 1]:[Gracious Professionalism 5]]),IF(CoreValuesResults[[#This Row],[Gracious Professionalism Empty Count]]=2,CoreValuesResults[[#This Row],[Gracious Professionalism Total]],IF(CoreValuesResults[[#This Row],[Gracious Professionalism Empty Count]]=1,CoreValuesResults[[#This Row],[Gracious Professionalism Total]]*0.75,IF(CoreValuesResults[[#This Row],[Gracious Professionalism Empty Count]]=0,CoreValuesResults[[#This Row],[Gracious Professionalism Total]]*0.6,\"\")))))","v":""},{"$f":"SUM(CoreValuesResults[[#This Row],[Discovery]:[Fun]],CoreValuesResults[[#This Row],[Gracious Professionalism Score]])","v":0},{"$f":"IF(CoreValuesResults[[#This Row],[Team Number]]>0,MIN(_xlfn.RANK.EQ(CoreValuesResults[[#This Row],[Core Values Score]],CoreValuesResults[Core Values Score],0),NumberOfTeams),NumberOfTeams+1)","v":1}]
[null,{"$f":"IF(ISNA(INDEX(OfficialTeamList[Team Name],MATCH(CoreValuesResults[[#This Row],[Team Number]], OfficialTeamList[Team Number],0))),\"\",INDEX(OfficialTeamList[Team Name],MATCH(CoreValuesResults[[#This Row],[Team Number]], OfficialTeamList[Team Number],0)))","v":""},null,null,null,null,null,null,null,null,null,null,null,{"$f":"IF(CoreValuesResults[[#This Row],[Gracious Professionalism 1]]=\"\",\"\",COUNTIF(CoreValuesResults[[#This Row],[Gracious Professionalism 1]:[Gracious Professionalism 5]],\"\"))","v":""},{"$f":"IF(CoreValuesResults[[#This Row],[Gracious Professionalism 1]]=\"\",\"\",SUM(CoreValuesResults[[#This Row],[Gracious Professionalism 1]:[Gracious Professionalism 5]]))","v":""},{"$f":"IF(CoreValuesResults[[#This Row],[Gracious Professionalism Empty Count]]=3,SUM(CoreValuesResults[[#This Row],[Gracious Professionalism 1]:[Gracious Professionalism 5]]),IF(CoreValuesResults[[#This Row],[Gracious Professionalism Empty Count]]=4,SUM(CoreValuesResults[[#This Row],[Gracious Professionalism 1]:[Gracious Professionalism 5]]),IF(CoreValuesResults[[#This Row],[Gracious Professionalism Empty Count]]=2,CoreValuesResults[[#This Row],[Gracious Professionalism Total]],IF(CoreValuesResults[[#This Row],[Gracious Professionalism Empty Count]]=1,CoreValuesResults[[#This Row],[Gracious Professionalism Total]]*0.75,IF(CoreValuesResults[[#This Row],[Gracious Professionalism Empty Count]]=0,CoreValuesResults[[#This Row],[Gracious Professionalism Total]]*0.6,\"\")))))","v":""},{"$f":"SUM(CoreValuesResults[[#This Row],[Discovery]:[Fun]],CoreValuesResults[[#This Row],[Gracious Professionalism Score]])","v":0},{"$f":"IF(CoreValuesResults[[#This Row],[Team Number]]>0,MIN(_xlfn.RANK.EQ(CoreValuesResults[[#This Row],[Core Values Score]],CoreValuesResults[Core Values Score],0),NumberOfTeams),NumberOfTeams+1)","v":1}]
[null,{"$f":"IF(ISNA(INDEX(OfficialTeamList[Team Name],MATCH(CoreValuesResults[[#This Row],[Team Number]], OfficialTeamList[Team Number],0))),\"\",INDEX(OfficialTeamList[Team Name],MATCH(CoreValuesResults[[#This Row],[Team Number]], OfficialTeamList[Team Number],0)))","v":""},null,null,null,null,null,null,null,null,null,null,null,{"$f":"IF(CoreValuesResults[[#This Row],[Gracious Professionalism 1]]=\"\",\"\",COUNTIF(CoreValuesResults[[#This Row],[Gracious Professionalism 1]:[Gracious Professionalism 5]],\"\"))","v":""},{"$f":"IF(CoreValuesResults[[#This Row],[Gracious Professionalism 1]]=\"\",\"\",SUM(CoreValuesResults[[#This Row],[Gracious Professionalism 1]:[Gracious Professionalism 5]]))","v":""},{"$f":"IF(CoreValuesResults[[#This Row],[Gracious Professionalism Empty Count]]=3,SUM(CoreValuesResults[[#This Row],[Gracious Professionalism 1]:[Gracious Professionalism 5]]),IF(CoreValuesResults[[#This Row],[Gracious Professionalism Empty Count]]=4,SUM(CoreValuesResults[[#This Row],[Gracious Professionalism 1]:[Gracious Professionalism 5]]),IF(CoreValuesResults[[#This Row],[Gracious Professionalism Empty Count]]=2,CoreValuesResults[[#This Row],[Gracious Professionalism Total]],IF(CoreValuesResults[[#This Row],[Gracious Professionalism Empty Count]]=1,CoreValuesResults[[#This Row],[Gracious Professionalism Total]]*0.75,IF(CoreValuesResults[[#This Row],[Gracious Professionalism Empty Count]]=0,CoreValuesResults[[#This Row],[Gracious Professionalism Total]]*0.6,\"\")))))","v":""},{"$f":"SUM(CoreValuesResults[[#This Row],[Discovery]:[Fun]],CoreValuesResults[[#This Row],[Gracious Professionalism Score]])","v":0},{"$f":"IF(CoreValuesResults[[#This Row],[Team Number]]>0,MIN(_xlfn.RANK.EQ(CoreValuesResults[[#This Row],[Core Values Score]],CoreValuesResults[Core Values Score],0),NumberOfTeams),NumberOfTeams+1)","v":1}]
[null,{"$f":"IF(ISNA(INDEX(OfficialTeamList[Team Name],MATCH(CoreValuesResults[[#This Row],[Team Number]], OfficialTeamList[Team Number],0))),\"\",INDEX(OfficialTeamList[Team Name],MATCH(CoreValuesResults[[#This Row],[Team Number]], OfficialTeamList[Team Number],0)))","v":""},null,null,null,null,null,null,null,null,null,null,null,{"$f":"IF(CoreValuesResults[[#This Row],[Gracious Professionalism 1]]=\"\",\"\",COUNTIF(CoreValuesResults[[#This Row],[Gracious Professionalism 1]:[Gracious Professionalism 5]],\"\"))","v":""},{"$f":"IF(CoreValuesResults[[#This Row],[Gracious Professionalism 1]]=\"\",\"\",SUM(CoreValuesResults[[#This Row],[Gracious Professionalism 1]:[Gracious Professionalism 5]]))","v":""},{"$f":"IF(CoreValuesResults[[#This Row],[Gracious Professionalism Empty Count]]=3,SUM(CoreValuesResults[[#This Row],[Gracious Professionalism 1]:[Gracious Professionalism 5]]),IF(CoreValuesResults[[#This Row],[Gracious Professionalism Empty Count]]=4,SUM(CoreValuesResults[[#This Row],[Gracious Professionalism 1]:[Gracious Professionalism 5]]),IF(CoreValuesResults[[#This Row],[Gracious Professionalism Empty Count]]=2,CoreValuesResults[[#This Row],[Gracious Professionalism Total]],IF(CoreValuesResults[[#This Row],[Gracious Professionalism Empty Count]]=1,CoreValuesResults[[#This Row],[Gracious Professionalism Total]]*0.75,IF(CoreValuesResults[[#This Row],[Gracious Professionalism Empty Count]]=0,CoreValuesResults[[#This Row],[Gracious Professionalism Total]]*0.6,\"\")))))","v":""},{"$f":"SUM(CoreValuesResults[[#This Row],[Discovery]:[Fun]],CoreValuesResults[[#This Row],[Gracious Professionalism Score]])","v":0},{"$f":"IF(CoreValuesResults[[#This Row],[Team Number]]>0,MIN(_xlfn.RANK.EQ(CoreValuesResults[[#This Row],[Core Values Score]],CoreValuesResults[Core Values Score],0),NumberOfTeams),NumberOfTeams+1)","v":1}]
[null,{"$f":"IF(ISNA(INDEX(OfficialTeamList[Team Name],MATCH(CoreValuesResults[[#This Row],[Team Number]], OfficialTeamList[Team Number],0))),\"\",INDEX(OfficialTeamList[Team Name],MATCH(CoreValuesResults[[#This Row],[Team Number]], OfficialTeamList[Team Number],0)))","v":""},null,null,null,null,null,null,null,null,null,null,null,{"$f":"IF(CoreValuesResults[[#This Row],[Gracious Professionalism 1]]=\"\",\"\",COUNTIF(CoreValuesResults[[#This Row],[Gracious Professionalism 1]:[Gracious Professionalism 5]],\"\"))","v":""},{"$f":"IF(CoreValuesResults[[#This Row],[Gracious Professionalism 1]]=\"\",\"\",SUM(CoreValuesResults[[#This Row],[Gracious Professionalism 1]:[Gracious Professionalism 5]]))","v":""},{"$f":"IF(CoreValuesResults[[#This Row],[Gracious Professionalism Empty Count]]=3,SUM(CoreValuesResults[[#This Row],[Gracious Professionalism 1]:[Gracious Professionalism 5]]),IF(CoreValuesResults[[#This Row],[Gracious Professionalism Empty Count]]=4,SUM(CoreValuesResults[[#This Row],[Gracious Professionalism 1]:[Gracious Professionalism 5]]),IF(CoreValuesResults[[#This Row],[Gracious Professionalism Empty Count]]=2,CoreValuesResults[[#This Row],[Gracious Professionalism Total]],IF(CoreValuesResults[[#This Row],[Gracious Professionalism Empty Count]]=1,CoreValuesResults[[#This Row],[Gracious Professionalism Total]]*0.75,IF(CoreValuesResults[[#This Row],[Gracious Professionalism Empty Count]]=0,CoreValuesResults[[#This Row],[Gracious Professionalism Total]]*0.6,\"\")))))","v":""},{"$f":"SUM(CoreValuesResults[[#This Row],[Discovery]:[Fun]],CoreValuesResults[[#This Row],[Gracious Professionalism Score]])","v":0},{"$f":"IF(CoreValuesResults[[#This Row],[Team Number]]>0,MIN(_xlfn.RANK.EQ(CoreValuesResults[[#This Row],[Core Values Score]],CoreValuesResults[Core Values Score],0),NumberOfTeams),NumberOfTeams+1)","v":1}]
[null,{"$f":"IF(ISNA(INDEX(OfficialTeamList[Team Name],MATCH(CoreValuesResults[[#This Row],[Team Number]], OfficialTeamList[Team Number],0))),\"\",INDEX(OfficialTeamList[Team Name],MATCH(CoreValuesResults[[#This Row],[Team Number]], OfficialTeamList[Team Number],0)))","v":""},null,null,null,null,null,null,null,null,null,null,null,{"$f":"IF(CoreValuesResults[[#This Row],[Gracious Professionalism 1]]=\"\",\"\",COUNTIF(CoreValuesResults[[#This Row],[Gracious Professionalism 1]:[Gracious Professionalism 5]],\"\"))","v":""},{"$f":"IF(CoreValuesResults[[#This Row],[Gracious Professionalism 1]]=\"\",\"\",SUM(CoreValuesResults[[#This Row],[Gracious Professionalism 1]:[Gracious Professionalism 5]]))","v":""},{"$f":"IF(CoreValuesResults[[#This Row],[Gracious Professionalism Empty Count]]=3,SUM(CoreValuesResults[[#This Row],[Gracious Professionalism 1]:[Gracious Professionalism 5]]),IF(CoreValuesResults[[#This Row],[Gracious Professionalism Empty Count]]=4,SUM(CoreValuesResults[[#This Row],[Gracious Professionalism 1]:[Gracious Professionalism 5]]),IF(CoreValuesResults[[#This Row],[Gracious Professionalism Empty Count]]=2,CoreValuesResults[[#This Row],[Gracious Professionalism Total]],IF(CoreValuesResults[[#This Row],[Gracious Professionalism Empty Count]]=1,CoreValuesResults[[#This Row],[Gracious Professionalism Total]]*0.75,IF(CoreValuesResults[[#This Row],[Gracious Professionalism Empty Count]]=0,CoreValuesResults[[#This Row],[Gracious Professionalism Total]]*0.6,\"\")))))","v":""},{"$f":"SUM(CoreValuesResults[[#This Row],[Discovery]:[Fun]],CoreValuesResults[[#This Row],[Gracious Professionalism Score]])","v":0},{"$f":"IF(CoreValuesResults[[#This Row],[Team Number]]>0,MIN(_xlfn.RANK.EQ(CoreValuesResults[[#This Row],[Core Values Score]],CoreValuesResults[Core Values Score],0),NumberOfTeams),NumberOfTeams+1)","v":1}]
[null,{"$f":"IF(ISNA(INDEX(OfficialTeamList[Team Name],MATCH(CoreValuesResults[[#This Row],[Team Number]], OfficialTeamList[Team Number],0))),\"\",INDEX(OfficialTeamList[Team Name],MATCH(CoreValuesResults[[#This Row],[Team Number]], OfficialTeamList[Team Number],0)))","v":""},null,null,null,null,null,null,null,null,null,null,null,{"$f":"IF(CoreValuesResults[[#This Row],[Gracious Professionalism 1]]=\"\",\"\",COUNTIF(CoreValuesResults[[#This Row],[Gracious Professionalism 1]:[Gracious Professionalism 5]],\"\"))","v":""},{"$f":"IF(CoreValuesResults[[#This Row],[Gracious Professionalism 1]]=\"\",\"\",SUM(CoreValuesResults[[#This Row],[Gracious Professionalism 1]:[Gracious Professionalism 5]]))","v":""},{"$f":"IF(CoreValuesResults[[#This Row],[Gracious Professionalism Empty Count]]=3,SUM(CoreValuesResults[[#This Row],[Gracious Professionalism 1]:[Gracious Professionalism 5]]),IF(CoreValuesResults[[#This Row],[Gracious Professionalism Empty Count]]=4,SUM(CoreValuesResults[[#This Row],[Gracious Professionalism 1]:[Gracious Professionalism 5]]),IF(CoreValuesResults[[#This Row],[Gracious Professionalism Empty Count]]=2,CoreValuesResults[[#This Row],[Gracious Professionalism Total]],IF(CoreValuesResults[[#This Row],[Gracious Professionalism Empty Count]]=1,CoreValuesResults[[#This Row],[Gracious Professionalism Total]]*0.75,IF(CoreValuesResults[[#This Row],[Gracious Professionalism Empty Count]]=0,CoreValuesResults[[#This Row],[Gracious Professionalism Total]]*0.6,\"\")))))","v":""},{"$f":"SUM(CoreValuesResults[[#This Row],[Discovery]:[Fun]],CoreValuesResults[[#This Row],[Gracious Professionalism Score]])","v":0},{"$f":"IF(CoreValuesResults[[#This Row],[Team Number]]>0,MIN(_xlfn.RANK.EQ(CoreValuesResults[[#This Row],[Core Values Score]],CoreValuesResults[Core Values Score],0),NumberOfTeams),NumberOfTeams+1)","v":1}]
[null,{"$f":"IF(ISNA(INDEX(OfficialTeamList[Team Name],MATCH(CoreValuesResults[[#This Row],[Team Number]], OfficialTeamList[Team Number],0))),\"\",INDEX(OfficialTeamList[Team Name],MATCH(CoreValuesResults[[#This Row],[Team Number]], OfficialTeamList[Team Number],0)))","v":""},null,null,null,null,null,null,null,null,null,null,null,{"$f":"IF(CoreValuesResults[[#This Row],[Gracious Professionalism 1]]=\"\",\"\",COUNTIF(CoreValuesResults[[#This Row],[Gracious Professionalism 1]:[Gracious Professionalism 5]],\"\"))","v":""},{"$f":"IF(CoreValuesResults[[#This Row],[Gracious Professionalism 1]]=\"\",\"\",SUM(CoreValuesResults[[#This Row],[Gracious Professionalism 1]:[Gracious Professionalism 5]]))","v":""},{"$f":"IF(CoreValuesResults[[#This Row],[Gracious Professionalism Empty Count]]=3,SUM(CoreValuesResults[[#This Row],[Gracious Professionalism 1]:[Gracious Professionalism 5]]),IF(CoreValuesResults[[#This Row],[Gracious Professionalism Empty Count]]=4,SUM(CoreValuesResults[[#This Row],[Gracious Professionalism 1]:[Gracious Professionalism 5]]),IF(CoreValuesResults[[#This Row],[Gracious Professionalism Empty Count]]=2,CoreValuesResults[[#This Row],[Gracious Professionalism Total]],IF(CoreValuesResults[[#This Row],[Gracious Professionalism Empty Count]]=1,CoreValuesResults[[#This Row],[Gracious Professionalism Total]]*0.75,IF(CoreValuesResults[[#This Row],[Gracious Professionalism Empty Count]]=0,CoreValuesResults[[#This Row],[Gracious Professionalism Total]]*0.6,\"\")))))","v":""},{"$f":"SUM(CoreValuesResults[[#This Row],[Discovery]:[Fun]],CoreValuesResults[[#This Row],[Gracious Professionalism Score]])","v":0},{"$f":"IF(CoreValuesResults[[#This Row],[Team Number]]>0,MIN(_xlfn.RANK.EQ(CoreValuesResults[[#This Row],[Core Values Score]],CoreValuesResults[Core Values Score],0),NumberOfTeams),NumberOfTeams+1)","v":1}]
[null,{"$f":"IF(ISNA(INDEX(OfficialTeamList[Team Name],MATCH(CoreValuesResults[[#This Row],[Team Number]], OfficialTeamList[Team Number],0))),\"\",INDEX(OfficialTeamList[Team Name],MATCH(CoreValuesResults[[#This Row],[Team Number]], OfficialTeamList[Team Number],0)))","v":""},null,null,null,null,null,null,null,null,null,null,null,{"$f":"IF(CoreValuesResults[[#This Row],[Gracious Professionalism 1]]=\"\",\"\",COUNTIF(CoreValuesResults[[#This Row],[Gracious Professionalism 1]:[Gracious Professionalism 5]],\"\"))","v":""},{"$f":"IF(CoreValuesResults[[#This Row],[Gracious Professionalism 1]]=\"\",\"\",SUM(CoreValuesResults[[#This Row],[Gracious Professionalism 1]:[Gracious Professionalism 5]]))","v":""},{"$f":"IF(CoreValuesResults[[#This Row],[Gracious Professionalism Empty Count]]=3,SUM(CoreValuesResults[[#This Row],[Gracious Professionalism 1]:[Gracious Professionalism 5]]),IF(CoreValuesResults[[#This Row],[Gracious Professionalism Empty Count]]=4,SUM(CoreValuesResults[[#This Row],[Gracious Professionalism 1]:[Gracious Professionalism 5]]),IF(CoreValuesResults[[#This Row],[Gracious Professionalism Empty Count]]=2,CoreValuesResults[[#This Row],[Gracious Professionalism Total]],IF(CoreValuesResults[[#This Row],[Gracious Professionalism Empty Count]]=1,CoreValuesResults[[#This Row],[Gracious Professionalism Total]]*0.75,IF(CoreValuesResults[[#This Row],[Gracious Professionalism Empty Count]]=0,CoreValuesResults[[#This Row],[Gracious Professionalism Total]]*0.6,\"\")))))","v":""},{"$f":"SUM(CoreValuesResults[[#This Row],[Discovery]:[Fun]],CoreValuesResults[[#This Row],[Gracious Professionalism Score]])","v":0},{"$f":"IF(CoreValuesResults[[#This Row],[Team Number]]>0,MIN(_xlfn.RANK.EQ(CoreValuesResults[[#This Row],[Core Values Score]],CoreValuesResults[Core Values Score],0),NumberOfTeams),NumberOfTeams+1)","v":1}]
[null,{"$f":"IF(ISNA(INDEX(OfficialTeamList[Team Name],MATCH(CoreValuesResults[[#This Row],[Team Number]], OfficialTeamList[Team Number],0))),\"\",INDEX(OfficialTeamList[Team Name],MATCH(CoreValuesResults[[#This Row],[Team Number]], OfficialTeamList[Team Number],0)))","v":""},null,null,null,null,null,null,null,null,null,null,null,{"$f":"IF(CoreValuesResults[[#This Row],[Gracious Professionalism 1]]=\"\",\"\",COUNTIF(CoreValuesResults[[#This Row],[Gracious Professionalism 1]:[Gracious Professionalism 5]],\"\"))","v":""},{"$f":"IF(CoreValuesResults[[#This Row],[Gracious Professionalism 1]]=\"\",\"\",SUM(CoreValuesResults[[#This Row],[Gracious Professionalism 1]:[Gracious Professionalism 5]]))","v":""},{"$f":"IF(CoreValuesResults[[#This Row],[Gracious Professionalism Empty Count]]=3,SUM(CoreValuesResults[[#This Row],[Gracious Professionalism 1]:[Gracious Professionalism 5]]),IF(CoreValuesResults[[#This Row],[Gracious Professionalism Empty Count]]=4,SUM(CoreValuesResults[[#This Row],[Gracious Professionalism 1]:[Gracious Professionalism 5]]),IF(CoreValuesResults[[#This Row],[Gracious Professionalism Empty Count]]=2,CoreValuesResults[[#This Row],[Gracious Professionalism Total]],IF(CoreValuesResults[[#This Row],[Gracious Professionalism Empty Count]]=1,CoreValuesResults[[#This Row],[Gracious Professionalism Total]]*0.75,IF(CoreValuesResults[[#This Row],[Gracious Professionalism Empty Count]]=0,CoreValuesResults[[#This Row],[Gracious Professionalism Total]]*0.6,\"\")))))","v":""},{"$f":"SUM(CoreValuesResults[[#This Row],[Discovery]:[Fun]],CoreValuesResults[[#This Row],[Gracious Professionalism Score]])","v":0},{"$f":"IF(CoreValuesResults[[#This Row],[Team Number]]>0,MIN(_xlfn.RANK.EQ(CoreValuesResults[[#This Row],[Core Values Score]],CoreValuesResults[Core Values Score],0),NumberOfTeams),NumberOfTeams+1)","v":1}]
[null,{"$f":"IF(ISNA(INDEX(OfficialTeamList[Team Name],MATCH(CoreValuesResults[[#This Row],[Team Number]], OfficialTeamList[Team Number],0))),\"\",INDEX(OfficialTeamList[Team Name],MATCH(CoreValuesResults[[#This Row],[Team Number]], OfficialTeamList[Team Number],0)))","v":""},null,null,null,null,null,null,null,null,null,null,null,{"$f":"IF(CoreValuesResults[[#This Row],[Gracious Professionalism 1]]=\"\",\"\",COUNTIF(CoreValuesResults[[#This Row],[Gracious Professionalism 1]:[Gracious Professionalism 5]],\"\"))","v":""},{"$f":"IF(CoreValuesResults[[#This Row],[Gracious Professionalism 1]]=\"\",\"\",SUM(CoreValuesResults[[#This Row],[Gracious Professionalism 1]:[Gracious Professionalism 5]]))","v":""},{"$f":"IF(CoreValuesResults[[#This Row],[Gracious Professionalism Empty Count]]=3,SUM(CoreValuesResults[[#This Row],[Gracious Professionalism 1]:[Gracious Professionalism 5]]),IF(CoreValuesResults[[#This Row],[Gracious Professionalism Empty Count]]=4,SUM(CoreValuesResults[[#This Row],[Gracious Professionalism 1]:[Gracious Professionalism 5]]),IF(CoreValuesResults[[#This Row],[Gracious Professionalism Empty Count]]=2,CoreValuesResults[[#This Row],[Gracious Professionalism Total]],IF(CoreValuesResults[[#This Row],[Gracious Professionalism Empty Count]]=1,CoreValuesResults[[#This Row],[Gracious Professionalism Total]]*0.75,IF(CoreValuesResults[[#This Row],[Gracious Professionalism Empty Count]]=0,CoreValuesResults[[#This Row],[Gracious Professionalism Total]]*0.6,\"\")))))","v":""},{"$f":"SUM(CoreValuesResults[[#This Row],[Discovery]:[Fun]],CoreValuesResults[[#This Row],[Gracious Professionalism Score]])","v":0},{"$f":"IF(CoreValuesResults[[#This Row],[Team Number]]>0,MIN(_xlfn.RANK.EQ(CoreValuesResults[[#This Row],[Core Values Score]],CoreValuesResults[Core Values Score],0),NumberOfTeams),NumberOfTeams+1)","v":1}]
[null,{"$f":"IF(ISNA(INDEX(OfficialTeamList[Team Name],MATCH(CoreValuesResults[[#This Row],[Team Number]], OfficialTeamList[Team Number],0))),\"\",INDEX(OfficialTeamList[Team Name],MATCH(CoreValuesResults[[#This Row],[Team Number]], OfficialTeamList[Team Number],0)))","v":""},null,null,null,null,null,null,null,null,null,null,null,{"$f":"IF(CoreValuesResults[[#This Row],[Gracious Professionalism 1]]=\"\",\"\",COUNTIF(CoreValuesResults[[#This Row],[Gracious Professionalism 1]:[Gracious Professionalism 5]],\"\"))","v":""},{"$f":"IF(CoreValuesResults[[#This Row],[Gracious Professionalism 1]]=\"\",\"\",SUM(CoreValuesResults[[#This Row],[Gracious Professionalism 1]:[Gracious Professionalism 5]]))","v":""},{"$f":"IF(CoreValuesResults[[#This Row],[Gracious Professionalism Empty Count]]=3,SUM(CoreValuesResults[[#This Row],[Gracious Professionalism 1]:[Gracious Professionalism 5]]),IF(CoreValuesResults[[#This Row],[Gracious Professionalism Empty Count]]=4,SUM(CoreValuesResults[[#This Row],[Gracious Professionalism 1]:[Gracious Professionalism 5]]),IF(CoreValuesResults[[#This Row],[Gracious Professionalism Empty Count]]=2,CoreValuesResults[[#This Row],[Gracious Professionalism Total]],IF(CoreValuesResults[[#This Row],[Gracious Professionalism Empty Count]]=1,CoreValuesResults[[#This Row],[Gracious Professionalism Total]]*0.75,IF(CoreValuesResults[[#This Row],[Gracious Professionalism Empty Count]]=0,CoreValuesResults[[#This Row],[Gracious Professionalism Total]]*0.6,\"\")))))","v":""},{"$f":"SUM(CoreValuesResults[[#This Row],[Discovery]:[Fun]],CoreValuesResults[[#This Row],[Gracious Professionalism Score]])","v":0},{"$f":"IF(CoreValuesResults[[#This Row],[Team Number]]>0,MIN(_xlfn.RANK.EQ(CoreValuesResults[[#This Row],[Core Values Score]],CoreValuesResults[Core Values Score],0),NumberOfTeams),NumberOfTeams+1)","v":1}]
[null,{"$f":"IF(ISNA(INDEX(OfficialTeamList[Team Name],MATCH(CoreValuesResults[[#This Row],[Team Number]], OfficialTeamList[Team Number],0))),\"\",INDEX(OfficialTeamList[Team Name],MATCH(CoreValuesResults[[#This Row],[Team Number]], OfficialTeamList[Team Number],0)))","v":""},null,null,null,null,null,null,null,null,null,null,null,{"$f":"IF(CoreValuesResults[[#This Row],[Gracious Professionalism 1]]=\"\",\"\",COUNTIF(CoreValuesResults[[#This Row],[Gracious Professionalism 1]:[Gracious Professionalism 5]],\"\"))","v":""},{"$f":"IF(CoreValuesResults[[#This Row],[Gracious Professionalism 1]]=\"\",\"\",SUM(CoreValuesResults[[#This Row],[Gracious Professionalism 1]:[Gracious Professionalism 5]]))","v":""},{"$f":"IF(CoreValuesResults[[#This Row],[Gracious Professionalism Empty Count]]=3,SUM(CoreValuesResults[[#This Row],[Gracious Professionalism 1]:[Gracious Professionalism 5]]),IF(CoreValuesResults[[#This Row],[Gracious Professionalism Empty Count]]=4,SUM(CoreValuesResults[[#This Row],[Gracious Professionalism 1]:[Gracious Professionalism 5]]),IF(CoreValuesResults[[#This Row],[Gracious Professionalism Empty Count]]=2,CoreValuesResults[[#This Row],[Gracious Professionalism Total]],IF(CoreValuesResults[[#This Row],[Gracious Professionalism Empty Count]]=1,CoreValuesResults[[#This Row],[Gracious Professionalism Total]]*0.75,IF(CoreValuesResults[[#This Row],[Gracious Professionalism Empty Count]]=0,CoreValuesResults[[#This Row],[Gracious Professionalism Total]]*0.6,\"\")))))","v":""},{"$f":"SUM(CoreValuesResults[[#This Row],[Discovery]:[Fun]],CoreValuesResults[[#This Row],[Gracious Professionalism Score]])","v":0},{"$f":"IF(CoreValuesResults[[#This Row],[Team Number]]>0,MIN(_xlfn.RANK.EQ(CoreValuesResults[[#This Row],[Core Values Score]],CoreValuesResults[Core Values Score],0),NumberOfTeams),NumberOfTeams+1)","v":1}]
[null,{"$f":"IF(ISNA(INDEX(OfficialTeamList[Team Name],MATCH(CoreValuesResults[[#This Row],[Team Number]], OfficialTeamList[Team Number],0))),\"\",INDEX(OfficialTeamList[Team Name],MATCH(CoreValuesResults[[#This Row],[Team Number]], OfficialTeamList[Team Number],0)))","v":""},null,null,null,null,null,null,null,null,null,null,null,{"$f":"IF(CoreValuesResults[[#This Row],[Gracious Professionalism 1]]=\"\",\"\",COUNTIF(CoreValuesResults[[#This Row],[Gracious Professionalism 1]:[Gracious Professionalism 5]],\"\"))","v":""},{"$f":"IF(CoreValuesResults[[#This Row],[Gracious Professionalism 1]]=\"\",\"\",SUM(CoreValuesResults[[#This Row],[Gracious Professionalism 1]:[Gracious Professionalism 5]]))","v":""},{"$f":"IF(CoreValuesResults[[#This Row],[Gracious Professionalism Empty Count]]=3,SUM(CoreValuesResults[[#This Row],[Gracious Professionalism 1]:[Gracious Professionalism 5]]),IF(CoreValuesResults[[#This Row],[Gracious Professionalism Empty Count]]=4,SUM(CoreValuesResults[[#This Row],[Gracious Professionalism 1]:[Gracious Professionalism 5]]),IF(CoreValuesResults[[#This Row],[Gracious Professionalism Empty Count]]=2,CoreValuesResults[[#This Row],[Gracious Professionalism Total]],IF(CoreValuesResults[[#This Row],[Gracious Professionalism Empty Count]]=1,CoreValuesResults[[#This Row],[Gracious Professionalism Total]]*0.75,IF(CoreValuesResults[[#This Row],[Gracious Professionalism Empty Count]]=0,CoreValuesResults[[#This Row],[Gracious Professionalism Total]]*0.6,\"\")))))","v":""},{"$f":"SUM(CoreValuesResults[[#This Row],[Discovery]:[Fun]],CoreValuesResults[[#This Row],[Gracious Professionalism Score]])","v":0},{"$f":"IF(CoreValuesResults[[#This Row],[Team Number]]>0,MIN(_xlfn.RANK.EQ(CoreValuesResults[[#This Row],[Core Values Score]],CoreValuesResults[Core Values Score],0),NumberOfTeams),NumberOfTeams+1)","v":1}]
[null,{"$f":"IF(ISNA(INDEX(OfficialTeamList[Team Name],MATCH(CoreValuesResults[[#This Row],[Team Number]], OfficialTeamList[Team Number],0))),\"\",INDEX(OfficialTeamList[Team Name],MATCH(CoreValuesResults[[#This Row],[Team Number]], OfficialTeamList[Team Number],0)))","v":""},null,null,null,null,null,null,null,null,null,null,null,{"$f":"IF(CoreValuesResults[[#This Row],[Gracious Professionalism 1]]=\"\",\"\",COUNTIF(CoreValuesResults[[#This Row],[Gracious Professionalism 1]:[Gracious Professionalism 5]],\"\"))","v":""},{"$f":"IF(CoreValuesResults[[#This Row],[Gracious Professionalism 1]]=\"\",\"\",SUM(CoreValuesResults[[#This Row],[Gracious Professionalism 1]:[Gracious Professionalism 5]]))","v":""},{"$f":"IF(CoreValuesResults[[#This Row],[Gracious Professionalism Empty Count]]=3,SUM(CoreValuesResults[[#This Row],[Gracious Professionalism 1]:[Gracious Professionalism 5]]),IF(CoreValuesResults[[#This Row],[Gracious Professionalism Empty Count]]=4,SUM(CoreValuesResults[[#This Row],[Gracious Professionalism 1]:[Gracious Professionalism 5]]),IF(CoreValuesResults[[#This Row],[Gracious Professionalism Empty Count]]=2,CoreValuesResults[[#This Row],[Gracious Professionalism Total]],IF(CoreValuesResults[[#This Row],[Gracious Professionalism Empty Count]]=1,CoreValuesResults[[#This Row],[Gracious Professionalism Total]]*0.75,IF(CoreValuesResults[[#This Row],[Gracious Professionalism Empty Count]]=0,CoreValuesResults[[#This Row],[Gracious Professionalism Total]]*0.6,\"\")))))","v":""},{"$f":"SUM(CoreValuesResults[[#This Row],[Discovery]:[Fun]],CoreValuesResults[[#This Row],[Gracious Professionalism Score]])","v":0},{"$f":"IF(CoreValuesResults[[#This Row],[Team Number]]>0,MIN(_xlfn.RANK.EQ(CoreValuesResults[[#This Row],[Core Values Score]],CoreValuesResults[Core Values Score],0),NumberOfTeams),NumberOfTeams+1)","v":1}]
[null,{"$f":"IF(ISNA(INDEX(OfficialTeamList[Team Name],MATCH(CoreValuesResults[[#This Row],[Team Number]], OfficialTeamList[Team Number],0))),\"\",INDEX(OfficialTeamList[Team Name],MATCH(CoreValuesResults[[#This Row],[Team Number]], OfficialTeamList[Team Number],0)))","v":""},null,null,null,null,null,null,null,null,null,null,null,{"$f":"IF(CoreValuesResults[[#This Row],[Gracious Professionalism 1]]=\"\",\"\",COUNTIF(CoreValuesResults[[#This Row],[Gracious Professionalism 1]:[Gracious Professionalism 5]],\"\"))","v":""},{"$f":"IF(CoreValuesResults[[#This Row],[Gracious Professionalism 1]]=\"\",\"\",SUM(CoreValuesResults[[#This Row],[Gracious Professionalism 1]:[Gracious Professionalism 5]]))","v":""},{"$f":"IF(CoreValuesResults[[#This Row],[Gracious Professionalism Empty Count]]=3,SUM(CoreValuesResults[[#This Row],[Gracious Professionalism 1]:[Gracious Professionalism 5]]),IF(CoreValuesResults[[#This Row],[Gracious Professionalism Empty Count]]=4,SUM(CoreValuesResults[[#This Row],[Gracious Professionalism 1]:[Gracious Professionalism 5]]),IF(CoreValuesResults[[#This Row],[Gracious Professionalism Empty Count]]=2,CoreValuesResults[[#This Row],[Gracious Professionalism Total]],IF(CoreValuesResults[[#This Row],[Gracious Professionalism Empty Count]]=1,CoreValuesResults[[#This Row],[Gracious Professionalism Total]]*0.75,IF(CoreValuesResults[[#This Row],[Gracious Professionalism Empty Count]]=0,CoreValuesResults[[#This Row],[Gracious Professionalism Total]]*0.6,\"\")))))","v":""},{"$f":"SUM(CoreValuesResults[[#This Row],[Discovery]:[Fun]],CoreValuesResults[[#This Row],[Gracious Professionalism Score]])","v":0},{"$f":"IF(CoreValuesResults[[#This Row],[Team Number]]>0,MIN(_xlfn.RANK.EQ(CoreValuesResults[[#This Row],[Core Values Score]],CoreValuesResults[Core Values Score],0),NumberOfTeams),NumberOfTeams+1)","v":1}]
[null,{"$f":"IF(ISNA(INDEX(OfficialTeamList[Team Name],MATCH(CoreValuesResults[[#This Row],[Team Number]], OfficialTeamList[Team Number],0))),\"\",INDEX(OfficialTeamList[Team Name],MATCH(CoreValuesResults[[#This Row],[Team Number]], OfficialTeamList[Team Number],0)))","v":""},null,null,null,null,null,null,null,null,null,null,null,{"$f":"IF(CoreValuesResults[[#This Row],[Gracious Professionalism 1]]=\"\",\"\",COUNTIF(CoreValuesResults[[#This Row],[Gracious Professionalism 1]:[Gracious Professionalism 5]],\"\"))","v":""},{"$f":"IF(CoreValuesResults[[#This Row],[Gracious Professionalism 1]]=\"\",\"\",SUM(CoreValuesResults[[#This Row],[Gracious Professionalism 1]:[Gracious Professionalism 5]]))","v":""},{"$f":"IF(CoreValuesResults[[#This Row],[Gracious Professionalism Empty Count]]=3,SUM(CoreValuesResults[[#This Row],[Gracious Professionalism 1]:[Gracious Professionalism 5]]),IF(CoreValuesResults[[#This Row],[Gracious Professionalism Empty Count]]=4,SUM(CoreValuesResults[[#This Row],[Gracious Professionalism 1]:[Gracious Professionalism 5]]),IF(CoreValuesResults[[#This Row],[Gracious Professionalism Empty Count]]=2,CoreValuesResults[[#This Row],[Gracious Professionalism Total]],IF(CoreValuesResults[[#This Row],[Gracious Professionalism Empty Count]]=1,CoreValuesResults[[#This Row],[Gracious Professionalism Total]]*0.75,IF(CoreValuesResults[[#This Row],[Gracious Professionalism Empty Count]]=0,CoreValuesResults[[#This Row],[Gracious Professionalism Total]]*0.6,\"\")))))","v":""},{"$f":"SUM(CoreValuesResults[[#This Row],[Discovery]:[Fun]],CoreValuesResults[[#This Row],[Gracious Professionalism Score]])","v":0},{"$f":"IF(CoreValuesResults[[#This Row],[Team Number]]>0,MIN(_xlfn.RANK.EQ(CoreValuesResults[[#This Row],[Core Values Score]],CoreValuesResults[Core Values Score],0),NumberOfTeams),NumberOfTeams+1)","v":1}]
[null,{"$f":"IF(ISNA(INDEX(OfficialTeamList[Team Name],MATCH(CoreValuesResults[[#This Row],[Team Number]], OfficialTeamList[Team Number],0))),\"\",INDEX(OfficialTeamList[Team Name],MATCH(CoreValuesResults[[#This Row],[Team Number]], OfficialTeamList[Team Number],0)))","v":""},null,null,null,null,null,null,null,null,null,null,null,{"$f":"IF(CoreValuesResults[[#This Row],[Gracious Professionalism 1]]=\"\",\"\",COUNTIF(CoreValuesResults[[#This Row],[Gracious Professionalism 1]:[Gracious Professionalism 5]],\"\"))","v":""},{"$f":"IF(CoreValuesResults[[#This Row],[Gracious Professionalism 1]]=\"\",\"\",SUM(CoreValuesResults[[#This Row],[Gracious Professionalism 1]:[Gracious Professionalism 5]]))","v":""},{"$f":"IF(CoreValuesResults[[#This Row],[Gracious Professionalism Empty Count]]=3,SUM(CoreValuesResults[[#This Row],[Gracious Professionalism 1]:[Gracious Professionalism 5]]),IF(CoreValuesResults[[#This Row],[Gracious Professionalism Empty Count]]=4,SUM(CoreValuesResults[[#This Row],[Gracious Professionalism 1]:[Gracious Professionalism 5]]),IF(CoreValuesResults[[#This Row],[Gracious Professionalism Empty Count]]=2,CoreValuesResults[[#This Row],[Gracious Professionalism Total]],IF(CoreValuesResults[[#This Row],[Gracious Professionalism Empty Count]]=1,CoreValuesResults[[#This Row],[Gracious Professionalism Total]]*0.75,IF(CoreValuesResults[[#This Row],[Gracious Professionalism Empty Count]]=0,CoreValuesResults[[#This Row],[Gracious Professionalism Total]]*0.6,\"\")))))","v":""},{"$f":"SUM(CoreValuesResults[[#This Row],[Discovery]:[Fun]],CoreValuesResults[[#This Row],[Gracious Professionalism Score]])","v":0},{"$f":"IF(CoreValuesResults[[#This Row],[Team Number]]>0,MIN(_xlfn.RANK.EQ(CoreValuesResults[[#This Row],[Core Values Score]],CoreValuesResults[Core Values Score],0),NumberOfTeams),NumberOfTeams+1)","v":1}]
[null,{"$f":"IF(ISNA(INDEX(OfficialTeamList[Team Name],MATCH(CoreValuesResults[[#This Row],[Team Number]], OfficialTeamList[Team Number],0))),\"\",INDEX(OfficialTeamList[Team Name],MATCH(CoreValuesResults[[#This Row],[Team Number]], OfficialTeamList[Team Number],0)))","v":""},null,null,null,null,null,null,null,null,null,null,null,{"$f":"IF(CoreValuesResults[[#This Row],[Gracious Professionalism 1]]=\"\",\"\",COUNTIF(CoreValuesResults[[#This Row],[Gracious Professionalism 1]:[Gracious Professionalism 5]],\"\"))","v":""},{"$f":"IF(CoreValuesResults[[#This Row],[Gracious Professionalism 1]]=\"\",\"\",SUM(CoreValuesResults[[#This Row],[Gracious Professionalism 1]:[Gracious Professionalism 5]]))","v":""},{"$f":"IF(CoreValuesResults[[#This Row],[Gracious Professionalism Empty Count]]=3,SUM(CoreValuesResults[[#This Row],[Gracious Professionalism 1]:[Gracious Professionalism 5]]),IF(CoreValuesResults[[#This Row],[Gracious Professionalism Empty Count]]=4,SUM(CoreValuesResults[[#This Row],[Gracious Professionalism 1]:[Gracious Professionalism 5]]),IF(CoreValuesResults[[#This Row],[Gracious Professionalism Empty Count]]=2,CoreValuesResults[[#This Row],[Gracious Professionalism Total]],IF(CoreValuesResults[[#This Row],[Gracious Professionalism Empty Count]]=1,CoreValuesResults[[#This Row],[Gracious Professionalism Total]]*0.75,IF(CoreValuesResults[[#This Row],[Gracious Professionalism Empty Count]]=0,CoreValuesResults[[#This Row],[Gracious Professionalism Total]]*0.6,\"\")))))","v":""},{"$f":"SUM(CoreValuesResults[[#This Row],[Discovery]:[Fun]],CoreValuesResults[[#This Row],[Gracious Professionalism Score]])","v":0},{"$f":"IF(CoreValuesResults[[#This Row],[Team Number]]>0,MIN(_xlfn.RANK.EQ(CoreValuesResults[[#This Row],[Core Values Score]],CoreValuesResults[Core Values Score],0),NumberOfTeams),NumberOfTeams+1)","v":1}]
[null,{"$f":"IF(ISNA(INDEX(OfficialTeamList[Team Name],MATCH(CoreValuesResults[[#This Row],[Team Number]], OfficialTeamList[Team Number],0))),\"\",INDEX(OfficialTeamList[Team Name],MATCH(CoreValuesResults[[#This Row],[Team Number]], OfficialTeamList[Team Number],0)))","v":""},null,null,null,null,null,null,null,null,null,null,null,{"$f":"IF(CoreValuesResults[[#This Row],[Gracious Professionalism 1]]=\"\",\"\",COUNTIF(CoreValuesResults[[#This Row],[Gracious Professionalism 1]:[Gracious Professionalism 5]],\"\"))","v":""},{"$f":"IF(CoreValuesResults[[#This Row],[Gracious Professionalism 1]]=\"\",\"\",SUM(CoreValuesResults[[#This Row],[Gracious Professionalism 1]:[Gracious Professionalism 5]]))","v":""},{"$f":"IF(CoreValuesResults[[#This Row],[Gracious Professionalism Empty Count]]=3,SUM(CoreValuesResults[[#This Row],[Gracious Professionalism 1]:[Gracious Professionalism 5]]),IF(CoreValuesResults[[#This Row],[Gracious Professionalism Empty Count]]=4,SUM(CoreValuesResults[[#This Row],[Gracious Professionalism 1]:[Gracious Professionalism 5]]),IF(CoreValuesResults[[#This Row],[Gracious Professionalism Empty Count]]=2,CoreValuesResults[[#This Row],[Gracious Professionalism Total]],IF(CoreValuesResults[[#This Row],[Gracious Professionalism Empty Count]]=1,CoreValuesResults[[#This Row],[Gracious Professionalism Total]]*0.75,IF(CoreValuesResults[[#This Row],[Gracious Professionalism Empty Count]]=0,CoreValuesResults[[#This Row],[Gracious Professionalism Total]]*0.6,\"\")))))","v":""},{"$f":"SUM(CoreValuesResults[[#This Row],[Discovery]:[Fun]],CoreValuesResults[[#This Row],[Gracious Professionalism Score]])","v":0},{"$f":"IF(CoreValuesResults[[#This Row],[Team Number]]>0,MIN(_xlfn.RANK.EQ(CoreValuesResults[[#This Row],[Core Values Score]],CoreValuesResults[Core Values Score],0),NumberOfTeams),NumberOfTeams+1)","v":1}]
[null,{"$f":"IF(ISNA(INDEX(OfficialTeamList[Team Name],MATCH(CoreValuesResults[[#This Row],[Team Number]], OfficialTeamList[Team Number],0))),\"\",INDEX(OfficialTeamList[Team Name],MATCH(CoreValuesResults[[#This Row],[Team Number]], OfficialTeamList[Team Number],0)))","v":""},null,null,null,null,null,null,null,null,null,null,null,{"$f":"IF(CoreValuesResults[[#This Row],[Gracious Professionalism 1]]=\"\",\"\",COUNTIF(CoreValuesResults[[#This Row],[Gracious Professionalism 1]:[Gracious Professionalism 5]],\"\"))","v":""},{"$f":"IF(CoreValuesResults[[#This Row],[Gracious Professionalism 1]]=\"\",\"\",SUM(CoreValuesResults[[#This Row],[Gracious Professionalism 1]:[Gracious Professionalism 5]]))","v":""},{"$f":"IF(CoreValuesResults[[#This Row],[Gracious Professionalism Empty Count]]=3,SUM(CoreValuesResults[[#This Row],[Gracious Professionalism 1]:[Gracious Professionalism 5]]),IF(CoreValuesResults[[#This Row],[Gracious Professionalism Empty Count]]=4,SUM(CoreValuesResults[[#This Row],[Gracious Professionalism 1]:[Gracious Professionalism 5]]),IF(CoreValuesResults[[#This Row],[Gracious Professionalism Empty Count]]=2,CoreValuesResults[[#This Row],[Gracious Professionalism Total]],IF(CoreValuesResults[[#This Row],[Gracious Professionalism Empty Count]]=1,CoreValuesResults[[#This Row],[Gracious Professionalism Total]]*0.75,IF(CoreValuesResults[[#This Row],[Gracious Professionalism Empty Count]]=0,CoreValuesResults[[#This Row],[Gracious Professionalism Total]]*0.6,\"\")))))","v":""},{"$f":"SUM(CoreValuesResults[[#This Row],[Discovery]:[Fun]],CoreValuesResults[[#This Row],[Gracious Professionalism Score]])","v":0},{"$f":"IF(CoreValuesResults[[#This Row],[Team Number]]>0,MIN(_xlfn.RANK.EQ(CoreValuesResults[[#This Row],[Core Values Score]],CoreValuesResults[Core Values Score],0),NumberOfTeams),NumberOfTeams+1)","v":1}]
[null,{"$f":"IF(ISNA(INDEX(OfficialTeamList[Team Name],MATCH(CoreValuesResults[[#This Row],[Team Number]], OfficialTeamList[Team Number],0))),\"\",INDEX(OfficialTeamList[Team Name],MATCH(CoreValuesResults[[#This Row],[Team Number]], OfficialTeamList[Team Number],0)))","v":""},null,null,null,null,null,null,null,null,null,null,null,{"$f":"IF(CoreValuesResults[[#This Row],[Gracious Professionalism 1]]=\"\",\"\",COUNTIF(CoreValuesResults[[#This Row],[Gracious Professionalism 1]:[Gracious Professionalism 5]],\"\"))","v":""},{"$f":"IF(CoreValuesResults[[#This Row],[Gracious Professionalism 1]]=\"\",\"\",SUM(CoreValuesResults[[#This Row],[Gracious Professionalism 1]:[Gracious Professionalism 5]]))","v":""},{"$f":"IF(CoreValuesResults[[#This Row],[Gracious Professionalism Empty Count]]=3,SUM(CoreValuesResults[[#This Row],[Gracious Professionalism 1]:[Gracious Professionalism 5]]),IF(CoreValuesResults[[#This Row],[Gracious Professionalism Empty Count]]=4,SUM(CoreValuesResults[[#This Row],[Gracious Professionalism 1]:[Gracious Professionalism 5]]),IF(CoreValuesResults[[#This Row],[Gracious Professionalism Empty Count]]=2,CoreValuesResults[[#This Row],[Gracious Professionalism Total]],IF(CoreValuesResults[[#This Row],[Gracious Professionalism Empty Count]]=1,CoreValuesResults[[#This Row],[Gracious Professionalism Total]]*0.75,IF(CoreValuesResults[[#This Row],[Gracious Professionalism Empty Count]]=0,CoreValuesResults[[#This Row],[Gracious Professionalism Total]]*0.6,\"\")))))","v":""},{"$f":"SUM(CoreValuesResults[[#This Row],[Discovery]:[Fun]],CoreValuesResults[[#This Row],[Gracious Professionalism Score]])","v":0},{"$f":"IF(CoreValuesResults[[#This Row],[Team Number]]>0,MIN(_xlfn.RANK.EQ(CoreValuesResults[[#This Row],[Core Values Score]],CoreValuesResults[Core Values Score],0),NumberOfTeams),NumberOfTeams+1)","v":1}]
[null,{"$f":"IF(ISNA(INDEX(OfficialTeamList[Team Name],MATCH(CoreValuesResults[[#This Row],[Team Number]], OfficialTeamList[Team Number],0))),\"\",INDEX(OfficialTeamList[Team Name],MATCH(CoreValuesResults[[#This Row],[Team Number]], OfficialTeamList[Team Number],0)))","v":""},null,null,null,null,null,null,null,null,null,null,null,{"$f":"IF(CoreValuesResults[[#This Row],[Gracious Professionalism 1]]=\"\",\"\",COUNTIF(CoreValuesResults[[#This Row],[Gracious Professionalism 1]:[Gracious Professionalism 5]],\"\"))","v":""},{"$f":"IF(CoreValuesResults[[#This Row],[Gracious Professionalism 1]]=\"\",\"\",SUM(CoreValuesResults[[#This Row],[Gracious Professionalism 1]:[Gracious Professionalism 5]]))","v":""},{"$f":"IF(CoreValuesResults[[#This Row],[Gracious Professionalism Empty Count]]=3,SUM(CoreValuesResults[[#This Row],[Gracious Professionalism 1]:[Gracious Professionalism 5]]),IF(CoreValuesResults[[#This Row],[Gracious Professionalism Empty Count]]=4,SUM(CoreValuesResults[[#This Row],[Gracious Professionalism 1]:[Gracious Professionalism 5]]),IF(CoreValuesResults[[#This Row],[Gracious Professionalism Empty Count]]=2,CoreValuesResults[[#This Row],[Gracious Professionalism Total]],IF(CoreValuesResults[[#This Row],[Gracious Professionalism Empty Count]]=1,CoreValuesResults[[#This Row],[Gracious Professionalism Total]]*0.75,IF(CoreValuesResults[[#This Row],[Gracious Professionalism Empty Count]]=0,CoreValuesResults[[#This Row],[Gracious Professionalism Total]]*0.6,\"\")))))","v":""},{"$f":"SUM(CoreValuesResults[[#This Row],[Discovery]:[Fun]],CoreValuesResults[[#This Row],[Gracious Professionalism Score]])","v":0},{"$f":"IF(CoreValuesResults[[#This Row],[Team Number]]>0,MIN(_xlfn.RANK.EQ(CoreValuesResults[[#This Row],[Core Values Score]],CoreValuesResults[Core Values Score],0),NumberOfTeams),NumberOfTeams+1)","v":1}]
[null,{"$f":"IF(ISNA(INDEX(OfficialTeamList[Team Name],MATCH(CoreValuesResults[[#This Row],[Team Number]], OfficialTeamList[Team Number],0))),\"\",INDEX(OfficialTeamList[Team Name],MATCH(CoreValuesResults[[#This Row],[Team Number]], OfficialTeamList[Team Number],0)))","v":""},null,null,null,null,null,null,null,null,null,null,null,{"$f":"IF(CoreValuesResults[[#This Row],[Gracious Professionalism 1]]=\"\",\"\",COUNTIF(CoreValuesResults[[#This Row],[Gracious Professionalism 1]:[Gracious Professionalism 5]],\"\"))","v":""},{"$f":"IF(CoreValuesResults[[#This Row],[Gracious Professionalism 1]]=\"\",\"\",SUM(CoreValuesResults[[#This Row],[Gracious Professionalism 1]:[Gracious Professionalism 5]]))","v":""},{"$f":"IF(CoreValuesResults[[#This Row],[Gracious Professionalism Empty Count]]=3,SUM(CoreValuesResults[[#This Row],[Gracious Professionalism 1]:[Gracious Professionalism 5]]),IF(CoreValuesResults[[#This Row],[Gracious Professionalism Empty Count]]=4,SUM(CoreValuesResults[[#This Row],[Gracious Professionalism 1]:[Gracious Professionalism 5]]),IF(CoreValuesResults[[#This Row],[Gracious Professionalism Empty Count]]=2,CoreValuesResults[[#This Row],[Gracious Professionalism Total]],IF(CoreValuesResults[[#This Row],[Gracious Professionalism Empty Count]]=1,CoreValuesResults[[#This Row],[Gracious Professionalism Total]]*0.75,IF(CoreValuesResults[[#This Row],[Gracious Professionalism Empty Count]]=0,CoreValuesResults[[#This Row],[Gracious Professionalism Total]]*0.6,\"\")))))","v":""},{"$f":"SUM(CoreValuesResults[[#This Row],[Discovery]:[Fun]],CoreValuesResults[[#This Row],[Gracious Professionalism Score]])","v":0},{"$f":"IF(CoreValuesResults[[#This Row],[Team Number]]>0,MIN(_xlfn.RANK.EQ(CoreValuesResults[[#This Row],[Core Values Score]],CoreValuesResults[Core Values Score],0),NumberOfTeams),NumberOfTeams+1)","v":1}]
[null,{"$f":"IF(ISNA(INDEX(OfficialTeamList[Team Name],MATCH(CoreValuesResults[[#This Row],[Team Number]], OfficialTeamList[Team Number],0))),\"\",INDEX(OfficialTeamList[Team Name],MATCH(CoreValuesResults[[#This Row],[Team Number]], OfficialTeamList[Team Number],0)))","v":""},null,null,null,null,null,null,null,null,null,null,null,{"$f":"IF(CoreValuesResults[[#This Row],[Gracious Professionalism 1]]=\"\",\"\",COUNTIF(CoreValuesResults[[#This Row],[Gracious Professionalism 1]:[Gracious Professionalism 5]],\"\"))","v":""},{"$f":"IF(CoreValuesResults[[#This Row],[Gracious Professionalism 1]]=\"\",\"\",SUM(CoreValuesResults[[#This Row],[Gracious Professionalism 1]:[Gracious Professionalism 5]]))","v":""},{"$f":"IF(CoreValuesResults[[#This Row],[Gracious Professionalism Empty Count]]=3,SUM(CoreValuesResults[[#This Row],[Gracious Professionalism 1]:[Gracious Professionalism 5]]),IF(CoreValuesResults[[#This Row],[Gracious Professionalism Empty Count]]=4,SUM(CoreValuesResults[[#This Row],[Gracious Professionalism 1]:[Gracious Professionalism 5]]),IF(CoreValuesResults[[#This Row],[Gracious Professionalism Empty Count]]=2,CoreValuesResults[[#This Row],[Gracious Professionalism Total]],IF(CoreValuesResults[[#This Row],[Gracious Professionalism Empty Count]]=1,CoreValuesResults[[#This Row],[Gracious Professionalism Total]]*0.75,IF(CoreValuesResults[[#This Row],[Gracious Professionalism Empty Count]]=0,CoreValuesResults[[#This Row],[Gracious Professionalism Total]]*0.6,\"\")))))","v":""},{"$f":"SUM(CoreValuesResults[[#This Row],[Discovery]:[Fun]],CoreValuesResults[[#This Row],[Gracious Professionalism Score]])","v":0},{"$f":"IF(CoreValuesResults[[#This Row],[Team Number]]>0,MIN(_xlfn.RANK.EQ(CoreValuesResults[[#This Row],[Core Values Score]],CoreValuesResults[Core Values Score],0),NumberOfTeams),NumberOfTeams+1)","v":1}]
[null,{"$f":"IF(ISNA(INDEX(OfficialTeamList[Team Name],MATCH(CoreValuesResults[[#This Row],[Team Number]], OfficialTeamList[Team Number],0))),\"\",INDEX(OfficialTeamList[Team Name],MATCH(CoreValuesResults[[#This Row],[Team Number]], OfficialTeamList[Team Number],0)))","v":""},null,null,null,null,null,null,null,null,null,null,null,{"$f":"IF(CoreValuesResults[[#This Row],[Gracious Professionalism 1]]=\"\",\"\",COUNTIF(CoreValuesResults[[#This Row],[Gracious Professionalism 1]:[Gracious Professionalism 5]],\"\"))","v":""},{"$f":"IF(CoreValuesResults[[#This Row],[Gracious Professionalism 1]]=\"\",\"\",SUM(CoreValuesResults[[#This Row],[Gracious Professionalism 1]:[Gracious Professionalism 5]]))","v":""},{"$f":"IF(CoreValuesResults[[#This Row],[Gracious Professionalism Empty Count]]=3,SUM(CoreValuesResults[[#This Row],[Gracious Professionalism 1]:[Gracious Professionalism 5]]),IF(CoreValuesResults[[#This Row],[Gracious Professionalism Empty Count]]=4,SUM(CoreValuesResults[[#This Row],[Gracious Professionalism 1]:[Gracious Professionalism 5]]),IF(CoreValuesResults[[#This Row],[Gracious Professionalism Empty Count]]=2,CoreValuesResults[[#This Row],[Gracious Professionalism Total]],IF(CoreValuesResults[[#This Row],[Gracious Professionalism Empty Count]]=1,CoreValuesResults[[#This Row],[Gracious Professionalism Total]]*0.75,IF(CoreValuesResults[[#This Row],[Gracious Professionalism Empty Count]]=0,CoreValuesResults[[#This Row],[Gracious Professionalism Total]]*0.6,\"\")))))","v":""},{"$f":"SUM(CoreValuesResults[[#This Row],[Discovery]:[Fun]],CoreValuesResults[[#This Row],[Gracious Professionalism Score]])","v":0},{"$f":"IF(CoreValuesResults[[#This Row],[Team Number]]>0,MIN(_xlfn.RANK.EQ(CoreValuesResults[[#This Row],[Core Values Score]],CoreValuesResults[Core Values Score],0),NumberOfTeams),NumberOfTeams+1)","v":1}]
[null,{"$f":"IF(ISNA(INDEX(OfficialTeamList[Team Name],MATCH(CoreValuesResults[[#This Row],[Team Number]], OfficialTeamList[Team Number],0))),\"\",INDEX(OfficialTeamList[Team Name],MATCH(CoreValuesResults[[#This Row],[Team Number]], OfficialTeamList[Team Number],0)))","v":""},null,null,null,null,null,null,null,null,null,null,null,{"$f":"IF(CoreValuesResults[[#This Row],[Gracious Professionalism 1]]=\"\",\"\",COUNTIF(CoreValuesResults[[#This Row],[Gracious Professionalism 1]:[Gracious Professionalism 5]],\"\"))","v":""},{"$f":"IF(CoreValuesResults[[#This Row],[Gracious Professionalism 1]]=\"\",\"\",SUM(CoreValuesResults[[#This Row],[Gracious Professionalism 1]:[Gracious Professionalism 5]]))","v":""},{"$f":"IF(CoreValuesResults[[#This Row],[Gracious Professionalism Empty Count]]=3,SUM(CoreValuesResults[[#This Row],[Gracious Professionalism 1]:[Gracious Professionalism 5]]),IF(CoreValuesResults[[#This Row],[Gracious Professionalism Empty Count]]=4,SUM(CoreValuesResults[[#This Row],[Gracious Professionalism 1]:[Gracious Professionalism 5]]),IF(CoreValuesResults[[#This Row],[Gracious Professionalism Empty Count]]=2,CoreValuesResults[[#This Row],[Gracious Professionalism Total]],IF(CoreValuesResults[[#This Row],[Gracious Professionalism Empty Count]]=1,CoreValuesResults[[#This Row],[Gracious Professionalism Total]]*0.75,IF(CoreValuesResults[[#This Row],[Gracious Professionalism Empty Count]]=0,CoreValuesResults[[#This Row],[Gracious Professionalism Total]]*0.6,\"\")))))","v":""},{"$f":"SUM(CoreValuesResults[[#This Row],[Discovery]:[Fun]],CoreValuesResults[[#This Row],[Gracious Professionalism Score]])","v":0},{"$f":"IF(CoreValuesResults[[#This Row],[Team Number]]>0,MIN(_xlfn.RANK.EQ(CoreValuesResults[[#This Row],[Core Values Score]],CoreValuesResults[Core Values Score],0),NumberOfTeams),NumberOfTeams+1)","v":1}]
[null,{"$f":"IF(ISNA(INDEX(OfficialTeamList[Team Name],MATCH(CoreValuesResults[[#This Row],[Team Number]], OfficialTeamList[Team Number],0))),\"\",INDEX(OfficialTeamList[Team Name],MATCH(CoreValuesResults[[#This Row],[Team Number]], OfficialTeamList[Team Number],0)))","v":""},null,null,null,null,null,null,null,null,null,null,null,{"$f":"IF(CoreValuesResults[[#This Row],[Gracious Professionalism 1]]=\"\",\"\",COUNTIF(CoreValuesResults[[#This Row],[Gracious Professionalism 1]:[Gracious Professionalism 5]],\"\"))","v":""},{"$f":"IF(CoreValuesResults[[#This Row],[Gracious Professionalism 1]]=\"\",\"\",SUM(CoreValuesResults[[#This Row],[Gracious Professionalism 1]:[Gracious Professionalism 5]]))","v":""},{"$f":"IF(CoreValuesResults[[#This Row],[Gracious Professionalism Empty Count]]=3,SUM(CoreValuesResults[[#This Row],[Gracious Professionalism 1]:[Gracious Professionalism 5]]),IF(CoreValuesResults[[#This Row],[Gracious Professionalism Empty Count]]=4,SUM(CoreValuesResults[[#This Row],[Gracious Professionalism 1]:[Gracious Professionalism 5]]),IF(CoreValuesResults[[#This Row],[Gracious Professionalism Empty Count]]=2,CoreValuesResults[[#This Row],[Gracious Professionalism Total]],IF(CoreValuesResults[[#This Row],[Gracious Professionalism Empty Count]]=1,CoreValuesResults[[#This Row],[Gracious Professionalism Total]]*0.75,IF(CoreValuesResults[[#This Row],[Gracious Professionalism Empty Count]]=0,CoreValuesResults[[#This Row],[Gracious Professionalism Total]]*0.6,\"\")))))","v":""},{"$f":"SUM(CoreValuesResults[[#This Row],[Discovery]:[Fun]],CoreValuesResults[[#This Row],[Gracious Professionalism Score]])","v":0},{"$f":"IF(CoreValuesResults[[#This Row],[Team Number]]>0,MIN(_xlfn.RANK.EQ(CoreValuesResults[[#This Row],[Core Values Score]],CoreValuesResults[Core Values Score],0),NumberOfTeams),NumberOfTeams+1)","v":1}]
[null,{"$f":"IF(ISNA(INDEX(OfficialTeamList[Team Name],MATCH(CoreValuesResults[[#This Row],[Team Number]], OfficialTeamList[Team Number],0))),\"\",INDEX(OfficialTeamList[Team Name],MATCH(CoreValuesResults[[#This Row],[Team Number]], OfficialTeamList[Team Number],0)))","v":""},null,null,null,null,null,null,null,null,null,null,null,{"$f":"IF(CoreValuesResults[[#This Row],[Gracious Professionalism 1]]=\"\",\"\",COUNTIF(CoreValuesResults[[#This Row],[Gracious Professionalism 1]:[Gracious Professionalism 5]],\"\"))","v":""},{"$f":"IF(CoreValuesResults[[#This Row],[Gracious Professionalism 1]]=\"\",\"\",SUM(CoreValuesResults[[#This Row],[Gracious Professionalism 1]:[Gracious Professionalism 5]]))","v":""},{"$f":"IF(CoreValuesResults[[#This Row],[Gracious Professionalism Empty Count]]=3,SUM(CoreValuesResults[[#This Row],[Gracious Professionalism 1]:[Gracious Professionalism 5]]),IF(CoreValuesResults[[#This Row],[Gracious Professionalism Empty Count]]=4,SUM(CoreValuesResults[[#This Row],[Gracious Professionalism 1]:[Gracious Professionalism 5]]),IF(CoreValuesResults[[#This Row],[Gracious Professionalism Empty Count]]=2,CoreValuesResults[[#This Row],[Gracious Professionalism Total]],IF(CoreValuesResults[[#This Row],[Gracious Professionalism Empty Count]]=1,CoreValuesResults[[#This Row],[Gracious Professionalism Total]]*0.75,IF(CoreValuesResults[[#This Row],[Gracious Professionalism Empty Count]]=0,CoreValuesResults[[#This Row],[Gracious Professionalism Total]]*0.6,\"\")))))","v":""},{"$f":"SUM(CoreValuesResults[[#This Row],[Discovery]:[Fun]],CoreValuesResults[[#This Row],[Gracious Professionalism Score]])","v":0},{"$f":"IF(CoreValuesResults[[#This Row],[Team Number]]>0,MIN(_xlfn.RANK.EQ(CoreValuesResults[[#This Row],[Core Values Score]],CoreValuesResults[Core Values Score],0),NumberOfTeams),NumberOfTeams+1)","v":1}]
[null,{"$f":"IF(ISNA(INDEX(OfficialTeamList[Team Name],MATCH(CoreValuesResults[[#This Row],[Team Number]], OfficialTeamList[Team Number],0))),\"\",INDEX(OfficialTeamList[Team Name],MATCH(CoreValuesResults[[#This Row],[Team Number]], OfficialTeamList[Team Number],0)))","v":""},null,null,null,null,null,null,null,null,null,null,null,{"$f":"IF(CoreValuesResults[[#This Row],[Gracious Professionalism 1]]=\"\",\"\",COUNTIF(CoreValuesResults[[#This Row],[Gracious Professionalism 1]:[Gracious Professionalism 5]],\"\"))","v":""},{"$f":"IF(CoreValuesResults[[#This Row],[Gracious Professionalism 1]]=\"\",\"\",SUM(CoreValuesResults[[#This Row],[Gracious Professionalism 1]:[Gracious Professionalism 5]]))","v":""},{"$f":"IF(CoreValuesResults[[#This Row],[Gracious Professionalism Empty Count]]=3,SUM(CoreValuesResults[[#This Row],[Gracious Professionalism 1]:[Gracious Professionalism 5]]),IF(CoreValuesResults[[#This Row],[Gracious Professionalism Empty Count]]=4,SUM(CoreValuesResults[[#This Row],[Gracious Professionalism 1]:[Gracious Professionalism 5]]),IF(CoreValuesResults[[#This Row],[Gracious Professionalism Empty Count]]=2,CoreValuesResults[[#This Row],[Gracious Professionalism Total]],IF(CoreValuesResults[[#This Row],[Gracious Professionalism Empty Count]]=1,CoreValuesResults[[#This Row],[Gracious Professionalism Total]]*0.75,IF(CoreValuesResults[[#This Row],[Gracious Professionalism Empty Count]]=0,CoreValuesResults[[#This Row],[Gracious Professionalism Total]]*0.6,\"\")))))","v":""},{"$f":"SUM(CoreValuesResults[[#This Row],[Discovery]:[Fun]],CoreValuesResults[[#This Row],[Gracious Professionalism Score]])","v":0},{"$f":"IF(CoreValuesResults[[#This Row],[Team Number]]>0,MIN(_xlfn.RANK.EQ(CoreValuesResults[[#This Row],[Core Values Score]],CoreValuesResults[Core Values Score],0),NumberOfTeams),NumberOfTeams+1)","v":1}]
[null,{"$f":"IF(ISNA(INDEX(OfficialTeamList[Team Name],MATCH(CoreValuesResults[[#This Row],[Team Number]], OfficialTeamList[Team Number],0))),\"\",INDEX(OfficialTeamList[Team Name],MATCH(CoreValuesResults[[#This Row],[Team Number]], OfficialTeamList[Team Number],0)))","v":""},null,null,null,null,null,null,null,null,null,null,null,{"$f":"IF(CoreValuesResults[[#This Row],[Gracious Professionalism 1]]=\"\",\"\",COUNTIF(CoreValuesResults[[#This Row],[Gracious Professionalism 1]:[Gracious Professionalism 5]],\"\"))","v":""},{"$f":"IF(CoreValuesResults[[#This Row],[Gracious Professionalism 1]]=\"\",\"\",SUM(CoreValuesResults[[#This Row],[Gracious Professionalism 1]:[Gracious Professionalism 5]]))","v":""},{"$f":"IF(CoreValuesResults[[#This Row],[Gracious Professionalism Empty Count]]=3,SUM(CoreValuesResults[[#This Row],[Gracious Professionalism 1]:[Gracious Professionalism 5]]),IF(CoreValuesResults[[#This Row],[Gracious Professionalism Empty Count]]=4,SUM(CoreValuesResults[[#This Row],[Gracious Professionalism 1]:[Gracious Professionalism 5]]),IF(CoreValuesResults[[#This Row],[Gracious Professionalism Empty Count]]=2,CoreValuesResults[[#This Row],[Gracious Professionalism Total]],IF(CoreValuesResults[[#This Row],[Gracious Professionalism Empty Count]]=1,CoreValuesResults[[#This Row],[Gracious Professionalism Total]]*0.75,IF(CoreValuesResults[[#This Row],[Gracious Professionalism Empty Count]]=0,CoreValuesResults[[#This Row],[Gracious Professionalism Total]]*0.6,\"\")))))","v":""},{"$f":"SUM(CoreValuesResults[[#This Row],[Discovery]:[Fun]],CoreValuesResults[[#This Row],[Gracious Professionalism Score]])","v":0},{"$f":"IF(CoreValuesResults[[#This Row],[Team Number]]>0,MIN(_xlfn.RANK.EQ(CoreValuesResults[[#This Row],[Core Values Score]],CoreValuesResults[Core Values Score],0),NumberOfTeams),NumberOfTeams+1)","v":1}]
[null,{"$f":"IF(ISNA(INDEX(OfficialTeamList[Team Name],MATCH(CoreValuesResults[[#This Row],[Team Number]], OfficialTeamList[Team Number],0))),\"\",INDEX(OfficialTeamList[Team Name],MATCH(CoreValuesResults[[#This Row],[Team Number]], OfficialTeamList[Team Number],0)))","v":""},null,null,null,null,null,null,null,null,null,null,null,{"$f":"IF(CoreValuesResults[[#This Row],[Gracious Professionalism 1]]=\"\",\"\",COUNTIF(CoreValuesResults[[#This Row],[Gracious Professionalism 1]:[Gracious Professionalism 5]],\"\"))","v":""},{"$f":"IF(CoreValuesResults[[#This Row],[Gracious Professionalism 1]]=\"\",\"\",SUM(CoreValuesResults[[#This Row],[Gracious Professionalism 1]:[Gracious Professionalism 5]]))","v":""},{"$f":"IF(CoreValuesResults[[#This Row],[Gracious Professionalism Empty Count]]=3,SUM(CoreValuesResults[[#This Row],[Gracious Professionalism 1]:[Gracious Professionalism 5]]),IF(CoreValuesResults[[#This Row],[Gracious Professionalism Empty Count]]=4,SUM(CoreValuesResults[[#This Row],[Gracious Professionalism 1]:[Gracious Professionalism 5]]),IF(CoreValuesResults[[#This Row],[Gracious Professionalism Empty Count]]=2,CoreValuesResults[[#This Row],[Gracious Professionalism Total]],IF(CoreValuesResults[[#This Row],[Gracious Professionalism Empty Count]]=1,CoreValuesResults[[#This Row],[Gracious Professionalism Total]]*0.75,IF(CoreValuesResults[[#This Row],[Gracious Professionalism Empty Count]]=0,CoreValuesResults[[#This Row],[Gracious Professionalism Total]]*0.6,\"\")))))","v":""},{"$f":"SUM(CoreValuesResults[[#This Row],[Discovery]:[Fun]],CoreValuesResults[[#This Row],[Gracious Professionalism Score]])","v":0},{"$f":"IF(CoreValuesResults[[#This Row],[Team Number]]>0,MIN(_xlfn.RANK.EQ(CoreValuesResults[[#This Row],[Core Values Score]],CoreValuesResults[Core Values Score],0),NumberOfTeams),NumberOfTeams+1)","v":1}]
[null,{"$f":"IF(ISNA(INDEX(OfficialTeamList[Team Name],MATCH(CoreValuesResults[[#This Row],[Team Number]], OfficialTeamList[Team Number],0))),\"\",INDEX(OfficialTeamList[Team Name],MATCH(CoreValuesResults[[#This Row],[Team Number]], OfficialTeamList[Team Number],0)))","v":""},null,null,null,null,null,null,null,null,null,null,null,{"$f":"IF(CoreValuesResults[[#This Row],[Gracious Professionalism 1]]=\"\",\"\",COUNTIF(CoreValuesResults[[#This Row],[Gracious Professionalism 1]:[Gracious Professionalism 5]],\"\"))","v":""},{"$f":"IF(CoreValuesResults[[#This Row],[Gracious Professionalism 1]]=\"\",\"\",SUM(CoreValuesResults[[#This Row],[Gracious Professionalism 1]:[Gracious Professionalism 5]]))","v":""},{"$f":"IF(CoreValuesResults[[#This Row],[Gracious Professionalism Empty Count]]=3,SUM(CoreValuesResults[[#This Row],[Gracious Professionalism 1]:[Gracious Professionalism 5]]),IF(CoreValuesResults[[#This Row],[Gracious Professionalism Empty Count]]=4,SUM(CoreValuesResults[[#This Row],[Gracious Professionalism 1]:[Gracious Professionalism 5]]),IF(CoreValuesResults[[#This Row],[Gracious Professionalism Empty Count]]=2,CoreValuesResults[[#This Row],[Gracious Professionalism Total]],IF(CoreValuesResults[[#This Row],[Gracious Professionalism Empty Count]]=1,CoreValuesResults[[#This Row],[Gracious Professionalism Total]]*0.75,IF(CoreValuesResults[[#This Row],[Gracious Professionalism Empty Count]]=0,CoreValuesResults[[#This Row],[Gracious Professionalism Total]]*0.6,\"\")))))","v":""},{"$f":"SUM(CoreValuesResults[[#This Row],[Discovery]:[Fun]],CoreValuesResults[[#This Row],[Gracious Professionalism Score]])","v":0},{"$f":"IF(CoreValuesResults[[#This Row],[Team Number]]>0,MIN(_xlfn.RANK.EQ(CoreValuesResults[[#This Row],[Core Values Score]],CoreValuesResults[Core Values Score],0),NumberOfTeams),NumberOfTeams+1)","v":1}]
[null,{"$f":"IF(ISNA(INDEX(OfficialTeamList[Team Name],MATCH(CoreValuesResults[[#This Row],[Team Number]], OfficialTeamList[Team Number],0))),\"\",INDEX(OfficialTeamList[Team Name],MATCH(CoreValuesResults[[#This Row],[Team Number]], OfficialTeamList[Team Number],0)))","v":""},null,null,null,null,null,null,null,null,null,null,null,{"$f":"IF(CoreValuesResults[[#This Row],[Gracious Professionalism 1]]=\"\",\"\",COUNTIF(CoreValuesResults[[#This Row],[Gracious Professionalism 1]:[Gracious Professionalism 5]],\"\"))","v":""},{"$f":"IF(CoreValuesResults[[#This Row],[Gracious Professionalism 1]]=\"\",\"\",SUM(CoreValuesResults[[#This Row],[Gracious Professionalism 1]:[Gracious Professionalism 5]]))","v":""},{"$f":"IF(CoreValuesResults[[#This Row],[Gracious Professionalism Empty Count]]=3,SUM(CoreValuesResults[[#This Row],[Gracious Professionalism 1]:[Gracious Professionalism 5]]),IF(CoreValuesResults[[#This Row],[Gracious Professionalism Empty Count]]=4,SUM(CoreValuesResults[[#This Row],[Gracious Professionalism 1]:[Gracious Professionalism 5]]),IF(CoreValuesResults[[#This Row],[Gracious Professionalism Empty Count]]=2,CoreValuesResults[[#This Row],[Gracious Professionalism Total]],IF(CoreValuesResults[[#This Row],[Gracious Professionalism Empty Count]]=1,CoreValuesResults[[#This Row],[Gracious Professionalism Total]]*0.75,IF(CoreValuesResults[[#This Row],[Gracious Professionalism Empty Count]]=0,CoreValuesResults[[#This Row],[Gracious Professionalism Total]]*0.6,\"\")))))","v":""},{"$f":"SUM(CoreValuesResults[[#This Row],[Discovery]:[Fun]],CoreValuesResults[[#This Row],[Gracious Professionalism Score]])","v":0},{"$f":"IF(CoreValuesResults[[#This Row],[Team Number]]>0,MIN(_xlfn.RANK.EQ(CoreValuesResults[[#This Row],[Core Values Score]],CoreValuesResults[Core Values Score],0),NumberOfTeams),NumberOfTeams+1)","v":1}]

{"sheet":"Innovation Project Input","index":6,"n_rows":109,"n_cols":15,"rows_kept":109,"cut":false,"hidden":false,"merged":[]}
["Team Number","Team Name","Identify - Problem","Identify - Research","Design - Ideas","Design - Planning","Create - Solution","Create - Model","Iterate - Sharing","Iterate - Improve","Communicate - Engaging","Communicate - Impact","Innovation Project Score","Innovation Project Rank","GIA Score"]
[null,{"$f":"IF(ISNA(INDEX(OfficialTeamList[Team Name],MATCH(InnovationProjectResults[[#This Row],[Team Number]], OfficialTeamList[Team Number],0))),\"\",INDEX(OfficialTeamList[Team Name],MATCH(InnovationProjectResults[[#This Row],[Team Number]], OfficialTeamList[Team Number],0)))","v":""},null,null,null,null,null,null,null,null,null,null,{"$f":"SUM(InnovationProjectResults[[#This Row],[Identify - Problem]:[Communicate - Impact]])","v":0},{"$f":"IF(InnovationProjectResults[[#This Row],[Team Number]]>0,MIN(_xlfn.RANK.EQ(InnovationProjectResults[[#This Row],[Innovation Project Score]],InnovationProjectResults[Innovation Project Score],0),NumberOfTeams),NumberOfTeams+1)","v":1},{"$f":"SUM(InnovationProjectResults[[#This Row],[Design - Planning]:[Iterate - Sharing]])","v":0}]
[null,{"$f":"IF(ISNA(INDEX(OfficialTeamList[Team Name],MATCH(InnovationProjectResults[[#This Row],[Team Number]], OfficialTeamList[Team Number],0))),\"\",INDEX(OfficialTeamList[Team Name],MATCH(InnovationProjectResults[[#This Row],[Team Number]], OfficialTeamList[Team Number],0)))","v":""},null,null,null,null,null,null,null,null,null,null,{"$f":"SUM(InnovationProjectResults[[#This Row],[Identify - Problem]:[Communicate - Impact]])","v":0},{"$f":"IF(InnovationProjectResults[[#This Row],[Team Number]]>0,MIN(_xlfn.RANK.EQ(InnovationProjectResults[[#This Row],[Innovation Project Score]],InnovationProjectResults[Innovation Project Score],0),NumberOfTeams),NumberOfTeams+1)","v":1},{"$f":"SUM(InnovationProjectResults[[#This Row],[Design - Planning]:[Iterate - Sharing]])","v":0}]
[null,{"$f":"IF(ISNA(INDEX(OfficialTeamList[Team Name],MATCH(InnovationProjectResults[[#This Row],[Team Number]], OfficialTeamList[Team Number],0))),\"\",INDEX(OfficialTeamList[Team Name],MATCH(InnovationProjectResults[[#This Row],[Team Number]], OfficialTeamList[Team Number],0)))","v":""},null,null,null,null,null,null,null,null,null,null,{"$f":"SUM(InnovationProjectResults[[#This Row],[Identify - Problem]:[Communicate - Impact]])","v":0},{"$f":"IF(InnovationProjectResults[[#This Row],[Team Number]]>0,MIN(_xlfn.RANK.EQ(InnovationProjectResults[[#This Row],[Innovation Project Score]],InnovationProjectResults[Innovation Project Score],0),NumberOfTeams),NumberOfTeams+1)","v":1},{"$f":"SUM(InnovationProjectResults[[#This Row],[Design - Planning]:[Iterate - Sharing]])","v":0}]
[null,{"$f":"IF(ISNA(INDEX(OfficialTeamList[Team Name],MATCH(InnovationProjectResults[[#This Row],[Team Number]], OfficialTeamList[Team Number],0))),\"\",INDEX(OfficialTeamList[Team Name],MATCH(InnovationProjectResults[[#This Row],[Team Number]], OfficialTeamList[Team Number],0)))","v":""},null,null,null,null,null,null,null,null,null,null,{"$f":"SUM(InnovationProjectResults[[#This Row],[Identify - Problem]:[Communicate - Impact]])","v":0},{"$f":"IF(InnovationProjectResults[[#This Row],[Team Number]]>0,MIN(_xlfn.RANK.EQ(InnovationProjectResults[[#This Row],[Innovation Project Score]],InnovationProjectResults[Innovation Project Score],0),NumberOfTeams),NumberOfTeams+1)","v":1},{"$f":"SUM(InnovationProjectResults[[#This Row],[Design - Planning]:[Iterate - Sharing]])","v":0}]
[null,{"$f":"IF(ISNA(INDEX(OfficialTeamList[Team Name],MATCH(InnovationProjectResults[[#This Row],[Team Number]], OfficialTeamList[Team Number],0))),\"\",INDEX(OfficialTeamList[Team Name],MATCH(InnovationProjectResults[[#This Row],[Team Number]], OfficialTeamList[Team Number],0)))","v":""},null,null,null,null,null,null,null,null,null,null,{"$f":"SUM(InnovationProjectResults[[#This Row],[Identify - Problem]:[Communicate - Impact]])","v":0},{"$f":"IF(InnovationProjectResults[[#This Row],[Team Number]]>0,MIN(_xlfn.RANK.EQ(InnovationProjectResults[[#This Row],[Innovation Project Score]],InnovationProjectResults[Innovation Project Score],0),NumberOfTeams),NumberOfTeams+1)","v":1},{"$f":"SUM(InnovationProjectResults[[#This Row],[Design - Planning]:[Iterate - Sharing]])","v":0}]
[null,{"$f":"IF(ISNA(INDEX(OfficialTeamList[Team Name],MATCH(InnovationProjectResults[[#This Row],[Team Number]], OfficialTeamList[Team Number],0))),\"\",INDEX(OfficialTeamList[Team Name],MATCH(InnovationProjectResults[[#This Row],[Team Number]], OfficialTeamList[Team Number],0)))","v":""},null,null,null,null,null,null,null,null,null,null,{"$f":"SUM(InnovationProjectResults[[#This Row],[Identify - Problem]:[Communicate - Impact]])","v":0},{"$f":"IF(InnovationProjectResults[[#This Row],[Team Number]]>0,MIN(_xlfn.RANK.EQ(InnovationProjectResults[[#This Row],[Innovation Project Score]],InnovationProjectResults[Innovation Project Score],0),NumberOfTeams),NumberOfTeams+1)","v":1},{"$f":"SUM(InnovationProjectResults[[#This Row],[Design - Planning]:[Iterate - Sharing]])","v":0}]
[null,{"$f":"IF(ISNA(INDEX(OfficialTeamList[Team Name],MATCH(InnovationProjectResults[[#This Row],[Team Number]], OfficialTeamList[Team Number],0))),\"\",INDEX(OfficialTeamList[Team Name],MATCH(InnovationProjectResults[[#This Row],[Team Number]], OfficialTeamList[Team Number],0)))","v":""},null,null,null,null,null,null,null,null,null,null,{"$f":"SUM(InnovationProjectResults[[#This Row],[Identify - Problem]:[Communicate - Impact]])","v":0},{"$f":"IF(InnovationProjectResults[[#This Row],[Team Number]]>0,MIN(_xlfn.RANK.EQ(InnovationProjectResults[[#This Row],[Innovation Project Score]],InnovationProjectResults[Innovation Project Score],0),NumberOfTeams),NumberOfTeams+1)","v":1},{"$f":"SUM(InnovationProjectResults[[#This Row],[Design - Planning]:[Iterate - Sharing]])","v":0}]
[null,{"$f":"IF(ISNA(INDEX(OfficialTeamList[Team Name],MATCH(InnovationProjectResults[[#This Row],[Team Number]], OfficialTeamList[Team Number],0))),\"\",INDEX(OfficialTeamList[Team Name],MATCH(InnovationProjectResults[[#This Row],[Team Number]], OfficialTeamList[Team Number],0)))","v":""},null,null,null,null,null,null,null,null,null,null,{"$f":"SUM(InnovationProjectResults[[#This Row],[Identify - Problem]:[Communicate - Impact]])","v":0},{"$f":"IF(InnovationProjectResults[[#This Row],[Team Number]]>0,MIN(_xlfn.RANK.EQ(InnovationProjectResults[[#This Row],[Innovation Project Score]],InnovationProjectResults[Innovation Project Score],0),NumberOfTeams),NumberOfTeams+1)","v":1},{"$f":"SUM(InnovationProjectResults[[#This Row],[Design - Planning]:[Iterate - Sharing]])","v":0}]
[null,{"$f":"IF(ISNA(INDEX(OfficialTeamList[Team Name],MATCH(InnovationProjectResults[[#This Row],[Team Number]], OfficialTeamList[Team Number],0))),\"\",INDEX(OfficialTeamList[Team Name],MATCH(InnovationProjectResults[[#This Row],[Team Number]], OfficialTeamList[Team Number],0)))","v":""},null,null,null,null,null,null,null,null,null,null,{"$f":"SUM(InnovationProjectResults[[#This Row],[Identify - Problem]:[Communicate - Impact]])","v":0},{"$f":"IF(InnovationProjectResults[[#This Row],[Team Number]]>0,MIN(_xlfn.RANK.EQ(InnovationProjectResults[[#This Row],[Innovation Project Score]],InnovationProjectResults[Innovation Project Score],0),NumberOfTeams),NumberOfTeams+1)","v":1},{"$f":"SUM(InnovationProjectResults[[#This Row],[Design - Planning]:[Iterate - Sharing]])","v":0}]
[null,{"$f":"IF(ISNA(INDEX(OfficialTeamList[Team Name],MATCH(InnovationProjectResults[[#This Row],[Team Number]], OfficialTeamList[Team Number],0))),\"\",INDEX(OfficialTeamList[Team Name],MATCH(InnovationProjectResults[[#This Row],[Team Number]], OfficialTeamList[Team Number],0)))","v":""},null,null,null,null,null,null,null,null,null,null,{"$f":"SUM(InnovationProjectResults[[#This Row],[Identify - Problem]:[Communicate - Impact]])","v":0},{"$f":"IF(InnovationProjectResults[[#This Row],[Team Number]]>0,MIN(_xlfn.RANK.EQ(InnovationProjectResults[[#This Row],[Innovation Project Score]],InnovationProjectResults[Innovation Project Score],0),NumberOfTeams),NumberOfTeams+1)","v":1},{"$f":"SUM(InnovationProjectResults[[#This Row],[Design - Planning]:[Iterate - Sharing]])","v":0}]
[null,{"$f":"IF(ISNA(INDEX(OfficialTeamList[Team Name],MATCH(InnovationProjectResults[[#This Row],[Team Number]], OfficialTeamList[Team Number],0))),\"\",INDEX(OfficialTeamList[Team Name],MATCH(InnovationProjectResults[[#This Row],[Team Number]], OfficialTeamList[Team Number],0)))","v":""},null,null,null,null,null,null,null,null,null,null,{"$f":"SUM(InnovationProjectResults[[#This Row],[Identify - Problem]:[Communicate - Impact]])","v":0},{"$f":"IF(InnovationProjectResults[[#This Row],[Team Number]]>0,MIN(_xlfn.RANK.EQ(InnovationProjectResults[[#This Row],[Innovation Project Score]],InnovationProjectResults[Innovation Project Score],0),NumberOfTeams),NumberOfTeams+1)","v":1},{"$f":"SUM(InnovationProjectResults[[#This Row],[Design - Planning]:[Iterate - Sharing]])","v":0}]
[null,{"$f":"IF(ISNA(INDEX(OfficialTeamList[Team Name],MATCH(InnovationProjectResults[[#This Row],[Team Number]], OfficialTeamList[Team Number],0))),\"\",INDEX(OfficialTeamList[Team Name],MATCH(InnovationProjectResults[[#This Row],[Team Number]], OfficialTeamList[Team Number],0)))","v":""},null,null,null,null,null,null,null,null,null,null,{"$f":"SUM(InnovationProjectResults[[#This Row],[Identify - Problem]:[Communicate - Impact]])","v":0},{"$f":"IF(InnovationProjectResults[[#This Row],[Team Number]]>0,MIN(_xlfn.RANK.EQ(InnovationProjectResults[[#This Row],[Innovation Project Score]],InnovationProjectResults[Innovation Project Score],0),NumberOfTeams),NumberOfTeams+1)","v":1},{"$f":"SUM(InnovationProjectResults[[#This Row],[Design - Planning]:[Iterate - Sharing]])","v":0}]
[null,{"$f":"IF(ISNA(INDEX(OfficialTeamList[Team Name],MATCH(InnovationProjectResults[[#This Row],[Team Number]], OfficialTeamList[Team Number],0))),\"\",INDEX(OfficialTeamList[Team Name],MATCH(InnovationProjectResults[[#This Row],[Team Number]], OfficialTeamList[Team Number],0)))","v":""},null,null,null,null,null,null,null,null,null,null,{"$f":"SUM(InnovationProjectResults[[#This Row],[Identify - Problem]:[Communicate - Impact]])","v":0},{"$f":"IF(InnovationProjectResults[[#This Row],[Team Number]]>0,MIN(_xlfn.RANK.EQ(InnovationProjectResults[[#This Row],[Innovation Project Score]],InnovationProjectResults[Innovation Project Score],0),NumberOfTeams),NumberOfTeams+1)","v":1},{"$f":"SUM(InnovationProjectResults[[#This Row],[Design - Planning]:[Iterate - Sharing]])","v":0}]
[null,{"$f":"IF(ISNA(INDEX(OfficialTeamList[Team Name],MATCH(InnovationProjectResults[[#This Row],[Team Number]], OfficialTeamList[Team Number],0))),\"\",INDEX(OfficialTeamList[Team Name],MATCH(InnovationProjectResults[[#This Row],[Team Number]], OfficialTeamList[Team Number],0)))","v":""},null,null,null,null,null,null,null,null,null,null,{"$f":"SUM(InnovationProjectResults[[#This Row],[Identify - Problem]:[Communicate - Impact]])","v":0},{"$f":"IF(InnovationProjectResults[[#This Row],[Team Number]]>0,MIN(_xlfn.RANK.EQ(InnovationProjectResults[[#This Row],[Innovation Project Score]],InnovationProjectResults[Innovation Project Score],0),NumberOfTeams),NumberOfTeams+1)","v":1},{"$f":"SUM(InnovationProjectResults[[#This Row],[Design - Planning]:[Iterate - Sharing]])","v":0}]
[null,{"$f":"IF(ISNA(INDEX(OfficialTeamList[Team Name],MATCH(InnovationProjectResults[[#This Row],[Team Number]], OfficialTeamList[Team Number],0))),\"\",INDEX(OfficialTeamList[Team Name],MATCH(InnovationProjectResults[[#This Row],[Team Number]], OfficialTeamList[Team Number],0)))","v":""},null,null,null,null,null,null,null,null,null,null,{"$f":"SUM(InnovationProjectResults[[#This Row],[Identify - Problem]:[Communicate - Impact]])","v":0},{"$f":"IF(InnovationProjectResults[[#This Row],[Team Number]]>0,MIN(_xlfn.RANK.EQ(InnovationProjectResults[[#This Row],[Innovation Project Score]],InnovationProjectResults[Innovation Project Score],0),NumberOfTeams),NumberOfTeams+1)","v":1},{"$f":"SUM(InnovationProjectResults[[#This Row],[Design - Planning]:[Iterate - Sharing]])","v":0}]
[null,{"$f":"IF(ISNA(INDEX(OfficialTeamList[Team Name],MATCH(InnovationProjectResults[[#This Row],[Team Number]], OfficialTeamList[Team Number],0))),\"\",INDEX(OfficialTeamList[Team Name],MATCH(InnovationProjectResults[[#This Row],[Team Number]], OfficialTeamList[Team Number],0)))","v":""},null,null,null,null,null,null,null,null,null,null,{"$f":"SUM(InnovationProjectResults[[#This Row],[Identify - Problem]:[Communicate - Impact]])","v":0},{"$f":"IF(InnovationProjectResults[[#This Row],[Team Number]]>0,MIN(_xlfn.RANK.EQ(InnovationProjectResults[[#This Row],[Innovation Project Score]],InnovationProjectResults[Innovation Project Score],0),NumberOfTeams),NumberOfTeams+1)","v":1},{"$f":"SUM(InnovationProjectResults[[#This Row],[Design - Planning]:[Iterate - Sharing]])","v":0}]
[null,{"$f":"IF(ISNA(INDEX(OfficialTeamList[Team Name],MATCH(InnovationProjectResults[[#This Row],[Team Number]], OfficialTeamList[Team Number],0))),\"\",INDEX(OfficialTeamList[Team Name],MATCH(InnovationProjectResults[[#This Row],[Team Number]], OfficialTeamList[Team Number],0)))","v":""},null,null,null,null,null,null,null,null,null,null,{"$f":"SUM(InnovationProjectResults[[#This Row],[Identify - Problem]:[Communicate - Impact]])","v":0},{"$f":"IF(InnovationProjectResults[[#This Row],[Team Number]]>0,MIN(_xlfn.RANK.EQ(InnovationProjectResults[[#This Row],[Innovation Project Score]],InnovationProjectResults[Innovation Project Score],0),NumberOfTeams),NumberOfTeams+1)","v":1},{"$f":"SUM(InnovationProjectResults[[#This Row],[Design - Planning]:[Iterate - Sharing]])","v":0}]
[null,{"$f":"IF(ISNA(INDEX(OfficialTeamList[Team Name],MATCH(InnovationProjectResults[[#This Row],[Team Number]], OfficialTeamList[Team Number],0))),\"\",INDEX(OfficialTeamList[Team Name],MATCH(InnovationProjectResults[[#This Row],[Team Number]], OfficialTeamList[Team Number],0)))","v":""},null,null,null,null,null,null,null,null,null,null,{"$f":"SUM(InnovationProjectResults[[#This Row],[Identify - Problem]:[Communicate - Impact]])","v":0},{"$f":"IF(InnovationProjectResults[[#This Row],[Team Number]]>0,MIN(_xlfn.RANK.EQ(InnovationProjectResults[[#This Row],[Innovation Project Score]],InnovationProjectResults[Innovation Project Score],0),NumberOfTeams),NumberOfTeams+1)","v":1},{"$f":"SUM(InnovationProjectResults[[#This Row],[Design - Planning]:[Iterate - Sharing]])","v":0}]
[null,{"$f":"IF(ISNA(INDEX(OfficialTeamList[Team Name],MATCH(InnovationProjectResults[[#This Row],[Team Number]], OfficialTeamList[Team Number],0))),\"\",INDEX(OfficialTeamList[Team Name],MATCH(InnovationProjectResults[[#This Row],[Team Number]], OfficialTeamList[Team Number],0)))","v":""},null,null,null,null,null,null,null,null,null,null,{"$f":"SUM(InnovationProjectResults[[#This Row],[Identify - Problem]:[Communicate - Impact]])","v":0},{"$f":"IF(InnovationProjectResults[[#This Row],[Team Number]]>0,MIN(_xlfn.RANK.EQ(InnovationProjectResults[[#This Row],[Innovation Project Score]],InnovationProjectResults[Innovation Project Score],0),NumberOfTeams),NumberOfTeams+1)","v":1},{"$f":"SUM(InnovationProjectResults[[#This Row],[Design - Planning]:[Iterate - Sharing]])","v":0}]
[null,{"$f":"IF(ISNA(INDEX(OfficialTeamList[Team Name],MATCH(InnovationProjectResults[[#This Row],[Team Number]], OfficialTeamList[Team Number],0))),\"\",INDEX(OfficialTeamList[Team Name],MATCH(InnovationProjectResults[[#This Row],[Team Number]], OfficialTeamList[Team Number],0)))","v":""},null,null,null,null,null,null,null,null,null,null,{"$f":"SUM(InnovationProjectResults[[#This Row],[Identify - Problem]:[Communicate - Impact]])","v":0},{"$f":"IF(InnovationProjectResults[[#This Row],[Team Number]]>0,MIN(_xlfn.RANK.EQ(InnovationProjectResults[[#This Row],[Innovation Project Score]],InnovationProjectResults[Innovation Project Score],0),NumberOfTeams),NumberOfTeams+1)","v":1},{"$f":"SUM(InnovationProjectResults[[#This Row],[Design - Planning]:[Iterate - Sharing]])","v":0}]
[null,{"$f":"IF(ISNA(INDEX(OfficialTeamList[Team Name],MATCH(InnovationProjectResults[[#This Row],[Team Number]], OfficialTeamList[Team Number],0))),\"\",INDEX(OfficialTeamList[Team Name],MATCH(InnovationProjectResults[[#This Row],[Team Number]], OfficialTeamList[Team Number],0)))","v":""},null,null,null,null,null,null,null,null,null,null,{"$f":"SUM(InnovationProjectResults[[#This Row],[Identify - Problem]:[Communicate - Impact]])","v":0},{"$f":"IF(InnovationProjectResults[[#This Row],[Team Number]]>0,MIN(_xlfn.RANK.EQ(InnovationProjectResults[[#This Row],[Innovation Project Score]],InnovationProjectResults[Innovation Project Score],0),NumberOfTeams),NumberOfTeams+1)","v":1},{"$f":"SUM(InnovationProjectResults[[#This Row],[Design - Planning]:[Iterate - Sharing]])","v":0}]
[null,{"$f":"IF(ISNA(INDEX(OfficialTeamList[Team Name],MATCH(InnovationProjectResults[[#This Row],[Team Number]], OfficialTeamList[Team Number],0))),\"\",INDEX(OfficialTeamList[Team Name],MATCH(InnovationProjectResults[[#This Row],[Team Number]], OfficialTeamList[Team Number],0)))","v":""},null,null,null,null,null,null,null,null,null,null,{"$f":"SUM(InnovationProjectResults[[#This Row],[Identify - Problem]:[Communicate - Impact]])","v":0},{"$f":"IF(InnovationProjectResults[[#This Row],[Team Number]]>0,MIN(_xlfn.RANK.EQ(InnovationProjectResults[[#This Row],[Innovation Project Score]],InnovationProjectResults[Innovation Project Score],0),NumberOfTeams),NumberOfTeams+1)","v":1},{"$f":"SUM(InnovationProjectResults[[#This Row],[Design - Planning]:[Iterate - Sharing]])","v":0}]
[null,{"$f":"IF(ISNA(INDEX(OfficialTeamList[Team Name],MATCH(InnovationProjectResults[[#This Row],[Team Number]], OfficialTeamList[Team Number],0))),\"\",INDEX(OfficialTeamList[Team Name],MATCH(InnovationProjectResults[[#This Row],[Team Number]], OfficialTeamList[Team Number],0)))","v":""},null,null,null,null,null,null,null,null,null,null,{"$f":"SUM(InnovationProjectResults[[#This Row],[Identify - Problem]:[Communicate - Impact]])","v":0},{"$f":"IF(InnovationProjectResults[[#This Row],[Team Number]]>0,MIN(_xlfn.RANK.EQ(InnovationProjectResults[[#This Row],[Innovation Project Score]],InnovationProjectResults[Innovation Project Score],0),NumberOfTeams),NumberOfTeams+1)","v":1},{"$f":"SUM(InnovationProjectResults[[#This Row],[Design - Planning]:[Iterate - Sharing]])","v":0}]
[null,{"$f":"IF(ISNA(INDEX(OfficialTeamList[Team Name],MATCH(InnovationProjectResults[[#This Row],[Team Number]], OfficialTeamList[Team Number],0))),\"\",INDEX(OfficialTeamList[Team Name],MATCH(InnovationProjectResults[[#This Row],[Team Number]], OfficialTeamList[Team Number],0)))","v":""},null,null,null,null,null,null,null,null,null,null,{"$f":"SUM(InnovationProjectResults[[#This Row],[Identify - Problem]:[Communicate - Impact]])","v":0},{"$f":"IF(InnovationProjectResults[[#This Row],[Team Number]]>0,MIN(_xlfn.RANK.EQ(InnovationProjectResults[[#This Row],[Innovation Project Score]],InnovationProjectResults[Innovation Project Score],0),NumberOfTeams),NumberOfTeams+1)","v":1},{"$f":"SUM(InnovationProjectResults[[#This Row],[Design - Planning]:[Iterate - Sharing]])","v":0}]
[null,{"$f":"IF(ISNA(INDEX(OfficialTeamList[Team Name],MATCH(InnovationProjectResults[[#This Row],[Team Number]], OfficialTeamList[Team Number],0))),\"\",INDEX(OfficialTeamList[Team Name],MATCH(InnovationProjectResults[[#This Row],[Team Number]], OfficialTeamList[Team Number],0)))","v":""},null,null,null,null,null,null,null,null,null,null,{"$f":"SUM(InnovationProjectResults[[#This Row],[Identify - Problem]:[Communicate - Impact]])","v":0},{"$f":"IF(InnovationProjectResults[[#This Row],[Team Number]]>0,MIN(_xlfn.RANK.EQ(InnovationProjectResults[[#This Row],[Innovation Project Score]],InnovationProjectResults[Innovation Project Score],0),NumberOfTeams),NumberOfTeams+1)","v":1},{"$f":"SUM(InnovationProjectResults[[#This Row],[Design - Planning]:[Iterate - Sharing]])","v":0}]
[null,{"$f":"IF(ISNA(INDEX(OfficialTeamList[Team Name],MATCH(InnovationProjectResults[[#This Row],[Team Number]], OfficialTeamList[Team Number],0))),\"\",INDEX(OfficialTeamList[Team Name],MATCH(InnovationProjectResults[[#This Row],[Team Number]], OfficialTeamList[Team Number],0)))","v":""},null,null,null,null,null,null,null,null,null,null,{"$f":"SUM(InnovationProjectResults[[#This Row],[Identify - Problem]:[Communicate - Impact]])","v":0},{"$f":"IF(InnovationProjectResults[[#This Row],[Team Number]]>0,MIN(_xlfn.RANK.EQ(InnovationProjectResults[[#This Row],[Innovation Project Score]],InnovationProjectResults[Innovation Project Score],0),NumberOfTeams),NumberOfTeams+1)","v":1},{"$f":"SUM(InnovationProjectResults[[#This Row],[Design - Planning]:[Iterate - Sharing]])","v":0}]
[null,{"$f":"IF(ISNA(INDEX(OfficialTeamList[Team Name],MATCH(InnovationProjectResults[[#This Row],[Team Number]], OfficialTeamList[Team Number],0))),\"\",INDEX(OfficialTeamList[Team Name],MATCH(InnovationProjectResults[[#This Row],[Team Number]], OfficialTeamList[Team Number],0)))","v":""},null,null,null,null,null,null,null,null,null,null,{"$f":"SUM(InnovationProjectResults[[#This Row],[Identify - Problem]:[Communicate - Impact]])","v":0},{"$f":"IF(InnovationProjectResults[[#This Row],[Team Number]]>0,MIN(_xlfn.RANK.EQ(InnovationProjectResults[[#This Row],[Innovation Project Score]],InnovationProjectResults[Innovation Project Score],0),NumberOfTeams),NumberOfTeams+1)","v":1},{"$f":"SUM(InnovationProjectResults[[#This Row],[Design - Planning]:[Iterate - Sharing]])","v":0}]
[null,{"$f":"IF(ISNA(INDEX(OfficialTeamList[Team Name],MATCH(InnovationProjectResults[[#This Row],[Team Number]], OfficialTeamList[Team Number],0))),\"\",INDEX(OfficialTeamList[Team Name],MATCH(InnovationProjectResults[[#This Row],[Team Number]], OfficialTeamList[Team Number],0)))","v":""},null,null,null,null,null,null,null,null,null,null,{"$f":"SUM(InnovationProjectResults[[#This Row],[Identify - Problem]:[Communicate - Impact]])","v":0},{"$f":"IF(InnovationProjectResults[[#This Row],[Team Number]]>0,MIN(_xlfn.RANK.EQ(InnovationProjectResults[[#This Row],[Innovation Project Score]],InnovationProjectResults[Innovation Project Score],0),NumberOfTeams),NumberOfTeams+1)","v":1},{"$f":"SUM(InnovationProjectResults[[#This Row],[Design - Planning]:[Iterate - Sharing]])","v":0}]
[null,{"$f":"IF(ISNA(INDEX(OfficialTeamList[Team Name],MATCH(InnovationProjectResults[[#This Row],[Team Number]], OfficialTeamList[Team Number],0))),\"\",INDEX(OfficialTeamList[Team Name],MATCH(InnovationProjectResults[[#This Row],[Team Number]], OfficialTeamList[Team Number],0)))","v":""},null,null,null,null,null,null,null,null,null,null,{"$f":"SUM(InnovationProjectResults[[#This Row],[Identify - Problem]:[Communicate - Impact]])","v":0},{"$f":"IF(InnovationProjectResults[[#This Row],[Team Number]]>0,MIN(_xlfn.RANK.EQ(InnovationProjectResults[[#This Row],[Innovation Project Score]],InnovationProjectResults[Innovation Project Score],0),NumberOfTeams),NumberOfTeams+1)","v":1},{"$f":"SUM(InnovationProjectResults[[#This Row],[Design - Planning]:[Iterate - Sharing]])","v":0}]
[null,{"$f":"IF(ISNA(INDEX(OfficialTeamList[Team Name],MATCH(InnovationProjectResults[[#This Row],[Team Number]], OfficialTeamList[Team Number],0))),\"\",INDEX(OfficialTeamList[Team Name],MATCH(InnovationProjectResults[[#This Row],[Team Number]], OfficialTeamList[Team Number],0)))","v":""},null,null,null,null,null,null,null,null,null,null,{"$f":"SUM(InnovationProjectResults[[#This Row],[Identify - Problem]:[Communicate - Impact]])","v":0},{"$f":"IF(InnovationProjectResults[[#This Row],[Team Number]]>0,MIN(_xlfn.RANK.EQ(InnovationProjectResults[[#This Row],[Innovation Project Score]],InnovationProjectResults[Innovation Project Score],0),NumberOfTeams),NumberOfTeams+1)","v":1},{"$f":"SUM(InnovationProjectResults[[#This Row],[Design - Planning]:[Iterate - Sharing]])","v":0}]
[null,{"$f":"IF(ISNA(INDEX(OfficialTeamList[Team Name],MATCH(InnovationProjectResults[[#This Row],[Team Number]], OfficialTeamList[Team Number],0))),\"\",INDEX(OfficialTeamList[Team Name],MATCH(InnovationProjectResults[[#This Row],[Team Number]], OfficialTeamList[Team Number],0)))","v":""},null,null,null,null,null,null,null,null,null,null,{"$f":"SUM(InnovationProjectResults[[#This Row],[Identify - Problem]:[Communicate - Impact]])","v":0},{"$f":"IF(InnovationProjectResults[[#This Row],[Team Number]]>0,MIN(_xlfn.RANK.EQ(InnovationProjectResults[[#This Row],[Innovation Project Score]],InnovationProjectResults[Innovation Project Score],0),NumberOfTeams),NumberOfTeams+1)","v":1},{"$f":"SUM(InnovationProjectResults[[#This Row],[Design - Planning]:[Iterate - Sharing]])","v":0}]
[null,{"$f":"IF(ISNA(INDEX(OfficialTeamList[Team Name],MATCH(InnovationProjectResults[[#This Row],[Team Number]], OfficialTeamList[Team Number],0))),\"\",INDEX(OfficialTeamList[Team Name],MATCH(InnovationProjectResults[[#This Row],[Team Number]], OfficialTeamList[Team Number],0)))","v":""},null,null,null,null,null,null,null,null,null,null,{"$f":"SUM(InnovationProjectResults[[#This Row],[Identify - Problem]:[Communicate - Impact]])","v":0},{"$f":"IF(InnovationProjectResults[[#This Row],[Team Number]]>0,MIN(_xlfn.RANK.EQ(InnovationProjectResults[[#This Row],[Innovation Project Score]],InnovationProjectResults[Innovation Project Score],0),NumberOfTeams),NumberOfTeams+1)","v":1},{"$f":"SUM(InnovationProjectResults[[#This Row],[Design - Planning]:[Iterate - Sharing]])","v":0}]
[null,{"$f":"IF(ISNA(INDEX(OfficialTeamList[Team Name],MATCH(InnovationProjectResults[[#This Row],[Team Number]], OfficialTeamList[Team Number],0))),\"\",INDEX(OfficialTeamList[Team Name],MATCH(InnovationProjectResults[[#This Row],[Team Number]], OfficialTeamList[Team Number],0)))","v":""},null,null,null,null,null,null,null,null,null,null,{"$f":"SUM(InnovationProjectResults[[#This Row],[Identify - Problem]:[Communicate - Impact]])","v":0},{"$f":"IF(InnovationProjectResults[[#This Row],[Team Number]]>0,MIN(_xlfn.RANK.EQ(InnovationProjectResults[[#This Row],[Innovation Project Score]],InnovationProjectResults[Innovation Project Score],0),NumberOfTeams),NumberOfTeams+1)","v":1},{"$f":"SUM(InnovationProjectResults[[#This Row],[Design - Planning]:[Iterate - Sharing]])","v":0}]
[null,{"$f":"IF(ISNA(INDEX(OfficialTeamList[Team Name],MATCH(InnovationProjectResults[[#This Row],[Team Number]], OfficialTeamList[Team Number],0))),\"\",INDEX(OfficialTeamList[Team Name],MATCH(InnovationProjectResults[[#This Row],[Team Number]], OfficialTeamList[Team Number],0)))","v":""},null,null,null,null,null,null,null,null,null,null,{"$f":"SUM(InnovationProjectResults[[#This Row],[Identify - Problem]:[Communicate - Impact]])","v":0},{"$f":"IF(InnovationProjectResults[[#This Row],[Team Number]]>0,MIN(_xlfn.RANK.EQ(InnovationProjectResults[[#This Row],[Innovation Project Score]],InnovationProjectResults[Innovation Project Score],0),NumberOfTeams),NumberOfTeams+1)","v":1},{"$f":"SUM(InnovationProjectResults[[#This Row],[Design - Planning]:[Iterate - Sharing]])","v":0}]
[null,{"$f":"IF(ISNA(INDEX(OfficialTeamList[Team Name],MATCH(InnovationProjectResults[[#This Row],[Team Number]], OfficialTeamList[Team Number],0))),\"\",INDEX(OfficialTeamList[Team Name],MATCH(InnovationProjectResults[[#This Row],[Team Number]], OfficialTeamList[Team Number],0)))","v":""},null,null,null,null,null,null,null,null,null,null,{"$f":"SUM(InnovationProjectResults[[#This Row],[Identify - Problem]:[Communicate - Impact]])","v":0},{"$f":"IF(InnovationProjectResults[[#This Row],[Team Number]]>0,MIN(_xlfn.RANK.EQ(InnovationProjectResults[[#This Row],[Innovation Project Score]],InnovationProjectResults[Innovation Project Score],0),NumberOfTeams),NumberOfTeams+1)","v":1},{"$f":"SUM(InnovationProjectResults[[#This Row],[Design - Planning]:[Iterate - Sharing]])","v":0}]
[null,{"$f":"IF(ISNA(INDEX(OfficialTeamList[Team Name],MATCH(InnovationProjectResults[[#This Row],[Team Number]], OfficialTeamList[Team Number],0))),\"\",INDEX(OfficialTeamList[Team Name],MATCH(InnovationProjectResults[[#This Row],[Team Number]], OfficialTeamList[Team Number],0)))","v":""},null,null,null,null,null,null,null,null,null,null,{"$f":"SUM(InnovationProjectResults[[#This Row],[Identify - Problem]:[Communicate - Impact]])","v":0},{"$f":"IF(InnovationProjectResults[[#This Row],[Team Number]]>0,MIN(_xlfn.RANK.EQ(InnovationProjectResults[[#This Row],[Innovation Project Score]],InnovationProjectResults[Innovation Project Score],0),NumberOfTeams),NumberOfTeams+1)","v":1},{"$f":"SUM(InnovationProjectResults[[#This Row],[Design - Planning]:[Iterate - Sharing]])","v":0}]
[null,{"$f":"IF(ISNA(INDEX(OfficialTeamList[Team Name],MATCH(InnovationProjectResults[[#This Row],[Team Number]], OfficialTeamList[Team Number],0))),\"\",INDEX(OfficialTeamList[Team Name],MATCH(InnovationProjectResults[[#This Row],[Team Number]], OfficialTeamList[Team Number],0)))","v":""},null,null,null,null,null,null,null,null,null,null,{"$f":"SUM(InnovationProjectResults[[#This Row],[Identify - Problem]:[Communicate - Impact]])","v":0},{"$f":"IF(InnovationProjectResults[[#This Row],[Team Number]]>0,MIN(_xlfn.RANK.EQ(InnovationProjectResults[[#This Row],[Innovation Project Score]],InnovationProjectResults[Innovation Project Score],0),NumberOfTeams),NumberOfTeams+1)","v":1},{"$f":"SUM(InnovationProjectResults[[#This Row],[Design - Planning]:[Iterate - Sharing]])","v":0}]
[null,{"$f":"IF(ISNA(INDEX(OfficialTeamList[Team Name],MATCH(InnovationProjectResults[[#This Row],[Team Number]], OfficialTeamList[Team Number],0))),\"\",INDEX(OfficialTeamList[Team Name],MATCH(InnovationProjectResults[[#This Row],[Team Number]], OfficialTeamList[Team Number],0)))","v":""},null,null,null,null,null,null,null,null,null,null,{"$f":"SUM(InnovationProjectResults[[#This Row],[Identify - Problem]:[Communicate - Impact]])","v":0},{"$f":"IF(InnovationProjectResults[[#This Row],[Team Number]]>0,MIN(_xlfn.RANK.EQ(InnovationProjectResults[[#This Row],[Innovation Project Score]],InnovationProjectResults[Innovation Project Score],0),NumberOfTeams),NumberOfTeams+1)","v":1},{"$f":"SUM(InnovationProjectResults[[#This Row],[Design - Planning]:[Iterate - Sharing]])","v":0}]
[null,{"$f":"IF(ISNA(INDEX(OfficialTeamList[Team Name],MATCH(InnovationProjectResults[[#This Row],[Team Number]], OfficialTeamList[Team Number],0))),\"\",INDEX(OfficialTeamList[Team Name],MATCH(InnovationProjectResults[[#This Row],[Team Number]], OfficialTeamList[Team Number],0)))","v":""},null,null,null,null,null,null,null,null,null,null,{"$f":"SUM(InnovationProjectResults[[#This Row],[Identify - Problem]:[Communicate - Impact]])","v":0},{"$f":"IF(InnovationProjectResults[[#This Row],[Team Number]]>0,MIN(_xlfn.RANK.EQ(InnovationProjectResults[[#This Row],[Innovation Project Score]],InnovationProjectResults[Innovation Project Score],0),NumberOfTeams),NumberOfTeams+1)","v":1},{"$f":"SUM(InnovationProjectResults[[#This Row],[Design - Planning]:[Iterate - Sharing]])","v":0}]
[null,{"$f":"IF(ISNA(INDEX(OfficialTeamList[Team Name],MATCH(InnovationProjectResults[[#This Row],[Team Number]], OfficialTeamList[Team Number],0))),\"\",INDEX(OfficialTeamList[Team Name],MATCH(InnovationProjectResults[[#This Row],[Team Number]], OfficialTeamList[Team Number],0)))","v":""},null,null,null,null,null,null,null,null,null,null,{"$f":"SUM(InnovationProjectResults[[#This Row],[Identify - Problem]:[Communicate - Impact]])","v":0},{"$f":"IF(InnovationProjectResults[[#This Row],[Team Number]]>0,MIN(_xlfn.RANK.EQ(InnovationProjectResults[[#This Row],[Innovation Project Score]],InnovationProjectResults[Innovation Project Score],0),NumberOfTeams),NumberOfTeams+1)","v":1},{"$f":"SUM(InnovationProjectResults[[#This Row],[Design - Planning]:[Iterate - Sharing]])","v":0}]
[null,{"$f":"IF(ISNA(INDEX(OfficialTeamList[Team Name],MATCH(InnovationProjectResults[[#This Row],[Team Number]], OfficialTeamList[Team Number],0))),\"\",INDEX(OfficialTeamList[Team Name],MATCH(InnovationProjectResults[[#This Row],[Team Number]], OfficialTeamList[Team Number],0)))","v":""},null,null,null,null,null,null,null,null,null,null,{"$f":"SUM(InnovationProjectResults[[#This Row],[Identify - Problem]:[Communicate - Impact]])","v":0},{"$f":"IF(InnovationProjectResults[[#This Row],[Team Number]]>0,MIN(_xlfn.RANK.EQ(InnovationProjectResults[[#This Row],[Innovation Project Score]],InnovationProjectResults[Innovation Project Score],0),NumberOfTeams),NumberOfTeams+1)","v":1},{"$f":"SUM(InnovationProjectResults[[#This Row],[Design - Planning]:[Iterate - Sharing]])","v":0}]
[null,{"$f":"IF(ISNA(INDEX(OfficialTeamList[Team Name],MATCH(InnovationProjectResults[[#This Row],[Team Number]], OfficialTeamList[Team Number],0))),\"\",INDEX(OfficialTeamList[Team Name],MATCH(InnovationProjectResults[[#This Row],[Team Number]], OfficialTeamList[Team Number],0)))","v":""},null,null,null,null,null,null,null,null,null,null,{"$f":"SUM(InnovationProjectResults[[#This Row],[Identify - Problem]:[Communicate - Impact]])","v":0},{"$f":"IF(InnovationProjectResults[[#This Row],[Team Number]]>0,MIN(_xlfn.RANK.EQ(InnovationProjectResults[[#This Row],[Innovation Project Score]],InnovationProjectResults[Innovation Project Score],0),NumberOfTeams),NumberOfTeams+1)","v":1},{"$f":"SUM(InnovationProjectResults[[#This Row],[Design - Planning]:[Iterate - Sharing]])","v":0}]
[null,{"$f":"IF(ISNA(INDEX(OfficialTeamList[Team Name],MATCH(InnovationProjectResults[[#This Row],[Team Number]], OfficialTeamList[Team Number],0))),\"\",INDEX(OfficialTeamList[Team Name],MATCH(InnovationProjectResults[[#This Row],[Team Number]], OfficialTeamList[Team Number],0)))","v":""},null,null,null,null,null,null,null,null,null,null,{"$f":"SUM(InnovationProjectResults[[#This Row],[Identify - Problem]:[Communicate - Impact]])","v":0},{"$f":"IF(InnovationProjectResults[[#This Row],[Team Number]]>0,MIN(_xlfn.RANK.EQ(InnovationProjectResults[[#This Row],[Innovation Project Score]],InnovationProjectResults[Innovation Project Score],0),NumberOfTeams),NumberOfTeams+1)","v":1},{"$f":"SUM(InnovationProjectResults[[#This Row],[Design - Planning]:[Iterate - Sharing]])","v":0}]
[null,{"$f":"IF(ISNA(INDEX(OfficialTeamList[Team Name],MATCH(InnovationProjectResults[[#This Row],[Team Number]], OfficialTeamList[Team Number],0))),\"\",INDEX(OfficialTeamList[Team Name],MATCH(InnovationProjectResults[[#This Row],[Team Number]], OfficialTeamList[Team Number],0)))","v":""},null,null,null,null,null,null,null,null,null,null,{"$f":"SUM(InnovationProjectResults[[#This Row],[Identify - Problem]:[Communicate - Impact]])","v":0},{"$f":"IF(InnovationProjectResults[[#This Row],[Team Number]]>0,MIN(_xlfn.RANK.EQ(InnovationProjectResults[[#This Row],[Innovation Project Score]],InnovationProjectResults[Innovation Project Score],0),NumberOfTeams),NumberOfTeams+1)","v":1},{"$f":"SUM(InnovationProjectResults[[#This Row],[Design - Planning]:[Iterate - Sharing]])","v":0}]
[null,{"$f":"IF(ISNA(INDEX(OfficialTeamList[Team Name],MATCH(InnovationProjectResults[[#This Row],[Team Number]], OfficialTeamList[Team Number],0))),\"\",INDEX(OfficialTeamList[Team Name],MATCH(InnovationProjectResults[[#This Row],[Team Number]], OfficialTeamList[Team Number],0)))","v":""},null,null,null,null,null,null,null,null,null,null,{"$f":"SUM(InnovationProjectResults[[#This Row],[Identify - Problem]:[Communicate - Impact]])","v":0},{"$f":"IF(InnovationProjectResults[[#This Row],[Team Number]]>0,MIN(_xlfn.RANK.EQ(InnovationProjectResults[[#This Row],[Innovation Project Score]],InnovationProjectResults[Innovation Project Score],0),NumberOfTeams),NumberOfTeams+1)","v":1},{"$f":"SUM(InnovationProjectResults[[#This Row],[Design - Planning]:[Iterate - Sharing]])","v":0}]
[null,{"$f":"IF(ISNA(INDEX(OfficialTeamList[Team Name],MATCH(InnovationProjectResults[[#This Row],[Team Number]], OfficialTeamList[Team Number],0))),\"\",INDEX(OfficialTeamList[Team Name],MATCH(InnovationProjectResults[[#This Row],[Team Number]], OfficialTeamList[Team Number],0)))","v":""},null,null,null,null,null,null,null,null,null,null,{"$f":"SUM(InnovationProjectResults[[#This Row],[Identify - Problem]:[Communicate - Impact]])","v":0},{"$f":"IF(InnovationProjectResults[[#This Row],[Team Number]]>0,MIN(_xlfn.RANK.EQ(InnovationProjectResults[[#This Row],[Innovation Project Score]],InnovationProjectResults[Innovation Project Score],0),NumberOfTeams),NumberOfTeams+1)","v":1},{"$f":"SUM(InnovationProjectResults[[#This Row],[Design - Planning]:[Iterate - Sharing]])","v":0}]
[null,{"$f":"IF(ISNA(INDEX(OfficialTeamList[Team Name],MATCH(InnovationProjectResults[[#This Row],[Team Number]], OfficialTeamList[Team Number],0))),\"\",INDEX(OfficialTeamList[Team Name],MATCH(InnovationProjectResults[[#This Row],[Team Number]], OfficialTeamList[Team Number],0)))","v":""},null,null,null,null,null,null,null,null,null,null,{"$f":"SUM(InnovationProjectResults[[#This Row],[Identify - Problem]:[Communicate - Impact]])","v":0},{"$f":"IF(InnovationProjectResults[[#This Row],[Team Number]]>0,MIN(_xlfn.RANK.EQ(InnovationProjectResults[[#This Row],[Innovation Project Score]],InnovationProjectResults[Innovation Project Score],0),NumberOfTeams),NumberOfTeams+1)","v":1},{"$f":"SUM(InnovationProjectResults[[#This Row],[Design - Planning]:[Iterate - Sharing]])","v":0}]
[null,{"$f":"IF(ISNA(INDEX(OfficialTeamList[Team Name],MATCH(InnovationProjectResults[[#This Row],[Team Number]], OfficialTeamList[Team Number],0))),\"\",INDEX(OfficialTeamList[Team Name],MATCH(InnovationProjectResults[[#This Row],[Team Number]], OfficialTeamList[Team Number],0)))","v":""},null,null,null,null,null,null,null,null,null,null,{"$f":"SUM(InnovationProjectResults[[#This Row],[Identify - Problem]:[Communicate - Impact]])","v":0},{"$f":"IF(InnovationProjectResults[[#This Row],[Team Number]]>0,MIN(_xlfn.RANK.EQ(InnovationProjectResults[[#This Row],[Innovation Project Score]],InnovationProjectResults[Innovation Project Score],0),NumberOfTeams),NumberOfTeams+1)","v":1},{"$f":"SUM(InnovationProjectResults[[#This Row],[Design - Planning]:[Iterate - Sharing]])","v":0}]
[null,{"$f":"IF(ISNA(INDEX(OfficialTeamList[Team Name],MATCH(InnovationProjectResults[[#This Row],[Team Number]], OfficialTeamList[Team Number],0))),\"\",INDEX(OfficialTeamList[Team Name],MATCH(InnovationProjectResults[[#This Row],[Team Number]], OfficialTeamList[Team Number],0)))","v":""},null,null,null,null,null,null,null,null,null,null,{"$f":"SUM(InnovationProjectResults[[#This Row],[Identify - Problem]:[Communicate - Impact]])","v":0},{"$f":"IF(InnovationProjectResults[[#This Row],[Team Number]]>0,MIN(_xlfn.RANK.EQ(InnovationProjectResults[[#This Row],[Innovation Project Score]],InnovationProjectResults[Innovation Project Score],0),NumberOfTeams),NumberOfTeams+1)","v":1},{"$f":"SUM(InnovationProjectResults[[#This Row],[Design - Planning]:[Iterate - Sharing]])","v":0}]
[null,{"$f":"IF(ISNA(INDEX(OfficialTeamList[Team Name],MATCH(InnovationProjectResults[[#This Row],[Team Number]], OfficialTeamList[Team Number],0))),\"\",INDEX(OfficialTeamList[Team Name],MATCH(InnovationProjectResults[[#This Row],[Team Number]], OfficialTeamList[Team Number],0)))","v":""},null,null,null,null,null,null,null,null,null,null,{"$f":"SUM(InnovationProjectResults[[#This Row],[Identify - Problem]:[Communicate - Impact]])","v":0},{"$f":"IF(InnovationProjectResults[[#This Row],[Team Number]]>0,MIN(_xlfn.RANK.EQ(InnovationProjectResults[[#This Row],[Innovation Project Score]],InnovationProjectResults[Innovation Project Score],0),NumberOfTeams),NumberOfTeams+1)","v":1},{"$f":"SUM(InnovationProjectResults[[#This Row],[Design - Planning]:[Iterate - Sharing]])","v":0}]
[null,{"$f":"IF(ISNA(INDEX(OfficialTeamList[Team Name],MATCH(InnovationProjectResults[[#This Row],[Team Number]], OfficialTeamList[Team Number],0))),\"\",INDEX(OfficialTeamList[Team Name],MATCH(InnovationProjectResults[[#This Row],[Team Number]], OfficialTeamList[Team Number],0)))","v":""},null,null,null,null,null,null,null,null,null,null,{"$f":"SUM(InnovationProjectResults[[#This Row],[Identify - Problem]:[Communicate - Impact]])","v":0},{"$f":"IF(InnovationProjectResults[[#This Row],[Team Number]]>0,MIN(_xlfn.RANK.EQ(InnovationProjectResults[[#This Row],[Innovation Project Score]],InnovationProjectResults[Innovation Project Score],0),NumberOfTeams),NumberOfTeams+1)","v":1},{"$f":"SUM(InnovationProjectResults[[#This Row],[Design - Planning]:[Iterate - Sharing]])","v":0}]
[null,{"$f":"IF(ISNA(INDEX(OfficialTeamList[Team Name],MATCH(InnovationProjectResults[[#This Row],[Team Number]], OfficialTeamList[Team Number],0))),\"\",INDEX(OfficialTeamList[Team Name],MATCH(InnovationProjectResults[[#This Row],[Team Number]], OfficialTeamList[Team Number],0)))","v":""},null,null,null,null,null,null,null,null,null,null,{"$f":"SUM(InnovationProjectResults[[#This Row],[Identify - Problem]:[Communicate - Impact]])","v":0},{"$f":"IF(InnovationProjectResults[[#This Row],[Team Number]]>0,MIN(_xlfn.RANK.EQ(InnovationProjectResults[[#This Row],[Innovation Project Score]],InnovationProjectResults[Innovation Project Score],0),NumberOfTeams),NumberOfTeams+1)","v":1},{"$f":"SUM(InnovationProjectResults[[#This Row],[Design - Planning]:[Iterate - Sharing]])","v":0}]
[null,{"$f":"IF(ISNA(INDEX(OfficialTeamList[Team Name],MATCH(InnovationProjectResults[[#This Row],[Team Number]], OfficialTeamList[Team Number],0))),\"\",INDEX(OfficialTeamList[Team Name],MATCH(InnovationProjectResults[[#This Row],[Team Number]], OfficialTeamList[Team Number],0)))","v":""},null,null,null,null,null,null,null,null,null,null,{"$f":"SUM(InnovationProjectResults[[#This Row],[Identify - Problem]:[Communicate - Impact]])","v":0},{"$f":"IF(InnovationProjectResults[[#This Row],[Team Number]]>0,MIN(_xlfn.RANK.EQ(InnovationProjectResults[[#This Row],[Innovation Project Score]],InnovationProjectResults[Innovation Project Score],0),NumberOfTeams),NumberOfTeams+1)","v":1},{"$f":"SUM(InnovationProjectResults[[#This Row],[Design - Planning]:[Iterate - Sharing]])","v":0}]
[null,{"$f":"IF(ISNA(INDEX(OfficialTeamList[Team Name],MATCH(InnovationProjectResults[[#This Row],[Team Number]], OfficialTeamList[Team Number],0))),\"\",INDEX(OfficialTeamList[Team Name],MATCH(InnovationProjectResults[[#This Row],[Team Number]], OfficialTeamList[Team Number],0)))","v":""},null,null,null,null,null,null,null,null,null,null,{"$f":"SUM(InnovationProjectResults[[#This Row],[Identify - Problem]:[Communicate - Impact]])","v":0},{"$f":"IF(InnovationProjectResults[[#This Row],[Team Number]]>0,MIN(_xlfn.RANK.EQ(InnovationProjectResults[[#This Row],[Innovation Project Score]],InnovationProjectResults[Innovation Project Score],0),NumberOfTeams),NumberOfTeams+1)","v":1},{"$f":"SUM(InnovationProjectResults[[#This Row],[Design - Planning]:[Iterate - Sharing]])","v":0}]
[null,{"$f":"IF(ISNA(INDEX(OfficialTeamList[Team Name],MATCH(InnovationProjectResults[[#This Row],[Team Number]], OfficialTeamList[Team Number],0))),\"\",INDEX(OfficialTeamList[Team Name],MATCH(InnovationProjectResults[[#This Row],[Team Number]], OfficialTeamList[Team Number],0)))","v":""},null,null,null,null,null,null,null,null,null,null,{"$f":"SUM(InnovationProjectResults[[#This Row],[Identify - Problem]:[Communicate - Impact]])","v":0},{"$f":"IF(InnovationProjectResults[[#This Row],[Team Number]]>0,MIN(_xlfn.RANK.EQ(InnovationProjectResults[[#This Row],[Innovation Project Score]],InnovationProjectResults[Innovation Project Score],0),NumberOfTeams),NumberOfTeams+1)","v":1},{"$f":"SUM(InnovationProjectResults[[#This Row],[Design - Planning]:[Iterate - Sharing]])","v":0}]
[null,{"$f":"IF(ISNA(INDEX(OfficialTeamList[Team Name],MATCH(InnovationProjectResults[[#This Row],[Team Number]], OfficialTeamList[Team Number],0))),\"\",INDEX(OfficialTeamList[Team Name],MATCH(InnovationProjectResults[[#This Row],[Team Number]], OfficialTeamList[Team Number],0)))","v":""},null,null,null,null,null,null,null,null,null,null,{"$f":"SUM(InnovationProjectResults[[#This Row],[Identify - Problem]:[Communicate - Impact]])","v":0},{"$f":"IF(InnovationProjectResults[[#This Row],[Team Number]]>0,MIN(_xlfn.RANK.EQ(InnovationProjectResults[[#This Row],[Innovation Project Score]],InnovationProjectResults[Innovation Project Score],0),NumberOfTeams),NumberOfTeams+1)","v":1},{"$f":"SUM(InnovationProjectResults[[#This Row],[Design - Planning]:[Iterate - Sharing]])","v":0}]
[null,{"$f":"IF(ISNA(INDEX(OfficialTeamList[Team Name],MATCH(InnovationProjectResults[[#This Row],[Team Number]], OfficialTeamList[Team Number],0))),\"\",INDEX(OfficialTeamList[Team Name],MATCH(InnovationProjectResults[[#This Row],[Team Number]], OfficialTeamList[Team Number],0)))","v":""},null,null,null,null,null,null,null,null,null,null,{"$f":"SUM(InnovationProjectResults[[#This Row],[Identify - Problem]:[Communicate - Impact]])","v":0},{"$f":"IF(InnovationProjectResults[[#This Row],[Team Number]]>0,MIN(_xlfn.RANK.EQ(InnovationProjectResults[[#This Row],[Innovation Project Score]],InnovationProjectResults[Innovation Project Score],0),NumberOfTeams),NumberOfTeams+1)","v":1},{"$f":"SUM(InnovationProjectResults[[#This Row],[Design - Planning]:[Iterate - Sharing]])","v":0}]
[null,{"$f":"IF(ISNA(INDEX(OfficialTeamList[Team Name],MATCH(InnovationProjectResults[[#This Row],[Team Number]], OfficialTeamList[Team Number],0))),\"\",INDEX(OfficialTeamList[Team Name],MATCH(InnovationProjectResults[[#This Row],[Team Number]], OfficialTeamList[Team Number],0)))","v":""},null,null,null,null,null,null,null,null,null,null,{"$f":"SUM(InnovationProjectResults[[#This Row],[Identify - Problem]:[Communicate - Impact]])","v":0},{"$f":"IF(InnovationProjectResults[[#This Row],[Team Number]]>0,MIN(_xlfn.RANK.EQ(InnovationProjectResults[[#This Row],[Innovation Project Score]],InnovationProjectResults[Innovation Project Score],0),NumberOfTeams),NumberOfTeams+1)","v":1},{"$f":"SUM(InnovationProjectResults[[#This Row],[Design - Planning]:[Iterate - Sharing]])","v":0}]
[null,{"$f":"IF(ISNA(INDEX(OfficialTeamList[Team Name],MATCH(InnovationProjectResults[[#This Row],[Team Number]], OfficialTeamList[Team Number],0))),\"\",INDEX(OfficialTeamList[Team Name],MATCH(InnovationProjectResults[[#This Row],[Team Number]], OfficialTeamList[Team Number],0)))","v":""},null,null,null,null,null,null,null,null,null,null,{"$f":"SUM(InnovationProjectResults[[#This Row],[Identify - Problem]:[Communicate - Impact]])","v":0},{"$f":"IF(InnovationProjectResults[[#This Row],[Team Number]]>0,MIN(_xlfn.RANK.EQ(InnovationProjectResults[[#This Row],[Innovation Project Score]],InnovationProjectResults[Innovation Project Score],0),NumberOfTeams),NumberOfTeams+1)","v":1},{"$f":"SUM(InnovationProjectResults[[#This Row],[Design - Planning]:[Iterate - Sharing]])","v":0}]
[null,{"$f":"IF(ISNA(INDEX(OfficialTeamList[Team Name],MATCH(InnovationProjectResults[[#This Row],[Team Number]], OfficialTeamList[Team Number],0))),\"\",INDEX(OfficialTeamList[Team Name],MATCH(InnovationProjectResults[[#This Row],[Team Number]], OfficialTeamList[Team Number],0)))","v":""},null,null,null,null,null,null,null,null,null,null,{"$f":"SUM(InnovationProjectResults[[#This Row],[Identify - Problem]:[Communicate - Impact]])","v":0},{"$f":"IF(InnovationProjectResults[[#This Row],[Team Number]]>0,MIN(_xlfn.RANK.EQ(InnovationProjectResults[[#This Row],[Innovation Project Score]],InnovationProjectResults[Innovation Project Score],0),NumberOfTeams),NumberOfTeams+1)","v":1},{"$f":"SUM(InnovationProjectResults[[#This Row],[Design - Planning]:[Iterate - Sharing]])","v":0}]
[null,{"$f":"IF(ISNA(INDEX(OfficialTeamList[Team Name],MATCH(InnovationProjectResults[[#This Row],[Team Number]], OfficialTeamList[Team Number],0))),\"\",INDEX(OfficialTeamList[Team Name],MATCH(InnovationProjectResults[[#This Row],[Team Number]], OfficialTeamList[Team Number],0)))","v":""},null,null,null,null,null,null,null,null,null,null,{"$f":"SUM(InnovationProjectResults[[#This Row],[Identify - Problem]:[Communicate - Impact]])","v":0},{"$f":"IF(InnovationProjectResults[[#This Row],[Team Number]]>0,MIN(_xlfn.RANK.EQ(InnovationProjectResults[[#This Row],[Innovation Project Score]],InnovationProjectResults[Innovation Project Score],0),NumberOfTeams),NumberOfTeams+1)","v":1},{"$f":"SUM(InnovationProjectResults[[#This Row],[Design - Planning]:[Iterate - Sharing]])","v":0}]
[null,{"$f":"IF(ISNA(INDEX(OfficialTeamList[Team Name],MATCH(InnovationProjectResults[[#This Row],[Team Number]], OfficialTeamList[Team Number],0))),\"\",INDEX(OfficialTeamList[Team Name],MATCH(InnovationProjectResults[[#This Row],[Team Number]], OfficialTeamList[Team Number],0)))","v":""},null,null,null,null,null,null,null,null,null,null,{"$f":"SUM(InnovationProjectResults[[#This Row],[Identify - Problem]:[Communicate - Impact]])","v":0},{"$f":"IF(InnovationProjectResults[[#This Row],[Team Number]]>0,MIN(_xlfn.RANK.EQ(InnovationProjectResults[[#This Row],[Innovation Project Score]],InnovationProjectResults[Innovation Project Score],0),NumberOfTeams),NumberOfTeams+1)","v":1},{"$f":"SUM(InnovationProjectResults[[#This Row],[Design - Planning]:[Iterate - Sharing]])","v":0}]
[null,{"$f":"IF(ISNA(INDEX(OfficialTeamList[Team Name],MATCH(InnovationProjectResults[[#This Row],[Team Number]], OfficialTeamList[Team Number],0))),\"\",INDEX(OfficialTeamList[Team Name],MATCH(InnovationProjectResults[[#This Row],[Team Number]], OfficialTeamList[Team Number],0)))","v":""},null,null,null,null,null,null,null,null,null,null,{"$f":"SUM(InnovationProjectResults[[#This Row],[Identify - Problem]:[Communicate - Impact]])","v":0},{"$f":"IF(InnovationProjectResults[[#This Row],[Team Number]]>0,MIN(_xlfn.RANK.EQ(InnovationProjectResults[[#This Row],[Innovation Project Score]],InnovationProjectResults[Innovation Project Score],0),NumberOfTeams),NumberOfTeams+1)","v":1},{"$f":"SUM(InnovationProjectResults[[#This Row],[Design - Planning]:[Iterate - Sharing]])","v":0}]
[null,{"$f":"IF(ISNA(INDEX(OfficialTeamList[Team Name],MATCH(InnovationProjectResults[[#This Row],[Team Number]], OfficialTeamList[Team Number],0))),\"\",INDEX(OfficialTeamList[Team Name],MATCH(InnovationProjectResults[[#This Row],[Team Number]], OfficialTeamList[Team Number],0)))","v":""},null,null,null,null,null,null,null,null,null,null,{"$f":"SUM(InnovationProjectResults[[#This Row],[Identify - Problem]:[Communicate - Impact]])","v":0},{"$f":"IF(InnovationProjectResults[[#This Row],[Team Number]]>0,MIN(_xlfn.RANK.EQ(InnovationProjectResults[[#This Row],[Innovation Project Score]],InnovationProjectResults[Innovation Project Score],0),NumberOfTeams),NumberOfTeams+1)","v":1},{"$f":"SUM(InnovationProjectResults[[#This Row],[Design - Planning]:[Iterate - Sharing]])","v":0}]
[null,{"$f":"IF(ISNA(INDEX(OfficialTeamList[Team Name],MATCH(InnovationProjectResults[[#This Row],[Team Number]], OfficialTeamList[Team Number],0))),\"\",INDEX(OfficialTeamList[Team Name],MATCH(InnovationProjectResults[[#This Row],[Team Number]], OfficialTeamList[Team Number],0)))","v":""},null,null,null,null,null,null,null,null,null,null,{"$f":"SUM(InnovationProjectResults[[#This Row],[Identify - Problem]:[Communicate - Impact]])","v":0},{"$f":"IF(InnovationProjectResults[[#This Row],[Team Number]]>0,MIN(_xlfn.RANK.EQ(InnovationProjectResults[[#This Row],[Innovation Project Score]],InnovationProjectResults[Innovation Project Score],0),NumberOfTeams),NumberOfTeams+1)","v":1},{"$f":"SUM(InnovationProjectResults[[#This Row],[Design - Planning]:[Iterate - Sharing]])","v":0}]
[null,{"$f":"IF(ISNA(INDEX(OfficialTeamList[Team Name],MATCH(InnovationProjectResults[[#This Row],[Team Number]], OfficialTeamList[Team Number],0))),\"\",INDEX(OfficialTeamList[Team Name],MATCH(InnovationProjectResults[[#This Row],[Team Number]], OfficialTeamList[Team Number],0)))","v":""},null,null,null,null,null,null,null,null,null,null,{"$f":"SUM(InnovationProjectResults[[#This Row],[Identify - Problem]:[Communicate - Impact]])","v":0},{"$f":"IF(InnovationProjectResults[[#This Row],[Team Number]]>0,MIN(_xlfn.RANK.EQ(InnovationProjectResults[[#This Row],[Innovation Project Score]],InnovationProjectResults[Innovation Project Score],0),NumberOfTeams),NumberOfTeams+1)","v":1},{"$f":"SUM(InnovationProjectResults[[#This Row],[Design - Planning]:[Iterate - Sharing]])","v":0}]
[null,{"$f":"IF(ISNA(INDEX(OfficialTeamList[Team Name],MATCH(InnovationProjectResults[[#This Row],[Team Number]], OfficialTeamList[Team Number],0))),\"\",INDEX(OfficialTeamList[Team Name],MATCH(InnovationProjectResults[[#This Row],[Team Number]], OfficialTeamList[Team Number],0)))","v":""},null,null,null,null,null,null,null,null,null,null,{"$f":"SUM(InnovationProjectResults[[#This Row],[Identify - Problem]:[Communicate - Impact]])","v":0},{"$f":"IF(InnovationProjectResults[[#This Row],[Team Number]]>0,MIN(_xlfn.RANK.EQ(InnovationProjectResults[[#This Row],[Innovation Project Score]],InnovationProjectResults[Innovation Project Score],0),NumberOfTeams),NumberOfTeams+1)","v":1},{"$f":"SUM(InnovationProjectResults[[#This Row],[Design - Planning]:[Iterate - Sharing]])","v":0}]
[null,{"$f":"IF(ISNA(INDEX(OfficialTeamList[Team Name],MATCH(InnovationProjectResults[[#This Row],[Team Number]], OfficialTeamList[Team Number],0))),\"\",INDEX(OfficialTeamList[Team Name],MATCH(InnovationProjectResults[[#This Row],[Team Number]], OfficialTeamList[Team Number],0)))","v":""},null,null,null,null,null,null,null,null,null,null,{"$f":"SUM(InnovationProjectResults[[#This Row],[Identify - Problem]:[Communicate - Impact]])","v":0},{"$f":"IF(InnovationProjectResults[[#This Row],[Team Number]]>0,MIN(_xlfn.RANK.EQ(InnovationProjectResults[[#This Row],[Innovation Project Score]],InnovationProjectResults[Innovation Project Score],0),NumberOfTeams),NumberOfTeams+1)","v":1},{"$f":"SUM(InnovationProjectResults[[#This Row],[Design - Planning]:[Iterate - Sharing]])","v":0}]
[null,{"$f":"IF(ISNA(INDEX(OfficialTeamList[Team Name],MATCH(InnovationProjectResults[[#This Row],[Team Number]], OfficialTeamList[Team Number],0))),\"\",INDEX(OfficialTeamList[Team Name],MATCH(InnovationProjectResults[[#This Row],[Team Number]], OfficialTeamList[Team Number],0)))","v":""},null,null,null,null,null,null,null,null,null,null,{"$f":"SUM(InnovationProjectResults[[#This Row],[Identify - Problem]:[Communicate - Impact]])","v":0},{"$f":"IF(InnovationProjectResults[[#This Row],[Team Number]]>0,MIN(_xlfn.RANK.EQ(InnovationProjectResults[[#This Row],[Innovation Project Score]],InnovationProjectResults[Innovation Project Score],0),NumberOfTeams),NumberOfTeams+1)","v":1},{"$f":"SUM(InnovationProjectResults[[#This Row],[Design - Planning]:[Iterate - Sharing]])","v":0}]
[null,{"$f":"IF(ISNA(INDEX(OfficialTeamList[Team Name],MATCH(InnovationProjectResults[[#This Row],[Team Number]], OfficialTeamList[Team Number],0))),\"\",INDEX(OfficialTeamList[Team Name],MATCH(InnovationProjectResults[[#This Row],[Team Number]], OfficialTeamList[Team Number],0)))","v":""},null,null,null,null,null,null,null,null,null,null,{"$f":"SUM(InnovationProjectResults[[#This Row],[Identify - Problem]:[Communicate - Impact]])","v":0},{"$f":"IF(InnovationProjectResults[[#This Row],[Team Number]]>0,MIN(_xlfn.RANK.EQ(InnovationProjectResults[[#This Row],[Innovation Project Score]],InnovationProjectResults[Innovation Project Score],0),NumberOfTeams),NumberOfTeams+1)","v":1},{"$f":"SUM(InnovationProjectResults[[#This Row],[Design - Planning]:[Iterate - Sharing]])","v":0}]
[null,{"$f":"IF(ISNA(INDEX(OfficialTeamList[Team Name],MATCH(InnovationProjectResults[[#This Row],[Team Number]], OfficialTeamList[Team Number],0))),\"\",INDEX(OfficialTeamList[Team Name],MATCH(InnovationProjectResults[[#This Row],[Team Number]], OfficialTeamList[Team Number],0)))","v":""},null,null,null,null,null,null,null,null,null,null,{"$f":"SUM(InnovationProjectResults[[#This Row],[Identify - Problem]:[Communicate - Impact]])","v":0},{"$f":"IF(InnovationProjectResults[[#This Row],[Team Number]]>0,MIN(_xlfn.RANK.EQ(InnovationProjectResults[[#This Row],[Innovation Project Score]],InnovationProjectResults[Innovation Project Score],0),NumberOfTeams),NumberOfTeams+1)","v":1},{"$f":"SUM(InnovationProjectResults[[#This Row],[Design - Planning]:[Iterate - Sharing]])","v":0}]
[null,{"$f":"IF(ISNA(INDEX(OfficialTeamList[Team Name],MATCH(InnovationProjectResults[[#This Row],[Team Number]], OfficialTeamList[Team Number],0))),\"\",INDEX(OfficialTeamList[Team Name],MATCH(InnovationProjectResults[[#This Row],[Team Number]], OfficialTeamList[Team Number],0)))","v":""},null,null,null,null,null,null,null,null,null,null,{"$f":"SUM(InnovationProjectResults[[#This Row],[Identify - Problem]:[Communicate - Impact]])","v":0},{"$f":"IF(InnovationProjectResults[[#This Row],[Team Number]]>0,MIN(_xlfn.RANK.EQ(InnovationProjectResults[[#This Row],[Innovation Project Score]],InnovationProjectResults[Innovation Project Score],0),NumberOfTeams),NumberOfTeams+1)","v":1},{"$f":"SUM(InnovationProjectResults[[#This Row],[Design - Planning]:[Iterate - Sharing]])","v":0}]
[null,{"$f":"IF(ISNA(INDEX(OfficialTeamList[Team Name],MATCH(InnovationProjectResults[[#This Row],[Team Number]], OfficialTeamList[Team Number],0))),\"\",INDEX(OfficialTeamList[Team Name],MATCH(InnovationProjectResults[[#This Row],[Team Number]], OfficialTeamList[Team Number],0)))","v":""},null,null,null,null,null,null,null,null,null,null,{"$f":"SUM(InnovationProjectResults[[#This Row],[Identify - Problem]:[Communicate - Impact]])","v":0},{"$f":"IF(InnovationProjectResults[[#This Row],[Team Number]]>0,MIN(_xlfn.RANK.EQ(InnovationProjectResults[[#This Row],[Innovation Project Score]],InnovationProjectResults[Innovation Project Score],0),NumberOfTeams),NumberOfTeams+1)","v":1},{"$f":"SUM(InnovationProjectResults[[#This Row],[Design - Planning]:[Iterate - Sharing]])","v":0}]
[null,{"$f":"IF(ISNA(INDEX(OfficialTeamList[Team Name],MATCH(InnovationProjectResults[[#This Row],[Team Number]], OfficialTeamList[Team Number],0))),\"\",INDEX(OfficialTeamList[Team Name],MATCH(InnovationProjectResults[[#This Row],[Team Number]], OfficialTeamList[Team Number],0)))","v":""},null,null,null,null,null,null,null,null,null,null,{"$f":"SUM(InnovationProjectResults[[#This Row],[Identify - Problem]:[Communicate - Impact]])","v":0},{"$f":"IF(InnovationProjectResults[[#This Row],[Team Number]]>0,MIN(_xlfn.RANK.EQ(InnovationProjectResults[[#This Row],[Innovation Project Score]],InnovationProjectResults[Innovation Project Score],0),NumberOfTeams),NumberOfTeams+1)","v":1},{"$f":"SUM(InnovationProjectResults[[#This Row],[Design - Planning]:[Iterate - Sharing]])","v":0}]
[null,{"$f":"IF(ISNA(INDEX(OfficialTeamList[Team Name],MATCH(InnovationProjectResults[[#This Row],[Team Number]], OfficialTeamList[Team Number],0))),\"\",INDEX(OfficialTeamList[Team Name],MATCH(InnovationProjectResults[[#This Row],[Team Number]], OfficialTeamList[Team Number],0)))","v":""},null,null,null,null,null,null,null,null,null,null,{"$f":"SUM(InnovationProjectResults[[#This Row],[Identify - Problem]:[Communicate - Impact]])","v":0},{"$f":"IF(InnovationProjectResults[[#This Row],[Team Number]]>0,MIN(_xlfn.RANK.EQ(InnovationProjectResults[[#This Row],[Innovation Project Score]],InnovationProjectResults[Innovation Project Score],0),NumberOfTeams),NumberOfTeams+1)","v":1},{"$f":"SUM(InnovationProjectResults[[#This Row],[Design - Planning]:[Iterate - Sharing]])","v":0}]
[null,{"$f":"IF(ISNA(INDEX(OfficialTeamList[Team Name],MATCH(InnovationProjectResults[[#This Row],[Team Number]], OfficialTeamList[Team Number],0))),\"\",INDEX(OfficialTeamList[Team Name],MATCH(InnovationProjectResults[[#This Row],[Team Number]], OfficialTeamList[Team Number],0)))","v":""},null,null,null,null,null,null,null,null,null,null,{"$f":"SUM(InnovationProjectResults[[#This Row],[Identify - Problem]:[Communicate - Impact]])","v":0},{"$f":"IF(InnovationProjectResults[[#This Row],[Team Number]]>0,MIN(_xlfn.RANK.EQ(InnovationProjectResults[[#This Row],[Innovation Project Score]],InnovationProjectResults[Innovation Project Score],0),NumberOfTeams),NumberOfTeams+1)","v":1},{"$f":"SUM(InnovationProjectResults[[#This Row],[Design - Planning]:[Iterate - Sharing]])","v":0}]
[null,{"$f":"IF(ISNA(INDEX(OfficialTeamList[Team Name],MATCH(InnovationProjectResults[[#This Row],[Team Number]], OfficialTeamList[Team Number],0))),\"\",INDEX(OfficialTeamList[Team Name],MATCH(InnovationProjectResults[[#This Row],[Team Number]], OfficialTeamList[Team Number],0)))","v":""},null,null,null,null,null,null,null,null,null,null,{"$f":"SUM(InnovationProjectResults[[#This Row],[Identify - Problem]:[Communicate - Impact]])","v":0},{"$f":"IF(InnovationProjectResults[[#This Row],[Team Number]]>0,MIN(_xlfn.RANK.EQ(InnovationProjectResults[[#This Row],[Innovation Project Score]],InnovationProjectResults[Innovation Project Score],0),NumberOfTeams),NumberOfTeams+1)","v":1},{"$f":"SUM(InnovationProjectResults[[#This Row],[Design - Planning]:[Iterate - Sharing]])","v":0}]
[null,{"$f":"IF(ISNA(INDEX(OfficialTeamList[Team Name],MATCH(InnovationProjectResults[[#This Row],[Team Number]], OfficialTeamList[Team Number],0))),\"\",INDEX(OfficialTeamList[Team Name],MATCH(InnovationProjectResults[[#This Row],[Team Number]], OfficialTeamList[Team Number],0)))","v":""},null,null,null,null,null,null,null,null,null,null,{"$f":"SUM(InnovationProjectResults[[#This Row],[Identify - Problem]:[Communicate - Impact]])","v":0},{"$f":"IF(InnovationProjectResults[[#This Row],[Team Number]]>0,MIN(_xlfn.RANK.EQ(InnovationProjectResults[[#This Row],[Innovation Project Score]],InnovationProjectResults[Innovation Project Score],0),NumberOfTeams),NumberOfTeams+1)","v":1},{"$f":"SUM(InnovationProjectResults[[#This Row],[Design - Planning]:[Iterate - Sharing]])","v":0}]
[null,{"$f":"IF(ISNA(INDEX(OfficialTeamList[Team Name],MATCH(InnovationProjectResults[[#This Row],[Team Number]], OfficialTeamList[Team Number],0))),\"\",INDEX(OfficialTeamList[Team Name],MATCH(InnovationProjectResults[[#This Row],[Team Number]], OfficialTeamList[Team Number],0)))","v":""},null,null,null,null,null,null,null,null,null,null,{"$f":"SUM(InnovationProjectResults[[#This Row],[Identify - Problem]:[Communicate - Impact]])","v":0},{"$f":"IF(InnovationProjectResults[[#This Row],[Team Number]]>0,MIN(_xlfn.RANK.EQ(InnovationProjectResults[[#This Row],[Innovation Project Score]],InnovationProjectResults[Innovation Project Score],0),NumberOfTeams),NumberOfTeams+1)","v":1},{"$f":"SUM(InnovationProjectResults[[#This Row],[Design - Planning]:[Iterate - Sharing]])","v":0}]
[null,{"$f":"IF(ISNA(INDEX(OfficialTeamList[Team Name],MATCH(InnovationProjectResults[[#This Row],[Team Number]], OfficialTeamList[Team Number],0))),\"\",INDEX(OfficialTeamList[Team Name],MATCH(InnovationProjectResults[[#This Row],[Team Number]], OfficialTeamList[Team Number],0)))","v":""},null,null,null,null,null,null,null,null,null,null,{"$f":"SUM(InnovationProjectResults[[#This Row],[Identify - Problem]:[Communicate - Impact]])","v":0},{"$f":"IF(InnovationProjectResults[[#This Row],[Team Number]]>0,MIN(_xlfn.RANK.EQ(InnovationProjectResults[[#This Row],[Innovation Project Score]],InnovationProjectResults[Innovation Project Score],0),NumberOfTeams),NumberOfTeams+1)","v":1},{"$f":"SUM(InnovationProjectResults[[#This Row],[Design - Planning]:[Iterate - Sharing]])","v":0}]
[null,{"$f":"IF(ISNA(INDEX(OfficialTeamList[Team Name],MATCH(InnovationProjectResults[[#This Row],[Team Number]], OfficialTeamList[Team Number],0))),\"\",INDEX(OfficialTeamList[Team Name],MATCH(InnovationProjectResults[[#This Row],[Team Number]], OfficialTeamList[Team Number],0)))","v":""},null,null,null,null,null,null,null,null,null,null,{"$f":"SUM(InnovationProjectResults[[#This Row],[Identify - Problem]:[Communicate - Impact]])","v":0},{"$f":"IF(InnovationProjectResults[[#This Row],[Team Number]]>0,MIN(_xlfn.RANK.EQ(InnovationProjectResults[[#This Row],[Innovation Project Score]],InnovationProjectResults[Innovation Project Score],0),NumberOfTeams),NumberOfTeams+1)","v":1},{"$f":"SUM(InnovationProjectResults[[#This Row],[Design - Planning]:[Iterate - Sharing]])","v":0}]
[null,{"$f":"IF(ISNA(INDEX(OfficialTeamList[Team Name],MATCH(InnovationProjectResults[[#This Row],[Team Number]], OfficialTeamList[Team Number],0))),\"\",INDEX(OfficialTeamList[Team Name],MATCH(InnovationProjectResults[[#This Row],[Team Number]], OfficialTeamList[Team Number],0)))","v":""},null,null,null,null,null,null,null,null,null,null,{"$f":"SUM(InnovationProjectResults[[#This Row],[Identify - Problem]:[Communicate - Impact]])","v":0},{"$f":"IF(InnovationProjectResults[[#This Row],[Team Number]]>0,MIN(_xlfn.RANK.EQ(InnovationProjectResults[[#This Row],[Innovation Project Score]],InnovationProjectResults[Innovation Project Score],0),NumberOfTeams),NumberOfTeams+1)","v":1},{"$f":"SUM(InnovationProjectResults[[#This Row],[Design - Planning]:[Iterate - Sharing]])","v":0}]
[null,{"$f":"IF(ISNA(INDEX(OfficialTeamList[Team Name],MATCH(InnovationProjectResults[[#This Row],[Team Number]], OfficialTeamList[Team Number],0))),\"\",INDEX(OfficialTeamList[Team Name],MATCH(InnovationProjectResults[[#This Row],[Team Number]], OfficialTeamList[Team Number],0)))","v":""},null,null,null,null,null,null,null,null,null,null,{"$f":"SUM(InnovationProjectResults[[#This Row],[Identify - Problem]:[Communicate - Impact]])","v":0},{"$f":"IF(InnovationProjectResults[[#This Row],[Team Number]]>0,MIN(_xlfn.RANK.EQ(InnovationProjectResults[[#This Row],[Innovation Project Score]],InnovationProjectResults[Innovation Project Score],0),NumberOfTeams),NumberOfTeams+1)","v":1},{"$f":"SUM(InnovationProjectResults[[#This Row],[Design - Planning]:[Iterate - Sharing]])","v":0}]
[null,{"$f":"IF(ISNA(INDEX(OfficialTeamList[Team Name],MATCH(InnovationProjectResults[[#This Row],[Team Number]], OfficialTeamList[Team Number],0))),\"\",INDEX(OfficialTeamList[Team Name],MATCH(InnovationProjectResults[[#This Row],[Team Number]], OfficialTeamList[Team Number],0)))","v":""},null,null,null,null,null,null,null,null,null,null,{"$f":"SUM(InnovationProjectResults[[#This Row],[Identify - Problem]:[Communicate - Impact]])","v":0},{"$f":"IF(InnovationProjectResults[[#This Row],[Team Number]]>0,MIN(_xlfn.RANK.EQ(InnovationProjectResults[[#This Row],[Innovation Project Score]],InnovationProjectResults[Innovation Project Score],0),NumberOfTeams),NumberOfTeams+1)","v":1},{"$f":"SUM(InnovationProjectResults[[#This Row],[Design - Planning]:[Iterate - Sharing]])","v":0}]
[null,{"$f":"IF(ISNA(INDEX(OfficialTeamList[Team Name],MATCH(InnovationProjectResults[[#This Row],[Team Number]], OfficialTeamList[Team Number],0))),\"\",INDEX(OfficialTeamList[Team Name],MATCH(InnovationProjectResults[[#This Row],[Team Number]], OfficialTeamList[Team Number],0)))","v":""},null,null,null,null,null,null,null,null,null,null,{"$f":"SUM(InnovationProjectResults[[#This Row],[Identify - Problem]:[Communicate - Impact]])","v":0},{"$f":"IF(InnovationProjectResults[[#This Row],[Team Number]]>0,MIN(_xlfn.RANK.EQ(InnovationProjectResults[[#This Row],[Innovation Project Score]],InnovationProjectResults[Innovation Project Score],0),NumberOfTeams),NumberOfTeams+1)","v":1},{"$f":"SUM(InnovationProjectResults[[#This Row],[Design - Planning]:[Iterate - Sharing]])","v":0}]
[null,{"$f":"IF(ISNA(INDEX(OfficialTeamList[Team Name],MATCH(InnovationProjectResults[[#This Row],[Team Number]], OfficialTeamList[Team Number],0))),\"\",INDEX(OfficialTeamList[Team Name],MATCH(InnovationProjectResults[[#This Row],[Team Number]], OfficialTeamList[Team Number],0)))","v":""},null,null,null,null,null,null,null,null,null,null,{"$f":"SUM(InnovationProjectResults[[#This Row],[Identify - Problem]:[Communicate - Impact]])","v":0},{"$f":"IF(InnovationProjectResults[[#This Row],[Team Number]]>0,MIN(_xlfn.RANK.EQ(InnovationProjectResults[[#This Row],[Innovation Project Score]],InnovationProjectResults[Innovation Project Score],0),NumberOfTeams),NumberOfTeams+1)","v":1},{"$f":"SUM(InnovationProjectResults[[#This Row],[Design - Planning]:[Iterate - Sharing]])","v":0}]
[null,{"$f":"IF(ISNA(INDEX(OfficialTeamList[Team Name],MATCH(InnovationProjectResults[[#This Row],[Team Number]], OfficialTeamList[Team Number],0))),\"\",INDEX(OfficialTeamList[Team Name],MATCH(InnovationProjectResults[[#This Row],[Team Number]], OfficialTeamList[Team Number],0)))","v":""},null,null,null,null,null,null,null,null,null,null,{"$f":"SUM(InnovationProjectResults[[#This Row],[Identify - Problem]:[Communicate - Impact]])","v":0},{"$f":"IF(InnovationProjectResults[[#This Row],[Team Number]]>0,MIN(_xlfn.RANK.EQ(InnovationProjectResults[[#This Row],[Innovation Project Score]],InnovationProjectResults[Innovation Project Score],0),NumberOfTeams),NumberOfTeams+1)","v":1},{"$f":"SUM(InnovationProjectResults[[#This Row],[Design - Planning]:[Iterate - Sharing]])","v":0}]
[null,{"$f":"IF(ISNA(INDEX(OfficialTeamList[Team Name],MATCH(InnovationProjectResults[[#This Row],[Team Number]], OfficialTeamList[Team Number],0))),\"\",INDEX(OfficialTeamList[Team Name],MATCH(InnovationProjectResults[[#This Row],[Team Number]], OfficialTeamList[Team Number],0)))","v":""},null,null,null,null,null,null,null,null,null,null,{"$f":"SUM(InnovationProjectResults[[#This Row],[Identify - Problem]:[Communicate - Impact]])","v":0},{"$f":"IF(InnovationProjectResults[[#This Row],[Team Number]]>0,MIN(_xlfn.RANK.EQ(InnovationProjectResults[[#This Row],[Innovation Project Score]],InnovationProjectResults[Innovation Project Score],0),NumberOfTeams),NumberOfTeams+1)","v":1},{"$f":"SUM(InnovationProjectResults[[#This Row],[Design - Planning]:[Iterate - Sharing]])","v":0}]
[null,{"$f":"IF(ISNA(INDEX(OfficialTeamList[Team Name],MATCH(InnovationProjectResults[[#This Row],[Team Number]], OfficialTeamList[Team Number],0))),\"\",INDEX(OfficialTeamList[Team Name],MATCH(InnovationProjectResults[[#This Row],[Team Number]], OfficialTeamList[Team Number],0)))","v":""},null,null,null,null,null,null,null,null,null,null,{"$f":"SUM(InnovationProjectResults[[#This Row],[Identify - Problem]:[Communicate - Impact]])","v":0},{"$f":"IF(InnovationProjectResults[[#This Row],[Team Number]]>0,MIN(_xlfn.RANK.EQ(InnovationProjectResults[[#This Row],[Innovation Project Score]],InnovationProjectResults[Innovation Project Score],0),NumberOfTeams),NumberOfTeams+1)","v":1},{"$f":"SUM(InnovationProjectResults[[#This Row],[Design - Planning]:[Iterate - Sharing]])","v":0}]
[null,{"$f":"IF(ISNA(INDEX(OfficialTeamList[Team Name],MATCH(InnovationProjectResults[[#This Row],[Team Number]], OfficialTeamList[Team Number],0))),\"\",INDEX(OfficialTeamList[Team Name],MATCH(InnovationProjectResults[[#This Row],[Team Number]], OfficialTeamList[Team Number],0)))","v":""},null,null,null,null,null,null,null,null,null,null,{"$f":"SUM(InnovationProjectResults[[#This Row],[Identify - Problem]:[Communicate - Impact]])","v":0},{"$f":"IF(InnovationProjectResults[[#This Row],[Team Number]]>0,MIN(_xlfn.RANK.EQ(InnovationProjectResults[[#This Row],[Innovation Project Score]],InnovationProjectResults[Innovation Project Score],0),NumberOfTeams),NumberOfTeams+1)","v":1},{"$f":"SUM(InnovationProjectResults[[#This Row],[Design - Planning]:[Iterate - Sharing]])","v":0}]
[null,{"$f":"IF(ISNA(INDEX(OfficialTeamList[Team Name],MATCH(InnovationProjectResults[[#This Row],[Team Number]], OfficialTeamList[Team Number],0))),\"\",INDEX(OfficialTeamList[Team Name],MATCH(InnovationProjectResults[[#This Row],[Team Number]], OfficialTeamList[Team Number],0)))","v":""},null,null,null,null,null,null,null,null,null,null,{"$f":"SUM(InnovationProjectResults[[#This Row],[Identify - Problem]:[Communicate - Impact]])","v":0},{"$f":"IF(InnovationProjectResults[[#This Row],[Team Number]]>0,MIN(_xlfn.RANK.EQ(InnovationProjectResults[[#This Row],[Innovation Project Score]],InnovationProjectResults[Innovation Project Score],0),NumberOfTeams),NumberOfTeams+1)","v":1},{"$f":"SUM(InnovationProjectResults[[#This Row],[Design - Planning]:[Iterate - Sharing]])","v":0}]
[null,{"$f":"IF(ISNA(INDEX(OfficialTeamList[Team Name],MATCH(InnovationProjectResults[[#This Row],[Team Number]], OfficialTeamList[Team Number],0))),\"\",INDEX(OfficialTeamList[Team Name],MATCH(InnovationProjectResults[[#This Row],[Team Number]], OfficialTeamList[Team Number],0)))","v":""},null,null,null,null,null,null,null,null,null,null,{"$f":"SUM(InnovationProjectResults[[#This Row],[Identify - Problem]:[Communicate - Impact]])","v":0},{"$f":"IF(InnovationProjectResults[[#This Row],[Team Number]]>0,MIN(_xlfn.RANK.EQ(InnovationProjectResults[[#This Row],[Innovation Project Score]],InnovationProjectResults[Innovation Project Score],0),NumberOfTeams),NumberOfTeams+1)","v":1},{"$f":"SUM(InnovationProjectResults[[#This Row],[Design - Planning]:[Iterate - Sharing]])","v":0}]
[null,{"$f":"IF(ISNA(INDEX(OfficialTeamList[Team Name],MATCH(InnovationProjectResults[[#This Row],[Team Number]], OfficialTeamList[Team Number],0))),\"\",INDEX(OfficialTeamList[Team Name],MATCH(InnovationProjectResults[[#This Row],[Team Number]], OfficialTeamList[Team Number],0)))","v":""},null,null,null,null,null,null,null,null,null,null,{"$f":"SUM(InnovationProjectResults[[#This Row],[Identify - Problem]:[Communicate - Impact]])","v":0},{"$f":"IF(InnovationProjectResults[[#This Row],[Team Number]]>0,MIN(_xlfn.RANK.EQ(InnovationProjectResults[[#This Row],[Innovation Project Score]],InnovationProjectResults[Innovation Project Score],0),NumberOfTeams),NumberOfTeams+1)","v":1},{"$f":"SUM(InnovationProjectResults[[#This Row],[Design - Planning]:[Iterate - Sharing]])","v":0}]
[null,{"$f":"IF(ISNA(INDEX(OfficialTeamList[Team Name],MATCH(InnovationProjectResults[[#This Row],[Team Number]], OfficialTeamList[Team Number],0))),\"\",INDEX(OfficialTeamList[Team Name],MATCH(InnovationProjectResults[[#This Row],[Team Number]], OfficialTeamList[Team Number],0)))","v":""},null,null,null,null,null,null,null,null,null,null,{"$f":"SUM(InnovationProjectResults[[#This Row],[Identify - Problem]:[Communicate - Impact]])","v":0},{"$f":"IF(InnovationProjectResults[[#This Row],[Team Number]]>0,MIN(_xlfn.RANK.EQ(InnovationProjectResults[[#This Row],[Innovation Project Score]],InnovationProjectResults[Innovation Project Score],0),NumberOfTeams),NumberOfTeams+1)","v":1},{"$f":"SUM(InnovationProjectResults[[#This Row],[Design - Planning]:[Iterate - Sharing]])","v":0}]
[null,{"$f":"IF(ISNA(INDEX(OfficialTeamList[Team Name],MATCH(InnovationProjectResults[[#This Row],[Team Number]], OfficialTeamList[Team Number],0))),\"\",INDEX(OfficialTeamList[Team Name],MATCH(InnovationProjectResults[[#This Row],[Team Number]], OfficialTeamList[Team Number],0)))","v":""},null,null,null,null,null,null,null,null,null,null,{"$f":"SUM(InnovationProjectResults[[#This Row],[Identify - Problem]:[Communicate - Impact]])","v":0},{"$f":"IF(InnovationProjectResults[[#This Row],[Team Number]]>0,MIN(_xlfn.RANK.EQ(InnovationProjectResults[[#This Row],[Innovation Project Score]],InnovationProjectResults[Innovation Project Score],0),NumberOfTeams),NumberOfTeams+1)","v":1},{"$f":"SUM(InnovationProjectResults[[#This Row],[Design - Planning]:[Iterate - Sharing]])","v":0}]
[null,{"$f":"IF(ISNA(INDEX(OfficialTeamList[Team Name],MATCH(InnovationProjectResults[[#This Row],[Team Number]], OfficialTeamList[Team Number],0))),\"\",INDEX(OfficialTeamList[Team Name],MATCH(InnovationProjectResults[[#This Row],[Team Number]], OfficialTeamList[Team Number],0)))","v":""},null,null,null,null,null,null,null,null,null,null,{"$f":"SUM(InnovationProjectResults[[#This Row],[Identify - Problem]:[Communicate - Impact]])","v":0},{"$f":"IF(InnovationProjectResults[[#This Row],[Team Number]]>0,MIN(_xlfn.RANK.EQ(InnovationProjectResults[[#This Row],[Innovation Project Score]],InnovationProjectResults[Innovation Project Score],0),NumberOfTeams),NumberOfTeams+1)","v":1},{"$f":"SUM(InnovationProjectResults[[#This Row],[Design - Planning]:[Iterate - Sharing]])","v":0}]
[null,{"$f":"IF(ISNA(INDEX(OfficialTeamList[Team Name],MATCH(InnovationProjectResults[[#This Row],[Team Number]], OfficialTeamList[Team Number],0))),\"\",INDEX(OfficialTeamList[Team Name],MATCH(InnovationProjectResults[[#This Row],[Team Number]], OfficialTeamList[Team Number],0)))","v":""},null,null,null,null,null,null,null,null,null,null,{"$f":"SUM(InnovationProjectResults[[#This Row],[Identify - Problem]:[Communicate - Impact]])","v":0},{"$f":"IF(InnovationProjectResults[[#This Row],[Team Number]]>0,MIN(_xlfn.RANK.EQ(InnovationProjectResults[[#This Row],[Innovation Project Score]],InnovationProjectResults[Innovation Project Score],0),NumberOfTeams),NumberOfTeams+1)","v":1},{"$f":"SUM(InnovationProjectResults[[#This Row],[Design - Planning]:[Iterate - Sharing]])","v":0}]
[null,{"$f":"IF(ISNA(INDEX(OfficialTeamList[Team Name],MATCH(InnovationProjectResults[[#This Row],[Team Number]], OfficialTeamList[Team Number],0))),\"\",INDEX(OfficialTeamList[Team Name],MATCH(InnovationProjectResults[[#This Row],[Team Number]], OfficialTeamList[Team Number],0)))","v":""},null,null,null,null,null,null,null,null,null,null,{"$f":"SUM(InnovationProjectResults[[#This Row],[Identify - Problem]:[Communicate - Impact]])","v":0},{"$f":"IF(InnovationProjectResults[[#This Row],[Team Number]]>0,MIN(_xlfn.RANK.EQ(InnovationProjectResults[[#This Row],[Innovation Project Score]],InnovationProjectResults[Innovation Project Score],0),NumberOfTeams),NumberOfTeams+1)","v":1},{"$f":"SUM(InnovationProjectResults[[#This Row],[Design - Planning]:[Iterate - Sharing]])","v":0}]
[null,{"$f":"IF(ISNA(INDEX(OfficialTeamList[Team Name],MATCH(InnovationProjectResults[[#This Row],[Team Number]], OfficialTeamList[Team Number],0))),\"\",INDEX(OfficialTeamList[Team Name],MATCH(InnovationProjectResults[[#This Row],[Team Number]], OfficialTeamList[Team Number],0)))","v":""},null,null,null,null,null,null,null,null,null,null,{"$f":"SUM(InnovationProjectResults[[#This Row],[Identify - Problem]:[Communicate - Impact]])","v":0},{"$f":"IF(InnovationProjectResults[[#This Row],[Team Number]]>0,MIN(_xlfn.RANK.EQ(InnovationProjectResults[[#This Row],[Innovation Project Score]],InnovationProjectResults[Innovation Project Score],0),NumberOfTeams),NumberOfTeams+1)","v":1},{"$f":"SUM(InnovationProjectResults[[#This Row],[Design - Planning]:[Iterate - Sharing]])","v":0}]
[null,{"$f":"IF(ISNA(INDEX(OfficialTeamList[Team Name],MATCH(InnovationProjectResults[[#This Row],[Team Number]], OfficialTeamList[Team Number],0))),\"\",INDEX(OfficialTeamList[Team Name],MATCH(InnovationProjectResults[[#This Row],[Team Number]], OfficialTeamList[Team Number],0)))","v":""},null,null,null,null,null,null,null,null,null,null,{"$f":"SUM(InnovationProjectResults[[#This Row],[Identify - Problem]:[Communicate - Impact]])","v":0},{"$f":"IF(InnovationProjectResults[[#This Row],[Team Number]]>0,MIN(_xlfn.RANK.EQ(InnovationProjectResults[[#This Row],[Innovation Project Score]],InnovationProjectResults[Innovation Project Score],0),NumberOfTeams),NumberOfTeams+1)","v":1},{"$f":"SUM(InnovationProjectResults[[#This Row],[Design - Planning]:[Iterate - Sharing]])","v":0}]
[null,{"$f":"IF(ISNA(INDEX(OfficialTeamList[Team Name],MATCH(InnovationProjectResults[[#This Row],[Team Number]], OfficialTeamList[Team Number],0))),\"\",INDEX(OfficialTeamList[Team Name],MATCH(InnovationProjectResults[[#This Row],[Team Number]], OfficialTeamList[Team Number],0)))","v":""},null,null,null,null,null,null,null,null,null,null,{"$f":"SUM(InnovationProjectResults[[#This Row],[Identify - Problem]:[Communicate - Impact]])","v":0},{"$f":"IF(InnovationProjectResults[[#This Row],[Team Number]]>0,MIN(_xlfn.RANK.EQ(InnovationProjectResults[[#This Row],[Innovation Project Score]],InnovationProjectResults[Innovation Project Score],0),NumberOfTeams),NumberOfTeams+1)","v":1},{"$f":"SUM(InnovationProjectResults[[#This Row],[Design - Planning]:[Iterate - Sharing]])","v":0}]
[null,{"$f":"IF(ISNA(INDEX(OfficialTeamList[Team Name],MATCH(InnovationProjectResults[[#This Row],[Team Number]], OfficialTeamList[Team Number],0))),\"\",INDEX(OfficialTeamList[Team Name],MATCH(InnovationProjectResults[[#This Row],[Team Number]], OfficialTeamList[Team Number],0)))","v":""},null,null,null,null,null,null,null,null,null,null,{"$f":"SUM(InnovationProjectResults[[#This Row],[Identify - Problem]:[Communicate - Impact]])","v":0},{"$f":"IF(InnovationProjectResults[[#This Row],[Team Number]]>0,MIN(_xlfn.RANK.EQ(InnovationProjectResults[[#This Row],[Innovation Project Score]],InnovationProjectResults[Innovation Project Score],0),NumberOfTeams),NumberOfTeams+1)","v":1},{"$f":"SUM(InnovationProjectResults[[#This Row],[Design - Planning]:[Iterate - Sharing]])","v":0}]
[null,{"$f":"IF(ISNA(INDEX(OfficialTeamList[Team Name],MATCH(InnovationProjectResults[[#This Row],[Team Number]], OfficialTeamList[Team Number],0))),\"\",INDEX(OfficialTeamList[Team Name],MATCH(InnovationProjectResults[[#This Row],[Team Number]], OfficialTeamList[Team Number],0)))","v":""},null,null,null,null,null,null,null,null,null,null,{"$f":"SUM(InnovationProjectResults[[#This Row],[Identify - Problem]:[Communicate - Impact]])","v":0},{"$f":"IF(InnovationProjectResults[[#This Row],[Team Number]]>0,MIN(_xlfn.RANK.EQ(InnovationProjectResults[[#This Row],[Innovation Project Score]],InnovationProjectResults[Innovation Project Score],0),NumberOfTeams),NumberOfTeams+1)","v":1},{"$f":"SUM(InnovationProjectResults[[#This Row],[Design - Planning]:[Iterate - Sharing]])","v":0}]
[null,{"$f":"IF(ISNA(INDEX(OfficialTeamList[Team Name],MATCH(InnovationProjectResults[[#This Row],[Team Number]], OfficialTeamList[Team Number],0))),\"\",INDEX(OfficialTeamList[Team Name],MATCH(InnovationProjectResults[[#This Row],[Team Number]], OfficialTeamList[Team Number],0)))","v":""},null,null,null,null,null,null,null,null,null,null,{"$f":"SUM(InnovationProjectResults[[#This Row],[Identify - Problem]:[Communicate - Impact]])","v":0},{"$f":"IF(InnovationProjectResults[[#This Row],[Team Number]]>0,MIN(_xlfn.RANK.EQ(InnovationProjectResults[[#This Row],[Innovation Project Score]],InnovationProjectResults[Innovation Project Score],0),NumberOfTeams),NumberOfTeams+1)","v":1},{"$f":"SUM(InnovationProjectResults[[#This Row],[Design - Planning]:[Iterate - Sharing]])","v":0}]
[null,{"$f":"IF(ISNA(INDEX(OfficialTeamList[Team Name],MATCH(InnovationProjectResults[[#This Row],[Team Number]], OfficialTeamList[Team Number],0))),\"\",INDEX(OfficialTeamList[Team Name],MATCH(InnovationProjectResults[[#This Row],[Team Number]], OfficialTeamList[Team Number],0)))","v":""},null,null,null,null,null,null,null,null,null,null,{"$f":"SUM(InnovationProjectResults[[#This Row],[Identify - Problem]:[Communicate - Impact]])","v":0},{"$f":"IF(InnovationProjectResults[[#This Row],[Team Number]]>0,MIN(_xlfn.RANK.EQ(InnovationProjectResults[[#This Row],[Innovation Project Score]],InnovationProjectResults[Innovation Project Score],0),NumberOfTeams),NumberOfTeams+1)","v":1},{"$f":"SUM(InnovationProjectResults[[#This Row],[Design - Planning]:[Iterate - Sharing]])","v":0}]
[null,{"$f":"IF(ISNA(INDEX(OfficialTeamList[Team Name],MATCH(InnovationProjectResults[[#This Row],[Team Number]], OfficialTeamList[Team Number],0))),\"\",INDEX(OfficialTeamList[Team Name],MATCH(InnovationProjectResults[[#This Row],[Team Number]], OfficialTeamList[Team Number],0)))","v":""},null,null,null,null,null,null,null,null,null,null,{"$f":"SUM(InnovationProjectResults[[#This Row],[Identify - Problem]:[Communicate - Impact]])","v":0},{"$f":"IF(InnovationProjectResults[[#This Row],[Team Number]]>0,MIN(_xlfn.RANK.EQ(InnovationProjectResults[[#This Row],[Innovation Project Score]],InnovationProjectResults[Innovation Project Score],0),NumberOfTeams),NumberOfTeams+1)","v":1},{"$f":"SUM(InnovationProjectResults[[#This Row],[Design - Planning]:[Iterate - Sharing]])","v":0}]
[null,{"$f":"IF(ISNA(INDEX(OfficialTeamList[Team Name],MATCH(InnovationProjectResults[[#This Row],[Team Number]], OfficialTeamList[Team Number],0))),\"\",INDEX(OfficialTeamList[Team Name],MATCH(InnovationProjectResults[[#This Row],[Team Number]], OfficialTeamList[Team Number],0)))","v":""},null,null,null,null,null,null,null,null,null,null,{"$f":"SUM(InnovationProjectResults[[#This Row],[Identify - Problem]:[Communicate - Impact]])","v":0},{"$f":"IF(InnovationProjectResults[[#This Row],[Team Number]]>0,MIN(_xlfn.RANK.EQ(InnovationProjectResults[[#This Row],[Innovation Project Score]],InnovationProjectResults[Innovation Project Score],0),NumberOfTeams),NumberOfTeams+1)","v":1},{"$f":"SUM(InnovationProjectResults[[#This Row],[Design - Planning]:[Iterate - Sharing]])","v":0}]
[null,{"$f":"IF(ISNA(INDEX(OfficialTeamList[Team Name],MATCH(InnovationProjectResults[[#This Row],[Team Number]], OfficialTeamList[Team Number],0))),\"\",INDEX(OfficialTeamList[Team Name],MATCH(InnovationProjectResults[[#This Row],[Team Number]], OfficialTeamList[Team Number],0)))","v":""},null,null,null,null,null,null,null,null,null,null,{"$f":"SUM(InnovationProjectResults[[#This Row],[Identify - Problem]:[Communicate - Impact]])","v":0},{"$f":"IF(InnovationProjectResults[[#This Row],[Team Number]]>0,MIN(_xlfn.RANK.EQ(InnovationProjectResults[[#This Row],[Innovation Project Score]],InnovationProjectResults[Innovation Project Score],0),NumberOfTeams),NumberOfTeams+1)","v":1},{"$f":"SUM(InnovationProjectResults[[#This Row],[Design - Planning]:[Iterate - Sharing]])","v":0}]

{"sheet":"Robot Design Input","index":7,"n_rows":109,"n_cols":14,"rows_kept":109,"cut":false,"hidden":false,"merged":[]}
["Team Number","Team Name","Identify - Strategy","Identify - Building and Coding","Design - Workplan","Design - Innovative Features","Create - Functionality","Create - Code","Iterate - Testing","Iterate - Improve","Communicate - Design Process","Communicate - Involvement","Robot Design Score","Robot Design Rank"]
[null,{"$f":"IF(ISNA(INDEX(OfficialTeamList[Team Name],MATCH(RobotDesignResults[[#This Row],[Team Number]], OfficialTeamList[Team Number],0))),\"\",INDEX(OfficialTeamList[Team Name],MATCH(RobotDesignResults[[#This Row],[Team Number]], OfficialTeamList[Team Number],0)))","v":""},null,null,null,null,null,null,null,null,null,null,{"$f":"SUM(RobotDesignResults[[#This Row],[Identify - Strategy]:[Communicate - Involvement]])","v":0},{"$f":"IF(RobotDesignResults[[#This Row],[Team Number]]>0,MIN(_xlfn.RANK.EQ(RobotDesignResults[[#This Row],[Robot Design Score]],RobotDesignResults[Robot Design Score],0),NumberOfTeams),NumberOfTeams+1)","v":1}]
[null,{"$f":"IF(ISNA(INDEX(OfficialTeamList[Team Name],MATCH(RobotDesignResults[[#This Row],[Team Number]], OfficialTeamList[Team Number],0))),\"\",INDEX(OfficialTeamList[Team Name],MATCH(RobotDesignResults[[#This Row],[Team Number]], OfficialTeamList[Team Number],0)))","v":""},null,null,null,null,null,null,null,null,null,null,{"$f":"SUM(RobotDesignResults[[#This Row],[Identify - Strategy]:[Communicate - Involvement]])","v":0},{"$f":"IF(RobotDesignResults[[#This Row],[Team Number]]>0,MIN(_xlfn.RANK.EQ(RobotDesignResults[[#This Row],[Robot Design Score]],RobotDesignResults[Robot Design Score],0),NumberOfTeams),NumberOfTeams+1)","v":1}]
[null,{"$f":"IF(ISNA(INDEX(OfficialTeamList[Team Name],MATCH(RobotDesignResults[[#This Row],[Team Number]], OfficialTeamList[Team Number],0))),\"\",INDEX(OfficialTeamList[Team Name],MATCH(RobotDesignResults[[#This Row],[Team Number]], OfficialTeamList[Team Number],0)))","v":""},null,null,null,null,null,null,null,null,null,null,{"$f":"SUM(RobotDesignResults[[#This Row],[Identify - Strategy]:[Communicate - Involvement]])","v":0},{"$f":"IF(RobotDesignResults[[#This Row],[Team Number]]>0,MIN(_xlfn.RANK.EQ(RobotDesignResults[[#This Row],[Robot Design Score]],RobotDesignResults[Robot Design Score],0),NumberOfTeams),NumberOfTeams+1)","v":1}]
[null,{"$f":"IF(ISNA(INDEX(OfficialTeamList[Team Name],MATCH(RobotDesignResults[[#This Row],[Team Number]], OfficialTeamList[Team Number],0))),\"\",INDEX(OfficialTeamList[Team Name],MATCH(RobotDesignResults[[#This Row],[Team Number]], OfficialTeamList[Team Number],0)))","v":""},null,null,null,null,null,null,null,null,null,null,{"$f":"SUM(RobotDesignResults[[#This Row],[Identify - Strategy]:[Communicate - Involvement]])","v":0},{"$f":"IF(RobotDesignResults[[#This Row],[Team Number]]>0,MIN(_xlfn.RANK.EQ(RobotDesignResults[[#This Row],[Robot Design Score]],RobotDesignResults[Robot Design Score],0),NumberOfTeams),NumberOfTeams+1)","v":1}]
[null,{"$f":"IF(ISNA(INDEX(OfficialTeamList[Team Name],MATCH(RobotDesignResults[[#This Row],[Team Number]], OfficialTeamList[Team Number],0))),\"\",INDEX(OfficialTeamList[Team Name],MATCH(RobotDesignResults[[#This Row],[Team Number]], OfficialTeamList[Team Number],0)))","v":""},null,null,null,null,null,null,null,null,null,null,{"$f":"SUM(RobotDesignResults[[#This Row],[Identify - Strategy]:[Communicate - Involvement]])","v":0},{"$f":"IF(RobotDesignResults[[#This Row],[Team Number]]>0,MIN(_xlfn.RANK.EQ(RobotDesignResults[[#This Row],[Robot Design Score]],RobotDesignResults[Robot Design Score],0),NumberOfTeams),NumberOfTeams+1)","v":1}]
[null,{"$f":"IF(ISNA(INDEX(OfficialTeamList[Team Name],MATCH(RobotDesignResults[[#This Row],[Team Number]], OfficialTeamList[Team Number],0))),\"\",INDEX(OfficialTeamList[Team Name],MATCH(RobotDesignResults[[#This Row],[Team Number]], OfficialTeamList[Team Number],0)))","v":""},null,null,null,null,null,null,null,null,null,null,{"$f":"SUM(RobotDesignResults[[#This Row],[Identify - Strategy]:[Communicate - Involvement]])","v":0},{"$f":"IF(RobotDesignResults[[#This Row],[Team Number]]>0,MIN(_xlfn.RANK.EQ(RobotDesignResults[[#This Row],[Robot Design Score]],RobotDesignResults[Robot Design Score],0),NumberOfTeams),NumberOfTeams+1)","v":1}]
[null,{"$f":"IF(ISNA(INDEX(OfficialTeamList[Team Name],MATCH(RobotDesignResults[[#This Row],[Team Number]], OfficialTeamList[Team Number],0))),\"\",INDEX(OfficialTeamList[Team Name],MATCH(RobotDesignResults[[#This Row],[Team Number]], OfficialTeamList[Team Number],0)))","v":""},null,null,null,null,null,null,null,null,null,null,{"$f":"SUM(RobotDesignResults[[#This Row],[Identify - Strategy]:[Communicate - Involvement]])","v":0},{"$f":"IF(RobotDesignResults[[#This Row],[Team Number]]>0,MIN(_xlfn.RANK.EQ(RobotDesignResults[[#This Row],[Robot Design Score]],RobotDesignResults[Robot Design Score],0),NumberOfTeams),NumberOfTeams+1)","v":1}]
[null,{"$f":"IF(ISNA(INDEX(OfficialTeamList[Team Name],MATCH(RobotDesignResults[[#This Row],[Team Number]], OfficialTeamList[Team Number],0))),\"\",INDEX(OfficialTeamList[Team Name],MATCH(RobotDesignResults[[#This Row],[Team Number]], OfficialTeamList[Team Number],0)))","v":""},null,null,null,null,null,null,null,null,null,null,{"$f":"SUM(RobotDesignResults[[#This Row],[Identify - Strategy]:[Communicate - Involvement]])","v":0},{"$f":"IF(RobotDesignResults[[#This Row],[Team Number]]>0,MIN(_xlfn.RANK.EQ(RobotDesignResults[[#This Row],[Robot Design Score]],RobotDesignResults[Robot Design Score],0),NumberOfTeams),NumberOfTeams+1)","v":1}]
[null,{"$f":"IF(ISNA(INDEX(OfficialTeamList[Team Name],MATCH(RobotDesignResults[[#This Row],[Team Number]], OfficialTeamList[Team Number],0))),\"\",INDEX(OfficialTeamList[Team Name],MATCH(RobotDesignResults[[#This Row],[Team Number]], OfficialTeamList[Team Number],0)))","v":""},null,null,null,null,null,null,null,null,null,null,{"$f":"SUM(RobotDesignResults[[#This Row],[Identify - Strategy]:[Communicate - Involvement]])","v":0},{"$f":"IF(RobotDesignResults[[#This Row],[Team Number]]>0,MIN(_xlfn.RANK.EQ(RobotDesignResults[[#This Row],[Robot Design Score]],RobotDesignResults[Robot Design Score],0),NumberOfTeams),NumberOfTeams+1)","v":1}]
[null,{"$f":"IF(ISNA(INDEX(OfficialTeamList[Team Name],MATCH(RobotDesignResults[[#This Row],[Team Number]], OfficialTeamList[Team Number],0))),\"\",INDEX(OfficialTeamList[Team Name],MATCH(RobotDesignResults[[#This Row],[Team Number]], OfficialTeamList[Team Number],0)))","v":""},null,null,null,null,null,null,null,null,null,null,{"$f":"SUM(RobotDesignResults[[#This Row],[Identify - Strategy]:[Communicate - Involvement]])","v":0},{"$f":"IF(RobotDesignResults[[#This Row],[Team Number]]>0,MIN(_xlfn.RANK.EQ(RobotDesignResults[[#This Row],[Robot Design Score]],RobotDesignResults[Robot Design Score],0),NumberOfTeams),NumberOfTeams+1)","v":1}]
[null,{"$f":"IF(ISNA(INDEX(OfficialTeamList[Team Name],MATCH(RobotDesignResults[[#This Row],[Team Number]], OfficialTeamList[Team Number],0))),\"\",INDEX(OfficialTeamList[Team Name],MATCH(RobotDesignResults[[#This Row],[Team Number]], OfficialTeamList[Team Number],0)))","v":""},null,null,null,null,null,null,null,null,null,null,{"$f":"SUM(RobotDesignResults[[#This Row],[Identify - Strategy]:[Communicate - Involvement]])","v":0},{"$f":"IF(RobotDesignResults[[#This Row],[Team Number]]>0,MIN(_xlfn.RANK.EQ(RobotDesignResults[[#This Row],[Robot Design Score]],RobotDesignResults[Robot Design Score],0),NumberOfTeams),NumberOfTeams+1)","v":1}]
[null,{"$f":"IF(ISNA(INDEX(OfficialTeamList[Team Name],MATCH(RobotDesignResults[[#This Row],[Team Number]], OfficialTeamList[Team Number],0))),\"\",INDEX(OfficialTeamList[Team Name],MATCH(RobotDesignResults[[#This Row],[Team Number]], OfficialTeamList[Team Number],0)))","v":""},null,null,null,null,null,null,null,null,null,null,{"$f":"SUM(RobotDesignResults[[#This Row],[Identify - Strategy]:[Communicate - Involvement]])","v":0},{"$f":"IF(RobotDesignResults[[#This Row],[Team Number]]>0,MIN(_xlfn.RANK.EQ(RobotDesignResults[[#This Row],[Robot Design Score]],RobotDesignResults[Robot Design Score],0),NumberOfTeams),NumberOfTeams+1)","v":1}]
[null,{"$f":"IF(ISNA(INDEX(OfficialTeamList[Team Name],MATCH(RobotDesignResults[[#This Row],[Team Number]], OfficialTeamList[Team Number],0))),\"\",INDEX(OfficialTeamList[Team Name],MATCH(RobotDesignResults[[#This Row],[Team Number]], OfficialTeamList[Team Number],0)))","v":""},null,null,null,null,null,null,null,null,null,null,{"$f":"SUM(RobotDesignResults[[#This Row],[Identify - Strategy]:[Communicate - Involvement]])","v":0},{"$f":"IF(RobotDesignResults[[#This Row],[Team Number]]>0,MIN(_xlfn.RANK.EQ(RobotDesignResults[[#This Row],[Robot Design Score]],RobotDesignResults[Robot Design Score],0),NumberOfTeams),NumberOfTeams+1)","v":1}]
[null,{"$f":"IF(ISNA(INDEX(OfficialTeamList[Team Name],MATCH(RobotDesignResults[[#This Row],[Team Number]], OfficialTeamList[Team Number],0))),\"\",INDEX(OfficialTeamList[Team Name],MATCH(RobotDesignResults[[#This Row],[Team Number]], OfficialTeamList[Team Number],0)))","v":""},null,null,null,null,null,null,null,null,null,null,{"$f":"SUM(RobotDesignResults[[#This Row],[Identify - Strategy]:[Communicate - Involvement]])","v":0},{"$f":"IF(RobotDesignResults[[#This Row],[Team Number]]>0,MIN(_xlfn.RANK.EQ(RobotDesignResults[[#This Row],[Robot Design Score]],RobotDesignResults[Robot Design Score],0),NumberOfTeams),NumberOfTeams+1)","v":1}]
[null,{"$f":"IF(ISNA(INDEX(OfficialTeamList[Team Name],MATCH(RobotDesignResults[[#This Row],[Team Number]], OfficialTeamList[Team Number],0))),\"\",INDEX(OfficialTeamList[Team Name],MATCH(RobotDesignResults[[#This Row],[Team Number]], OfficialTeamList[Team Number],0)))","v":""},null,null,null,null,null,null,null,null,null,null,{"$f":"SUM(RobotDesignResults[[#This Row],[Identify - Strategy]:[Communicate - Involvement]])","v":0},{"$f":"IF(RobotDesignResults[[#This Row],[Team Number]]>0,MIN(_xlfn.RANK.EQ(RobotDesignResults[[#This Row],[Robot Design Score]],RobotDesignResults[Robot Design Score],0),NumberOfTeams),NumberOfTeams+1)","v":1}]
[null,{"$f":"IF(ISNA(INDEX(OfficialTeamList[Team Name],MATCH(RobotDesignResults[[#This Row],[Team Number]], OfficialTeamList[Team Number],0))),\"\",INDEX(OfficialTeamList[Team Name],MATCH(RobotDesignResults[[#This Row],[Team Number]], OfficialTeamList[Team Number],0)))","v":""},null,null,null,null,null,null,null,null,null,null,{"$f":"SUM(RobotDesignResults[[#This Row],[Identify - Strategy]:[Communicate - Involvement]])","v":0},{"$f":"IF(RobotDesignResults[[#This Row],[Team Number]]>0,MIN(_xlfn.RANK.EQ(RobotDesignResults[[#This Row],[Robot Design Score]],RobotDesignResults[Robot Design Score],0),NumberOfTeams),NumberOfTeams+1)","v":1}]
[null,{"$f":"IF(ISNA(INDEX(OfficialTeamList[Team Name],MATCH(RobotDesignResults[[#This Row],[Team Number]], OfficialTeamList[Team Number],0))),\"\",INDEX(OfficialTeamList[Team Name],MATCH(RobotDesignResults[[#This Row],[Team Number]], OfficialTeamList[Team Number],0)))","v":""},null,null,null,null,null,null,null,null,null,null,{"$f":"SUM(RobotDesignResults[[#This Row],[Identify - Strategy]:[Communicate - Involvement]])","v":0},{"$f":"IF(RobotDesignResults[[#This Row],[Team Number]]>0,MIN(_xlfn.RANK.EQ(RobotDesignResults[[#This Row],[Robot Design Score]],RobotDesignResults[Robot Design Score],0),NumberOfTeams),NumberOfTeams+1)","v":1}]
[null,{"$f":"IF(ISNA(INDEX(OfficialTeamList[Team Name],MATCH(RobotDesignResults[[#This Row],[Team Number]], OfficialTeamList[Team Number],0))),\"\",INDEX(OfficialTeamList[Team Name],MATCH(RobotDesignResults[[#This Row],[Team Number]], OfficialTeamList[Team Number],0)))","v":""},null,null,null,null,null,null,null,null,null,null,{"$f":"SUM(RobotDesignResults[[#This Row],[Identify - Strategy]:[Communicate - Involvement]])","v":0},{"$f":"IF(RobotDesignResults[[#This Row],[Team Number]]>0,MIN(_xlfn.RANK.EQ(RobotDesignResults[[#This Row],[Robot Design Score]],RobotDesignResults[Robot Design Score],0),NumberOfTeams),NumberOfTeams+1)","v":1}]
[null,{"$f":"IF(ISNA(INDEX(OfficialTeamList[Team Name],MATCH(RobotDesignResults[[#This Row],[Team Number]], OfficialTeamList[Team Number],0))),\"\",INDEX(OfficialTeamList[Team Name],MATCH(RobotDesignResults[[#This Row],[Team Number]], OfficialTeamList[Team Number],0)))","v":""},null,null,null,null,null,null,null,null,null,null,{"$f":"SUM(RobotDesignResults[[#This Row],[Identify - Strategy]:[Communicate - Involvement]])","v":0},{"$f":"IF(RobotDesignResults[[#This Row],[Team Number]]>0,MIN(_xlfn.RANK.EQ(RobotDesignResults[[#This Row],[Robot Design Score]],RobotDesignResults[Robot Design Score],0),NumberOfTeams),NumberOfTeams+1)","v":1}]
[null,{"$f":"IF(ISNA(INDEX(OfficialTeamList[Team Name],MATCH(RobotDesignResults[[#This Row],[Team Number]], OfficialTeamList[Team Number],0))),\"\",INDEX(OfficialTeamList[Team Name],MATCH(RobotDesignResults[[#This Row],[Team Number]], OfficialTeamList[Team Number],0)))","v":""},null,null,null,null,null,null,null,null,null,null,{"$f":"SUM(RobotDesignResults[[#This Row],[Identify - Strategy]:[Communicate - Involvement]])","v":0},{"$f":"IF(RobotDesignResults[[#This Row],[Team Number]]>0,MIN(_xlfn.RANK.EQ(RobotDesignResults[[#This Row],[Robot Design Score]],RobotDesignResults[Robot Design Score],0),NumberOfTeams),NumberOfTeams+1)","v":1}]
[null,{"$f":"IF(ISNA(INDEX(OfficialTeamList[Team Name],MATCH(RobotDesignResults[[#This Row],[Team Number]], OfficialTeamList[Team Number],0))),\"\",INDEX(OfficialTeamList[Team Name],MATCH(RobotDesignResults[[#This Row],[Team Number]], OfficialTeamList[Team Number],0)))","v":""},null,null,null,null,null,null,null,null,null,null,{"$f":"SUM(RobotDesignResults[[#This Row],[Identify - Strategy]:[Communicate - Involvement]])","v":0},{"$f":"IF(RobotDesignResults[[#This Row],[Team Number]]>0,MIN(_xlfn.RANK.EQ(RobotDesignResults[[#This Row],[Robot Design Score]],RobotDesignResults[Robot Design Score],0),NumberOfTeams),NumberOfTeams+1)","v":1}]
[null,{"$f":"IF(ISNA(INDEX(OfficialTeamList[Team Name],MATCH(RobotDesignResults[[#This Row],[Team Number]], OfficialTeamList[Team Number],0))),\"\",INDEX(OfficialTeamList[Team Name],MATCH(RobotDesignResults[[#This Row],[Team Number]], OfficialTeamList[Team Number],0)))","v":""},null,null,null,null,null,null,null,null,null,null,{"$f":"SUM(RobotDesignResults[[#This Row],[Identify - Strategy]:[Communicate - Involvement]])","v":0},{"$f":"IF(RobotDesignResults[[#This Row],[Team Number]]>0,MIN(_xlfn.RANK.EQ(RobotDesignResults[[#This Row],[Robot Design Score]],RobotDesignResults[Robot Design Score],0),NumberOfTeams),NumberOfTeams+1)","v":1}]
[null,{"$f":"IF(ISNA(INDEX(OfficialTeamList[Team Name],MATCH(RobotDesignResults[[#This Row],[Team Number]], OfficialTeamList[Team Number],0))),\"\",INDEX(OfficialTeamList[Team Name],MATCH(RobotDesignResults[[#This Row],[Team Number]], OfficialTeamList[Team Number],0)))","v":""},null,null,null,null,null,null,null,null,null,null,{"$f":"SUM(RobotDesignResults[[#This Row],[Identify - Strategy]:[Communicate - Involvement]])","v":0},{"$f":"IF(RobotDesignResults[[#This Row],[Team Number]]>0,MIN(_xlfn.RANK.EQ(RobotDesignResults[[#This Row],[Robot Design Score]],RobotDesignResults[Robot Design Score],0),NumberOfTeams),NumberOfTeams+1)","v":1}]
[null,{"$f":"IF(ISNA(INDEX(OfficialTeamList[Team Name],MATCH(RobotDesignResults[[#This Row],[Team Number]], OfficialTeamList[Team Number],0))),\"\",INDEX(OfficialTeamList[Team Name],MATCH(RobotDesignResults[[#This Row],[Team Number]], OfficialTeamList[Team Number],0)))","v":""},null,null,null,null,null,null,null,null,null,null,{"$f":"SUM(RobotDesignResults[[#This Row],[Identify - Strategy]:[Communicate - Involvement]])","v":0},{"$f":"IF(RobotDesignResults[[#This Row],[Team Number]]>0,MIN(_xlfn.RANK.EQ(RobotDesignResults[[#This Row],[Robot Design Score]],RobotDesignResults[Robot Design Score],0),NumberOfTeams),NumberOfTeams+1)","v":1}]
[null,{"$f":"IF(ISNA(INDEX(OfficialTeamList[Team Name],MATCH(RobotDesignResults[[#This Row],[Team Number]], OfficialTeamList[Team Number],0))),\"\",INDEX(OfficialTeamList[Team Name],MATCH(RobotDesignResults[[#This Row],[Team Number]], OfficialTeamList[Team Number],0)))","v":""},null,null,null,null,null,null,null,null,null,null,{"$f":"SUM(RobotDesignResults[[#This Row],[Identify - Strategy]:[Communicate - Involvement]])","v":0},{"$f":"IF(RobotDesignResults[[#This Row],[Team Number]]>0,MIN(_xlfn.RANK.EQ(RobotDesignResults[[#This Row],[Robot Design Score]],RobotDesignResults[Robot Design Score],0),NumberOfTeams),NumberOfTeams+1)","v":1}]
[null,{"$f":"IF(ISNA(INDEX(OfficialTeamList[Team Name],MATCH(RobotDesignResults[[#This Row],[Team Number]], OfficialTeamList[Team Number],0))),\"\",INDEX(OfficialTeamList[Team Name],MATCH(RobotDesignResults[[#This Row],[Team Number]], OfficialTeamList[Team Number],0)))","v":""},null,null,null,null,null,null,null,null,null,null,{"$f":"SUM(RobotDesignResults[[#This Row],[Identify - Strategy]:[Communicate - Involvement]])","v":0},{"$f":"IF(RobotDesignResults[[#This Row],[Team Number]]>0,MIN(_xlfn.RANK.EQ(RobotDesignResults[[#This Row],[Robot Design Score]],RobotDesignResults[Robot Design Score],0),NumberOfTeams),NumberOfTeams+1)","v":1}]
[null,{"$f":"IF(ISNA(INDEX(OfficialTeamList[Team Name],MATCH(RobotDesignResults[[#This Row],[Team Number]], OfficialTeamList[Team Number],0))),\"\",INDEX(OfficialTeamList[Team Name],MATCH(RobotDesignResults[[#This Row],[Team Number]], OfficialTeamList[Team Number],0)))","v":""},null,null,null,null,null,null,null,null,null,null,{"$f":"SUM(RobotDesignResults[[#This Row],[Identify - Strategy]:[Communicate - Involvement]])","v":0},{"$f":"IF(RobotDesignResults[[#This Row],[Team Number]]>0,MIN(_xlfn.RANK.EQ(RobotDesignResults[[#This Row],[Robot Design Score]],RobotDesignResults[Robot Design Score],0),NumberOfTeams),NumberOfTeams+1)","v":1}]
[null,{"$f":"IF(ISNA(INDEX(OfficialTeamList[Team Name],MATCH(RobotDesignResults[[#This Row],[Team Number]], OfficialTeamList[Team Number],0))),\"\",INDEX(OfficialTeamList[Team Name],MATCH(RobotDesignResults[[#This Row],[Team Number]], OfficialTeamList[Team Number],0)))","v":""},null,null,null,null,null,null,null,null,null,null,{"$f":"SUM(RobotDesignResults[[#This Row],[Identify - Strategy]:[Communicate - Involvement]])","v":0},{"$f":"IF(RobotDesignResults[[#This Row],[Team Number]]>0,MIN(_xlfn.RANK.EQ(RobotDesignResults[[#This Row],[Robot Design Score]],RobotDesignResults[Robot Design Score],0),NumberOfTeams),NumberOfTeams+1)","v":1}]
[null,{"$f":"IF(ISNA(INDEX(OfficialTeamList[Team Name],MATCH(RobotDesignResults[[#This Row],[Team Number]], OfficialTeamList[Team Number],0))),\"\",INDEX(OfficialTeamList[Team Name],MATCH(RobotDesignResults[[#This Row],[Team Number]], OfficialTeamList[Team Number],0)))","v":""},null,null,null,null,null,null,null,null,null,null,{"$f":"SUM(RobotDesignResults[[#This Row],[Identify - Strategy]:[Communicate - Involvement]])","v":0},{"$f":"IF(RobotDesignResults[[#This Row],[Team Number]]>0,MIN(_xlfn.RANK.EQ(RobotDesignResults[[#This Row],[Robot Design Score]],RobotDesignResults[Robot Design Score],0),NumberOfTeams),NumberOfTeams+1)","v":1}]
[null,{"$f":"IF(ISNA(INDEX(OfficialTeamList[Team Name],MATCH(RobotDesignResults[[#This Row],[Team Number]], OfficialTeamList[Team Number],0))),\"\",INDEX(OfficialTeamList[Team Name],MATCH(RobotDesignResults[[#This Row],[Team Number]], OfficialTeamList[Team Number],0)))","v":""},null,null,null,null,null,null,null,null,null,null,{"$f":"SUM(RobotDesignResults[[#This Row],[Identify - Strategy]:[Communicate - Involvement]])","v":0},{"$f":"IF(RobotDesignResults[[#This Row],[Team Number]]>0,MIN(_xlfn.RANK.EQ(RobotDesignResults[[#This Row],[Robot Design Score]],RobotDesignResults[Robot Design Score],0),NumberOfTeams),NumberOfTeams+1)","v":1}]
[null,{"$f":"IF(ISNA(INDEX(OfficialTeamList[Team Name],MATCH(RobotDesignResults[[#This Row],[Team Number]], OfficialTeamList[Team Number],0))),\"\",INDEX(OfficialTeamList[Team Name],MATCH(RobotDesignResults[[#This Row],[Team Number]], OfficialTeamList[Team Number],0)))","v":""},null,null,null,null,null,null,null,null,null,null,{"$f":"SUM(RobotDesignResults[[#This Row],[Identify - Strategy]:[Communicate - Involvement]])","v":0},{"$f":"IF(RobotDesignResults[[#This Row],[Team Number]]>0,MIN(_xlfn.RANK.EQ(RobotDesignResults[[#This Row],[Robot Design Score]],RobotDesignResults[Robot Design Score],0),NumberOfTeams),NumberOfTeams+1)","v":1}]
[null,{"$f":"IF(ISNA(INDEX(OfficialTeamList[Team Name],MATCH(RobotDesignResults[[#This Row],[Team Number]], OfficialTeamList[Team Number],0))),\"\",INDEX(OfficialTeamList[Team Name],MATCH(RobotDesignResults[[#This Row],[Team Number]], OfficialTeamList[Team Number],0)))","v":""},null,null,null,null,null,null,null,null,null,null,{"$f":"SUM(RobotDesignResults[[#This Row],[Identify - Strategy]:[Communicate - Involvement]])","v":0},{"$f":"IF(RobotDesignResults[[#This Row],[Team Number]]>0,MIN(_xlfn.RANK.EQ(RobotDesignResults[[#This Row],[Robot Design Score]],RobotDesignResults[Robot Design Score],0),NumberOfTeams),NumberOfTeams+1)","v":1}]
[null,{"$f":"IF(ISNA(INDEX(OfficialTeamList[Team Name],MATCH(RobotDesignResults[[#This Row],[Team Number]], OfficialTeamList[Team Number],0))),\"\",INDEX(OfficialTeamList[Team Name],MATCH(RobotDesignResults[[#This Row],[Team Number]], OfficialTeamList[Team Number],0)))","v":""},null,null,null,null,null,null,null,null,null,null,{"$f":"SUM(RobotDesignResults[[#This Row],[Identify - Strategy]:[Communicate - Involvement]])","v":0},{"$f":"IF(RobotDesignResults[[#This Row],[Team Number]]>0,MIN(_xlfn.RANK.EQ(RobotDesignResults[[#This Row],[Robot Design Score]],RobotDesignResults[Robot Design Score],0),NumberOfTeams),NumberOfTeams+1)","v":1}]
[null,{"$f":"IF(ISNA(INDEX(OfficialTeamList[Team Name],MATCH(RobotDesignResults[[#This Row],[Team Number]], OfficialTeamList[Team Number],0))),\"\",INDEX(OfficialTeamList[Team Name],MATCH(RobotDesignResults[[#This Row],[Team Number]], OfficialTeamList[Team Number],0)))","v":""},null,null,null,null,null,null,null,null,null,null,{"$f":"SUM(RobotDesignResults[[#This Row],[Identify - Strategy]:[Communicate - Involvement]])","v":0},{"$f":"IF(RobotDesignResults[[#This Row],[Team Number]]>0,MIN(_xlfn.RANK.EQ(RobotDesignResults[[#This Row],[Robot Design Score]],RobotDesignResults[Robot Design Score],0),NumberOfTeams),NumberOfTeams+1)","v":1}]
[null,{"$f":"IF(ISNA(INDEX(OfficialTeamList[Team Name],MATCH(RobotDesignResults[[#This Row],[Team Number]], OfficialTeamList[Team Number],0))),\"\",INDEX(OfficialTeamList[Team Name],MATCH(RobotDesignResults[[#This Row],[Team Number]], OfficialTeamList[Team Number],0)))","v":""},null,null,null,null,null,null,null,null,null,null,{"$f":"SUM(RobotDesignResults[[#This Row],[Identify - Strategy]:[Communicate - Involvement]])","v":0},{"$f":"IF(RobotDesignResults[[#This Row],[Team Number]]>0,MIN(_xlfn.RANK.EQ(RobotDesignResults[[#This Row],[Robot Design Score]],RobotDesignResults[Robot Design Score],0),NumberOfTeams),NumberOfTeams+1)","v":1}]
[null,{"$f":"IF(ISNA(INDEX(OfficialTeamList[Team Name],MATCH(RobotDesignResults[[#This Row],[Team Number]], OfficialTeamList[Team Number],0))),\"\",INDEX(OfficialTeamList[Team Name],MATCH(RobotDesignResults[[#This Row],[Team Number]], OfficialTeamList[Team Number],0)))","v":""},null,null,null,null,null,null,null,null,null,null,{"$f":"SUM(RobotDesignResults[[#This Row],[Identify - Strategy]:[Communicate - Involvement]])","v":0},{"$f":"IF(RobotDesignResults[[#This Row],[Team Number]]>0,MIN(_xlfn.RANK.EQ(RobotDesignResults[[#This Row],[Robot Design Score]],RobotDesignResults[Robot Design Score],0),NumberOfTeams),NumberOfTeams+1)","v":1}]
[null,{"$f":"IF(ISNA(INDEX(OfficialTeamList[Team Name],MATCH(RobotDesignResults[[#This Row],[Team Number]], OfficialTeamList[Team Number],0))),\"\",INDEX(OfficialTeamList[Team Name],MATCH(RobotDesignResults[[#This Row],[Team Number]], OfficialTeamList[Team Number],0)))","v":""},null,null,null,null,null,null,null,null,null,null,{"$f":"SUM(RobotDesignResults[[#This Row],[Identify - Strategy]:[Communicate - Involvement]])","v":0},{"$f":"IF(RobotDesignResults[[#This Row],[Team Number]]>0,MIN(_xlfn.RANK.EQ(RobotDesignResults[[#This Row],[Robot Design Score]],RobotDesignResults[Robot Design Score],0),NumberOfTeams),NumberOfTeams+1)","v":1}]
[null,{"$f":"IF(ISNA(INDEX(OfficialTeamList[Team Name],MATCH(RobotDesignResults[[#This Row],[Team Number]], OfficialTeamList[Team Number],0))),\"\",INDEX(OfficialTeamList[Team Name],MATCH(RobotDesignResults[[#This Row],[Team Number]], OfficialTeamList[Team Number],0)))","v":""},null,null,null,null,null,null,null,null,null,null,{"$f":"SUM(RobotDesignResults[[#This Row],[Identify - Strategy]:[Communicate - Involvement]])","v":0},{"$f":"IF(RobotDesignResults[[#This Row],[Team Number]]>0,MIN(_xlfn.RANK.EQ(RobotDesignResults[[#This Row],[Robot Design Score]],RobotDesignResults[Robot Design Score],0),NumberOfTeams),NumberOfTeams+1)","v":1}]
[null,{"$f":"IF(ISNA(INDEX(OfficialTeamList[Team Name],MATCH(RobotDesignResults[[#This Row],[Team Number]], OfficialTeamList[Team Number],0))),\"\",INDEX(OfficialTeamList[Team Name],MATCH(RobotDesignResults[[#This Row],[Team Number]], OfficialTeamList[Team Number],0)))","v":""},null,null,null,null,null,null,null,null,null,null,{"$f":"SUM(RobotDesignResults[[#This Row],[Identify - Strategy]:[Communicate - Involvement]])","v":0},{"$f":"IF(RobotDesignResults[[#This Row],[Team Number]]>0,MIN(_xlfn.RANK.EQ(RobotDesignResults[[#This Row],[Robot Design Score]],RobotDesignResults[Robot Design Score],0),NumberOfTeams),NumberOfTeams+1)","v":1}]
[null,{"$f":"IF(ISNA(INDEX(OfficialTeamList[Team Name],MATCH(RobotDesignResults[[#This Row],[Team Number]], OfficialTeamList[Team Number],0))),\"\",INDEX(OfficialTeamList[Team Name],MATCH(RobotDesignResults[[#This Row],[Team Number]], OfficialTeamList[Team Number],0)))","v":""},null,null,null,null,null,null,null,null,null,null,{"$f":"SUM(RobotDesignResults[[#This Row],[Identify - Strategy]:[Communicate - Involvement]])","v":0},{"$f":"IF(RobotDesignResults[[#This Row],[Team Number]]>0,MIN(_xlfn.RANK.EQ(RobotDesignResults[[#This Row],[Robot Design Score]],RobotDesignResults[Robot Design Score],0),NumberOfTeams),NumberOfTeams+1)","v":1}]
[null,{"$f":"IF(ISNA(INDEX(OfficialTeamList[Team Name],MATCH(RobotDesignResults[[#This Row],[Team Number]], OfficialTeamList[Team Number],0))),\"\",INDEX(OfficialTeamList[Team Name],MATCH(RobotDesignResults[[#This Row],[Team Number]], OfficialTeamList[Team Number],0)))","v":""},null,null,null,null,null,null,null,null,null,null,{"$f":"SUM(RobotDesignResults[[#This Row],[Identify - Strategy]:[Communicate - Involvement]])","v":0},{"$f":"IF(RobotDesignResults[[#This Row],[Team Number]]>0,MIN(_xlfn.RANK.EQ(RobotDesignResults[[#This Row],[Robot Design Score]],RobotDesignResults[Robot Design Score],0),NumberOfTeams),NumberOfTeams+1)","v":1}]
[null,{"$f":"IF(ISNA(INDEX(OfficialTeamList[Team Name],MATCH(RobotDesignResults[[#This Row],[Team Number]], OfficialTeamList[Team Number],0))),\"\",INDEX(OfficialTeamList[Team Name],MATCH(RobotDesignResults[[#This Row],[Team Number]], OfficialTeamList[Team Number],0)))","v":""},null,null,null,null,null,null,null,null,null,null,{"$f":"SUM(RobotDesignResults[[#This Row],[Identify - Strategy]:[Communicate - Involvement]])","v":0},{"$f":"IF(RobotDesignResults[[#This Row],[Team Number]]>0,MIN(_xlfn.RANK.EQ(RobotDesignResults[[#This Row],[Robot Design Score]],RobotDesignResults[Robot Design Score],0),NumberOfTeams),NumberOfTeams+1)","v":1}]
[null,{"$f":"IF(ISNA(INDEX(OfficialTeamList[Team Name],MATCH(RobotDesignResults[[#This Row],[Team Number]], OfficialTeamList[Team Number],0))),\"\",INDEX(OfficialTeamList[Team Name],MATCH(RobotDesignResults[[#This Row],[Team Number]], OfficialTeamList[Team Number],0)))","v":""},null,null,null,null,null,null,null,null,null,null,{"$f":"SUM(RobotDesignResults[[#This Row],[Identify - Strategy]:[Communicate - Involvement]])","v":0},{"$f":"IF(RobotDesignResults[[#This Row],[Team Number]]>0,MIN(_xlfn.RANK.EQ(RobotDesignResults[[#This Row],[Robot Design Score]],RobotDesignResults[Robot Design Score],0),NumberOfTeams),NumberOfTeams+1)","v":1}]
[null,{"$f":"IF(ISNA(INDEX(OfficialTeamList[Team Name],MATCH(RobotDesignResults[[#This Row],[Team Number]], OfficialTeamList[Team Number],0))),\"\",INDEX(OfficialTeamList[Team Name],MATCH(RobotDesignResults[[#This Row],[Team Number]], OfficialTeamList[Team Number],0)))","v":""},null,null,null,null,null,null,null,null,null,null,{"$f":"SUM(RobotDesignResults[[#This Row],[Identify - Strategy]:[Communicate - Involvement]])","v":0},{"$f":"IF(RobotDesignResults[[#This Row],[Team Number]]>0,MIN(_xlfn.RANK.EQ(RobotDesignResults[[#This Row],[Robot Design Score]],RobotDesignResults[Robot Design Score],0),NumberOfTeams),NumberOfTeams+1)","v":1}]
[null,{"$f":"IF(ISNA(INDEX(OfficialTeamList[Team Name],MATCH(RobotDesignResults[[#This Row],[Team Number]], OfficialTeamList[Team Number],0))),\"\",INDEX(OfficialTeamList[Team Name],MATCH(RobotDesignResults[[#This Row],[Team Number]], OfficialTeamList[Team Number],0)))","v":""},null,null,null,null,null,null,null,null,null,null,{"$f":"SUM(RobotDesignResults[[#This Row],[Identify - Strategy]:[Communicate - Involvement]])","v":0},{"$f":"IF(RobotDesignResults[[#This Row],[Team Number]]>0,MIN(_xlfn.RANK.EQ(RobotDesignResults[[#This Row],[Robot Design Score]],RobotDesignResults[Robot Design Score],0),NumberOfTeams),NumberOfTeams+1)","v":1}]
[null,{"$f":"IF(ISNA(INDEX(OfficialTeamList[Team Name],MATCH(RobotDesignResults[[#This Row],[Team Number]], OfficialTeamList[Team Number],0))),\"\",INDEX(OfficialTeamList[Team Name],MATCH(RobotDesignResults[[#This Row],[Team Number]], OfficialTeamList[Team Number],0)))","v":""},null,null,null,null,null,null,null,null,null,null,{"$f":"SUM(RobotDesignResults[[#This Row],[Identify - Strategy]:[Communicate - Involvement]])","v":0},{"$f":"IF(RobotDesignResults[[#This Row],[Team Number]]>0,MIN(_xlfn.RANK.EQ(RobotDesignResults[[#This Row],[Robot Design Score]],RobotDesignResults[Robot Design Score],0),NumberOfTeams),NumberOfTeams+1)","v":1}]
[null,{"$f":"IF(ISNA(INDEX(OfficialTeamList[Team Name],MATCH(RobotDesignResults[[#This Row],[Team Number]], OfficialTeamList[Team Number],0))),\"\",INDEX(OfficialTeamList[Team Name],MATCH(RobotDesignResults[[#This Row],[Team Number]], OfficialTeamList[Team Number],0)))","v":""},null,null,null,null,null,null,null,null,null,null,{"$f":"SUM(RobotDesignResults[[#This Row],[Identify - Strategy]:[Communicate - Involvement]])","v":0},{"$f":"IF(RobotDesignResults[[#This Row],[Team Number]]>0,MIN(_xlfn.RANK.EQ(RobotDesignResults[[#This Row],[Robot Design Score]],RobotDesignResults[Robot Design Score],0),NumberOfTeams),NumberOfTeams+1)","v":1}]
[null,{"$f":"IF(ISNA(INDEX(OfficialTeamList[Team Name],MATCH(RobotDesignResults[[#This Row],[Team Number]], OfficialTeamList[Team Number],0))),\"\",INDEX(OfficialTeamList[Team Name],MATCH(RobotDesignResults[[#This Row],[Team Number]], OfficialTeamList[Team Number],0)))","v":""},null,null,null,null,null,null,null,null,null,null,{"$f":"SUM(RobotDesignResults[[#This Row],[Identify - Strategy]:[Communicate - Involvement]])","v":0},{"$f":"IF(RobotDesignResults[[#This Row],[Team Number]]>0,MIN(_xlfn.RANK.EQ(RobotDesignResults[[#This Row],[Robot Design Score]],RobotDesignResults[Robot Design Score],0),NumberOfTeams),NumberOfTeams+1)","v":1}]
[null,{"$f":"IF(ISNA(INDEX(OfficialTeamList[Team Name],MATCH(RobotDesignResults[[#This Row],[Team Number]], OfficialTeamList[Team Number],0))),\"\",INDEX(OfficialTeamList[Team Name],MATCH(RobotDesignResults[[#This Row],[Team Number]], OfficialTeamList[Team Number],0)))","v":""},null,null,null,null,null,null,null,null,null,null,{"$f":"SUM(RobotDesignResults[[#This Row],[Identify - Strategy]:[Communicate - Involvement]])","v":0},{"$f":"IF(RobotDesignResults[[#This Row],[Team Number]]>0,MIN(_xlfn.RANK.EQ(RobotDesignResults[[#This Row],[Robot Design Score]],RobotDesignResults[Robot Design Score],0),NumberOfTeams),NumberOfTeams+1)","v":1}]
[null,{"$f":"IF(ISNA(INDEX(OfficialTeamList[Team Name],MATCH(RobotDesignResults[[#This Row],[Team Number]], OfficialTeamList[Team Number],0))),\"\",INDEX(OfficialTeamList[Team Name],MATCH(RobotDesignResults[[#This Row],[Team Number]], OfficialTeamList[Team Number],0)))","v":""},null,null,null,null,null,null,null,null,null,null,{"$f":"SUM(RobotDesignResults[[#This Row],[Identify - Strategy]:[Communicate - Involvement]])","v":0},{"$f":"IF(RobotDesignResults[[#This Row],[Team Number]]>0,MIN(_xlfn.RANK.EQ(RobotDesignResults[[#This Row],[Robot Design Score]],RobotDesignResults[Robot Design Score],0),NumberOfTeams),NumberOfTeams+1)","v":1}]
[null,{"$f":"IF(ISNA(INDEX(OfficialTeamList[Team Name],MATCH(RobotDesignResults[[#This Row],[Team Number]], OfficialTeamList[Team Number],0))),\"\",INDEX(OfficialTeamList[Team Name],MATCH(RobotDesignResults[[#This Row],[Team Number]], OfficialTeamList[Team Number],0)))","v":""},null,null,null,null,null,null,null,null,null,null,{"$f":"SUM(RobotDesignResults[[#This Row],[Identify - Strategy]:[Communicate - Involvement]])","v":0},{"$f":"IF(RobotDesignResults[[#This Row],[Team Number]]>0,MIN(_xlfn.RANK.EQ(RobotDesignResults[[#This Row],[Robot Design Score]],RobotDesignResults[Robot Design Score],0),NumberOfTeams),NumberOfTeams+1)","v":1}]
[null,{"$f":"IF(ISNA(INDEX(OfficialTeamList[Team Name],MATCH(RobotDesignResults[[#This Row],[Team Number]], OfficialTeamList[Team Number],0))),\"\",INDEX(OfficialTeamList[Team Name],MATCH(RobotDesignResults[[#This Row],[Team Number]], OfficialTeamList[Team Number],0)))","v":""},null,null,null,null,null,null,null,null,null,null,{"$f":"SUM(RobotDesignResults[[#This Row],[Identify - Strategy]:[Communicate - Involvement]])","v":0},{"$f":"IF(RobotDesignResults[[#This Row],[Team Number]]>0,MIN(_xlfn.RANK.EQ(RobotDesignResults[[#This Row],[Robot Design Score]],RobotDesignResults[Robot Design Score],0),NumberOfTeams),NumberOfTeams+1)","v":1}]
[null,{"$f":"IF(ISNA(INDEX(OfficialTeamList[Team Name],MATCH(RobotDesignResults[[#This Row],[Team Number]], OfficialTeamList[Team Number],0))),\"\",INDEX(OfficialTeamList[Team Name],MATCH(RobotDesignResults[[#This Row],[Team Number]], OfficialTeamList[Team Number],0)))","v":""},null,null,null,null,null,null,null,null,null,null,{"$f":"SUM(RobotDesignResults[[#This Row],[Identify - Strategy]:[Communicate - Involvement]])","v":0},{"$f":"IF(RobotDesignResults[[#This Row],[Team Number]]>0,MIN(_xlfn.RANK.EQ(RobotDesignResults[[#This Row],[Robot Design Score]],RobotDesignResults[Robot Design Score],0),NumberOfTeams),NumberOfTeams+1)","v":1}]
[null,{"$f":"IF(ISNA(INDEX(OfficialTeamList[Team Name],MATCH(RobotDesignResults[[#This Row],[Team Number]], OfficialTeamList[Team Number],0))),\"\",INDEX(OfficialTeamList[Team Name],MATCH(RobotDesignResults[[#This Row],[Team Number]], OfficialTeamList[Team Number],0)))","v":""},null,null,null,null,null,null,null,null,null,null,{"$f":"SUM(RobotDesignResults[[#This Row],[Identify - Strategy]:[Communicate - Involvement]])","v":0},{"$f":"IF(RobotDesignResults[[#This Row],[Team Number]]>0,MIN(_xlfn.RANK.EQ(RobotDesignResults[[#This Row],[Robot Design Score]],RobotDesignResults[Robot Design Score],0),NumberOfTeams),NumberOfTeams+1)","v":1}]
[null,{"$f":"IF(ISNA(INDEX(OfficialTeamList[Team Name],MATCH(RobotDesignResults[[#This Row],[Team Number]], OfficialTeamList[Team Number],0))),\"\",INDEX(OfficialTeamList[Team Name],MATCH(RobotDesignResults[[#This Row],[Team Number]], OfficialTeamList[Team Number],0)))","v":""},null,null,null,null,null,null,null,null,null,null,{"$f":"SUM(RobotDesignResults[[#This Row],[Identify - Strategy]:[Communicate - Involvement]])","v":0},{"$f":"IF(RobotDesignResults[[#This Row],[Team Number]]>0,MIN(_xlfn.RANK.EQ(RobotDesignResults[[#This Row],[Robot Design Score]],RobotDesignResults[Robot Design Score],0),NumberOfTeams),NumberOfTeams+1)","v":1}]
[null,{"$f":"IF(ISNA(INDEX(OfficialTeamList[Team Name],MATCH(RobotDesignResults[[#This Row],[Team Number]], OfficialTeamList[Team Number],0))),\"\",INDEX(OfficialTeamList[Team Name],MATCH(RobotDesignResults[[#This Row],[Team Number]], OfficialTeamList[Team Number],0)))","v":""},null,null,null,null,null,null,null,null,null,null,{"$f":"SUM(RobotDesignResults[[#This Row],[Identify - Strategy]:[Communicate - Involvement]])","v":0},{"$f":"IF(RobotDesignResults[[#This Row],[Team Number]]>0,MIN(_xlfn.RANK.EQ(RobotDesignResults[[#This Row],[Robot Design Score]],RobotDesignResults[Robot Design Score],0),NumberOfTeams),NumberOfTeams+1)","v":1}]
[null,{"$f":"IF(ISNA(INDEX(OfficialTeamList[Team Name],MATCH(RobotDesignResults[[#This Row],[Team Number]], OfficialTeamList[Team Number],0))),\"\",INDEX(OfficialTeamList[Team Name],MATCH(RobotDesignResults[[#This Row],[Team Number]], OfficialTeamList[Team Number],0)))","v":""},null,null,null,null,null,null,null,null,null,null,{"$f":"SUM(RobotDesignResults[[#This Row],[Identify - Strategy]:[Communicate - Involvement]])","v":0},{"$f":"IF(RobotDesignResults[[#This Row],[Team Number]]>0,MIN(_xlfn.RANK.EQ(RobotDesignResults[[#This Row],[Robot Design Score]],RobotDesignResults[Robot Design Score],0),NumberOfTeams),NumberOfTeams+1)","v":1}]
[null,{"$f":"IF(ISNA(INDEX(OfficialTeamList[Team Name],MATCH(RobotDesignResults[[#This Row],[Team Number]], OfficialTeamList[Team Number],0))),\"\",INDEX(OfficialTeamList[Team Name],MATCH(RobotDesignResults[[#This Row],[Team Number]], OfficialTeamList[Team Number],0)))","v":""},null,null,null,null,null,null,null,null,null,null,{"$f":"SUM(RobotDesignResults[[#This Row],[Identify - Strategy]:[Communicate - Involvement]])","v":0},{"$f":"IF(RobotDesignResults[[#This Row],[Team Number]]>0,MIN(_xlfn.RANK.EQ(RobotDesignResults[[#This Row],[Robot Design Score]],RobotDesignResults[Robot Design Score],0),NumberOfTeams),NumberOfTeams+1)","v":1}]
[null,{"$f":"IF(ISNA(INDEX(OfficialTeamList[Team Name],MATCH(RobotDesignResults[[#This Row],[Team Number]], OfficialTeamList[Team Number],0))),\"\",INDEX(OfficialTeamList[Team Name],MATCH(RobotDesignResults[[#This Row],[Team Number]], OfficialTeamList[Team Number],0)))","v":""},null,null,null,null,null,null,null,null,null,null,{"$f":"SUM(RobotDesignResults[[#This Row],[Identify - Strategy]:[Communicate - Involvement]])","v":0},{"$f":"IF(RobotDesignResults[[#This Row],[Team Number]]>0,MIN(_xlfn.RANK.EQ(RobotDesignResults[[#This Row],[Robot Design Score]],RobotDesignResults[Robot Design Score],0),NumberOfTeams),NumberOfTeams+1)","v":1}]
[null,{"$f":"IF(ISNA(INDEX(OfficialTeamList[Team Name],MATCH(RobotDesignResults[[#This Row],[Team Number]], OfficialTeamList[Team Number],0))),\"\",INDEX(OfficialTeamList[Team Name],MATCH(RobotDesignResults[[#This Row],[Team Number]], OfficialTeamList[Team Number],0)))","v":""},null,null,null,null,null,null,null,null,null,null,{"$f":"SUM(RobotDesignResults[[#This Row],[Identify - Strategy]:[Communicate - Involvement]])","v":0},{"$f":"IF(RobotDesignResults[[#This Row],[Team Number]]>0,MIN(_xlfn.RANK.EQ(RobotDesignResults[[#This Row],[Robot Design Score]],RobotDesignResults[Robot Design Score],0),NumberOfTeams),NumberOfTeams+1)","v":1}]
[null,{"$f":"IF(ISNA(INDEX(OfficialTeamList[Team Name],MATCH(RobotDesignResults[[#This Row],[Team Number]], OfficialTeamList[Team Number],0))),\"\",INDEX(OfficialTeamList[Team Name],MATCH(RobotDesignResults[[#This Row],[Team Number]], OfficialTeamList[Team Number],0)))","v":""},null,null,null,null,null,null,null,null,null,null,{"$f":"SUM(RobotDesignResults[[#This Row],[Identify - Strategy]:[Communicate - Involvement]])","v":0},{"$f":"IF(RobotDesignResults[[#This Row],[Team Number]]>0,MIN(_xlfn.RANK.EQ(RobotDesignResults[[#This Row],[Robot Design Score]],RobotDesignResults[Robot Design Score],0),NumberOfTeams),NumberOfTeams+1)","v":1}]
[null,{"$f":"IF(ISNA(INDEX(OfficialTeamList[Team Name],MATCH(RobotDesignResults[[#This Row],[Team Number]], OfficialTeamList[Team Number],0))),\"\",INDEX(OfficialTeamList[Team Name],MATCH(RobotDesignResults[[#This Row],[Team Number]], OfficialTeamList[Team Number],0)))","v":""},null,null,null,null,null,null,null,null,null,null,{"$f":"SUM(RobotDesignResults[[#This Row],[Identify - Strategy]:[Communicate - Involvement]])","v":0},{"$f":"IF(RobotDesignResults[[#This Row],[Team Number]]>0,MIN(_xlfn.RANK.EQ(RobotDesignResults[[#This Row],[Robot Design Score]],RobotDesignResults[Robot Design Score],0),NumberOfTeams),NumberOfTeams+1)","v":1}]
[null,{"$f":"IF(ISNA(INDEX(OfficialTeamList[Team Name],MATCH(RobotDesignResults[[#This Row],[Team Number]], OfficialTeamList[Team Number],0))),\"\",INDEX(OfficialTeamList[Team Name],MATCH(RobotDesignResults[[#This Row],[Team Number]], OfficialTeamList[Team Number],0)))","v":""},null,null,null,null,null,null,null,null,null,null,{"$f":"SUM(RobotDesignResults[[#This Row],[Identify - Strategy]:[Communicate - Involvement]])","v":0},{"$f":"IF(RobotDesignResults[[#This Row],[Team Number]]>0,MIN(_xlfn.RANK.EQ(RobotDesignResults[[#This Row],[Robot Design Score]],RobotDesignResults[Robot Design Score],0),NumberOfTeams),NumberOfTeams+1)","v":1}]
[null,{"$f":"IF(ISNA(INDEX(OfficialTeamList[Team Name],MATCH(RobotDesignResults[[#This Row],[Team Number]], OfficialTeamList[Team Number],0))),\"\",INDEX(OfficialTeamList[Team Name],MATCH(RobotDesignResults[[#This Row],[Team Number]], OfficialTeamList[Team Number],0)))","v":""},null,null,null,null,null,null,null,null,null,null,{"$f":"SUM(RobotDesignResults[[#This Row],[Identify - Strategy]:[Communicate - Involvement]])","v":0},{"$f":"IF(RobotDesignResults[[#This Row],[Team Number]]>0,MIN(_xlfn.RANK.EQ(RobotDesignResults[[#This Row],[Robot Design Score]],RobotDesignResults[Robot Design Score],0),NumberOfTeams),NumberOfTeams+1)","v":1}]
[null,{"$f":"IF(ISNA(INDEX(OfficialTeamList[Team Name],MATCH(RobotDesignResults[[#This Row],[Team Number]], OfficialTeamList[Team Number],0))),\"\",INDEX(OfficialTeamList[Team Name],MATCH(RobotDesignResults[[#This Row],[Team Number]], OfficialTeamList[Team Number],0)))","v":""},null,null,null,null,null,null,null,null,null,null,{"$f":"SUM(RobotDesignResults[[#This Row],[Identify - Strategy]:[Communicate - Involvement]])","v":0},{"$f":"IF(RobotDesignResults[[#This Row],[Team Number]]>0,MIN(_xlfn.RANK.EQ(RobotDesignResults[[#This Row],[Robot Design Score]],RobotDesignResults[Robot Design Score],0),NumberOfTeams),NumberOfTeams+1)","v":1}]
[null,{"$f":"IF(ISNA(INDEX(OfficialTeamList[Team Name],MATCH(RobotDesignResults[[#This Row],[Team Number]], OfficialTeamList[Team Number],0))),\"\",INDEX(OfficialTeamList[Team Name],MATCH(RobotDesignResults[[#This Row],[Team Number]], OfficialTeamList[Team Number],0)))","v":""},null,null,null,null,null,null,null,null,null,null,{"$f":"SUM(RobotDesignResults[[#This Row],[Identify - Strategy]:[Communicate - Involvement]])","v":0},{"$f":"IF(RobotDesignResults[[#This Row],[Team Number]]>0,MIN(_xlfn.RANK.EQ(RobotDesignResults[[#This Row],[Robot Design Score]],RobotDesignResults[Robot Design Score],0),NumberOfTeams),NumberOfTeams+1)","v":1}]
[null,{"$f":"IF(ISNA(INDEX(OfficialTeamList[Team Name],MATCH(RobotDesignResults[[#This Row],[Team Number]], OfficialTeamList[Team Number],0))),\"\",INDEX(OfficialTeamList[Team Name],MATCH(RobotDesignResults[[#This Row],[Team Number]], OfficialTeamList[Team Number],0)))","v":""},null,null,null,null,null,null,null,null,null,null,{"$f":"SUM(RobotDesignResults[[#This Row],[Identify - Strategy]:[Communicate - Involvement]])","v":0},{"$f":"IF(RobotDesignResults[[#This Row],[Team Number]]>0,MIN(_xlfn.RANK.EQ(RobotDesignResults[[#This Row],[Robot Design Score]],RobotDesignResults[Robot Design Score],0),NumberOfTeams),NumberOfTeams+1)","v":1}]
[null,{"$f":"IF(ISNA(INDEX(OfficialTeamList[Team Name],MATCH(RobotDesignResults[[#This Row],[Team Number]], OfficialTeamList[Team Number],0))),\"\",INDEX(OfficialTeamList[Team Name],MATCH(RobotDesignResults[[#This Row],[Team Number]], OfficialTeamList[Team Number],0)))","v":""},null,null,null,null,null,null,null,null,null,null,{"$f":"SUM(RobotDesignResults[[#This Row],[Identify - Strategy]:[Communicate - Involvement]])","v":0},{"$f":"IF(RobotDesignResults[[#This Row],[Team Number]]>0,MIN(_xlfn.RANK.EQ(RobotDesignResults[[#This Row],[Robot Design Score]],RobotDesignResults[Robot Design Score],0),NumberOfTeams),NumberOfTeams+1)","v":1}]
[null,{"$f":"IF(ISNA(INDEX(OfficialTeamList[Team Name],MATCH(RobotDesignResults[[#This Row],[Team Number]], OfficialTeamList[Team Number],0))),\"\",INDEX(OfficialTeamList[Team Name],MATCH(RobotDesignResults[[#This Row],[Team Number]], OfficialTeamList[Team Number],0)))","v":""},null,null,null,null,null,null,null,null,null,null,{"$f":"SUM(RobotDesignResults[[#This Row],[Identify - Strategy]:[Communicate - Involvement]])","v":0},{"$f":"IF(RobotDesignResults[[#This Row],[Team Number]]>0,MIN(_xlfn.RANK.EQ(RobotDesignResults[[#This Row],[Robot Design Score]],RobotDesignResults[Robot Design Score],0),NumberOfTeams),NumberOfTeams+1)","v":1}]
[null,{"$f":"IF(ISNA(INDEX(OfficialTeamList[Team Name],MATCH(RobotDesignResults[[#This Row],[Team Number]], OfficialTeamList[Team Number],0))),\"\",INDEX(OfficialTeamList[Team Name],MATCH(RobotDesignResults[[#This Row],[Team Number]], OfficialTeamList[Team Number],0)))","v":""},null,null,null,null,null,null,null,null,null,null,{"$f":"SUM(RobotDesignResults[[#This Row],[Identify - Strategy]:[Communicate - Involvement]])","v":0},{"$f":"IF(RobotDesignResults[[#This Row],[Team Number]]>0,MIN(_xlfn.RANK.EQ(RobotDesignResults[[#This Row],[Robot Design Score]],RobotDesignResults[Robot Design Score],0),NumberOfTeams),NumberOfTeams+1)","v":1}]
[null,{"$f":"IF(ISNA(INDEX(OfficialTeamList[Team Name],MATCH(RobotDesignResults[[#This Row],[Team Number]], OfficialTeamList[Team Number],0))),\"\",INDEX(OfficialTeamList[Team Name],MATCH(RobotDesignResults[[#This Row],[Team Number]], OfficialTeamList[Team Number],0)))","v":""},null,null,null,null,null,null,null,null,null,null,{"$f":"SUM(RobotDesignResults[[#This Row],[Identify - Strategy]:[Communicate - Involvement]])","v":0},{"$f":"IF(RobotDesignResults[[#This Row],[Team Number]]>0,MIN(_xlfn.RANK.EQ(RobotDesignResults[[#This Row],[Robot Design Score]],RobotDesignResults[Robot Design Score],0),NumberOfTeams),NumberOfTeams+1)","v":1}]
[null,{"$f":"IF(ISNA(INDEX(OfficialTeamList[Team Name],MATCH(RobotDesignResults[[#This Row],[Team Number]], OfficialTeamList[Team Number],0))),\"\",INDEX(OfficialTeamList[Team Name],MATCH(RobotDesignResults[[#This Row],[Team Number]], OfficialTeamList[Team Number],0)))","v":""},null,null,null,null,null,null,null,null,null,null,{"$f":"SUM(RobotDesignResults[[#This Row],[Identify - Strategy]:[Communicate - Involvement]])","v":0},{"$f":"IF(RobotDesignResults[[#This Row],[Team Number]]>0,MIN(_xlfn.RANK.EQ(RobotDesignResults[[#This Row],[Robot Design Score]],RobotDesignResults[Robot Design Score],0),NumberOfTeams),NumberOfTeams+1)","v":1}]
[null,{"$f":"IF(ISNA(INDEX(OfficialTeamList[Team Name],MATCH(RobotDesignResults[[#This Row],[Team Number]], OfficialTeamList[Team Number],0))),\"\",INDEX(OfficialTeamList[Team Name],MATCH(RobotDesignResults[[#This Row],[Team Number]], OfficialTeamList[Team Number],0)))","v":""},null,null,null,null,null,null,null,null,null,null,{"$f":"SUM(RobotDesignResults[[#This Row],[Identify - Strategy]:[Communicate - Involvement]])","v":0},{"$f":"IF(RobotDesignResults[[#This Row],[Team Number]]>0,MIN(_xlfn.RANK.EQ(RobotDesignResults[[#This Row],[Robot Design Score]],RobotDesignResults[Robot Design Score],0),NumberOfTeams),NumberOfTeams+1)","v":1}]
[null,{"$f":"IF(ISNA(INDEX(OfficialTeamList[Team Name],MATCH(RobotDesignResults[[#This Row],[Team Number]], OfficialTeamList[Team Number],0))),\"\",INDEX(OfficialTeamList[Team Name],MATCH(RobotDesignResults[[#This Row],[Team Number]], OfficialTeamList[Team Number],0)))","v":""},null,null,null,null,null,null,null,null,null,null,{"$f":"SUM(RobotDesignResults[[#This Row],[Identify - Strategy]:[Communicate - Involvement]])","v":0},{"$f":"IF(RobotDesignResults[[#This Row],[Team Number]]>0,MIN(_xlfn.RANK.EQ(RobotDesignResults[[#This Row],[Robot Design Score]],RobotDesignResults[Robot Design Score],0),NumberOfTeams),NumberOfTeams+1)","v":1}]
[null,{"$f":"IF(ISNA(INDEX(OfficialTeamList[Team Name],MATCH(RobotDesignResults[[#This Row],[Team Number]], OfficialTeamList[Team Number],0))),\"\",INDEX(OfficialTeamList[Team Name],MATCH(RobotDesignResults[[#This Row],[Team Number]], OfficialTeamList[Team Number],0)))","v":""},null,null,null,null,null,null,null,null,null,null,{"$f":"SUM(RobotDesignResults[[#This Row],[Identify - Strategy]:[Communicate - Involvement]])","v":0},{"$f":"IF(RobotDesignResults[[#This Row],[Team Number]]>0,MIN(_xlfn.RANK.EQ(RobotDesignResults[[#This Row],[Robot Design Score]],RobotDesignResults[Robot Design Score],0),NumberOfTeams),NumberOfTeams+1)","v":1}]
[null,{"$f":"IF(ISNA(INDEX(OfficialTeamList[Team Name],MATCH(RobotDesignResults[[#This Row],[Team Number]], OfficialTeamList[Team Number],0))),\"\",INDEX(OfficialTeamList[Team Name],MATCH(RobotDesignResults[[#This Row],[Team Number]], OfficialTeamList[Team Number],0)))","v":""},null,null,null,null,null,null,null,null,null,null,{"$f":"SUM(RobotDesignResults[[#This Row],[Identify - Strategy]:[Communicate - Involvement]])","v":0},{"$f":"IF(RobotDesignResults[[#This Row],[Team Number]]>0,MIN(_xlfn.RANK.EQ(RobotDesignResults[[#This Row],[Robot Design Score]],RobotDesignResults[Robot Design Score],0),NumberOfTeams),NumberOfTeams+1)","v":1}]
[null,{"$f":"IF(ISNA(INDEX(OfficialTeamList[Team Name],MATCH(RobotDesignResults[[#This Row],[Team Number]], OfficialTeamList[Team Number],0))),\"\",INDEX(OfficialTeamList[Team Name],MATCH(RobotDesignResults[[#This Row],[Team Number]], OfficialTeamList[Team Number],0)))","v":""},null,null,null,null,null,null,null,null,null,null,{"$f":"SUM(RobotDesignResults[[#This Row],[Identify - Strategy]:[Communicate - Involvement]])","v":0},{"$f":"IF(RobotDesignResults[[#This Row],[Team Number]]>0,MIN(_xlfn.RANK.EQ(RobotDesignResults[[#This Row],[Robot Design Score]],RobotDesignResults[Robot Design Score],0),NumberOfTeams),NumberOfTeams+1)","v":1}]
[null,{"$f":"IF(ISNA(INDEX(OfficialTeamList[Team Name],MATCH(RobotDesignResults[[#This Row],[Team Number]], OfficialTeamList[Team Number],0))),\"\",INDEX(OfficialTeamList[Team Name],MATCH(RobotDesignResults[[#This Row],[Team Number]], OfficialTeamList[Team Number],0)))","v":""},null,null,null,null,null,null,null,null,null,null,{"$f":"SUM(RobotDesignResults[[#This Row],[Identify - Strategy]:[Communicate - Involvement]])","v":0},{"$f":"IF(RobotDesignResults[[#This Row],[Team Number]]>0,MIN(_xlfn.RANK.EQ(RobotDesignResults[[#This Row],[Robot Design Score]],RobotDesignResults[Robot Design Score],0),NumberOfTeams),NumberOfTeams+1)","v":1}]
[null,{"$f":"IF(ISNA(INDEX(OfficialTeamList[Team Name],MATCH(RobotDesignResults[[#This Row],[Team Number]], OfficialTeamList[Team Number],0))),\"\",INDEX(OfficialTeamList[Team Name],MATCH(RobotDesignResults[[#This Row],[Team Number]], OfficialTeamList[Team Number],0)))","v":""},null,null,null,null,null,null,null,null,null,null,{"$f":"SUM(RobotDesignResults[[#This Row],[Identify - Strategy]:[Communicate - Involvement]])","v":0},{"$f":"IF(RobotDesignResults[[#This Row],[Team Number]]>0,MIN(_xlfn.RANK.EQ(RobotDesignResults[[#This Row],[Robot Design Score]],RobotDesignResults[Robot Design Score],0),NumberOfTeams),NumberOfTeams+1)","v":1}]
[null,{"$f":"IF(ISNA(INDEX(OfficialTeamList[Team Name],MATCH(RobotDesignResults[[#This Row],[Team Number]], OfficialTeamList[Team Number],0))),\"\",INDEX(OfficialTeamList[Team Name],MATCH(RobotDesignResults[[#This Row],[Team Number]], OfficialTeamList[Team Number],0)))","v":""},null,null,null,null,null,null,null,null,null,null,{"$f":"SUM(RobotDesignResults[[#This Row],[Identify - Strategy]:[Communicate - Involvement]])","v":0},{"$f":"IF(RobotDesignResults[[#This Row],[Team Number]]>0,MIN(_xlfn.RANK.EQ(RobotDesignResults[[#This Row],[Robot Design Score]],RobotDesignResults[Robot Design Score],0),NumberOfTeams),NumberOfTeams+1)","v":1}]
[null,{"$f":"IF(ISNA(INDEX(OfficialTeamList[Team Name],MATCH(RobotDesignResults[[#This Row],[Team Number]], OfficialTeamList[Team Number],0))),\"\",INDEX(OfficialTeamList[Team Name],MATCH(RobotDesignResults[[#This Row],[Team Number]], OfficialTeamList[Team Number],0)))","v":""},null,null,null,null,null,null,null,null,null,null,{"$f":"SUM(RobotDesignResults[[#This Row],[Identify - Strategy]:[Communicate - Involvement]])","v":0},{"$f":"IF(RobotDesignResults[[#This Row],[Team Number]]>0,MIN(_xlfn.RANK.EQ(RobotDesignResults[[#This Row],[Robot Design Score]],RobotDesignResults[Robot Design Score],0),NumberOfTeams),NumberOfTeams+1)","v":1}]
[null,{"$f":"IF(ISNA(INDEX(OfficialTeamList[Team Name],MATCH(RobotDesignResults[[#This Row],[Team Number]], OfficialTeamList[Team Number],0))),\"\",INDEX(OfficialTeamList[Team Name],MATCH(RobotDesignResults[[#This Row],[Team Number]], OfficialTeamList[Team Number],0)))","v":""},null,null,null,null,null,null,null,null,null,null,{"$f":"SUM(RobotDesignResults[[#This Row],[Identify - Strategy]:[Communicate - Involvement]])","v":0},{"$f":"IF(RobotDesignResults[[#This Row],[Team Number]]>0,MIN(_xlfn.RANK.EQ(RobotDesignResults[[#This Row],[Robot Design Score]],RobotDesignResults[Robot Design Score],0),NumberOfTeams),NumberOfTeams+1)","v":1}]
[null,{"$f":"IF(ISNA(INDEX(OfficialTeamList[Team Name],MATCH(RobotDesignResults[[#This Row],[Team Number]], OfficialTeamList[Team Number],0))),\"\",INDEX(OfficialTeamList[Team Name],MATCH(RobotDesignResults[[#This Row],[Team Number]], OfficialTeamList[Team Number],0)))","v":""},null,null,null,null,null,null,null,null,null,null,{"$f":"SUM(RobotDesignResults[[#This Row],[Identify - Strategy]:[Communicate - Involvement]])","v":0},{"$f":"IF(RobotDesignResults[[#This Row],[Team Number]]>0,MIN(_xlfn.RANK.EQ(RobotDesignResults[[#This Row],[Robot Design Score]],RobotDesignResults[Robot Design Score],0),NumberOfTeams),NumberOfTeams+1)","v":1}]
[null,{"$f":"IF(ISNA(INDEX(OfficialTeamList[Team Name],MATCH(RobotDesignResults[[#This Row],[Team Number]], OfficialTeamList[Team Number],0))),\"\",INDEX(OfficialTeamList[Team Name],MATCH(RobotDesignResults[[#This Row],[Team Number]], OfficialTeamList[Team Number],0)))","v":""},null,null,null,null,null,null,null,null,null,null,{"$f":"SUM(RobotDesignResults[[#This Row],[Identify - Strategy]:[Communicate - Involvement]])","v":0},{"$f":"IF(RobotDesignResults[[#This Row],[Team Number]]>0,MIN(_xlfn.RANK.EQ(RobotDesignResults[[#This Row],[Robot Design Score]],RobotDesignResults[Robot Design Score],0),NumberOfTeams),NumberOfTeams+1)","v":1}]
[null,{"$f":"IF(ISNA(INDEX(OfficialTeamList[Team Name],MATCH(RobotDesignResults[[#This Row],[Team Number]], OfficialTeamList[Team Number],0))),\"\",INDEX(OfficialTeamList[Team Name],MATCH(RobotDesignResults[[#This Row],[Team Number]], OfficialTeamList[Team Number],0)))","v":""},null,null,null,null,null,null,null,null,null,null,{"$f":"SUM(RobotDesignResults[[#This Row],[Identify - Strategy]:[Communicate - Involvement]])","v":0},{"$f":"IF(RobotDesignResults[[#This Row],[Team Number]]>0,MIN(_xlfn.RANK.EQ(RobotDesignResults[[#This Row],[Robot Design Score]],RobotDesignResults[Robot Design Score],0),NumberOfTeams),NumberOfTeams+1)","v":1}]
[null,{"$f":"IF(ISNA(INDEX(OfficialTeamList[Team Name],MATCH(RobotDesignResults[[#This Row],[Team Number]], OfficialTeamList[Team Number],0))),\"\",INDEX(OfficialTeamList[Team Name],MATCH(RobotDesignResults[[#This Row],[Team Number]], OfficialTeamList[Team Number],0)))","v":""},null,null,null,null,null,null,null,null,null,null,{"$f":"SUM(RobotDesignResults[[#This Row],[Identify - Strategy]:[Communicate - Involvement]])","v":0},{"$f":"IF(RobotDesignResults[[#This Row],[Team Number]]>0,MIN(_xlfn.RANK.EQ(RobotDesignResults[[#This Row],[Robot Design Score]],RobotDesignResults[Robot Design Score],0),NumberOfTeams),NumberOfTeams+1)","v":1}]
[null,{"$f":"IF(ISNA(INDEX(OfficialTeamList[Team Name],MATCH(RobotDesignResults[[#This Row],[Team Number]], OfficialTeamList[Team Number],0))),\"\",INDEX(OfficialTeamList[Team Name],MATCH(RobotDesignResults[[#This Row],[Team Number]], OfficialTeamList[Team Number],0)))","v":""},null,null,null,null,null,null,null,null,null,null,{"$f":"SUM(RobotDesignResults[[#This Row],[Identify - Strategy]:[Communicate - Involvement]])","v":0},{"$f":"IF(RobotDesignResults[[#This Row],[Team Number]]>0,MIN(_xlfn.RANK.EQ(RobotDesignResults[[#This Row],[Robot Design Score]],RobotDesignResults[Robot Design Score],0),NumberOfTeams),NumberOfTeams+1)","v":1}]
[null,{"$f":"IF(ISNA(INDEX(OfficialTeamList[Team Name],MATCH(RobotDesignResults[[#This Row],[Team Number]], OfficialTeamList[Team Number],0))),\"\",INDEX(OfficialTeamList[Team Name],MATCH(RobotDesignResults[[#This Row],[Team Number]], OfficialTeamList[Team Number],0)))","v":""},null,null,null,null,null,null,null,null,null,null,{"$f":"SUM(RobotDesignResults[[#This Row],[Identify - Strategy]:[Communicate - Involvement]])","v":0},{"$f":"IF(RobotDesignResults[[#This Row],[Team Number]]>0,MIN(_xlfn.RANK.EQ(RobotDesignResults[[#This Row],[Robot Design Score]],RobotDesignResults[Robot Design Score],0),NumberOfTeams),NumberOfTeams+1)","v":1}]
[null,{"$f":"IF(ISNA(INDEX(OfficialTeamList[Team Name],MATCH(RobotDesignResults[[#This Row],[Team Number]], OfficialTeamList[Team Number],0))),\"\",INDEX(OfficialTeamList[Team Name],MATCH(RobotDesignResults[[#This Row],[Team Number]], OfficialTeamList[Team Number],0)))","v":""},null,null,null,null,null,null,null,null,null,null,{"$f":"SUM(RobotDesignResults[[#This Row],[Identify - Strategy]:[Communicate - Involvement]])","v":0},{"$f":"IF(RobotDesignResults[[#This Row],[Team Number]]>0,MIN(_xlfn.RANK.EQ(RobotDesignResults[[#This Row],[Robot Design Score]],RobotDesignResults[Robot Design Score],0),NumberOfTeams),NumberOfTeams+1)","v":1}]
[null,{"$f":"IF(ISNA(INDEX(OfficialTeamList[Team Name],MATCH(RobotDesignResults[[#This Row],[Team Number]], OfficialTeamList[Team Number],0))),\"\",INDEX(OfficialTeamList[Team Name],MATCH(RobotDesignResults[[#This Row],[Team Number]], OfficialTeamList[Team Number],0)))","v":""},null,null,null,null,null,null,null,null,null,null,{"$f":"SUM(RobotDesignResults[[#This Row],[Identify - Strategy]:[Communicate - Involvement]])","v":0},{"$f":"IF(RobotDesignResults[[#This Row],[Team Number]]>0,MIN(_xlfn.RANK.EQ(RobotDesignResults[[#This Row],[Robot Design Score]],RobotDesignResults[Robot Design Score],0),NumberOfTeams),NumberOfTeams+1)","v":1}]
[null,{"$f":"IF(ISNA(INDEX(OfficialTeamList[Team Name],MATCH(RobotDesignResults[[#This Row],[Team Number]], OfficialTeamList[Team Number],0))),\"\",INDEX(OfficialTeamList[Team Name],MATCH(RobotDesignResults[[#This Row],[Team Number]], OfficialTeamList[Team Number],0)))","v":""},null,null,null,null,null,null,null,null,null,null,{"$f":"SUM(RobotDesignResults[[#This Row],[Identify - Strategy]:[Communicate - Involvement]])","v":0},{"$f":"IF(RobotDesignResults[[#This Row],[Team Number]]>0,MIN(_xlfn.RANK.EQ(RobotDesignResults[[#This Row],[Robot Design Score]],RobotDesignResults[Robot Design Score],0),NumberOfTeams),NumberOfTeams+1)","v":1}]
[null,{"$f":"IF(ISNA(INDEX(OfficialTeamList[Team Name],MATCH(RobotDesignResults[[#This Row],[Team Number]], OfficialTeamList[Team Number],0))),\"\",INDEX(OfficialTeamList[Team Name],MATCH(RobotDesignResults[[#This Row],[Team Number]], OfficialTeamList[Team Number],0)))","v":""},null,null,null,null,null,null,null,null,null,null,{"$f":"SUM(RobotDesignResults[[#This Row],[Identify - Strategy]:[Communicate - Involvement]])","v":0},{"$f":"IF(RobotDesignResults[[#This Row],[Team Number]]>0,MIN(_xlfn.RANK.EQ(RobotDesignResults[[#This Row],[Robot Design Score]],RobotDesignResults[Robot Design Score],0),NumberOfTeams),NumberOfTeams+1)","v":1}]
[null,{"$f":"IF(ISNA(INDEX(OfficialTeamList[Team Name],MATCH(RobotDesignResults[[#This Row],[Team Number]], OfficialTeamList[Team Number],0))),\"\",INDEX(OfficialTeamList[Team Name],MATCH(RobotDesignResults[[#This Row],[Team Number]], OfficialTeamList[Team Number],0)))","v":""},null,null,null,null,null,null,null,null,null,null,{"$f":"SUM(RobotDesignResults[[#This Row],[Identify - Strategy]:[Communicate - Involvement]])","v":0},{"$f":"IF(RobotDesignResults[[#This Row],[Team Number]]>0,MIN(_xlfn.RANK.EQ(RobotDesignResults[[#This Row],[Robot Design Score]],RobotDesignResults[Robot Design Score],0),NumberOfTeams),NumberOfTeams+1)","v":1}]
[null,{"$f":"IF(ISNA(INDEX(OfficialTeamList[Team Name],MATCH(RobotDesignResults[[#This Row],[Team Number]], OfficialTeamList[Team Number],0))),\"\",INDEX(OfficialTeamList[Team Name],MATCH(RobotDesignResults[[#This Row],[Team Number]], OfficialTeamList[Team Number],0)))","v":""},null,null,null,null,null,null,null,null,null,null,{"$f":"SUM(RobotDesignResults[[#This Row],[Identify - Strategy]:[Communicate - Involvement]])","v":0},{"$f":"IF(RobotDesignResults[[#This Row],[Team Number]]>0,MIN(_xlfn.RANK.EQ(RobotDesignResults[[#This Row],[Robot Design Score]],RobotDesignResults[Robot Design Score],0),NumberOfTeams),NumberOfTeams+1)","v":1}]
[null,{"$f":"IF(ISNA(INDEX(OfficialTeamList[Team Name],MATCH(RobotDesignResults[[#This Row],[Team Number]], OfficialTeamList[Team Number],0))),\"\",INDEX(OfficialTeamList[Team Name],MATCH(RobotDesignResults[[#This Row],[Team Number]], OfficialTeamList[Team Number],0)))","v":""},null,null,null,null,null,null,null,null,null,null,{"$f":"SUM(RobotDesignResults[[#This Row],[Identify - Strategy]:[Communicate - Involvement]])","v":0},{"$f":"IF(RobotDesignResults[[#This Row],[Team Number]]>0,MIN(_xlfn.RANK.EQ(RobotDesignResults[[#This Row],[Robot Design Score]],RobotDesignResults[Robot Design Score],0),NumberOfTeams),NumberOfTeams+1)","v":1}]
[null,{"$f":"IF(ISNA(INDEX(OfficialTeamList[Team Name],MATCH(RobotDesignResults[[#This Row],[Team Number]], OfficialTeamList[Team Number],0))),\"\",INDEX(OfficialTeamList[Team Name],MATCH(RobotDesignResults[[#This Row],[Team Number]], OfficialTeamList[Team Number],0)))","v":""},null,null,null,null,null,null,null,null,null,null,{"$f":"SUM(RobotDesignResults[[#This Row],[Identify - Strategy]:[Communicate - Involvement]])","v":0},{"$f":"IF(RobotDesignResults[[#This Row],[Team Number]]>0,MIN(_xlfn.RANK.EQ(RobotDesignResults[[#This Row],[Robot Design Score]],RobotDesignResults[Robot Design Score],0),NumberOfTeams),NumberOfTeams+1)","v":1}]
[null,{"$f":"IF(ISNA(INDEX(OfficialTeamList[Team Name],MATCH(RobotDesignResults[[#This Row],[Team Number]], OfficialTeamList[Team Number],0))),\"\",INDEX(OfficialTeamList[Team Name],MATCH(RobotDesignResults[[#This Row],[Team Number]], OfficialTeamList[Team Number],0)))","v":""},null,null,null,null,null,null,null,null,null,null,{"$f":"SUM(RobotDesignResults[[#This Row],[Identify - Strategy]:[Communicate - Involvement]])","v":0},{"$f":"IF(RobotDesignResults[[#This Row],[Team Number]]>0,MIN(_xlfn.RANK.EQ(RobotDesignResults[[#This Row],[Robot Design Score]],RobotDesignResults[Robot Design Score],0),NumberOfTeams),NumberOfTeams+1)","v":1}]
[null,{"$f":"IF(ISNA(INDEX(OfficialTeamList[Team Name],MATCH(RobotDesignResults[[#This Row],[Team Number]], OfficialTeamList[Team Number],0))),\"\",INDEX(OfficialTeamList[Team Name],MATCH(RobotDesignResults[[#This Row],[Team Number]], OfficialTeamList[Team Number],0)))","v":""},null,null,null,null,null,null,null,null,null,null,{"$f":"SUM(RobotDesignResults[[#This Row],[Identify - Strategy]:[Communicate - Involvement]])","v":0},{"$f":"IF(RobotDesignResults[[#This Row],[Team Number]]>0,MIN(_xlfn.RANK.EQ(RobotDesignResults[[#This Row],[Robot Design Score]],RobotDesignResults[Robot Design Score],0),NumberOfTeams),NumberOfTeams+1)","v":1}]
[null,{"$f":"IF(ISNA(INDEX(OfficialTeamList[Team Name],MATCH(RobotDesignResults[[#This Row],[Team Number]], OfficialTeamList[Team Number],0))),\"\",INDEX(OfficialTeamList[Team Name],MATCH(RobotDesignResults[[#This Row],[Team Number]], OfficialTeamList[Team Number],0)))","v":""},null,null,null,null,null,null,null,null,null,null,{"$f":"SUM(RobotDesignResults[[#This Row],[Identify - Strategy]:[Communicate - Involvement]])","v":0},{"$f":"IF(RobotDesignResults[[#This Row],[Team Number]]>0,MIN(_xlfn.RANK.EQ(RobotDesignResults[[#This Row],[Robot Design Score]],RobotDesignResults[Robot Design Score],0),NumberOfTeams),NumberOfTeams+1)","v":1}]
[null,{"$f":"IF(ISNA(INDEX(OfficialTeamList[Team Name],MATCH(RobotDesignResults[[#This Row],[Team Number]], OfficialTeamList[Team Number],0))),\"\",INDEX(OfficialTeamList[Team Name],MATCH(RobotDesignResults[[#This Row],[Team Number]], OfficialTeamList[Team Number],0)))","v":""},null,null,null,null,null,null,null,null,null,null,{"$f":"SUM(RobotDesignResults[[#This Row],[Identify - Strategy]:[Communicate - Involvement]])","v":0},{"$f":"IF(RobotDesignResults[[#This Row],[Team Number]]>0,MIN(_xlfn.RANK.EQ(RobotDesignResults[[#This Row],[Robot Design Score]],RobotDesignResults[Robot Design Score],0),NumberOfTeams),NumberOfTeams+1)","v":1}]
[null,{"$f":"IF(ISNA(INDEX(OfficialTeamList[Team Name],MATCH(RobotDesignResults[[#This Row],[Team Number]], OfficialTeamList[Team Number],0))),\"\",INDEX(OfficialTeamList[Team Name],MATCH(RobotDesignResults[[#This Row],[Team Number]], OfficialTeamList[Team Number],0)))","v":""},null,null,null,null,null,null,null,null,null,null,{"$f":"SUM(RobotDesignResults[[#This Row],[Identify - Strategy]:[Communicate - Involvement]])","v":0},{"$f":"IF(RobotDesignResults[[#This Row],[Team Number]]>0,MIN(_xlfn.RANK.EQ(RobotDesignResults[[#This Row],[Robot Design Score]],RobotDesignResults[Robot Design Score],0),NumberOfTeams),NumberOfTeams+1)","v":1}]
[null,{"$f":"IF(ISNA(INDEX(OfficialTeamList[Team Name],MATCH(RobotDesignResults[[#This Row],[Team Number]], OfficialTeamList[Team Number],0))),\"\",INDEX(OfficialTeamList[Team Name],MATCH(RobotDesignResults[[#This Row],[Team Number]], OfficialTeamList[Team Number],0)))","v":""},null,null,null,null,null,null,null,null,null,null,{"$f":"SUM(RobotDesignResults[[#This Row],[Identify - Strategy]:[Communicate - Involvement]])","v":0},{"$f":"IF(RobotDesignResults[[#This Row],[Team Number]]>0,MIN(_xlfn.RANK.EQ(RobotDesignResults[[#This Row],[Robot Design Score]],RobotDesignResults[Robot Design Score],0),NumberOfTeams),NumberOfTeams+1)","v":1}]
[null,{"$f":"IF(ISNA(INDEX(OfficialTeamList[Team Name],MATCH(RobotDesignResults[[#This Row],[Team Number]], OfficialTeamList[Team Number],0))),\"\",INDEX(OfficialTeamList[Team Name],MATCH(RobotDesignResults[[#This Row],[Team Number]], OfficialTeamList[Team Number],0)))","v":""},null,null,null,null,null,null,null,null,null,null,{"$f":"SUM(RobotDesignResults[[#This Row],[Identify - Strategy]:[Communicate - Involvement]])","v":0},{"$f":"IF(RobotDesignResults[[#This Row],[Team Number]]>0,MIN(_xlfn.RANK.EQ(RobotDesignResults[[#This Row],[Robot Design Score]],RobotDesignResults[Robot Design Score],0),NumberOfTeams),NumberOfTeams+1)","v":1}]
[null,{"$f":"IF(ISNA(INDEX(OfficialTeamList[Team Name],MATCH(RobotDesignResults[[#This Row],[Team Number]], OfficialTeamList[Team Number],0))),\"\",INDEX(OfficialTeamList[Team Name],MATCH(RobotDesignResults[[#This Row],[Team Number]], OfficialTeamList[Team Number],0)))","v":""},null,null,null,null,null,null,null,null,null,null,{"$f":"SUM(RobotDesignResults[[#This Row],[Identify - Strategy]:[Communicate - Involvement]])","v":0},{"$f":"IF(RobotDesignResults[[#This Row],[Team Number]]>0,MIN(_xlfn.RANK.EQ(RobotDesignResults[[#This Row],[Robot Design Score]],RobotDesignResults[Robot Design Score],0),NumberOfTeams),NumberOfTeams+1)","v":1}]
[null,{"$f":"IF(ISNA(INDEX(OfficialTeamList[Team Name],MATCH(RobotDesignResults[[#This Row],[Team Number]], OfficialTeamList[Team Number],0))),\"\",INDEX(OfficialTeamList[Team Name],MATCH(RobotDesignResults[[#This Row],[Team Number]], OfficialTeamList[Team Number],0)))","v":""},null,null,null,null,null,null,null,null,null,null,{"$f":"SUM(RobotDesignResults[[#This Row],[Identify - Strategy]:[Communicate - Involvement]])","v":0},{"$f":"IF(RobotDesignResults[[#This Row],[Team Number]]>0,MIN(_xlfn.RANK.EQ(RobotDesignResults[[#This Row],[Robot Design Score]],RobotDesignResults[Robot Design Score],0),NumberOfTeams),NumberOfTeams+1)","v":1}]
[null,{"$f":"IF(ISNA(INDEX(OfficialTeamList[Team Name],MATCH(RobotDesignResults[[#This Row],[Team Number]], OfficialTeamList[Team Number],0))),\"\",INDEX(OfficialTeamList[Team Name],MATCH(RobotDesignResults[[#This Row],[Team Number]], OfficialTeamList[Team Number],0)))","v":""},null,null,null,null,null,null,null,null,null,null,{"$f":"SUM(RobotDesignResults[[#This Row],[Identify - Strategy]:[Communicate - Involvement]])","v":0},{"$f":"IF(RobotDesignResults[[#This Row],[Team Number]]>0,MIN(_xlfn.RANK.EQ(RobotDesignResults[[#This Row],[Robot Design Score]],RobotDesignResults[Robot Design Score],0),NumberOfTeams),NumberOfTeams+1)","v":1}]
[null,{"$f":"IF(ISNA(INDEX(OfficialTeamList[Team Name],MATCH(RobotDesignResults[[#This Row],[Team Number]], OfficialTeamList[Team Number],0))),\"\",INDEX(OfficialTeamList[Team Name],MATCH(RobotDesignResults[[#This Row],[Team Number]], OfficialTeamList[Team Number],0)))","v":""},null,null,null,null,null,null,null,null,null,null,{"$f":"SUM(RobotDesignResults[[#This Row],[Identify - Strategy]:[Communicate - Involvement]])","v":0},{"$f":"IF(RobotDesignResults[[#This Row],[Team Number]]>0,MIN(_xlfn.RANK.EQ(RobotDesignResults[[#This Row],[Robot Design Score]],RobotDesignResults[Robot Design Score],0),NumberOfTeams),NumberOfTeams+1)","v":1}]
[null,{"$f":"IF(ISNA(INDEX(OfficialTeamList[Team Name],MATCH(RobotDesignResults[[#This Row],[Team Number]], OfficialTeamList[Team Number],0))),\"\",INDEX(OfficialTeamList[Team Name],MATCH(RobotDesignResults[[#This Row],[Team Number]], OfficialTeamList[Team Number],0)))","v":""},null,null,null,null,null,null,null,null,null,null,{"$f":"SUM(RobotDesignResults[[#This Row],[Identify - Strategy]:[Communicate - Involvement]])","v":0},{"$f":"IF(RobotDesignResults[[#This Row],[Team Number]]>0,MIN(_xlfn.RANK.EQ(RobotDesignResults[[#This Row],[Robot Design Score]],RobotDesignResults[Robot Design Score],0),NumberOfTeams),NumberOfTeams+1)","v":1}]

{"sheet":"Area Deliberations","index":8,"n_rows":54,"n_cols":15,"rows_kept":54,"cut":false,"hidden":false,"merged":[]}
[]
[null,"Champion's",null,null,null,null,"Advancement"]
[null,"Team Number","Team Name","Champion's Rank","Deliberated Rank",null,"Team Number","Team Name","Champion's Rank","Deliberated Rank"]
[null,null,{"$f":"IF(ISNA(INDEX(OfficialTeamList[Team Name],MATCH(ChampionsDelib[[#This Row],[Team Number]], OfficialTeamList[Team Number],0))),\"\",INDEX(OfficialTeamList[Team Name],MATCH(ChampionsDelib[[#This Row],[Team Number]], OfficialTeamList[Team Number],0)))","v":""},{"$f":"IF(ISNA(INDEX(TournamentData[Champion''s Rank],MATCH(ChampionsDelib[[#This Row],[Team Number]],TournamentData[Team Number],0))),NumberOfTeams+1,INDEX(TournamentData[Champion''s Rank],MATCH(ChampionsDelib[[#This Row],[Team Number]],TournamentData[Team Number],0)))","v":1},null,null,null,{"$f":"IF(ISNA(INDEX(OfficialTeamList[Team Name],MATCH(RobotGameDelib[[#This Row],[Team Number]], OfficialTeamList[Team Number],0))),\"\",INDEX(OfficialTeamList[Team Name],MATCH(RobotGameDelib[[#This Row],[Team Number]], OfficialTeamList[Team Number],0)))","v":""},{"$f":"IF(ISNA(INDEX(TournamentData[Champion''s Rank],MATCH(RobotGameDelib[[#This Row],[Team Number]],TournamentData[Team Number],0))),NumberOfTeams+1,INDEX(TournamentData[Champion''s Rank],MATCH(RobotGameDelib[[#This Row],[Team Number]],TournamentData[Team Number],0)))","v":1}]
[null,null,{"$f":"IF(ISNA(INDEX(OfficialTeamList[Team Name],MATCH(ChampionsDelib[[#This Row],[Team Number]], OfficialTeamList[Team Number],0))),\"\",INDEX(OfficialTeamList[Team Name],MATCH(ChampionsDelib[[#This Row],[Team Number]], OfficialTeamList[Team Number],0)))","v":""},{"$f":"IF(ISNA(INDEX(TournamentData[Champion''s Rank],MATCH(ChampionsDelib[[#This Row],[Team Number]],TournamentData[Team Number],0))),NumberOfTeams+1,INDEX(TournamentData[Champion''s Rank],MATCH(ChampionsDelib[[#This Row],[Team Number]],TournamentData[Team Number],0)))","v":1},null,null,null,{"$f":"IF(ISNA(INDEX(OfficialTeamList[Team Name],MATCH(RobotGameDelib[[#This Row],[Team Number]], OfficialTeamList[Team Number],0))),\"\",INDEX(OfficialTeamList[Team Name],MATCH(RobotGameDelib[[#This Row],[Team Number]], OfficialTeamList[Team Number],0)))","v":""},{"$f":"IF(ISNA(INDEX(TournamentData[Champion''s Rank],MATCH(RobotGameDelib[[#This Row],[Team Number]],TournamentData[Team Number],0))),NumberOfTeams+1,INDEX(TournamentData[Champion''s Rank],MATCH(RobotGameDelib[[#This Row],[Team Number]],TournamentData[Team Number],0)))","v":1}]
[null,null,{"$f":"IF(ISNA(INDEX(OfficialTeamList[Team Name],MATCH(ChampionsDelib[[#This Row],[Team Number]], OfficialTeamList[Team Number],0))),\"\",INDEX(OfficialTeamList[Team Name],MATCH(ChampionsDelib[[#This Row],[Team Number]], OfficialTeamList[Team Number],0)))","v":""},{"$f":"IF(ISNA(INDEX(TournamentData[Champion''s Rank],MATCH(ChampionsDelib[[#This Row],[Team Number]],TournamentData[Team Number],0))),NumberOfTeams+1,INDEX(TournamentData[Champion''s Rank],MATCH(ChampionsDelib[[#This Row],[Team Number]],TournamentData[Team Number],0)))","v":1},null,null,null,{"$f":"IF(ISNA(INDEX(OfficialTeamList[Team Name],MATCH(RobotGameDelib[[#This Row],[Team Number]], OfficialTeamList[Team Number],0))),\"\",INDEX(OfficialTeamList[Team Name],MATCH(RobotGameDelib[[#This Row],[Team Number]], OfficialTeamList[Team Number],0)))","v":""},{"$f":"IF(ISNA(INDEX(TournamentData[Champion''s Rank],MATCH(RobotGameDelib[[#This Row],[Team Number]],TournamentData[Team Number],0))),NumberOfTeams+1,INDEX(TournamentData[Champion''s Rank],MATCH(RobotGameDelib[[#This Row],[Team Number]],TournamentData[Team Number],0)))","v":1}]
[null,null,{"$f":"IF(ISNA(INDEX(OfficialTeamList[Team Name],MATCH(ChampionsDelib[[#This Row],[Team Number]], OfficialTeamList[Team Number],0))),\"\",INDEX(OfficialTeamList[Team Name],MATCH(ChampionsDelib[[#This Row],[Team Number]], OfficialTeamList[Team Number],0)))","v":""},{"$f":"IF(ISNA(INDEX(TournamentData[Champion''s Rank],MATCH(ChampionsDelib[[#This Row],[Team Number]],TournamentData[Team Number],0))),NumberOfTeams+1,INDEX(TournamentData[Champion''s Rank],MATCH(ChampionsDelib[[#This Row],[Team Number]],TournamentData[Team Number],0)))","v":1},null,null,null,{"$f":"IF(ISNA(INDEX(OfficialTeamList[Team Name],MATCH(RobotGameDelib[[#This Row],[Team Number]], OfficialTeamList[Team Number],0))),\"\",INDEX(OfficialTeamList[Team Name],MATCH(RobotGameDelib[[#This Row],[Team Number]], OfficialTeamList[Team Number],0)))","v":""},{"$f":"IF(ISNA(INDEX(TournamentData[Champion''s Rank],MATCH(RobotGameDelib[[#This Row],[Team Number]],TournamentData[Team Number],0))),NumberOfTeams+1,INDEX(TournamentData[Champion''s Rank],MATCH(RobotGameDelib[[#This Row],[Team Number]],TournamentData[Team Number],0)))","v":1}]
[null,null,{"$f":"IF(ISNA(INDEX(OfficialTeamList[Team Name],MATCH(ChampionsDelib[[#This Row],[Team Number]], OfficialTeamList[Team Number],0))),\"\",INDEX(OfficialTeamList[Team Name],MATCH(ChampionsDelib[[#This Row],[Team Number]], OfficialTeamList[Team Number],0)))","v":""},{"$f":"IF(ISNA(INDEX(TournamentData[Champion''s Rank],MATCH(ChampionsDelib[[#This Row],[Team Number]],TournamentData[Team Number],0))),NumberOfTeams+1,INDEX(TournamentData[Champion''s Rank],MATCH(ChampionsDelib[[#This Row],[Team Number]],TournamentData[Team Number],0)))","v":1},null,null,null,{"$f":"IF(ISNA(INDEX(OfficialTeamList[Team Name],MATCH(RobotGameDelib[[#This Row],[Team Number]], OfficialTeamList[Team Number],0))),\"\",INDEX(OfficialTeamList[Team Name],MATCH(RobotGameDelib[[#This Row],[Team Number]], OfficialTeamList[Team Number],0)))","v":""},{"$f":"IF(ISNA(INDEX(TournamentData[Champion''s Rank],MATCH(RobotGameDelib[[#This Row],[Team Number]],TournamentData[Team Number],0))),NumberOfTeams+1,INDEX(TournamentData[Champion''s Rank],MATCH(RobotGameDelib[[#This Row],[Team Number]],TournamentData[Team Number],0)))","v":1}]
[null,null,{"$f":"IF(ISNA(INDEX(OfficialTeamList[Team Name],MATCH(ChampionsDelib[[#This Row],[Team Number]], OfficialTeamList[Team Number],0))),\"\",INDEX(OfficialTeamList[Team Name],MATCH(ChampionsDelib[[#This Row],[Team Number]], OfficialTeamList[Team Number],0)))","v":""},{"$f":"IF(ISNA(INDEX(TournamentData[Champion''s Rank],MATCH(ChampionsDelib[[#This Row],[Team Number]],TournamentData[Team Number],0))),NumberOfTeams+1,INDEX(TournamentData[Champion''s Rank],MATCH(ChampionsDelib[[#This Row],[Team Number]],TournamentData[Team Number],0)))","v":1},null,null,null,{"$f":"IF(ISNA(INDEX(OfficialTeamList[Team Name],MATCH(RobotGameDelib[[#This Row],[Team Number]], OfficialTeamList[Team Number],0))),\"\",INDEX(OfficialTeamList[Team Name],MATCH(RobotGameDelib[[#This Row],[Team Number]], OfficialTeamList[Team Number],0)))","v":""},{"$f":"IF(ISNA(INDEX(TournamentData[Champion''s Rank],MATCH(RobotGameDelib[[#This Row],[Team Number]],TournamentData[Team Number],0))),NumberOfTeams+1,INDEX(TournamentData[Champion''s Rank],MATCH(RobotGameDelib[[#This Row],[Team Number]],TournamentData[Team Number],0)))","v":1}]
[null,null,{"$f":"IF(ISNA(INDEX(OfficialTeamList[Team Name],MATCH(ChampionsDelib[[#This Row],[Team Number]], OfficialTeamList[Team Number],0))),\"\",INDEX(OfficialTeamList[Team Name],MATCH(ChampionsDelib[[#This Row],[Team Number]], OfficialTeamList[Team Number],0)))","v":""},{"$f":"IF(ISNA(INDEX(TournamentData[Champion''s Rank],MATCH(ChampionsDelib[[#This Row],[Team Number]],TournamentData[Team Number],0))),NumberOfTeams+1,INDEX(TournamentData[Champion''s Rank],MATCH(ChampionsDelib[[#This Row],[Team Number]],TournamentData[Team Number],0)))","v":1},null,null,null,{"$f":"IF(ISNA(INDEX(OfficialTeamList[Team Name],MATCH(RobotGameDelib[[#This Row],[Team Number]], OfficialTeamList[Team Number],0))),\"\",INDEX(OfficialTeamList[Team Name],MATCH(RobotGameDelib[[#This Row],[Team Number]], OfficialTeamList[Team Number],0)))","v":""},{"$f":"IF(ISNA(INDEX(TournamentData[Champion''s Rank],MATCH(RobotGameDelib[[#This Row],[Team Number]],TournamentData[Team Number],0))),NumberOfTeams+1,INDEX(TournamentData[Champion''s Rank],MATCH(RobotGameDelib[[#This Row],[Team Number]],TournamentData[Team Number],0)))","v":1}]
[null,null,{"$f":"IF(ISNA(INDEX(OfficialTeamList[Team Name],MATCH(ChampionsDelib[[#This Row],[Team Number]], OfficialTeamList[Team Number],0))),\"\",INDEX(OfficialTeamList[Team Name],MATCH(ChampionsDelib[[#This Row],[Team Number]], OfficialTeamList[Team Number],0)))","v":""},{"$f":"IF(ISNA(INDEX(TournamentData[Champion''s Rank],MATCH(ChampionsDelib[[#This Row],[Team Number]],TournamentData[Team Number],0))),NumberOfTeams+1,INDEX(TournamentData[Champion''s Rank],MATCH(ChampionsDelib[[#This Row],[Team Number]],TournamentData[Team Number],0)))","v":1},null,null,null,{"$f":"IF(ISNA(INDEX(OfficialTeamList[Team Name],MATCH(RobotGameDelib[[#This Row],[Team Number]], OfficialTeamList[Team Number],0))),\"\",INDEX(OfficialTeamList[Team Name],MATCH(RobotGameDelib[[#This Row],[Team Number]], OfficialTeamList[Team Number],0)))","v":""},{"$f":"IF(ISNA(INDEX(TournamentData[Champion''s Rank],MATCH(RobotGameDelib[[#This Row],[Team Number]],TournamentData[Team Number],0))),NumberOfTeams+1,INDEX(TournamentData[Champion''s Rank],MATCH(RobotGameDelib[[#This Row],[Team Number]],TournamentData[Team Number],0)))","v":1}]
[null,null,{"$f":"IF(ISNA(INDEX(OfficialTeamList[Team Name],MATCH(ChampionsDelib[[#This Row],[Team Number]], OfficialTeamList[Team Number],0))),\"\",INDEX(OfficialTeamList[Team Name],MATCH(ChampionsDelib[[#This Row],[Team Number]], OfficialTeamList[Team Number],0)))","v":""},{"$f":"IF(ISNA(INDEX(TournamentData[Champion''s Rank],MATCH(ChampionsDelib[[#This Row],[Team Number]],TournamentData[Team Number],0))),NumberOfTeams+1,INDEX(TournamentData[Champion''s Rank],MATCH(ChampionsDelib[[#This Row],[Team Number]],TournamentData[Team Number],0)))","v":1},null,null,null,{"$f":"IF(ISNA(INDEX(OfficialTeamList[Team Name],MATCH(RobotGameDelib[[#This Row],[Team Number]], OfficialTeamList[Team Number],0))),\"\",INDEX(OfficialTeamList[Team Name],MATCH(RobotGameDelib[[#This Row],[Team Number]], OfficialTeamList[Team Number],0)))","v":""},{"$f":"IF(ISNA(INDEX(TournamentData[Champion''s Rank],MATCH(RobotGameDelib[[#This Row],[Team Number]],TournamentData[Team Number],0))),NumberOfTeams+1,INDEX(TournamentData[Champion''s Rank],MATCH(RobotGameDelib[[#This Row],[Team Number]],TournamentData[Team Number],0)))","v":1}]
[null,null,{"$f":"IF(ISNA(INDEX(OfficialTeamList[Team Name],MATCH(ChampionsDelib[[#This Row],[Team Number]], OfficialTeamList[Team Number],0))),\"\",INDEX(OfficialTeamList[Team Name],MATCH(ChampionsDelib[[#This Row],[Team Number]], OfficialTeamList[Team Number],0)))","v":""},{"$f":"IF(ISNA(INDEX(TournamentData[Champion''s Rank],MATCH(ChampionsDelib[[#This Row],[Team Number]],TournamentData[Team Number],0))),NumberOfTeams+1,INDEX(TournamentData[Champion''s Rank],MATCH(ChampionsDelib[[#This Row],[Team Number]],TournamentData[Team Number],0)))","v":1},null,null,null,{"$f":"IF(ISNA(INDEX(OfficialTeamList[Team Name],MATCH(RobotGameDelib[[#This Row],[Team Number]], OfficialTeamList[Team Number],0))),\"\",INDEX(OfficialTeamList[Team Name],MATCH(RobotGameDelib[[#This Row],[Team Number]], OfficialTeamList[Team Number],0)))","v":""},{"$f":"IF(ISNA(INDEX(TournamentData[Champion''s Rank],MATCH(RobotGameDelib[[#This Row],[Team Number]],TournamentData[Team Number],0))),NumberOfTeams+1,INDEX(TournamentData[Champion''s Rank],MATCH(RobotGameDelib[[#This Row],[Team Number]],TournamentData[Team Number],0)))","v":1}]
[null,null,{"$f":"IF(ISNA(INDEX(OfficialTeamList[Team Name],MATCH(ChampionsDelib[[#This Row],[Team Number]], OfficialTeamList[Team Number],0))),\"\",INDEX(OfficialTeamList[Team Name],MATCH(ChampionsDelib[[#This Row],[Team Number]], OfficialTeamList[Team Number],0)))","v":""},{"$f":"IF(ISNA(INDEX(TournamentData[Champion''s Rank],MATCH(ChampionsDelib[[#This Row],[Team Number]],TournamentData[Team Number],0))),NumberOfTeams+1,INDEX(TournamentData[Champion''s Rank],MATCH(ChampionsDelib[[#This Row],[Team Number]],TournamentData[Team Number],0)))","v":1},null,null,null,{"$f":"IF(ISNA(INDEX(OfficialTeamList[Team Name],MATCH(RobotGameDelib[[#This Row],[Team Number]], OfficialTeamList[Team Number],0))),\"\",INDEX(OfficialTeamList[Team Name],MATCH(RobotGameDelib[[#This Row],[Team Number]], OfficialTeamList[Team Number],0)))","v":""},{"$f":"IF(ISNA(INDEX(TournamentData[Champion''s Rank],MATCH(RobotGameDelib[[#This Row],[Team Number]],TournamentData[Team Number],0))),NumberOfTeams+1,INDEX(TournamentData[Champion''s Rank],MATCH(RobotGameDelib[[#This Row],[Team Number]],TournamentData[Team Number],0)))","v":1}]
[null,null,{"$f":"IF(ISNA(INDEX(OfficialTeamList[Team Name],MATCH(ChampionsDelib[[#This Row],[Team Number]], OfficialTeamList[Team Number],0))),\"\",INDEX(OfficialTeamList[Team Name],MATCH(ChampionsDelib[[#This Row],[Team Number]], OfficialTeamList[Team Number],0)))","v":""},{"$f":"IF(ISNA(INDEX(TournamentData[Champion''s Rank],MATCH(ChampionsDelib[[#This Row],[Team Number]],TournamentData[Team Number],0))),NumberOfTeams+1,INDEX(TournamentData[Champion''s Rank],MATCH(ChampionsDelib[[#This Row],[Team Number]],TournamentData[Team Number],0)))","v":1},null,null,null,{"$f":"IF(ISNA(INDEX(OfficialTeamList[Team Name],MATCH(RobotGameDelib[[#This Row],[Team Number]], OfficialTeamList[Team Number],0))),\"\",INDEX(OfficialTeamList[Team Name],MATCH(RobotGameDelib[[#This Row],[Team Number]], OfficialTeamList[Team Number],0)))","v":""},{"$f":"IF(ISNA(INDEX(TournamentData[Champion''s Rank],MATCH(RobotGameDelib[[#This Row],[Team Number]],TournamentData[Team Number],0))),NumberOfTeams+1,INDEX(TournamentData[Champion''s Rank],MATCH(RobotGameDelib[[#This Row],[Team Number]],TournamentData[Team Number],0)))","v":1}]
[null,null,{"$f":"IF(ISNA(INDEX(OfficialTeamList[Team Name],MATCH(ChampionsDelib[[#This Row],[Team Number]], OfficialTeamList[Team Number],0))),\"\",INDEX(OfficialTeamList[Team Name],MATCH(ChampionsDelib[[#This Row],[Team Number]], OfficialTeamList[Team Number],0)))","v":""},{"$f":"IF(ISNA(INDEX(TournamentData[Champion''s Rank],MATCH(ChampionsDelib[[#This Row],[Team Number]],TournamentData[Team Number],0))),NumberOfTeams+1,INDEX(TournamentData[Champion''s Rank],MATCH(ChampionsDelib[[#This Row],[Team Number]],TournamentData[Team Number],0)))","v":1},null,null,null,{"$f":"IF(ISNA(INDEX(OfficialTeamList[Team Name],MATCH(RobotGameDelib[[#This Row],[Team Number]], OfficialTeamList[Team Number],0))),\"\",INDEX(OfficialTeamList[Team Name],MATCH(RobotGameDelib[[#This Row],[Team Number]], OfficialTeamList[Team Number],0)))","v":""},{"$f":"IF(ISNA(INDEX(TournamentData[Champion''s Rank],MATCH(RobotGameDelib[[#This Row],[Team Number]],TournamentData[Team Number],0))),NumberOfTeams+1,INDEX(TournamentData[Champion''s Rank],MATCH(RobotGameDelib[[#This Row],[Team Number]],TournamentData[Team Number],0)))","v":1}]
[null,null,{"$f":"IF(ISNA(INDEX(OfficialTeamList[Team Name],MATCH(ChampionsDelib[[#This Row],[Team Number]], OfficialTeamList[Team Number],0))),\"\",INDEX(OfficialTeamList[Team Name],MATCH(ChampionsDelib[[#This Row],[Team Number]], OfficialTeamList[Team Number],0)))","v":""},{"$f":"IF(ISNA(INDEX(TournamentData[Champion''s Rank],MATCH(ChampionsDelib[[#This Row],[Team Number]],TournamentData[Team Number],0))),NumberOfTeams+1,INDEX(TournamentData[Champion''s Rank],MATCH(ChampionsDelib[[#This Row],[Team Number]],TournamentData[Team Number],0)))","v":1},null,null,null,{"$f":"IF(ISNA(INDEX(OfficialTeamList[Team Name],MATCH(RobotGameDelib[[#This Row],[Team Number]], OfficialTeamList[Team Number],0))),\"\",INDEX(OfficialTeamList[Team Name],MATCH(RobotGameDelib[[#This Row],[Team Number]], OfficialTeamList[Team Number],0)))","v":""},{"$f":"IF(ISNA(INDEX(TournamentData[Champion''s Rank],MATCH(RobotGameDelib[[#This Row],[Team Number]],TournamentData[Team Number],0))),NumberOfTeams+1,INDEX(TournamentData[Champion''s Rank],MATCH(RobotGameDelib[[#This Row],[Team Number]],TournamentData[Team Number],0)))","v":1}]
[null,null,{"$f":"IF(ISNA(INDEX(OfficialTeamList[Team Name],MATCH(ChampionsDelib[[#This Row],[Team Number]], OfficialTeamList[Team Number],0))),\"\",INDEX(OfficialTeamList[Team Name],MATCH(ChampionsDelib[[#This Row],[Team Number]], OfficialTeamList[Team Number],0)))","v":""},{"$f":"IF(ISNA(INDEX(TournamentData[Champion''s Rank],MATCH(ChampionsDelib[[#This Row],[Team Number]],TournamentData[Team Number],0))),NumberOfTeams+1,INDEX(TournamentData[Champion''s Rank],MATCH(ChampionsDelib[[#This Row],[Team Number]],TournamentData[Team Number],0)))","v":1},null,null,null,{"$f":"IF(ISNA(INDEX(OfficialTeamList[Team Name],MATCH(RobotGameDelib[[#This Row],[Team Number]], OfficialTeamList[Team Number],0))),\"\",INDEX(OfficialTeamList[Team Name],MATCH(RobotGameDelib[[#This Row],[Team Number]], OfficialTeamList[Team Number],0)))","v":""},{"$f":"IF(ISNA(INDEX(TournamentData[Champion''s Rank],MATCH(RobotGameDelib[[#This Row],[Team Number]],TournamentData[Team Number],0))),NumberOfTeams+1,INDEX(TournamentData[Champion''s Rank],MATCH(RobotGameDelib[[#This Row],[Team Number]],TournamentData[Team Number],0)))","v":1}]
[]
[null,"Core Values",null,null,null,null,"Robot Design",null,null,null,null,"Innovation Project"]
[null,"Team Number","Team Name","Core Values Rank","Deliberated Rank",null,"Team Number","Team Name","Robot Design Rank","Deliberated Rank",null,"Team Number","Team Name","Innovation Project Rank","Deliberated Rank"]
[null,null,{"$f":"IF(ISNA(INDEX(OfficialTeamList[Team Name],MATCH(CoreValuesDelib[[#This Row],[Team Number]], OfficialTeamList[Team Number],0))),\"\",INDEX(OfficialTeamList[Team Name],MATCH(CoreValuesDelib[[#This Row],[Team Number]], OfficialTeamList[Team Number],0)))","v":""},{"$f":"IF(ISNA(INDEX(CoreValuesResults[Core Values Rank],MATCH(CoreValuesDelib[[#This Row],[Team Number]],CoreValuesResults[Team Number],0))),NumberOfTeams+1,INDEX(CoreValuesResults[Core Values Rank],MATCH(CoreValuesDelib[[#This Row],[Team Number]],CoreValuesResults[Team Number],0)))","v":1},null,null,null,{"$f":"IF(ISNA(INDEX(OfficialTeamList[Team Name],MATCH(RobotDesignDelib[[#This Row],[Team Number]], OfficialTeamList[Team Number],0))),\"\",INDEX(OfficialTeamList[Team Name],MATCH(RobotDesignDelib[[#This Row],[Team Number]], OfficialTeamList[Team Number],0)))","v":""},{"$f":"IF(ISNA(INDEX(RobotDesignResults[Robot Design Rank],MATCH(RobotDesignDelib[[#This Row],[Team Number]],RobotDesignResults[Team Number],0))),NumberOfTeams+1,INDEX(RobotDesignResults[Robot Design Rank],MATCH(RobotDesignDelib[[#This Row],[Team Number]],RobotDesignResults[Team Number],0)))","v":1},null,null,null,{"$f":"IF(ISNA(INDEX(OfficialTeamList[Team Name],MATCH(InnovationProjectDelib[[#This Row],[Team Number]], OfficialTeamList[Team Number],0))),\"\",INDEX(OfficialTeamList[Team Name],MATCH(InnovationProjectDelib[[#This Row],[Team Number]], OfficialTeamList[Team Number],0)))","v":""},{"$f":"IF(ISNA(INDEX(InnovationProjectResults[Innovation Project Rank],MATCH(InnovationProjectDelib[[#This Row],[Team Number]],InnovationProjectResults[Team Number],0))),NumberOfTeams+1,INDEX(InnovationProjectResults[Innovation Project Rank],MATCH(InnovationProjectDelib[[#This Row],[Team Number]],InnovationProjectResults[Team Number],0)))","v":1}]
[null,null,{"$f":"IF(ISNA(INDEX(OfficialTeamList[Team Name],MATCH(CoreValuesDelib[[#This Row],[Team Number]], OfficialTeamList[Team Number],0))),\"\",INDEX(OfficialTeamList[Team Name],MATCH(CoreValuesDelib[[#This Row],[Team Number]], OfficialTeamList[Team Number],0)))","v":""},{"$f":"IF(ISNA(INDEX(CoreValuesResults[Core Values Rank],MATCH(CoreValuesDelib[[#This Row],[Team Number]],CoreValuesResults[Team Number],0))),NumberOfTeams+1,INDEX(CoreValuesResults[Core Values Rank],MATCH(CoreValuesDelib[[#This Row],[Team Number]],CoreValuesResults[Team Number],0)))","v":1},null,null,null,{"$f":"IF(ISNA(INDEX(OfficialTeamList[Team Name],MATCH(RobotDesignDelib[[#This Row],[Team Number]], OfficialTeamList[Team Number],0))),\"\",INDEX(OfficialTeamList[Team Name],MATCH(RobotDesignDelib[[#This Row],[Team Number]], OfficialTeamList[Team Number],0)))","v":""},{"$f":"IF(ISNA(INDEX(RobotDesignResults[Robot Design Rank],MATCH(RobotDesignDelib[[#This Row],[Team Number]],RobotDesignResults[Team Number],0))),NumberOfTeams+1,INDEX(RobotDesignResults[Robot Design Rank],MATCH(RobotDesignDelib[[#This Row],[Team Number]],RobotDesignResults[Team Number],0)))","v":1},null,null,null,{"$f":"IF(ISNA(INDEX(OfficialTeamList[Team Name],MATCH(InnovationProjectDelib[[#This Row],[Team Number]], OfficialTeamList[Team Number],0))),\"\",INDEX(OfficialTeamList[Team Name],MATCH(InnovationProjectDelib[[#This Row],[Team Number]], OfficialTeamList[Team Number],0)))","v":""},{"$f":"IF(ISNA(INDEX(InnovationProjectResults[Innovation Project Rank],MATCH(InnovationProjectDelib[[#This Row],[Team Number]],InnovationProjectResults[Team Number],0))),NumberOfTeams+1,INDEX(InnovationProjectResults[Innovation Project Rank],MATCH(InnovationProjectDelib[[#This Row],[Team Number]],InnovationProjectResults[Team Number],0)))","v":1}]
[null,null,{"$f":"IF(ISNA(INDEX(OfficialTeamList[Team Name],MATCH(CoreValuesDelib[[#This Row],[Team Number]], OfficialTeamList[Team Number],0))),\"\",INDEX(OfficialTeamList[Team Name],MATCH(CoreValuesDelib[[#This Row],[Team Number]], OfficialTeamList[Team Number],0)))","v":""},{"$f":"IF(ISNA(INDEX(CoreValuesResults[Core Values Rank],MATCH(CoreValuesDelib[[#This Row],[Team Number]],CoreValuesResults[Team Number],0))),NumberOfTeams+1,INDEX(CoreValuesResults[Core Values Rank],MATCH(CoreValuesDelib[[#This Row],[Team Number]],CoreValuesResults[Team Number],0)))","v":1},null,null,null,{"$f":"IF(ISNA(INDEX(OfficialTeamList[Team Name],MATCH(RobotDesignDelib[[#This Row],[Team Number]], OfficialTeamList[Team Number],0))),\"\",INDEX(OfficialTeamList[Team Name],MATCH(RobotDesignDelib[[#This Row],[Team Number]], OfficialTeamList[Team Number],0)))","v":""},{"$f":"IF(ISNA(INDEX(RobotDesignResults[Robot Design Rank],MATCH(RobotDesignDelib[[#This Row],[Team Number]],RobotDesignResults[Team Number],0))),NumberOfTeams+1,INDEX(RobotDesignResults[Robot Design Rank],MATCH(RobotDesignDelib[[#This Row],[Team Number]],RobotDesignResults[Team Number],0)))","v":1},null,null,null,{"$f":"IF(ISNA(INDEX(OfficialTeamList[Team Name],MATCH(InnovationProjectDelib[[#This Row],[Team Number]], OfficialTeamList[Team Number],0))),\"\",INDEX(OfficialTeamList[Team Name],MATCH(InnovationProjectDelib[[#This Row],[Team Number]], OfficialTeamList[Team Number],0)))","v":""},{"$f":"IF(ISNA(INDEX(InnovationProjectResults[Innovation Project Rank],MATCH(InnovationProjectDelib[[#This Row],[Team Number]],InnovationProjectResults[Team Number],0))),NumberOfTeams+1,INDEX(InnovationProjectResults[Innovation Project Rank],MATCH(InnovationProjectDelib[[#This Row],[Team Number]],InnovationProjectResults[Team Number],0)))","v":1}]
[null,null,{"$f":"IF(ISNA(INDEX(OfficialTeamList[Team Name],MATCH(CoreValuesDelib[[#This Row],[Team Number]], OfficialTeamList[Team Number],0))),\"\",INDEX(OfficialTeamList[Team Name],MATCH(CoreValuesDelib[[#This Row],[Team Number]], OfficialTeamList[Team Number],0)))","v":""},{"$f":"IF(ISNA(INDEX(CoreValuesResults[Core Values Rank],MATCH(CoreValuesDelib[[#This Row],[Team Number]],CoreValuesResults[Team Number],0))),NumberOfTeams+1,INDEX(CoreValuesResults[Core Values Rank],MATCH(CoreValuesDelib[[#This Row],[Team Number]],CoreValuesResults[Team Number],0)))","v":1},null,null,null,{"$f":"IF(ISNA(INDEX(OfficialTeamList[Team Name],MATCH(RobotDesignDelib[[#This Row],[Team Number]], OfficialTeamList[Team Number],0))),\"\",INDEX(OfficialTeamList[Team Name],MATCH(RobotDesignDelib[[#This Row],[Team Number]], OfficialTeamList[Team Number],0)))","v":""},{"$f":"IF(ISNA(INDEX(RobotDesignResults[Robot Design Rank],MATCH(RobotDesignDelib[[#This Row],[Team Number]],RobotDesignResults[Team Number],0))),NumberOfTeams+1,INDEX(RobotDesignResults[Robot Design Rank],MATCH(RobotDesignDelib[[#This Row],[Team Number]],RobotDesignResults[Team Number],0)))","v":1},null,null,null,{"$f":"IF(ISNA(INDEX(OfficialTeamList[Team Name],MATCH(InnovationProjectDelib[[#This Row],[Team Number]], OfficialTeamList[Team Number],0))),\"\",INDEX(OfficialTeamList[Team Name],MATCH(InnovationProjectDelib[[#This Row],[Team Number]], OfficialTeamList[Team Number],0)))","v":""},{"$f":"IF(ISNA(INDEX(InnovationProjectResults[Innovation Project Rank],MATCH(InnovationProjectDelib[[#This Row],[Team Number]],InnovationProjectResults[Team Number],0))),NumberOfTeams+1,INDEX(InnovationProjectResults[Innovation Project Rank],MATCH(InnovationProjectDelib[[#This Row],[Team Number]],InnovationProjectResults[Team Number],0)))","v":1}]
[null,null,{"$f":"IF(ISNA(INDEX(OfficialTeamList[Team Name],MATCH(CoreValuesDelib[[#This Row],[Team Number]], OfficialTeamList[Team Number],0))),\"\",INDEX(OfficialTeamList[Team Name],MATCH(CoreValuesDelib[[#This Row],[Team Number]], OfficialTeamList[Team Number],0)))","v":""},{"$f":"IF(ISNA(INDEX(CoreValuesResults[Core Values Rank],MATCH(CoreValuesDelib[[#This Row],[Team Number]],CoreValuesResults[Team Number],0))),NumberOfTeams+1,INDEX(CoreValuesResults[Core Values Rank],MATCH(CoreValuesDelib[[#This Row],[Team Number]],CoreValuesResults[Team Number],0)))","v":1},null,null,null,{"$f":"IF(ISNA(INDEX(OfficialTeamList[Team Name],MATCH(RobotDesignDelib[[#This Row],[Team Number]], OfficialTeamList[Team Number],0))),\"\",INDEX(OfficialTeamList[Team Name],MATCH(RobotDesignDelib[[#This Row],[Team Number]], OfficialTeamList[Team Number],0)))","v":""},{"$f":"IF(ISNA(INDEX(RobotDesignResults[Robot Design Rank],MATCH(RobotDesignDelib[[#This Row],[Team Number]],RobotDesignResults[Team Number],0))),NumberOfTeams+1,INDEX(RobotDesignResults[Robot Design Rank],MATCH(RobotDesignDelib[[#This Row],[Team Number]],RobotDesignResults[Team Number],0)))","v":1},null,null,null,{"$f":"IF(ISNA(INDEX(OfficialTeamList[Team Name],MATCH(InnovationProjectDelib[[#This Row],[Team Number]], OfficialTeamList[Team Number],0))),\"\",INDEX(OfficialTeamList[Team Name],MATCH(InnovationProjectDelib[[#This Row],[Team Number]], OfficialTeamList[Team Number],0)))","v":""},{"$f":"IF(ISNA(INDEX(InnovationProjectResults[Innovation Project Rank],MATCH(InnovationProjectDelib[[#This Row],[Team Number]],InnovationProjectResults[Team Number],0))),NumberOfTeams+1,INDEX(InnovationProjectResults[Innovation Project Rank],MATCH(InnovationProjectDelib[[#This Row],[Team Number]],InnovationProjectResults[Team Number],0)))","v":1}]
[null,null,{"$f":"IF(ISNA(INDEX(OfficialTeamList[Team Name],MATCH(CoreValuesDelib[[#This Row],[Team Number]], OfficialTeamList[Team Number],0))),\"\",INDEX(OfficialTeamList[Team Name],MATCH(CoreValuesDelib[[#This Row],[Team Number]], OfficialTeamList[Team Number],0)))","v":""},{"$f":"IF(ISNA(INDEX(CoreValuesResults[Core Values Rank],MATCH(CoreValuesDelib[[#This Row],[Team Number]],CoreValuesResults[Team Number],0))),NumberOfTeams+1,INDEX(CoreValuesResults[Core Values Rank],MATCH(CoreValuesDelib[[#This Row],[Team Number]],CoreValuesResults[Team Number],0)))","v":1},null,null,null,{"$f":"IF(ISNA(INDEX(OfficialTeamList[Team Name],MATCH(RobotDesignDelib[[#This Row],[Team Number]], OfficialTeamList[Team Number],0))),\"\",INDEX(OfficialTeamList[Team Name],MATCH(RobotDesignDelib[[#This Row],[Team Number]], OfficialTeamList[Team Number],0)))","v":""},{"$f":"IF(ISNA(INDEX(RobotDesignResults[Robot Design Rank],MATCH(RobotDesignDelib[[#This Row],[Team Number]],RobotDesignResults[Team Number],0))),NumberOfTeams+1,INDEX(RobotDesignResults[Robot Design Rank],MATCH(RobotDesignDelib[[#This Row],[Team Number]],RobotDesignResults[Team Number],0)))","v":1},null,null,null,{"$f":"IF(ISNA(INDEX(OfficialTeamList[Team Name],MATCH(InnovationProjectDelib[[#This Row],[Team Number]], OfficialTeamList[Team Number],0))),\"\",INDEX(OfficialTeamList[Team Name],MATCH(InnovationProjectDelib[[#This Row],[Team Number]], OfficialTeamList[Team Number],0)))","v":""},{"$f":"IF(ISNA(INDEX(InnovationProjectResults[Innovation Project Rank],MATCH(InnovationProjectDelib[[#This Row],[Team Number]],InnovationProjectResults[Team Number],0))),NumberOfTeams+1,INDEX(InnovationProjectResults[Innovation Project Rank],MATCH(InnovationProjectDelib[[#This Row],[Team Number]],InnovationProjectResults[Team Number],0)))","v":1}]
[null,null,{"$f":"IF(ISNA(INDEX(OfficialTeamList[Team Name],MATCH(CoreValuesDelib[[#This Row],[Team Number]], OfficialTeamList[Team Number],0))),\"\",INDEX(OfficialTeamList[Team Name],MATCH(CoreValuesDelib[[#This Row],[Team Number]], OfficialTeamList[Team Number],0)))","v":""},{"$f":"IF(ISNA(INDEX(CoreValuesResults[Core Values Rank],MATCH(CoreValuesDelib[[#This Row],[Team Number]],CoreValuesResults[Team Number],0))),NumberOfTeams+1,INDEX(CoreValuesResults[Core Values Rank],MATCH(CoreValuesDelib[[#This Row],[Team Number]],CoreValuesResults[Team Number],0)))","v":1},null,null,null,{"$f":"IF(ISNA(INDEX(OfficialTeamList[Team Name],MATCH(RobotDesignDelib[[#This Row],[Team Number]], OfficialTeamList[Team Number],0))),\"\",INDEX(OfficialTeamList[Team Name],MATCH(RobotDesignDelib[[#This Row],[Team Number]], OfficialTeamList[Team Number],0)))","v":""},{"$f":"IF(ISNA(INDEX(RobotDesignResults[Robot Design Rank],MATCH(RobotDesignDelib[[#This Row],[Team Number]],RobotDesignResults[Team Number],0))),NumberOfTeams+1,INDEX(RobotDesignResults[Robot Design Rank],MATCH(RobotDesignDelib[[#This Row],[Team Number]],RobotDesignResults[Team Number],0)))","v":1},null,null,null,{"$f":"IF(ISNA(INDEX(OfficialTeamList[Team Name],MATCH(InnovationProjectDelib[[#This Row],[Team Number]], OfficialTeamList[Team Number],0))),\"\",INDEX(OfficialTeamList[Team Name],MATCH(InnovationProjectDelib[[#This Row],[Team Number]], OfficialTeamList[Team Number],0)))","v":""},{"$f":"IF(ISNA(INDEX(InnovationProjectResults[Innovation Project Rank],MATCH(InnovationProjectDelib[[#This Row],[Team Number]],InnovationProjectResults[Team Number],0))),NumberOfTeams+1,INDEX(InnovationProjectResults[Innovation Project Rank],MATCH(InnovationProjectDelib[[#This Row],[Team Number]],InnovationProjectResults[Team Number],0)))","v":1}]
[null,null,{"$f":"IF(ISNA(INDEX(OfficialTeamList[Team Name],MATCH(CoreValuesDelib[[#This Row],[Team Number]], OfficialTeamList[Team Number],0))),\"\",INDEX(OfficialTeamList[Team Name],MATCH(CoreValuesDelib[[#This Row],[Team Number]], OfficialTeamList[Team Number],0)))","v":""},{"$f":"IF(ISNA(INDEX(CoreValuesResults[Core Values Rank],MATCH(CoreValuesDelib[[#This Row],[Team Number]],CoreValuesResults[Team Number],0))),NumberOfTeams+1,INDEX(CoreValuesResults[Core Values Rank],MATCH(CoreValuesDelib[[#This Row],[Team Number]],CoreValuesResults[Team Number],0)))","v":1},null,null,null,{"$f":"IF(ISNA(INDEX(OfficialTeamList[Team Name],MATCH(RobotDesignDelib[[#This Row],[Team Number]], OfficialTeamList[Team Number],0))),\"\",INDEX(OfficialTeamList[Team Name],MATCH(RobotDesignDelib[[#This Row],[Team Number]], OfficialTeamList[Team Number],0)))","v":""},{"$f":"IF(ISNA(INDEX(RobotDesignResults[Robot Design Rank],MATCH(RobotDesignDelib[[#This Row],[Team Number]],RobotDesignResults[Team Number],0))),NumberOfTeams+1,INDEX(RobotDesignResults[Robot Design Rank],MATCH(RobotDesignDelib[[#This Row],[Team Number]],RobotDesignResults[Team Number],0)))","v":1},null,null,null,{"$f":"IF(ISNA(INDEX(OfficialTeamList[Team Name],MATCH(InnovationProjectDelib[[#This Row],[Team Number]], OfficialTeamList[Team Number],0))),\"\",INDEX(OfficialTeamList[Team Name],MATCH(InnovationProjectDelib[[#This Row],[Team Number]], OfficialTeamList[Team Number],0)))","v":""},{"$f":"IF(ISNA(INDEX(InnovationProjectResults[Innovation Project Rank],MATCH(InnovationProjectDelib[[#This Row],[Team Number]],InnovationProjectResults[Team Number],0))),NumberOfTeams+1,INDEX(InnovationProjectResults[Innovation Project Rank],MATCH(InnovationProjectDelib[[#This Row],[Team Number]],InnovationProjectResults[Team Number],0)))","v":1}]
[null,null,{"$f":"IF(ISNA(INDEX(OfficialTeamList[Team Name],MATCH(CoreValuesDelib[[#This Row],[Team Number]], OfficialTeamList[Team Number],0))),\"\",INDEX(OfficialTeamList[Team Name],MATCH(CoreValuesDelib[[#This Row],[Team Number]], OfficialTeamList[Team Number],0)))","v":""},{"$f":"IF(ISNA(INDEX(CoreValuesResults[Core Values Rank],MATCH(CoreValuesDelib[[#This Row],[Team Number]],CoreValuesResults[Team Number],0))),NumberOfTeams+1,INDEX(CoreValuesResults[Core Values Rank],MATCH(CoreValuesDelib[[#This Row],[Team Number]],CoreValuesResults[Team Number],0)))","v":1},null,null,null,{"$f":"IF(ISNA(INDEX(OfficialTeamList[Team Name],MATCH(RobotDesignDelib[[#This Row],[Team Number]], OfficialTeamList[Team Number],0))),\"\",INDEX(OfficialTeamList[Team Name],MATCH(RobotDesignDelib[[#This Row],[Team Number]], OfficialTeamList[Team Number],0)))","v":""},{"$f":"IF(ISNA(INDEX(RobotDesignResults[Robot Design Rank],MATCH(RobotDesignDelib[[#This Row],[Team Number]],RobotDesignResults[Team Number],0))),NumberOfTeams+1,INDEX(RobotDesignResults[Robot Design Rank],MATCH(RobotDesignDelib[[#This Row],[Team Number]],RobotDesignResults[Team Number],0)))","v":1},null,null,null,{"$f":"IF(ISNA(INDEX(OfficialTeamList[Team Name],MATCH(InnovationProjectDelib[[#This Row],[Team Number]], OfficialTeamList[Team Number],0))),\"\",INDEX(OfficialTeamList[Team Name],MATCH(InnovationProjectDelib[[#This Row],[Team Number]], OfficialTeamList[Team Number],0)))","v":""},{"$f":"IF(ISNA(INDEX(InnovationProjectResults[Innovation Project Rank],MATCH(InnovationProjectDelib[[#This Row],[Team Number]],InnovationProjectResults[Team Number],0))),NumberOfTeams+1,INDEX(InnovationProjectResults[Innovation Project Rank],MATCH(InnovationProjectDelib[[#This Row],[Team Number]],InnovationProjectResults[Team Number],0)))","v":1}]
[null,null,{"$f":"IF(ISNA(INDEX(OfficialTeamList[Team Name],MATCH(CoreValuesDelib[[#This Row],[Team Number]], OfficialTeamList[Team Number],0))),\"\",INDEX(OfficialTeamList[Team Name],MATCH(CoreValuesDelib[[#This Row],[Team Number]], OfficialTeamList[Team Number],0)))","v":""},{"$f":"IF(ISNA(INDEX(CoreValuesResults[Core Values Rank],MATCH(CoreValuesDelib[[#This Row],[Team Number]],CoreValuesResults[Team Number],0))),NumberOfTeams+1,INDEX(CoreValuesResults[Core Values Rank],MATCH(CoreValuesDelib[[#This Row],[Team Number]],CoreValuesResults[Team Number],0)))","v":1},null,null,null,{"$f":"IF(ISNA(INDEX(OfficialTeamList[Team Name],MATCH(RobotDesignDelib[[#This Row],[Team Number]], OfficialTeamList[Team Number],0))),\"\",INDEX(OfficialTeamList[Team Name],MATCH(RobotDesignDelib[[#This Row],[Team Number]], OfficialTeamList[Team Number],0)))","v":""},{"$f":"IF(ISNA(INDEX(RobotDesignResults[Robot Design Rank],MATCH(RobotDesignDelib[[#This Row],[Team Number]],RobotDesignResults[Team Number],0))),NumberOfTeams+1,INDEX(RobotDesignResults[Robot Design Rank],MATCH(RobotDesignDelib[[#This Row],[Team Number]],RobotDesignResults[Team Number],0)))","v":1},null,null,null,{"$f":"IF(ISNA(INDEX(OfficialTeamList[Team Name],MATCH(InnovationProjectDelib[[#This Row],[Team Number]], OfficialTeamList[Team Number],0))),\"\",INDEX(OfficialTeamList[Team Name],MATCH(InnovationProjectDelib[[#This Row],[Team Number]], OfficialTeamList[Team Number],0)))","v":""},{"$f":"IF(ISNA(INDEX(InnovationProjectResults[Innovation Project Rank],MATCH(InnovationProjectDelib[[#This Row],[Team Number]],InnovationProjectResults[Team Number],0))),NumberOfTeams+1,INDEX(InnovationProjectResults[Innovation Project Rank],MATCH(InnovationProjectDelib[[#This Row],[Team Number]],InnovationProjectResults[Team Number],0)))","v":1}]
[null,null,{"$f":"IF(ISNA(INDEX(OfficialTeamList[Team Name],MATCH(CoreValuesDelib[[#This Row],[Team Number]], OfficialTeamList[Team Number],0))),\"\",INDEX(OfficialTeamList[Team Name],MATCH(CoreValuesDelib[[#This Row],[Team Number]], OfficialTeamList[Team Number],0)))","v":""},{"$f":"IF(ISNA(INDEX(CoreValuesResults[Core Values Rank],MATCH(CoreValuesDelib[[#This Row],[Team Number]],CoreValuesResults[Team Number],0))),NumberOfTeams+1,INDEX(CoreValuesResults[Core Values Rank],MATCH(CoreValuesDelib[[#This Row],[Team Number]],CoreValuesResults[Team Number],0)))","v":1},null,null,null,{"$f":"IF(ISNA(INDEX(OfficialTeamList[Team Name],MATCH(RobotDesignDelib[[#This Row],[Team Number]], OfficialTeamList[Team Number],0))),\"\",INDEX(OfficialTeamList[Team Name],MATCH(RobotDesignDelib[[#This Row],[Team Number]], OfficialTeamList[Team Number],0)))","v":""},{"$f":"IF(ISNA(INDEX(RobotDesignResults[Robot Design Rank],MATCH(RobotDesignDelib[[#This Row],[Team Number]],RobotDesignResults[Team Number],0))),NumberOfTeams+1,INDEX(RobotDesignResults[Robot Design Rank],MATCH(RobotDesignDelib[[#This Row],[Team Number]],RobotDesignResults[Team Number],0)))","v":1},null,null,null,{"$f":"IF(ISNA(INDEX(OfficialTeamList[Team Name],MATCH(InnovationProjectDelib[[#This Row],[Team Number]], OfficialTeamList[Team Number],0))),\"\",INDEX(OfficialTeamList[Team Name],MATCH(InnovationProjectDelib[[#This Row],[Team Number]], OfficialTeamList[Team Number],0)))","v":""},{"$f":"IF(ISNA(INDEX(InnovationProjectResults[Innovation Project Rank],MATCH(InnovationProjectDelib[[#This Row],[Team Number]],InnovationProjectResults[Team Number],0))),NumberOfTeams+1,INDEX(InnovationProjectResults[Innovation Project Rank],MATCH(InnovationProjectDelib[[#This Row],[Team Number]],InnovationProjectResults[Team Number],0)))","v":1}]
[null,null,{"$f":"IF(ISNA(INDEX(OfficialTeamList[Team Name],MATCH(CoreValuesDelib[[#This Row],[Team Number]], OfficialTeamList[Team Number],0))),\"\",INDEX(OfficialTeamList[Team Name],MATCH(CoreValuesDelib[[#This Row],[Team Number]], OfficialTeamList[Team Number],0)))","v":""},{"$f":"IF(ISNA(INDEX(CoreValuesResults[Core Values Rank],MATCH(CoreValuesDelib[[#This Row],[Team Number]],CoreValuesResults[Team Number],0))),NumberOfTeams+1,INDEX(CoreValuesResults[Core Values Rank],MATCH(CoreValuesDelib[[#This Row],[Team Number]],CoreValuesResults[Team Number],0)))","v":1},null,null,null,{"$f":"IF(ISNA(INDEX(OfficialTeamList[Team Name],MATCH(RobotDesignDelib[[#This Row],[Team Number]], OfficialTeamList[Team Number],0))),\"\",INDEX(OfficialTeamList[Team Name],MATCH(RobotDesignDelib[[#This Row],[Team Number]], OfficialTeamList[Team Number],0)))","v":""},{"$f":"IF(ISNA(INDEX(RobotDesignResults[Robot Design Rank],MATCH(RobotDesignDelib[[#This Row],[Team Number]],RobotDesignResults[Team Number],0))),NumberOfTeams+1,INDEX(RobotDesignResults[Robot Design Rank],MATCH(RobotDesignDelib[[#This Row],[Team Number]],RobotDesignResults[Team Number],0)))","v":1},null,null,null,{"$f":"IF(ISNA(INDEX(OfficialTeamList[Team Name],MATCH(InnovationProjectDelib[[#This Row],[Team Number]], OfficialTeamList[Team Number],0))),\"\",INDEX(OfficialTeamList[Team Name],MATCH(InnovationProjectDelib[[#This Row],[Team Number]], OfficialTeamList[Team Number],0)))","v":""},{"$f":"IF(ISNA(INDEX(InnovationProjectResults[Innovation Project Rank],MATCH(InnovationProjectDelib[[#This Row],[Team Number]],InnovationProjectResults[Team Number],0))),NumberOfTeams+1,INDEX(InnovationProjectResults[Innovation Project Rank],MATCH(InnovationProjectDelib[[#This Row],[Team Number]],InnovationProjectResults[Team Number],0)))","v":1}]
[null,null,{"$f":"IF(ISNA(INDEX(OfficialTeamList[Team Name],MATCH(CoreValuesDelib[[#This Row],[Team Number]], OfficialTeamList[Team Number],0))),\"\",INDEX(OfficialTeamList[Team Name],MATCH(CoreValuesDelib[[#This Row],[Team Number]], OfficialTeamList[Team Number],0)))","v":""},{"$f":"IF(ISNA(INDEX(CoreValuesResults[Core Values Rank],MATCH(CoreValuesDelib[[#This Row],[Team Number]],CoreValuesResults[Team Number],0))),NumberOfTeams+1,INDEX(CoreValuesResults[Core Values Rank],MATCH(CoreValuesDelib[[#This Row],[Team Number]],CoreValuesResults[Team Number],0)))","v":1},null,null,null,{"$f":"IF(ISNA(INDEX(OfficialTeamList[Team Name],MATCH(RobotDesignDelib[[#This Row],[Team Number]], OfficialTeamList[Team Number],0))),\"\",INDEX(OfficialTeamList[Team Name],MATCH(RobotDesignDelib[[#This Row],[Team Number]], OfficialTeamList[Team Number],0)))","v":""},{"$f":"IF(ISNA(INDEX(RobotDesignResults[Robot Design Rank],MATCH(RobotDesignDelib[[#This Row],[Team Number]],RobotDesignResults[Team Number],0))),NumberOfTeams+1,INDEX(RobotDesignResults[Robot Design Rank],MATCH(RobotDesignDelib[[#This Row],[Team Number]],RobotDesignResults[Team Number],0)))","v":1},null,null,null,{"$f":"IF(ISNA(INDEX(OfficialTeamList[Team Name],MATCH(InnovationProjectDelib[[#This Row],[Team Number]], OfficialTeamList[Team Number],0))),\"\",INDEX(OfficialTeamList[Team Name],MATCH(InnovationProjectDelib[[#This Row],[Team Number]], OfficialTeamList[Team Number],0)))","v":""},{"$f":"IF(ISNA(INDEX(InnovationProjectResults[Innovation Project Rank],MATCH(InnovationProjectDelib[[#This Row],[Team Number]],InnovationProjectResults[Team Number],0))),NumberOfTeams+1,INDEX(InnovationProjectResults[Innovation Project Rank],MATCH(InnovationProjectDelib[[#This Row],[Team Number]],InnovationProjectResults[Team Number],0)))","v":1}]
[null,null,{"$f":"IF(ISNA(INDEX(OfficialTeamList[Team Name],MATCH(CoreValuesDelib[[#This Row],[Team Number]], OfficialTeamList[Team Number],0))),\"\",INDEX(OfficialTeamList[Team Name],MATCH(CoreValuesDelib[[#This Row],[Team Number]], OfficialTeamList[Team Number],0)))","v":""},{"$f":"IF(ISNA(INDEX(CoreValuesResults[Core Values Rank],MATCH(CoreValuesDelib[[#This Row],[Team Number]],CoreValuesResults[Team Number],0))),NumberOfTeams+1,INDEX(CoreValuesResults[Core Values Rank],MATCH(CoreValuesDelib[[#This Row],[Team Number]],CoreValuesResults[Team Number],0)))","v":1},null,null,null,{"$f":"IF(ISNA(INDEX(OfficialTeamList[Team Name],MATCH(RobotDesignDelib[[#This Row],[Team Number]], OfficialTeamList[Team Number],0))),\"\",INDEX(OfficialTeamList[Team Name],MATCH(RobotDesignDelib[[#This Row],[Team Number]], OfficialTeamList[Team Number],0)))","v":""},{"$f":"IF(ISNA(INDEX(RobotDesignResults[Robot Design Rank],MATCH(RobotDesignDelib[[#This Row],[Team Number]],RobotDesignResults[Team Number],0))),NumberOfTeams+1,INDEX(RobotDesignResults[Robot Design Rank],MATCH(RobotDesignDelib[[#This Row],[Team Number]],RobotDesignResults[Team Number],0)))","v":1},null,null,null,{"$f":"IF(ISNA(INDEX(OfficialTeamList[Team Name],MATCH(InnovationProjectDelib[[#This Row],[Team Number]], OfficialTeamList[Team Number],0))),\"\",INDEX(OfficialTeamList[Team Name],MATCH(InnovationProjectDelib[[#This Row],[Team Number]], OfficialTeamList[Team Number],0)))","v":""},{"$f":"IF(ISNA(INDEX(InnovationProjectResults[Innovation Project Rank],MATCH(InnovationProjectDelib[[#This Row],[Team Number]],InnovationProjectResults[Team Number],0))),NumberOfTeams+1,INDEX(InnovationProjectResults[Innovation Project Rank],MATCH(InnovationProjectDelib[[#This Row],[Team Number]],InnovationProjectResults[Team Number],0)))","v":1}]
[null,null,{"$f":"IF(ISNA(INDEX(OfficialTeamList[Team Name],MATCH(CoreValuesDelib[[#This Row],[Team Number]], OfficialTeamList[Team Number],0))),\"\",INDEX(OfficialTeamList[Team Name],MATCH(CoreValuesDelib[[#This Row],[Team Number]], OfficialTeamList[Team Number],0)))","v":""},{"$f":"IF(ISNA(INDEX(CoreValuesResults[Core Values Rank],MATCH(CoreValuesDelib[[#This Row],[Team Number]],CoreValuesResults[Team Number],0))),NumberOfTeams+1,INDEX(CoreValuesResults[Core Values Rank],MATCH(CoreValuesDelib[[#This Row],[Team Number]],CoreValuesResults[Team Number],0)))","v":1},null,null,null,{"$f":"IF(ISNA(INDEX(OfficialTeamList[Team Name],MATCH(RobotDesignDelib[[#This Row],[Team Number]], OfficialTeamList[Team Number],0))),\"\",INDEX(OfficialTeamList[Team Name],MATCH(RobotDesignDelib[[#This Row],[Team Number]], OfficialTeamList[Team Number],0)))","v":""},{"$f":"IF(ISNA(INDEX(RobotDesignResults[Robot Design Rank],MATCH(RobotDesignDelib[[#This Row],[Team Number]],RobotDesignResults[Team Number],0))),NumberOfTeams+1,INDEX(RobotDesignResults[Robot Design Rank],MATCH(RobotDesignDelib[[#This Row],[Team Number]],RobotDesignResults[Team Number],0)))","v":1},null,null,null,{"$f":"IF(ISNA(INDEX(OfficialTeamList[Team Name],MATCH(InnovationProjectDelib[[#This Row],[Team Number]], OfficialTeamList[Team Number],0))),\"\",INDEX(OfficialTeamList[Team Name],MATCH(InnovationProjectDelib[[#This Row],[Team Number]], OfficialTeamList[Team Number],0)))","v":""},{"$f":"IF(ISNA(INDEX(InnovationProjectResults[Innovation Project Rank],MATCH(InnovationProjectDelib[[#This Row],[Team Number]],InnovationProjectResults[Team Number],0))),NumberOfTeams+1,INDEX(InnovationProjectResults[Innovation Project Rank],MATCH(InnovationProjectDelib[[#This Row],[Team Number]],InnovationProjectResults[Team Number],0)))","v":1}]
[]
[null,"Breakthrough",null,null,null,null,"Rising All-Star",null,null,null,null,"Motivate"]
[null,"Team Number","Team Name","Champion's Rank","Deliberated Rank",null,"Team Number","Team Name","Champion's Rank","Deliberated Rank",null,"Team Number","Team Name","Champion's Rank","Deliberated Rank"]
[null,null,{"$f":"IF(ISNA(INDEX(OfficialTeamList[Team Name],MATCH(BreakthroughDelib[[#This Row],[Team Number]], OfficialTeamList[Team Number],0))),\"\",INDEX(OfficialTeamList[Team Name],MATCH(BreakthroughDelib[[#This Row],[Team Number]], OfficialTeamList[Team Number],0)))","v":""},{"$f":"IF(ISNA(INDEX(TournamentData[Champion''s Rank],MATCH(BreakthroughDelib[[#This Row],[Team Number]],TournamentData[Team Number],0))),NumberOfTeams+1,INDEX(TournamentData[Champion''s Rank],MATCH(BreakthroughDelib[[#This Row],[Team Number]],TournamentData[Team Number],0)))","v":1},null,null,null,{"$f":"IF(ISNA(INDEX(OfficialTeamList[Team Name],MATCH(RookiAllStarDelib[[#This Row],[Team Number]], OfficialTeamList[Team Number],0))),\"\",INDEX(OfficialTeamList[Team Name],MATCH(RookiAllStarDelib[[#This Row],[Team Number]], OfficialTeamList[Team Number],0)))","v":""},{"$f":"IF(ISNA(INDEX(TournamentData[Champion''s Rank],MATCH(RookiAllStarDelib[[#This Row],[Team Number]],TournamentData[Team Number],0))),NumberOfTeams+1,INDEX(TournamentData[Champion''s Rank],MATCH(RookiAllStarDelib[[#This Row],[Team Number]],TournamentData[Team Number],0)))","v":1},null,null,null,{"$f":"IF(ISNA(INDEX(OfficialTeamList[Team Name],MATCH(MotivateDelib[[#This Row],[Team Number]], OfficialTeamList[Team Number],0))),\"\",INDEX(OfficialTeamList[Team Name],MATCH(MotivateDelib[[#This Row],[Team Number]], OfficialTeamList[Team Number],0)))","v":""},{"$f":"IF(ISNA(INDEX(TournamentData[Champion''s Rank],MATCH(MotivateDelib[[#This Row],[Team Number]],TournamentData[Team Number],0))),NumberOfTeams+1,INDEX(TournamentData[Champion''s Rank],MATCH(MotivateDelib[[#This Row],[Team Number]],TournamentData[Team Number],0)))","v":1}]
[null,null,{"$f":"IF(ISNA(INDEX(OfficialTeamList[Team Name],MATCH(BreakthroughDelib[[#This Row],[Team Number]], OfficialTeamList[Team Number],0))),\"\",INDEX(OfficialTeamList[Team Name],MATCH(BreakthroughDelib[[#This Row],[Team Number]], OfficialTeamList[Team Number],0)))","v":""},{"$f":"IF(ISNA(INDEX(TournamentData[Champion''s Rank],MATCH(BreakthroughDelib[[#This Row],[Team Number]],TournamentData[Team Number],0))),NumberOfTeams+1,INDEX(TournamentData[Champion''s Rank],MATCH(BreakthroughDelib[[#This Row],[Team Number]],TournamentData[Team Number],0)))","v":1},null,null,null,{"$f":"IF(ISNA(INDEX(OfficialTeamList[Team Name],MATCH(RookiAllStarDelib[[#This Row],[Team Number]], OfficialTeamList[Team Number],0))),\"\",INDEX(OfficialTeamList[Team Name],MATCH(RookiAllStarDelib[[#This Row],[Team Number]], OfficialTeamList[Team Number],0)))","v":""},{"$f":"IF(ISNA(INDEX(TournamentData[Champion''s Rank],MATCH(RookiAllStarDelib[[#This Row],[Team Number]],TournamentData[Team Number],0))),NumberOfTeams+1,INDEX(TournamentData[Champion''s Rank],MATCH(RookiAllStarDelib[[#This Row],[Team Number]],TournamentData[Team Number],0)))","v":1},null,null,null,{"$f":"IF(ISNA(INDEX(OfficialTeamList[Team Name],MATCH(MotivateDelib[[#This Row],[Team Number]], OfficialTeamList[Team Number],0))),\"\",INDEX(OfficialTeamList[Team Name],MATCH(MotivateDelib[[#This Row],[Team Number]], OfficialTeamList[Team Number],0)))","v":""},{"$f":"IF(ISNA(INDEX(TournamentData[Champion''s Rank],MATCH(MotivateDelib[[#This Row],[Team Number]],TournamentData[Team Number],0))),NumberOfTeams+1,INDEX(TournamentData[Champion''s Rank],MATCH(MotivateDelib[[#This Row],[Team Number]],TournamentData[Team Number],0)))","v":1}]
[null,null,{"$f":"IF(ISNA(INDEX(OfficialTeamList[Team Name],MATCH(BreakthroughDelib[[#This Row],[Team Number]], OfficialTeamList[Team Number],0))),\"\",INDEX(OfficialTeamList[Team Name],MATCH(BreakthroughDelib[[#This Row],[Team Number]], OfficialTeamList[Team Number],0)))","v":""},{"$f":"IF(ISNA(INDEX(TournamentData[Champion''s Rank],MATCH(BreakthroughDelib[[#This Row],[Team Number]],TournamentData[Team Number],0))),NumberOfTeams+1,INDEX(TournamentData[Champion''s Rank],MATCH(BreakthroughDelib[[#This Row],[Team Number]],TournamentData[Team Number],0)))","v":1},null,null,null,{"$f":"IF(ISNA(INDEX(OfficialTeamList[Team Name],MATCH(RookiAllStarDelib[[#This Row],[Team Number]], OfficialTeamList[Team Number],0))),\"\",INDEX(OfficialTeamList[Team Name],MATCH(RookiAllStarDelib[[#This Row],[Team Number]], OfficialTeamList[Team Number],0)))","v":""},{"$f":"IF(ISNA(INDEX(TournamentData[Champion''s Rank],MATCH(RookiAllStarDelib[[#This Row],[Team Number]],TournamentData[Team Number],0))),NumberOfTeams+1,INDEX(TournamentData[Champion''s Rank],MATCH(RookiAllStarDelib[[#This Row],[Team Number]],TournamentData[Team Number],0)))","v":1},null,null,null,{"$f":"IF(ISNA(INDEX(OfficialTeamList[Team Name],MATCH(MotivateDelib[[#This Row],[Team Number]], OfficialTeamList[Team Number],0))),\"\",INDEX(OfficialTeamList[Team Name],MATCH(MotivateDelib[[#This Row],[Team Number]], OfficialTeamList[Team Number],0)))","v":""},{"$f":"IF(ISNA(INDEX(TournamentData[Champion''s Rank],MATCH(MotivateDelib[[#This Row],[Team Number]],TournamentData[Team Number],0))),NumberOfTeams+1,INDEX(TournamentData[Champion''s Rank],MATCH(MotivateDelib[[#This Row],[Team Number]],TournamentData[Team Number],0)))","v":1}]
[null,null,{"$f":"IF(ISNA(INDEX(OfficialTeamList[Team Name],MATCH(BreakthroughDelib[[#This Row],[Team Number]], OfficialTeamList[Team Number],0))),\"\",INDEX(OfficialTeamList[Team Name],MATCH(BreakthroughDelib[[#This Row],[Team Number]], OfficialTeamList[Team Number],0)))","v":""},{"$f":"IF(ISNA(INDEX(TournamentData[Champion''s Rank],MATCH(BreakthroughDelib[[#This Row],[Team Number]],TournamentData[Team Number],0))),NumberOfTeams+1,INDEX(TournamentData[Champion''s Rank],MATCH(BreakthroughDelib[[#This Row],[Team Number]],TournamentData[Team Number],0)))","v":1},null,null,null,{"$f":"IF(ISNA(INDEX(OfficialTeamList[Team Name],MATCH(RookiAllStarDelib[[#This Row],[Team Number]], OfficialTeamList[Team Number],0))),\"\",INDEX(OfficialTeamList[Team Name],MATCH(RookiAllStarDelib[[#This Row],[Team Number]], OfficialTeamList[Team Number],0)))","v":""},{"$f":"IF(ISNA(INDEX(TournamentData[Champion''s Rank],MATCH(RookiAllStarDelib[[#This Row],[Team Number]],TournamentData[Team Number],0))),NumberOfTeams+1,INDEX(TournamentData[Champion''s Rank],MATCH(RookiAllStarDelib[[#This Row],[Team Number]],TournamentData[Team Number],0)))","v":1},null,null,null,{"$f":"IF(ISNA(INDEX(OfficialTeamList[Team Name],MATCH(MotivateDelib[[#This Row],[Team Number]], OfficialTeamList[Team Number],0))),\"\",INDEX(OfficialTeamList[Team Name],MATCH(MotivateDelib[[#This Row],[Team Number]], OfficialTeamList[Team Number],0)))","v":""},{"$f":"IF(ISNA(INDEX(TournamentData[Champion''s Rank],MATCH(MotivateDelib[[#This Row],[Team Number]],TournamentData[Team Number],0))),NumberOfTeams+1,INDEX(TournamentData[Champion''s Rank],MATCH(MotivateDelib[[#This Row],[Team Number]],TournamentData[Team Number],0)))","v":1}]
[null,null,{"$f":"IF(ISNA(INDEX(OfficialTeamList[Team Name],MATCH(BreakthroughDelib[[#This Row],[Team Number]], OfficialTeamList[Team Number],0))),\"\",INDEX(OfficialTeamList[Team Name],MATCH(BreakthroughDelib[[#This Row],[Team Number]], OfficialTeamList[Team Number],0)))","v":""},{"$f":"IF(ISNA(INDEX(TournamentData[Champion''s Rank],MATCH(BreakthroughDelib[[#This Row],[Team Number]],TournamentData[Team Number],0))),NumberOfTeams+1,INDEX(TournamentData[Champion''s Rank],MATCH(BreakthroughDelib[[#This Row],[Team Number]],TournamentData[Team Number],0)))","v":1},null,null,null,{"$f":"IF(ISNA(INDEX(OfficialTeamList[Team Name],MATCH(RookiAllStarDelib[[#This Row],[Team Number]], OfficialTeamList[Team Number],0))),\"\",INDEX(OfficialTeamList[Team Name],MATCH(RookiAllStarDelib[[#This Row],[Team Number]], OfficialTeamList[Team Number],0)))","v":""},{"$f":"IF(ISNA(INDEX(TournamentData[Champion''s Rank],MATCH(RookiAllStarDelib[[#This Row],[Team Number]],TournamentData[Team Number],0))),NumberOfTeams+1,INDEX(TournamentData[Champion''s Rank],MATCH(RookiAllStarDelib[[#This Row],[Team Number]],TournamentData[Team Number],0)))","v":1},null,null,null,{"$f":"IF(ISNA(INDEX(OfficialTeamList[Team Name],MATCH(MotivateDelib[[#This Row],[Team Number]], OfficialTeamList[Team Number],0))),\"\",INDEX(OfficialTeamList[Team Name],MATCH(MotivateDelib[[#This Row],[Team Number]], OfficialTeamList[Team Number],0)))","v":""},{"$f":"IF(ISNA(INDEX(TournamentData[Champion''s Rank],MATCH(MotivateDelib[[#This Row],[Team Number]],TournamentData[Team Number],0))),NumberOfTeams+1,INDEX(TournamentData[Champion''s Rank],MATCH(MotivateDelib[[#This Row],[Team Number]],TournamentData[Team Number],0)))","v":1}]
[null,null,{"$f":"IF(ISNA(INDEX(OfficialTeamList[Team Name],MATCH(BreakthroughDelib[[#This Row],[Team Number]], OfficialTeamList[Team Number],0))),\"\",INDEX(OfficialTeamList[Team Name],MATCH(BreakthroughDelib[[#This Row],[Team Number]], OfficialTeamList[Team Number],0)))","v":""},{"$f":"IF(ISNA(INDEX(TournamentData[Champion''s Rank],MATCH(BreakthroughDelib[[#This Row],[Team Number]],TournamentData[Team Number],0))),NumberOfTeams+1,INDEX(TournamentData[Champion''s Rank],MATCH(BreakthroughDelib[[#This Row],[Team Number]],TournamentData[Team Number],0)))","v":1},null,null,null,{"$f":"IF(ISNA(INDEX(OfficialTeamList[Team Name],MATCH(RookiAllStarDelib[[#This Row],[Team Number]], OfficialTeamList[Team Number],0))),\"\",INDEX(OfficialTeamList[Team Name],MATCH(RookiAllStarDelib[[#This Row],[Team Number]], OfficialTeamList[Team Number],0)))","v":""},{"$f":"IF(ISNA(INDEX(TournamentData[Champion''s Rank],MATCH(RookiAllStarDelib[[#This Row],[Team Number]],TournamentData[Team Number],0))),NumberOfTeams+1,INDEX(TournamentData[Champion''s Rank],MATCH(RookiAllStarDelib[[#This Row],[Team Number]],TournamentData[Team Number],0)))","v":1},null,null,null,{"$f":"IF(ISNA(INDEX(OfficialTeamList[Team Name],MATCH(MotivateDelib[[#This Row],[Team Number]], OfficialTeamList[Team Number],0))),\"\",INDEX(OfficialTeamList[Team Name],MATCH(MotivateDelib[[#This Row],[Team Number]], OfficialTeamList[Team Number],0)))","v":""},{"$f":"IF(ISNA(INDEX(TournamentData[Champion''s Rank],MATCH(MotivateDelib[[#This Row],[Team Number]],TournamentData[Team Number],0))),NumberOfTeams+1,INDEX(TournamentData[Champion''s Rank],MATCH(MotivateDelib[[#This Row],[Team Number]],TournamentData[Team Number],0)))","v":1}]
[null,null,{"$f":"IF(ISNA(INDEX(OfficialTeamList[Team Name],MATCH(BreakthroughDelib[[#This Row],[Team Number]], OfficialTeamList[Team Number],0))),\"\",INDEX(OfficialTeamList[Team Name],MATCH(BreakthroughDelib[[#This Row],[Team Number]], OfficialTeamList[Team Number],0)))","v":""},{"$f":"IF(ISNA(INDEX(TournamentData[Champion''s Rank],MATCH(BreakthroughDelib[[#This Row],[Team Number]],TournamentData[Team Number],0))),NumberOfTeams+1,INDEX(TournamentData[Champion''s Rank],MATCH(BreakthroughDelib[[#This Row],[Team Number]],TournamentData[Team Number],0)))","v":1},null,null,null,{"$f":"IF(ISNA(INDEX(OfficialTeamList[Team Name],MATCH(RookiAllStarDelib[[#This Row],[Team Number]], OfficialTeamList[Team Number],0))),\"\",INDEX(OfficialTeamList[Team Name],MATCH(RookiAllStarDelib[[#This Row],[Team Number]], OfficialTeamList[Team Number],0)))","v":""},{"$f":"IF(ISNA(INDEX(TournamentData[Champion''s Rank],MATCH(RookiAllStarDelib[[#This Row],[Team Number]],TournamentData[Team Number],0))),NumberOfTeams+1,INDEX(TournamentData[Champion''s Rank],MATCH(RookiAllStarDelib[[#This Row],[Team Number]],TournamentData[Team Number],0)))","v":1},null,null,null,{"$f":"IF(ISNA(INDEX(OfficialTeamList[Team Name],MATCH(MotivateDelib[[#This Row],[Team Number]], OfficialTeamList[Team Number],0))),\"\",INDEX(OfficialTeamList[Team Name],MATCH(MotivateDelib[[#This Row],[Team Number]], OfficialTeamList[Team Number],0)))","v":""},{"$f":"IF(ISNA(INDEX(TournamentData[Champion''s Rank],MATCH(MotivateDelib[[#This Row],[Team Number]],TournamentData[Team Number],0))),NumberOfTeams+1,INDEX(TournamentData[Champion''s Rank],MATCH(MotivateDelib[[#This Row],[Team Number]],TournamentData[Team Number],0)))","v":1}]
[null,null,{"$f":"IF(ISNA(INDEX(OfficialTeamList[Team Name],MATCH(BreakthroughDelib[[#This Row],[Team Number]], OfficialTeamList[Team Number],0))),\"\",INDEX(OfficialTeamList[Team Name],MATCH(BreakthroughDelib[[#This Row],[Team Number]], OfficialTeamList[Team Number],0)))","v":""},{"$f":"IF(ISNA(INDEX(TournamentData[Champion''s Rank],MATCH(BreakthroughDelib[[#This Row],[Team Number]],TournamentData[Team Number],0))),NumberOfTeams+1,INDEX(TournamentData[Champion''s Rank],MATCH(BreakthroughDelib[[#This Row],[Team Number]],TournamentData[Team Number],0)))","v":1},null,null,null,{"$f":"IF(ISNA(INDEX(OfficialTeamList[Team Name],MATCH(RookiAllStarDelib[[#This Row],[Team Number]], OfficialTeamList[Team Number],0))),\"\",INDEX(OfficialTeamList[Team Name],MATCH(RookiAllStarDelib[[#This Row],[Team Number]], OfficialTeamList[Team Number],0)))","v":""},{"$f":"IF(ISNA(INDEX(TournamentData[Champion''s Rank],MATCH(RookiAllStarDelib[[#This Row],[Team Number]],TournamentData[Team Number],0))),NumberOfTeams+1,INDEX(TournamentData[Champion''s Rank],MATCH(RookiAllStarDelib[[#This Row],[Team Number]],TournamentData[Team Number],0)))","v":1},null,null,null,{"$f":"IF(ISNA(INDEX(OfficialTeamList[Team Name],MATCH(MotivateDelib[[#This Row],[Team Number]], OfficialTeamList[Team Number],0))),\"\",INDEX(OfficialTeamList[Team Name],MATCH(MotivateDelib[[#This Row],[Team Number]], OfficialTeamList[Team Number],0)))","v":""},{"$f":"IF(ISNA(INDEX(TournamentData[Champion''s Rank],MATCH(MotivateDelib[[#This Row],[Team Number]],TournamentData[Team Number],0))),NumberOfTeams+1,INDEX(TournamentData[Champion''s Rank],MATCH(MotivateDelib[[#This Row],[Team Number]],TournamentData[Team Number],0)))","v":1}]
[null,null,{"$f":"IF(ISNA(INDEX(OfficialTeamList[Team Name],MATCH(BreakthroughDelib[[#This Row],[Team Number]], OfficialTeamList[Team Number],0))),\"\",INDEX(OfficialTeamList[Team Name],MATCH(BreakthroughDelib[[#This Row],[Team Number]], OfficialTeamList[Team Number],0)))","v":""},{"$f":"IF(ISNA(INDEX(TournamentData[Champion''s Rank],MATCH(BreakthroughDelib[[#This Row],[Team Number]],TournamentData[Team Number],0))),NumberOfTeams+1,INDEX(TournamentData[Champion''s Rank],MATCH(BreakthroughDelib[[#This Row],[Team Number]],TournamentData[Team Number],0)))","v":1},null,null,null,{"$f":"IF(ISNA(INDEX(OfficialTeamList[Team Name],MATCH(RookiAllStarDelib[[#This Row],[Team Number]], OfficialTeamList[Team Number],0))),\"\",INDEX(OfficialTeamList[Team Name],MATCH(RookiAllStarDelib[[#This Row],[Team Number]], OfficialTeamList[Team Number],0)))","v":""},{"$f":"IF(ISNA(INDEX(TournamentData[Champion''s Rank],MATCH(RookiAllStarDelib[[#This Row],[Team Number]],TournamentData[Team Number],0))),NumberOfTeams+1,INDEX(TournamentData[Champion''s Rank],MATCH(RookiAllStarDelib[[#This Row],[Team Number]],TournamentData[Team Number],0)))","v":1},null,null,null,{"$f":"IF(ISNA(INDEX(OfficialTeamList[Team Name],MATCH(MotivateDelib[[#This Row],[Team Number]], OfficialTeamList[Team Number],0))),\"\",INDEX(OfficialTeamList[Team Name],MATCH(MotivateDelib[[#This Row],[Team Number]], OfficialTeamList[Team Number],0)))","v":""},{"$f":"IF(ISNA(INDEX(TournamentData[Champion''s Rank],MATCH(MotivateDelib[[#This Row],[Team Number]],TournamentData[Team Number],0))),NumberOfTeams+1,INDEX(TournamentData[Champion''s Rank],MATCH(MotivateDelib[[#This Row],[Team Number]],TournamentData[Team Number],0)))","v":1}]
[null,null,{"$f":"IF(ISNA(INDEX(OfficialTeamList[Team Name],MATCH(BreakthroughDelib[[#This Row],[Team Number]], OfficialTeamList[Team Number],0))),\"\",INDEX(OfficialTeamList[Team Name],MATCH(BreakthroughDelib[[#This Row],[Team Number]], OfficialTeamList[Team Number],0)))","v":""},{"$f":"IF(ISNA(INDEX(TournamentData[Champion''s Rank],MATCH(BreakthroughDelib[[#This Row],[Team Number]],TournamentData[Team Number],0))),NumberOfTeams+1,INDEX(TournamentData[Champion''s Rank],MATCH(BreakthroughDelib[[#This Row],[Team Number]],TournamentData[Team Number],0)))","v":1},null,null,null,{"$f":"IF(ISNA(INDEX(OfficialTeamList[Team Name],MATCH(RookiAllStarDelib[[#This Row],[Team Number]], OfficialTeamList[Team Number],0))),\"\",INDEX(OfficialTeamList[Team Name],MATCH(RookiAllStarDelib[[#This Row],[Team Number]], OfficialTeamList[Team Number],0)))","v":""},{"$f":"IF(ISNA(INDEX(TournamentData[Champion''s Rank],MATCH(RookiAllStarDelib[[#This Row],[Team Number]],TournamentData[Team Number],0))),NumberOfTeams+1,INDEX(TournamentData[Champion''s Rank],MATCH(RookiAllStarDelib[[#This Row],[Team Number]],TournamentData[Team Number],0)))","v":1},null,null,null,{"$f":"IF(ISNA(INDEX(OfficialTeamList[Team Name],MATCH(MotivateDelib[[#This Row],[Team Number]], OfficialTeamList[Team Number],0))),\"\",INDEX(OfficialTeamList[Team Name],MATCH(MotivateDelib[[#This Row],[Team Number]], OfficialTeamList[Team Number],0)))","v":""},{"$f":"IF(ISNA(INDEX(TournamentData[Champion''s Rank],MATCH(MotivateDelib[[#This Row],[Team Number]],TournamentData[Team Number],0))),NumberOfTeams+1,INDEX(TournamentData[Champion''s Rank],MATCH(MotivateDelib[[#This Row],[Team Number]],TournamentData[Team Number],0)))","v":1}]
[null,null,{"$f":"IF(ISNA(INDEX(OfficialTeamList[Team Name],MATCH(BreakthroughDelib[[#This Row],[Team Number]], OfficialTeamList[Team Number],0))),\"\",INDEX(OfficialTeamList[Team Name],MATCH(BreakthroughDelib[[#This Row],[Team Number]], OfficialTeamList[Team Number],0)))","v":""},{"$f":"IF(ISNA(INDEX(TournamentData[Champion''s Rank],MATCH(BreakthroughDelib[[#This Row],[Team Number]],TournamentData[Team Number],0))),NumberOfTeams+1,INDEX(TournamentData[Champion''s Rank],MATCH(BreakthroughDelib[[#This Row],[Team Number]],TournamentData[Team Number],0)))","v":1},null,null,null,{"$f":"IF(ISNA(INDEX(OfficialTeamList[Team Name],MATCH(RookiAllStarDelib[[#This Row],[Team Number]], OfficialTeamList[Team Number],0))),\"\",INDEX(OfficialTeamList[Team Name],MATCH(RookiAllStarDelib[[#This Row],[Team Number]], OfficialTeamList[Team Number],0)))","v":""},{"$f":"IF(ISNA(INDEX(TournamentData[Champion''s Rank],MATCH(RookiAllStarDelib[[#This Row],[Team Number]],TournamentData[Team Number],0))),NumberOfTeams+1,INDEX(TournamentData[Champion''s Rank],MATCH(RookiAllStarDelib[[#This Row],[Team Number]],TournamentData[Team Number],0)))","v":1},null,null,null,{"$f":"IF(ISNA(INDEX(OfficialTeamList[Team Name],MATCH(MotivateDelib[[#This Row],[Team Number]], OfficialTeamList[Team Number],0))),\"\",INDEX(OfficialTeamList[Team Name],MATCH(MotivateDelib[[#This Row],[Team Number]], OfficialTeamList[Team Number],0)))","v":""},{"$f":"IF(ISNA(INDEX(TournamentData[Champion''s Rank],MATCH(MotivateDelib[[#This Row],[Team Number]],TournamentData[Team Number],0))),NumberOfTeams+1,INDEX(TournamentData[Champion''s Rank],MATCH(MotivateDelib[[#This Row],[Team Number]],TournamentData[Team Number],0)))","v":1}]
[null,null,{"$f":"IF(ISNA(INDEX(OfficialTeamList[Team Name],MATCH(BreakthroughDelib[[#This Row],[Team Number]], OfficialTeamList[Team Number],0))),\"\",INDEX(OfficialTeamList[Team Name],MATCH(BreakthroughDelib[[#This Row],[Team Number]], OfficialTeamList[Team Number],0)))","v":""},{"$f":"IF(ISNA(INDEX(TournamentData[Champion''s Rank],MATCH(BreakthroughDelib[[#This Row],[Team Number]],TournamentData[Team Number],0))),NumberOfTeams+1,INDEX(TournamentData[Champion''s Rank],MATCH(BreakthroughDelib[[#This Row],[Team Number]],TournamentData[Team Number],0)))","v":1},null,null,null,{"$f":"IF(ISNA(INDEX(OfficialTeamList[Team Name],MATCH(RookiAllStarDelib[[#This Row],[Team Number]], OfficialTeamList[Team Number],0))),\"\",INDEX(OfficialTeamList[Team Name],MATCH(RookiAllStarDelib[[#This Row],[Team Number]], OfficialTeamList[Team Number],0)))","v":""},{"$f":"IF(ISNA(INDEX(TournamentData[Champion''s Rank],MATCH(RookiAllStarDelib[[#This Row],[Team Number]],TournamentData[Team Number],0))),NumberOfTeams+1,INDEX(TournamentData[Champion''s Rank],MATCH(RookiAllStarDelib[[#This Row],[Team Number]],TournamentData[Team Number],0)))","v":1},null,null,null,{"$f":"IF(ISNA(INDEX(OfficialTeamList[Team Name],MATCH(MotivateDelib[[#This Row],[Team Number]], OfficialTeamList[Team Number],0))),\"\",INDEX(OfficialTeamList[Team Name],MATCH(MotivateDelib[[#This Row],[Team Number]], OfficialTeamList[Team Number],0)))","v":""},{"$f":"IF(ISNA(INDEX(TournamentData[Champion''s Rank],MATCH(MotivateDelib[[#This Row],[Team Number]],TournamentData[Team Number],0))),NumberOfTeams+1,INDEX(TournamentData[Champion''s Rank],MATCH(MotivateDelib[[#This Row],[Team Number]],TournamentData[Team Number],0)))","v":1}]
[null,null,{"$f":"IF(ISNA(INDEX(OfficialTeamList[Team Name],MATCH(BreakthroughDelib[[#This Row],[Team Number]], OfficialTeamList[Team Number],0))),\"\",INDEX(OfficialTeamList[Team Name],MATCH(BreakthroughDelib[[#This Row],[Team Number]], OfficialTeamList[Team Number],0)))","v":""},{"$f":"IF(ISNA(INDEX(TournamentData[Champion''s Rank],MATCH(BreakthroughDelib[[#This Row],[Team Number]],TournamentData[Team Number],0))),NumberOfTeams+1,INDEX(TournamentData[Champion''s Rank],MATCH(BreakthroughDelib[[#This Row],[Team Number]],TournamentData[Team Number],0)))","v":1},null,null,null,{"$f":"IF(ISNA(INDEX(OfficialTeamList[Team Name],MATCH(RookiAllStarDelib[[#This Row],[Team Number]], OfficialTeamList[Team Number],0))),\"\",INDEX(OfficialTeamList[Team Name],MATCH(RookiAllStarDelib[[#This Row],[Team Number]], OfficialTeamList[Team Number],0)))","v":""},{"$f":"IF(ISNA(INDEX(TournamentData[Champion''s Rank],MATCH(RookiAllStarDelib[[#This Row],[Team Number]],TournamentData[Team Number],0))),NumberOfTeams+1,INDEX(TournamentData[Champion''s Rank],MATCH(RookiAllStarDelib[[#This Row],[Team Number]],TournamentData[Team Number],0)))","v":1},null,null,null,{"$f":"IF(ISNA(INDEX(OfficialTeamList[Team Name],MATCH(MotivateDelib[[#This Row],[Team Number]], OfficialTeamList[Team Number],0))),\"\",INDEX(OfficialTeamList[Team Name],MATCH(MotivateDelib[[#This Row],[Team Number]], OfficialTeamList[Team Number],0)))","v":""},{"$f":"IF(ISNA(INDEX(TournamentData[Champion''s Rank],MATCH(MotivateDelib[[#This Row],[Team Number]],TournamentData[Team Number],0))),NumberOfTeams+1,INDEX(TournamentData[Champion''s Rank],MATCH(MotivateDelib[[#This Row],[Team Number]],TournamentData[Team Number],0)))","v":1}]
[null,null,{"$f":"IF(ISNA(INDEX(OfficialTeamList[Team Name],MATCH(BreakthroughDelib[[#This Row],[Team Number]], OfficialTeamList[Team Number],0))),\"\",INDEX(OfficialTeamList[Team Name],MATCH(BreakthroughDelib[[#This Row],[Team Number]], OfficialTeamList[Team Number],0)))","v":""},{"$f":"IF(ISNA(INDEX(TournamentData[Champion''s Rank],MATCH(BreakthroughDelib[[#This Row],[Team Number]],TournamentData[Team Number],0))),NumberOfTeams+1,INDEX(TournamentData[Champion''s Rank],MATCH(BreakthroughDelib[[#This Row],[Team Number]],TournamentData[Team Number],0)))","v":1},null,null,null,{"$f":"IF(ISNA(INDEX(OfficialTeamList[Team Name],MATCH(RookiAllStarDelib[[#This Row],[Team Number]], OfficialTeamList[Team Number],0))),\"\",INDEX(OfficialTeamList[Team Name],MATCH(RookiAllStarDelib[[#This Row],[Team Number]], OfficialTeamList[Team Number],0)))","v":""},{"$f":"IF(ISNA(INDEX(TournamentData[Champion''s Rank],MATCH(RookiAllStarDelib[[#This Row],[Team Number]],TournamentData[Team Number],0))),NumberOfTeams+1,INDEX(TournamentData[Champion''s Rank],MATCH(RookiAllStarDelib[[#This Row],[Team Number]],TournamentData[Team Number],0)))","v":1},null,null,null,{"$f":"IF(ISNA(INDEX(OfficialTeamList[Team Name],MATCH(MotivateDelib[[#This Row],[Team Number]], OfficialTeamList[Team Number],0))),\"\",INDEX(OfficialTeamList[Team Name],MATCH(MotivateDelib[[#This Row],[Team Number]], OfficialTeamList[Team Number],0)))","v":""},{"$f":"IF(ISNA(INDEX(TournamentData[Champion''s Rank],MATCH(MotivateDelib[[#This Row],[Team Number]],TournamentData[Team Number],0))),NumberOfTeams+1,INDEX(TournamentData[Champion''s Rank],MATCH(MotivateDelib[[#This Row],[Team Number]],TournamentData[Team Number],0)))","v":1}]
[null,null,{"$f":"IF(ISNA(INDEX(OfficialTeamList[Team Name],MATCH(BreakthroughDelib[[#This Row],[Team Number]], OfficialTeamList[Team Number],0))),\"\",INDEX(OfficialTeamList[Team Name],MATCH(BreakthroughDelib[[#This Row],[Team Number]], OfficialTeamList[Team Number],0)))","v":""},{"$f":"IF(ISNA(INDEX(TournamentData[Champion''s Rank],MATCH(BreakthroughDelib[[#This Row],[Team Number]],TournamentData[Team Number],0))),NumberOfTeams+1,INDEX(TournamentData[Champion''s Rank],MATCH(BreakthroughDelib[[#This Row],[Team Number]],TournamentData[Team Number],0)))","v":1},null,null,null,{"$f":"IF(ISNA(INDEX(OfficialTeamList[Team Name],MATCH(RookiAllStarDelib[[#This Row],[Team Number]], OfficialTeamList[Team Number],0))),\"\",INDEX(OfficialTeamList[Team Name],MATCH(RookiAllStarDelib[[#This Row],[Team Number]], OfficialTeamList[Team Number],0)))","v":""},{"$f":"IF(ISNA(INDEX(TournamentData[Champion''s Rank],MATCH(RookiAllStarDelib[[#This Row],[Team Number]],TournamentData[Team Number],0))),NumberOfTeams+1,INDEX(TournamentData[Champion''s Rank],MATCH(RookiAllStarDelib[[#This Row],[Team Number]],TournamentData[Team Number],0)))","v":1},null,null,null,{"$f":"IF(ISNA(INDEX(OfficialTeamList[Team Name],MATCH(MotivateDelib[[#This Row],[Team Number]], OfficialTeamList[Team Number],0))),\"\",INDEX(OfficialTeamList[Team Name],MATCH(MotivateDelib[[#This Row],[Team Number]], OfficialTeamList[Team Number],0)))","v":""},{"$f":"IF(ISNA(INDEX(TournamentData[Champion''s Rank],MATCH(MotivateDelib[[#This Row],[Team Number]],TournamentData[Team Number],0))),NumberOfTeams+1,INDEX(TournamentData[Champion''s Rank],MATCH(MotivateDelib[[#This Row],[Team Number]],TournamentData[Team Number],0)))","v":1}]